Workbook

Sheet Sheet1
A1: Faculty of Science and Information Technology
A2: Class Routine Textile Engineering Department Semester: Fall' 2012
A3: Saturday
A4: 08:30-10:00 | D4: 10:00-11:30 | G4: 11:30-01:00 | J4: 01:00-02:30 | M4: 2:30-04:00 | P4: 04:00-05:30
A5: Class | B5: Course | D5: Class | E5: Course | G5: Class | H5: Course | J5: Class | K5: Course | M5: Class | N5: Course | P5: Class | Q5: Course
A6: 701 | D6: 701 | E6: TE306(L3T2)B | F6: TM | G6: 701 | H6: TE132(L1T3)F | I6: TM | J6: 701 | K6: BDS211(L2T3)D | L6: MI | M6: 701 | N6: PHY111(L1T1)C | O6: AKA | P6: 701 | Q6: TE133(L1T3)E | R6: KSS
A7: 702 | B7: TE309(L3T2)B | C7: MSB | D7: 702 | E7: TE408(L4T2)B(Ap) | F7: AAM | G7: 702 | H7: A&M209(L2T3)A | I7: SKD | J7: 702 | K7: BUS208(L2T2)C | L7: RA | M7: 702 | N7: TE203(L2T2)C | O7: RIK | P7: 702 | Q7: ENG111(L1T1)A | R7: SKB
A8: 703 | B8: TE211(L2T1)D | C8: MRI | D8: 703 | E8: MAT133(L1T3)F | F8: BCD | G8: 703 | H8: TE309(L3T2)A | I8: MSB | J8: 703 | K8: TE408(L4T2)A(Ap) | L8: AAM | M8: 703 | N8: A&M209(L2T3)F | O8: BBA | P8: 703
A9: 704 | B9: TE306(L3T2)A | C9: TM | D9: 704 | E9: TE210(L2T3)A | F9: SH | G9: 704 | H9: TE401(L4T1)B(Ap) | I9: MMR | J9: 704 | K9: MAT133(L1T3)E | L9: BCD | M9: 704 | N9: MAT133(L1T3)B | O9: BCD | P9: 704 | Q9: PHY122(L1T2)B | R9: FN
A10: 705 | D10: 705 | E10: TE133(L1T3)A | F10: MMI | G10: 705 | H10: TE133(L1T3)B | I10: MMI | J10: 705 | K10: TE133(L1T3)F | L10: KSS | M10: 705 | N10: TE133(L1T3)C | O10: MMI | P10: 705 | Q10: BUS208(L2T2)B | R10: RA
A11: 706 | B11: TE132(L1T3)A | C11: WAB | D11: 706 | E11: PHY111(L1T1)A | F11: AKA | G11: 706 | H11: TE132(L1T3)C | I11: WAB | J11: 706 | K11: PHY122(L1T2)A | L11: FN | M11: 706 | N11: BDS211(L2T3)E | O11: FE | P11: 706 | Q11: BDS211(L2T3)F | R11: MI
A12: 707 | D12: 707 | E12: A&M209(L2T3)C | F12: MAN | G12: 707 | H12: PHY111(L1T1)B | I12: AKA | J12: 707 | K12: TE401(L4T1)A(Ap) | L12: MMR | M12: 707 | N12: TE210(L2T3)D | O12: RT | P12: 707 | Q12: STA131(L1T3)C | R12: TM(NS)
A13: 301P | D13: 301P | G13: 301P | H13: STA131(L1T3)E | I13: SRD | J13: 301P | K13: STA131(L1T3)B | L13: SRD | M13: 301P | N13: BUS208(L2T2)A | O13: RA | P13: 301P | Q13: STA131(L1T3)F | R13: SRD
A14: 304P | D14: 304P | E14: MAT111(L1T1)B | F14: SF1 | G14: 304P | H14: ENG111(L1T1)D | I14: SKB | J14: 304P | K14: MAT111(L1T1)A | L14: SF1 | M14: 304P | N14: BUC403(L3T3)A | O14: SKM | P14: 304P | Q14: BUC403(L3T3)A | R14: SKM
A15: 711 | D15: 711 | G15: 711 | J15: 711 | K15: BDS211(L2T3)C | L15: AM | M15: 711 | P15: 711
A16: 712 | B16: BUC403(L3T3)C | C16: SH1 | D16: 712 | E16: BUC403(L3T3)D | F16: SH1 | G16: 712 | J16: 712 | M16: 712 | N16: Uttara campus | O16: MAB1 | P16: 712 | Q16: Uttara campus | R16: MAB1
A17: 506 | D17: 506 | G17: 509 | J17: 509 | M17: 509 | P17: 509
A18: L-Yarn1 | G18: L-Yarn1 | H18: Uttara campus(Yarn-I) | M18: L-Yarn1
A19: L-Yarn2 | G19: L-App4202 | M19: L-Yarn2
A20: L-Fab | B20: TE401 (L4T1)FAB | F20: DMA | G20: L-Fab | H20: TE212(L2T1)D | L20: MRI | M20: L-Fab | N20: Uttara campus(Fabric-I)
A21: L-Col | G21: L-Col | M21: L-Col
A22: L-App201 | B22: TE404(L4T2)A(Ap) | F22: MMR | G22: L-App | H22: Uttara campus(Apparel-II) | M22: L-App201 | N22: TE404(L4T2)B(Ap) | R22: MMR
A23: L-QC1 709 | G23: L-QC1 709 | H23: TE205(L2T2)B | L23: RIK | M23: L-QC1 709
A24: L-QC2 708 | G24: L-QC2 708 | M24: L-QC2 708
G25: Com-Lab | M25: 501
A26: 502 | G26: 502 | M26: 502
M27: L-Elec
A28: L-mec | B28: TE210(L2T3)D | F28: SH | G28: L-mec | H28: TE210(L2T3)B | L28: SH | M28: L-mec
A29: L-Chem | G29: L-Chem | H29: CHE125 (L1T2)B | L29: MH(LAB) | M29: L-Chem
A36: Sunday
A37: 08:30-10:00 | D37: 10:00-11:30 | G37: 11:30-01:00 | J37: 01:00-02:30 | M37: 2:30-04:00 | P37: 04:00-05:30
A38: Class | B38: Course | D38: Class | E38: Course | G38: Class | H38: Course | J38: Class | K38: Course | M38: Class | N38: Course | P38: Class | Q38: Course
A39: 701 | B39: TE402(L3T3)B | C39: DMA | D39: 701 | E39: xxxxxxx | F39: xxx | G39: 701 | J39: 701 | K39: TE404(L4T2)B(Ap) | L39: MMR | M39: 701 | N39: TE401(L4T1)(WP) | O39: ZU | P39: 701 | Q39: TE404(L4T2)(WP) | R39: ZU
A40: 702 | B40: PHY111(L1T1)B | C40: AKA | D40: 702 | E40: TE204(L2T3)C | F40: MRR | G40: 702 | H40: TE132(L1T3)B | I40: WAB | J40: 702 | K40: TE204(L2T3)A | L40: MAB | M40: 702 | N40: TE301 (L3T1)A | O40: AHM | P40: 702 | Q40: TE133(L1T3)E | R40: KSS
A41: 703 | B41: TE406(L4T1)A | C41: AAA | D41: 703 | E41: TE132(L1T3)E | F41: TM | G41: 703 | H41: TE213(L2T1)C | I41: AAA | J41: 703 | M41: 703 | N41: TE205(L2T2)B | O41: RIK | P41: 703
A42: 704 | B42: BDS211(L2T3)A | C42: KAF | D42: 704 | E42: TE408(L4T2)B(Ap) | F42: AAM | G42: 704 | H42: TE203(L2T2)C | I42: RIK | J42: 704 | K42: TE204(L2T3)B | L42: AAM | M42: 704 | N42: TE215(L2T1)A | O42: ANF | P42: 704
A43: 705 | B43: TE132(L1T3)D | C43: WAB | D43: 705 | E43: TE133(L1T3)D | F43: KSS | G43: 705 | H43: CHE124(L1T2)B | I43: MMI | J43: 705 | K43: TE404(L4T2)(Fb) | L43: MMH | M43: 705 | N43: CHE124(L1T2)A | O43: MMI | P43: 705 | Q43: TE215(L2T1)C | R43: ANF
A44: 706 | B44: TE306(L3T2)A | C44: TM | D44: 706 | E44: TE402(L3T3)B | F44: DMA | G44: 706 | H44: TE308 (L3T2)A | I44: MAB | J44: 706 | K44: PHY111(L1T1)A | L44: AKA | M44: 706 | N44: PHY111(L1T1)C | O44: AKA | P44: 706 | Q44: BDS211(L2T3)B | R44: KAF
A45: 707 | B45: TE404(L4T2)A(Ap) | C45: MMR | D45: 707 | E45: TE305(L3T1)A | F45: TAC | G45: 707 | H45: TE305(L3T1)B | I45: TAC | J45: 707 | K45: xxxxxx | L45: xxxx | M45: 707 | N45: TE401(L4T1)A(Ap) | O45: MMR | P45: 707
A46: 301P | B46: TE302(L3T1)B | C46: AG | D46: 304P | E46: TE302(L3T1)C | F46: AG | G46: 301P | H46: TE211(L2T1)B | I46: SM1 | J46: 301P | K46: TE211(L2T1)A | L46: SM1 | M46: 301P | N46: TE311(L3T3)B | O46: SSS | P46: 301P
...

Sheet Teacher's routine
D1: 08:30-10:00 | E1: 10:00-11:30 | F1: 11:30-01:00 | G1: 01:00-02:30 | H1: 2:30-04:00 | I1: 04:00-05:30 | L1: Faculty List
A2: =COUNTIF($C$1:C2,C2)+1 -> 2 | B2: =VLOOKUP(A2,$K$4:$L$73,2,FALSE) -> AAA | C2: Saturday | D2: =IFERROR(INDEX(Data!$A$10:$O$842,MATCH(CONCATENATE($C2,D$1,$B2),Data!$J$10:$J$842,0),15),"") | E2: =IFERROR(INDEX(Data!$A$10:$O$842,MATCH(CONCATENATE($C2,E$1,$B2),Data!$J$10:$J$842,0),15),"") | F2: =IFERROR(INDEX(Data!$A$10:$O$842,MATCH(CONCATENATE($C2,F$1,$B2),Data!$J$10:$J$842,0),15),"") | G2: =IFERROR(INDEX(Data!$A$10:$O$842,MATCH(CONCATENATE($C2,G$1,$B2),Data!$J$10:$J$842,0),15),"") | H2: =IFERROR(INDEX(Data!$A$10:$O$842,MATCH(CONCATENATE($C2,H$1,$B2),Data!$J$10:$J$842,0),15),"") | I2: =IFERROR(INDEX(Data!$A$10:$O$842,MATCH(CONCATENATE($C2,I$1,$B2),Data!$J$10:$J$842,0),15),"")
A3: =COUNTIF($C$1:C3,C3)+1 -> 2 | B3: =VLOOKUP(A3,$K$4:$L$73,2,FALSE) -> AAA | C3: Sunday | D3: =IFERROR(INDEX(Data!$A$10:$O$842,MATCH(CONCATENATE($C3,D$1,$B3),Data!$J$10:$J$842,0),15),"") -> TE406(L4T1)A 703 --- AAA | E3: =IFERROR(INDEX(Data!$A$10:$O$842,MATCH(CONCATENATE($C3,E$1,$B3),Data!$J$10:$J$842,0),15),"") | F3: =IFERROR(INDEX(Data!$A$10:$O$842,MATCH(CONCATENATE($C3,F$1,$B3),Data!$J$10:$J$842,0),15),"") -> TE213(L2T1)C 703 --- AAA | G3: =IFERROR(INDEX(Data!$A$10:$O$842,MATCH(CONCATENATE($C3,G$1,$B3),Data!$J$10:$J$842,0),15),"") | H3: =IFERROR(INDEX(Data!$A$10:$O$842,MATCH(CONCATENATE($C3,H$1,$B3),Data!$J$10:$J$842,0),15),"") | I3: =IFERROR(INDEX(Data!$A$10:$O$842,MATCH(CONCATENATE($C3,I$1,$B3),Data!$J$10:$J$842,0),15),"") | K3: Sl | L3: Teacher
A4: =COUNTIF($C$1:C4,C4)+1 -> 2 | B4: =VLOOKUP(A4,$K$4:$L$73,2,FALSE) -> AAA | C4: Monday | D4: =IFERROR(INDEX(Data!$A$10:$O$842,MATCH(CONCATENATE($C4,D$1,$B4),Data!$J$10:$J$842,0),15),"") | E4: =IFERROR(INDEX(Data!$A$10:$O$842,MATCH(CONCATENATE($C4,E$1,$B4),Data!$J$10:$J$842,0),15),"") | F4: =IFERROR(INDEX(Data!$A$10:$O$842,MATCH(CONCATENATE($C4,F$1,$B4),Data!$J$10:$J$842,0),15),"") | G4: =IFERROR(INDEX(Data!$A$10:$O$842,MATCH(CONCATENATE($C4,G$1,$B4),Data!$J$10:$J$842,0),15),"") -> TE406(L4T1)A 703 --- AAA | H4: =IFERROR(INDEX(Data!$A$10:$O$842,MATCH(CONCATENATE($C4,H$1,$B4),Data!$J$10:$J$842,0),15),"") | I4: =IFERROR(INDEX(Data!$A$10:$O$842,MATCH(CONCATENATE($C4,I$1,$B4),Data!$J$10:$J$842,0),15),"") -> TE406(L4T1)C 702 --- AAA | K4: 1 | L4: 0
A5: =COUNTIF($C$1:C5,C5)+1 -> 2 | B5: =VLOOKUP(A5,$K$4:$L$73,2,FALSE) -> AAA | C5: Tuesday | D5: =IFERROR(INDEX(Data!$A$10:$O$842,MATCH(CONCATENATE($C5,D$1,$B5),Data!$J$10:$J$842,0),15),"") | E5: =IFERROR(INDEX(Data!$A$10:$O$842,MATCH(CONCATENATE($C5,E$1,$B5),Data!$J$10:$J$842,0),15),"") | F5: =IFERROR(INDEX(Data!$A$10:$O$842,MATCH(CONCATENATE($C5,F$1,$B5),Data!$J$10:$J$842,0),15),"") | G5: =IFERROR(INDEX(Data!$A$10:$O$842,MATCH(CONCATENATE($C5,G$1,$B5),Data!$J$10:$J$842,0),15),"") | H5: =IFERROR(INDEX(Data!$A$10:$O$842,MATCH(CONCATENATE($C5,H$1,$B5),Data!$J$10:$J$842,0),15),"") -> TE213(L2T1)C 702 --- AAA | I5: =IFERROR(INDEX(Data!$A$10:$O$842,MATCH(CONCATENATE($C5,I$1,$B5),Data!$J$10:$J$842,0),15),"") -> TE406(L4T1)B 703 --- AAA | K5: 2 | L5: AAA
A6: =COUNTIF($C$1:C6,C6)+1 -> 2 | B6: =VLOOKUP(A6,$K$4:$L$73,2,FALSE) -> AAA | C6: Wednesday | D6: =IFERROR(INDEX(Data!$A$10:$O$842,MATCH(CONCATENATE($C6,D$1,$B6),Data!$J$10:$J$842,0),15),"") | E6: =IFERROR(INDEX(Data!$A$10:$O$842,MATCH(CONCATENATE($C6,E$1,$B6),Data!$J$10:$J$842,0),15),"") | F6: =IFERROR(INDEX(Data!$A$10:$O$842,MATCH(CONCATENATE($C6,F$1,$B6),Data!$J$10:$J$842,0),15),"") -> TE406(L4T1)C 707 --- AAA | G6: =IFERROR(INDEX(Data!$A$10:$O$842,MATCH(CONCATENATE($C6,G$1,$B6),Data!$J$10:$J$842,0),15),"") -> TE406(L4T1)B 704 --- AAA | H6: =IFERROR(INDEX(Data!$A$10:$O$842,MATCH(CONCATENATE($C6,H$1,$B6),Data!$J$10:$J$842,0),15),"") -> TE214(L2T1)C L-Fab --- AAA | I6: =IFERROR(INDEX(Data!$A$10:$O$842,MATCH(CONCATENATE($C6,I$1,$B6),Data!$J$10:$J$842,0),15),"") -> TE214(L2T1)C L-Fab --- AAA | K6: 3 | L6: AAM
A7: =COUNTIF($C$1:C7,C7)+1 -> 2 | B7: =VLOOKUP(A7,$K$4:$L$73,2,FALSE) -> AAA | C7: Thursday | D7: =IFERROR(INDEX(Data!$A$10:$O$842,MATCH(CONCATENATE($C7,D$1,$B7),Data!$J$10:$J$842,0),15),"") | E7: =IFERROR(INDEX(Data!$A$10:$O$842,MATCH(CONCATENATE($C7,E$1,$B7),Data!$J$10:$J$842,0),15),"") | F7: =IFERROR(INDEX(Data!$A$10:$O$842,MATCH(CONCATENATE($C7,F$1,$B7),Data!$J$10:$J$842,0),15),"") | G7: =IFERROR(INDEX(Data!$A$10:$O$842,MATCH(CONCATENATE($C7,G$1,$B7),Data!$J$10:$J$842,0),15),"") | H7: =IFERROR(INDEX(Data!$A$10:$O$842,MATCH(CONCATENATE($C7,H$1,$B7),Data!$J$10:$J$842,0),15),"") | I7: =IFERROR(INDEX(Data!$A$10:$O$842,MATCH(CONCATENATE($C7,I$1,$B7),Data!$J$10:$J$842,0),15),"") | K7: 4 | L7: AG
D8: 08:30-10:00 | E8: 10:00-11:30 | F8: 11:30-01:00 | G8: 01:00-02:30 | H8: 2:30-04:00 | I8: 04:00-05:30 | K8: 5 | L8: AHB
A9: =COUNTIF($C$1:C9,C9)+1 -> 3 | B9: =VLOOKUP(A9,$K$4:$L$73,2,FALSE) -> AAM | C9: Saturday | D9: =IFERROR(INDEX(Data!$A$10:$O$842,MATCH(CONCATENATE($C9,D$1,$B9),Data!$J$10:$J$842,0),15),"") | E9: =IFERROR(INDEX(Data!$A$10:$O$842,MATCH(CONCATENATE($C9,E$1,$B9),Data!$J$10:$J$842,0),15),"") -> TE408(L4T2)B(Ap) 702 --- AAM | F9: =IFERROR(INDEX(Data!$A$10:$O$842,MATCH(CONCATENATE($C9,F$1,$B9),Data!$J$10:$J$842,0),15),"") | G9: =IFERROR(INDEX(Data!$A$10:$O$842,MATCH(CONCATENATE($C9,G$1,$B9),Data!$J$10:$J$842,0),15),"") -> TE408(L4T2)A(Ap) 703 --- AAM | H9: =IFERROR(INDEX(Data!$A$10:$O$842,MATCH(CONCATENATE($C9,H$1,$B9),Data!$J$10:$J$842,0),15),"") | I9: =IFERROR(INDEX(Data!$A$10:$O$842,MATCH(CONCATENATE($C9,I$1,$B9),Data!$J$10:$J$842,0),15),"") | K9: 6 | L9: AHM
A10: =COUNTIF($C$1:C10,C10)+1 -> 3 | B10: =VLOOKUP(A10,$K$4:$L$73,2,FALSE) -> AAM | C10: Sunday | D10: =IFERROR(INDEX(Data!$A$10:$O$842,MATCH(CONCATENATE($C10,D$1,$B10),Data!$J$10:$J$842,0),15),"") | E10: =IFERROR(INDEX(Data!$A$10:$O$842,MATCH(CONCATENATE($C10,E$1,$B10),Data!$J$10:$J$842,0),15),"") -> TE408(L4T2)B(Ap) 704 --- AAM | F10: =IFERROR(INDEX(Data!$A$10:$O$842,MATCH(CONCATENATE($C10,F$1,$B10),Data!$J$10:$J$842,0),15),"") | G10: =IFERROR(INDEX(Data!$A$10:$O$842,MATCH(CONCATENATE($C10,G$1,$B10),Data!$J$10:$J$842,0),15),"") -> TE204(L2T3)B 704 --- AAM | H10: =IFERROR(INDEX(Data!$A$10:$O$842,MATCH(CONCATENATE($C10,H$1,$B10),Data!$J$10:$J$842,0),15),"") | I10: =IFERROR(INDEX(Data!$A$10:$O$842,MATCH(CONCATENATE($C10,I$1,$B10),Data!$J$10:$J$842,0),15),"") | K10: 7 | L10: AI
A11: =COUNTIF($C$1:C11,C11)+1 -> 3 | B11: =VLOOKUP(A11,$K$4:$L$73,2,FALSE) -> AAM | C11: Monday | D11: =IFERROR(INDEX(Data!$A$10:$O$842,MATCH(CONCATENATE($C11,D$1,$B11),Data!$J$10:$J$842,0),15),"") | E11: =IFERROR(INDEX(Data!$A$10:$O$842,MATCH(CONCATENATE($C11,E$1,$B11),Data!$J$10:$J$842,0),15),"") | F11: =IFERROR(INDEX(Data!$A$10:$O$842,MATCH(CONCATENATE($C11,F$1,$B11),Data!$J$10:$J$842,0),15),"") -> TE408(L4T2)A(Ap) 703 --- AAM | G11: =IFERROR(INDEX(Data!$A$10:$O$842,MATCH(CONCATENATE($C11,G$1,$B11),Data!$J$10:$J$842,0),15),"") | H11: =IFERROR(INDEX(Data!$A$10:$O$842,MATCH(CONCATENATE($C11,H$1,$B11),Data!$J$10:$J$842,0),15),"") -> TE204(L2T3)B 702 --- AAM | I11: =IFERROR(INDEX(Data!$A$10:$O$842,MATCH(CONCATENATE($C11,I$1,$B11),Data!$J$10:$J$842,0),15),"") | K11: 8 | L11: AKA
A12: =COUNTIF($C$1:C12,C12)+1 -> 3 | B12: =VLOOKUP(A12,$K$4:$L$73,2,FALSE) -> AAM | C12: Tuesday | D12: =IFERROR(INDEX(Data!$A$10:$O$842,MATCH(CONCATENATE($C12,D$1,$B12),Data!$J$10:$J$842,0),15),"") -> TE408(L4T2)A L-App --- AAM | E12: =IFERROR(INDEX(Data!$A$10:$O$842,MATCH(CONCATENATE($C12,E$1,$B12),Data!$J$10:$J$842,0),15),"") -> TE408(L4T2)A L-App --- AAM | F12: =IFERROR(INDEX(Data!$A$10:$O$842,MATCH(CONCATENATE($C12,F$1,$B12),Data!$J$10:$J$842,0),15),"") -> TE408(L4T2)B L-app --- AAM | G12: =IFERROR(INDEX(Data!$A$10:$O$842,MATCH(CONCATENATE($C12,G$1,$B12),Data!$J$10:$J$842,0),15),"") -> TE408(L4T2)B L-app --- AAM | H12: =IFERROR(INDEX(Data!$A$10:$O$842,MATCH(CONCATENATE($C12,H$1,$B12),Data!$J$10:$J$842,0),15),"") | I12: =IFERROR(INDEX(Data!$A$10:$O$842,MATCH(CONCATENATE($C12,I$1,$B12),Data!$J$10:$J$842,0),15),"") | K12: 9 | L12: AMK
A13: =COUNTIF($C$1:C13,C13)+1 -> 3 | B13: =VLOOKUP(A13,$K$4:$L$73,2,FALSE) -> AAM | C13: Wednesday | D13: =IFERROR(INDEX(Data!$A$10:$O$842,MATCH(CONCATENATE($C13,D$1,$B13),Data!$J$10:$J$842,0),15),"") -> TE204(L2T3)F L-App --- AAM | E13: =IFERROR(INDEX(Data!$A$10:$O$842,MATCH(CONCATENATE($C13,E$1,$B13),Data!$J$10:$J$842,0),15),"") -> TE204(L2T3)F L-App --- AAM | F13: =IFERROR(INDEX(Data!$A$10:$O$842,MATCH(CONCATENATE($C13,F$1,$B13),Data!$J$10:$J$842,0),15),"") -> TE204(L2T3)B L-App --- AAM | G13: =IFERROR(INDEX(Data!$A$10:$O$842,MATCH(CONCATENATE($C13,G$1,$B13),Data!$J$10:$J$842,0),15),"") -> TE204(L2T3)B L-App --- AAM | H13: =IFERROR(INDEX(Data!$A$10:$O$842,MATCH(CONCATENATE($C13,H$1,$B13),Data!$J$10:$J$842,0),15),"") | I13: =IFERROR(INDEX(Data!$A$10:$O$842,MATCH(CONCATENATE($C13,I$1,$B13),Data!$J$10:$J$842,0),15),"") | K13: 10 | L13: ANF
A14: =COUNTIF($C$1:C14,C14)+1 -> 3 | B14: =VLOOKUP(A14,$K$4:$L$73,2,FALSE) -> AAM | C14: Thursday | D14: =IFERROR(INDEX(Data!$A$10:$O$842,MATCH(CONCATENATE($C14,D$1,$B14),Data!$J$10:$J$842,0),15),"") | E14: =IFERROR(INDEX(Data!$A$10:$O$842,MATCH(CONCATENATE($C14,E$1,$B14),Data!$J$10:$J$842,0),15),"") | F14: =IFERROR(INDEX(Data!$A$10:$O$842,MATCH(CONCATENATE($C14,F$1,$B14),Data!$J$10:$J$842,0),15),"") | G14: =IFERROR(INDEX(Data!$A$10:$O$842,MATCH(CONCATENATE($C14,G$1,$B14),Data!$J$10:$J$842,0),15),"") | H14: =IFERROR(INDEX(Data!$A$10:$O$842,MATCH(CONCATENATE($C14,H$1,$B14),Data!$J$10:$J$842,0),15),"") | I14: =IFERROR(INDEX(Data!$A$10:$O$842,MATCH(CONCATENATE($C14,I$1,$B14),Data!$J$10:$J$842,0),15),"") | K14: 11 | L14: BCD
D15: 08:30-10:00 | E15: 10:00-11:30 | F15: 11:30-01:00 | G15: 01:00-02:30 | H15: 2:30-04:00 | I15: 04:00-05:30 | K15: 12 | L15: CF
A16: =COUNTIF($C$1:C16,C16)+1 -> 4 | B16: =VLOOKUP(A16,$K$4:$L$73,2,FALSE) -> AG | C16: Saturday | D16: =IFERROR(INDEX(Data!$A$10:$O$842,MATCH(CONCATENATE($C16,D$1,$B16),Data!$J$10:$J$842,0),15),"") | E16: =IFERROR(INDEX(Data!$A$10:$O$842,MATCH(CONCATENATE($C16,E$1,$B16),Data!$J$10:$J$842,0),15),"") | F16: =IFERROR(INDEX(Data!$A$10:$O$842,MATCH(CONCATENATE($C16,F$1,$B16),Data!$J$10:$J$842,0),15),"") | G16: =IFERROR(INDEX(Data!$A$10:$O$842,MATCH(CONCATENATE($C16,G$1,$B16),Data!$J$10:$J$842,0),15),"") | H16: =IFERROR(INDEX(Data!$A$10:$O$842,MATCH(CONCATENATE($C16,H$1,$B16),Data!$J$10:$J$842,0),15),"") | I16: =IFERROR(INDEX(Data!$A$10:$O$842,MATCH(CONCATENATE($C16,I$1,$B16),Data!$J$10:$J$842,0),15),"") | K16: 13 | L16: DMA
A17: =COUNTIF($C$1:C17,C17)+1 -> 4 | B17: =VLOOKUP(A17,$K$4:$L$73,2,FALSE) -> AG | C17: Sunday | D17: =IFERROR(INDEX(Data!$A$10:$O$842,MATCH(CONCATENATE($C17,D$1,$B17),Data!$J$10:$J$842,0),15),"") -> TE302(L3T1)B 301P --- AG | E17: =IFERROR(INDEX(Data!$A$10:$O$842,MATCH(CONCATENATE($C17,E$1,$B17),Data!$J$10:$J$842,0),15),"") -> TE302(L3T1)C 304P --- AG | F17: =IFERROR(INDEX(Data!$A$10:$O$842,MATCH(CONCATENATE($C17,F$1,$B17),Data!$J$10:$J$842,0),15),"") | G17: =IFERROR(INDEX(Data!$A$10:$O$842,MATCH(CONCATENATE($C17,G$1,$B17),Data!$J$10:$J$842,0),15),"") | H17: =IFERROR(INDEX(Data!$A$10:$O$842,MATCH(CONCATENATE($C17,H$1,$B17),Data!$J$10:$J$842,0),15),"") | I17: =IFERROR(INDEX(Data!$A$10:$O$842,MATCH(CONCATENATE($C17,I$1,$B17),Data!$J$10:$J$842,0),15),"") | K17: 14 | L17: E-2
A18: =COUNTIF($C$1:C18,C18)+1 -> 4 | B18: =VLOOKUP(A18,$K$4:$L$73,2,FALSE) -> AG | C18: Monday | D18: =IFERROR(INDEX(Data!$A$10:$O$842,MATCH(CONCATENATE($C18,D$1,$B18),Data!$J$10:$J$842,0),15),"") | E18: =IFERROR(INDEX(Data!$A$10:$O$842,MATCH(CONCATENATE($C18,E$1,$B18),Data!$J$10:$J$842,0),15),"") | F18: =IFERROR(INDEX(Data!$A$10:$O$842,MATCH(CONCATENATE($C18,F$1,$B18),Data!$J$10:$J$842,0),15),"") -> TE202(L2T1)B L-Fab --- AG | G18: =IFERROR(INDEX(Data!$A$10:$O$842,MATCH(CONCATENATE($C18,G$1,$B18),Data!$J$10:$J$842,0),15),"") -> TE202(L2T1)B L-Fab --- AG | H18: =IFERROR(INDEX(Data!$A$10:$O$842,MATCH(CONCATENATE($C18,H$1,$B18),Data!$J$10:$J$842,0),15),"") | I18: =IFERROR(INDEX(Data!$A$10:$O$842,MATCH(CONCATENATE($C18,I$1,$B18),Data!$J$10:$J$842,0),15),"") | K18: 15 | L18: FBS
A19: =COUNTIF($C$1:C19,C19)+1 -> 4 | B19: =VLOOKUP(A19,$K$4:$L$73,2,FALSE) -> AG | C19: Tuesday | D19: =IFERROR(INDEX(Data!$A$10:$O$842,MATCH(CONCATENATE($C19,D$1,$B19),Data!$J$10:$J$842,0),15),"") -> TE302(L3T1)C 301P --- AG | E19: =IFERROR(INDEX(Data!$A$10:$O$842,MATCH(CONCATENATE($C19,E$1,$B19),Data!$J$10:$J$842,0),15),"") -> TE302(L3T1)B 301P --- AG | F19: =IFERROR(INDEX(Data!$A$10:$O$842,MATCH(CONCATENATE($C19,F$1,$B19),Data!$J$10:$J$842,0),15),"") | G19: =IFERROR(INDEX(Data!$A$10:$O$842,MATCH(CONCATENATE($C19,G$1,$B19),Data!$J$10:$J$842,0),15),"") | H19: =IFERROR(INDEX(Data!$A$10:$O$842,MATCH(CONCATENATE($C19,H$1,$B19),Data!$J$10:$J$842,0),15),"") | I19: =IFERROR(INDEX(Data!$A$10:$O$842,MATCH(CONCATENATE($C19,I$1,$B19),Data!$J$10:$J$842,0),15),"") | K19: 16 | L19: FHA
A20: =COUNTIF($C$1:C20,C20)+1 -> 4 | B20: =VLOOKUP(A20,$K$4:$L$73,2,FALSE) -> AG | C20: Wednesday | D20: =IFERROR(INDEX(Data!$A$10:$O$842,MATCH(CONCATENATE($C20,D$1,$B20),Data!$J$10:$J$842,0),15),"") | E20: =IFERROR(INDEX(Data!$A$10:$O$842,MATCH(CONCATENATE($C20,E$1,$B20),Data!$J$10:$J$842,0),15),"") | F20: =IFERROR(INDEX(Data!$A$10:$O$842,MATCH(CONCATENATE($C20,F$1,$B20),Data!$J$10:$J$842,0),15),"") -> TE302(L3T1)C L-Fab --- AG | G20: =IFERROR(INDEX(Data!$A$10:$O$842,MATCH(CONCATENATE($C20,G$1,$B20),Data!$J$10:$J$842,0),15),"") -> TE302(L3T1)C L-Fab --- AG | H20: =IFERROR(INDEX(Data!$A$10:$O$842,MATCH(CONCATENATE($C20,H$1,$B20),Data!$J$10:$J$842,0),15),"") | I20: =IFERROR(INDEX(Data!$A$10:$O$842,MATCH(CONCATENATE($C20,I$1,$B20),Data!$J$10:$J$842,0),15),"") | K20: 17 | L20: FHS
A21: =COUNTIF($C$1:C21,C21)+1 -> 4 | B21: =VLOOKUP(A21,$K$4:$L$73,2,FALSE) -> AG | C21: Thursday | D21: =IFERROR(INDEX(Data!$A$10:$O$842,MATCH(CONCATENATE($C21,D$1,$B21),Data!$J$10:$J$842,0),15),"") | E21: =IFERROR(INDEX(Data!$A$10:$O$842,MATCH(CONCATENATE($C21,E$1,$B21),Data!$J$10:$J$842,0),15),"") | F21: =IFERROR(INDEX(Data!$A$10:$O$842,MATCH(CONCATENATE($C21,F$1,$B21),Data!$J$10:$J$842,0),15),"") | G21: =IFERROR(INDEX(Data!$A$10:$O$842,MATCH(CONCATENATE($C21,G$1,$B21),Data!$J$10:$J$842,0),15),"") | H21: =IFERROR(INDEX(Data!$A$10:$O$842,MATCH(CONCATENATE($C21,H$1,$B21),Data!$J$10:$J$842,0),15),"") | I21: =IFERROR(INDEX(Data!$A$10:$O$842,MATCH(CONCATENATE($C21,I$1,$B21),Data!$J$10:$J$842,0),15),"") | K21: 18 | L21: FN
K22: 19 | L22: FS
A23: =COUNTIF($C$1:C23,C23)+1 -> 5 | B23: =VLOOKUP(A23,$K$4:$L$73,2,FALSE) -> AHB | C23: Saturday | D23: =IFERROR(INDEX(Data!$A$10:$O$842,MATCH(CONCATENATE($C23,D$1,$B23),Data!$J$10:$J$842,0),15),"") | E23: =IFERROR(INDEX(Data!$A$10:$O$842,MATCH(CONCATENATE($C23,E$1,$B23),Data!$J$10:$J$842,0),15),"") | F23: =IFERROR(INDEX(Data!$A$10:$O$842,MATCH(CONCATENATE($C23,F$1,$B23),Data!$J$10:$J$842,0),15),"") | G23: =IFERROR(INDEX(Data!$A$10:$O$842,MATCH(CONCATENATE($C23,G$1,$B23),Data!$J$10:$J$842,0),15),"") | H23: =IFERROR(INDEX(Data!$A$10:$O$842,MATCH(CONCATENATE($C23,H$1,$B23),Data!$J$10:$J$842,0),15),"") | I23: =IFERROR(INDEX(Data!$A$10:$O$842,MATCH(CONCATENATE($C23,I$1,$B23),Data!$J$10:$J$842,0),15),"") | K23: 20 | L23: KSS
A24: =COUNTIF($C$1:C24,C24)+1 -> 5 | B24: =VLOOKUP(A24,$K$4:$L$73,2,FALSE) -> AHB | C24: Sunday | D24: =IFERROR(INDEX(Data!$A$10:$O$842,MATCH(CONCATENATE($C24,D$1,$B24),Data!$J$10:$J$842,0),15),"") | E24: =IFERROR(INDEX(Data!$A$10:$O$842,MATCH(CONCATENATE($C24,E$1,$B24),Data!$J$10:$J$842,0),15),"") | F24: =IFERROR(INDEX(Data!$A$10:$O$842,MATCH(CONCATENATE($C24,F$1,$B24),Data!$J$10:$J$842,0),15),"") | G24: =IFERROR(INDEX(Data!$A$10:$O$842,MATCH(CONCATENATE($C24,G$1,$B24),Data!$J$10:$J$842,0),15),"") | H24: =IFERROR(INDEX(Data!$A$10:$O$842,MATCH(CONCATENATE($C24,H$1,$B24),Data!$J$10:$J$842,0),15),"") | I24: =IFERROR(INDEX(Data!$A$10:$O$842,MATCH(CONCATENATE($C24,I$1,$B24),Data!$J$10:$J$842,0),15),"") | K24: 21 | L24: MAB
A25: =COUNTIF($C$1:C25,C25)+1 -> 5 | B25: =VLOOKUP(A25,$K$4:$L$73,2,FALSE) -> AHB | C25: Monday | D25: =IFERROR(INDEX(Data!$A$10:$O$842,MATCH(CONCATENATE($C25,D$1,$B25),Data!$J$10:$J$842,0),15),"") | E25: =IFERROR(INDEX(Data!$A$10:$O$842,MATCH(CONCATENATE($C25,E$1,$B25),Data!$J$10:$J$842,0),15),"") | F25: =IFERROR(INDEX(Data!$A$10:$O$842,MATCH(CONCATENATE($C25,F$1,$B25),Data!$J$10:$J$842,0),15),"") | G25: =IFERROR(INDEX(Data!$A$10:$O$842,MATCH(CONCATENATE($C25,G$1,$B25),Data!$J$10:$J$842,0),15),"") | H25: =IFERROR(INDEX(Data!$A$10:$O$842,MATCH(CONCATENATE($C25,H$1,$B25),Data!$J$10:$J$842,0),15),"") | I25: =IFERROR(INDEX(Data!$A$10:$O$842,MATCH(CONCATENATE($C25,I$1,$B25),Data!$J$10:$J$842,0),15),"") | K25: 22 | L25: MH
A26: =COUNTIF($C$1:C26,C26)+1 -> 5 | B26: =VLOOKUP(A26,$K$4:$L$73,2,FALSE) -> AHB | C26: Tuesday | D26: =IFERROR(INDEX(Data!$A$10:$O$842,MATCH(CONCATENATE($C26,D$1,$B26),Data!$J$10:$J$842,0),15),"") | E26: =IFERROR(INDEX(Data!$A$10:$O$842,MATCH(CONCATENATE($C26,E$1,$B26),Data!$J$10:$J$842,0),15),"") | F26: =IFERROR(INDEX(Data!$A$10:$O$842,MATCH(CONCATENATE($C26,F$1,$B26),Data!$J$10:$J$842,0),15),"") | G26: =IFERROR(INDEX(Data!$A$10:$O$842,MATCH(CONCATENATE($C26,G$1,$B26),Data!$J$10:$J$842,0),15),"") | H26: =IFERROR(INDEX(Data!$A$10:$O$842,MATCH(CONCATENATE($C26,H$1,$B26),Data!$J$10:$J$842,0),15),"") | I26: =IFERROR(INDEX(Data!$A$10:$O$842,MATCH(CONCATENATE($C26,I$1,$B26),Data!$J$10:$J$842,0),15),"") -> TE406(L4T1)E 704 --- AHB | K26: 23 | L26: MH(LAB)
A27: =COUNTIF($C$1:C27,C27)+1 -> 5 | B27: =VLOOKUP(A27,$K$4:$L$73,2,FALSE) -> AHB | C27: Wednesday | D27: =IFERROR(INDEX(Data!$A$10:$O$842,MATCH(CONCATENATE($C27,D$1,$B27),Data!$J$10:$J$842,0),15),"") | E27: =IFERROR(INDEX(Data!$A$10:$O$842,MATCH(CONCATENATE($C27,E$1,$B27),Data!$J$10:$J$842,0),15),"") | F27: =IFERROR(INDEX(Data!$A$10:$O$842,MATCH(CONCATENATE($C27,F$1,$B27),Data!$J$10:$J$842,0),15),"") | G27: =IFERROR(INDEX(Data!$A$10:$O$842,MATCH(CONCATENATE($C27,G$1,$B27),Data!$J$10:$J$842,0),15),"") | H27: =IFERROR(INDEX(Data!$A$10:$O$842,MATCH(CONCATENATE($C27,H$1,$B27),Data!$J$10:$J$842,0),15),"") | I27: =IFERROR(INDEX(Data!$A$10:$O$842,MATCH(CONCATENATE($C27,I$1,$B27),Data!$J$10:$J$842,0),15),"") -> TE406(L4T1)E 701 --- AHB | K27: 24 | L27: MIM
A28: =COUNTIF($C$1:C28,C28)+1 -> 5 | B28: =VLOOKUP(A28,$K$4:$L$73,2,FALSE) -> AHB | C28: Thursday | D28: =IFERROR(INDEX(Data!$A$10:$O$842,MATCH(CONCATENATE($C28,D$1,$B28),Data!$J$10:$J$842,0),15),"") | E28: =IFERROR(INDEX(Data!$A$10:$O$842,MATCH(CONCATENATE($C28,E$1,$B28),Data!$J$10:$J$842,0),15),"") | F28: =IFERROR(INDEX(Data!$A$10:$O$842,MATCH(CONCATENATE($C28,F$1,$B28),Data!$J$10:$J$842,0),15),"") | G28: =IFERROR(INDEX(Data!$A$10:$O$842,MATCH(CONCATENATE($C28,G$1,$B28),Data!$J$10:$J$842,0),15),"") | H28: =IFERROR(INDEX(Data!$A$10:$O$842,MATCH(CONCATENATE($C28,H$1,$B28),Data!$J$10:$J$842,0),15),"") | I28: =IFERROR(INDEX(Data!$A$10:$O$842,MATCH(CONCATENATE($C28,I$1,$B28),Data!$J$10:$J$842,0),15),"") | K28: 25 | L28: MK
K29: 26 | L29: MMH
A30: =COUNTIF($C$1:C30,C30)+1 -> 6 | B30: =VLOOKUP(A30,$K$4:$L$73,2,FALSE) -> AHM | C30: Saturday | D30: =IFERROR(INDEX(Data!$A$10:$O$842,MATCH(CONCATENATE($C30,D$1,$B30),Data!$J$10:$J$842,0),15),"") | E30: =IFERROR(INDEX(Data!$A$10:$O$842,MATCH(CONCATENATE($C30,E$1,$B30),Data!$J$10:$J$842,0),15),"") | F30: =IFERROR(INDEX(Data!$A$10:$O$842,MATCH(CONCATENATE($C30,F$1,$B30),Data!$J$10:$J$842,0),15),"") | G30: =IFERROR(INDEX(Data!$A$10:$O$842,MATCH(CONCATENATE($C30,G$1,$B30),Data!$J$10:$J$842,0),15),"") | H30: =IFERROR(INDEX(Data!$A$10:$O$842,MATCH(CONCATENATE($C30,H$1,$B30),Data!$J$10:$J$842,0),15),"") | I30: =IFERROR(INDEX(Data!$A$10:$O$842,MATCH(CONCATENATE($C30,I$1,$B30),Data!$J$10:$J$842,0),15),"") | K30: 27 | L30: MMI
A31: =COUNTIF($C$1:C31,C31)+1 -> 6 | B31: =VLOOKUP(A31,$K$4:$L$73,2,FALSE) -> AHM | C31: Sunday | D31: =IFERROR(INDEX(Data!$A$10:$O$842,MATCH(CONCATENATE($C31,D$1,$B31),Data!$J$10:$J$842,0),15),"") | E31: =IFERROR(INDEX(Data!$A$10:$O$842,MATCH(CONCATENATE($C31,E$1,$B31),Data!$J$10:$J$842,0),15),"") | F31: =IFERROR(INDEX(Data!$A$10:$O$842,MATCH(CONCATENATE($C31,F$1,$B31),Data!$J$10:$J$842,0),15),"") -> TE301 (L3T1)A L-Yarn2 --- AHM | G31: =IFERROR(INDEX(Data!$A$10:$O$842,MATCH(CONCATENATE($C31,G$1,$B31),Data!$J$10:$J$842,0),15),"") -> TE301 (L3T1)A L-Yarn2 --- AHM | H31: =IFERROR(INDEX(Data!$A$10:$O$842,MATCH(CONCATENATE($C31,H$1,$B31),Data!$J$10:$J$842,0),15),"") -> TE301 (L3T1)A 702 --- AHM | I31: =IFERROR(INDEX(Data!$A$10:$O$842,MATCH(CONCATENATE($C31,I$1,$B31),Data!$J$10:$J$842,0),15),"") | K31: 28 | L31: MMR
A32: =COUNTIF($C$1:C32,C32)+1 -> 6 | B32: =VLOOKUP(A32,$K$4:$L$73,2,FALSE) -> AHM | C32: Monday | D32: =IFERROR(INDEX(Data!$A$10:$O$842,MATCH(CONCATENATE($C32,D$1,$B32),Data!$J$10:$J$842,0),15),"") | E32: =IFERROR(INDEX(Data!$A$10:$O$842,MATCH(CONCATENATE($C32,E$1,$B32),Data!$J$10:$J$842,0),15),"") | F32: =IFERROR(INDEX(Data!$A$10:$O$842,MATCH(CONCATENATE($C32,F$1,$B32),Data!$J$10:$J$842,0),15),"") | G32: =IFERROR(INDEX(Data!$A$10:$O$842,MATCH(CONCATENATE($C32,G$1,$B32),Data!$J$10:$J$842,0),15),"") -> TE301(L3T1)B 702 --- AHM | H32: =IFERROR(INDEX(Data!$A$10:$O$842,MATCH(CONCATENATE($C32,H$1,$B32),Data!$J$10:$J$842,0),15),"") | I32: =IFERROR(INDEX(Data!$A$10:$O$842,MATCH(CONCATENATE($C32,I$1,$B32),Data!$J$10:$J$842,0),15),"") | K32: 29 | L32: MNC
A33: =COUNTIF($C$1:C33,C33)+1 -> 6 | B33: =VLOOKUP(A33,$K$4:$L$73,2,FALSE) -> AHM | C33: Tuesday | D33: =IFERROR(INDEX(Data!$A$10:$O$842,MATCH(CONCATENATE($C33,D$1,$B33),Data!$J$10:$J$842,0),15),"") | E33: =IFERROR(INDEX(Data!$A$10:$O$842,MATCH(CONCATENATE($C33,E$1,$B33),Data!$J$10:$J$842,0),15),"") | F33: =IFERROR(INDEX(Data!$A$10:$O$842,MATCH(CONCATENATE($C33,F$1,$B33),Data!$J$10:$J$842,0),15),"") | G33: =IFERROR(INDEX(Data!$A$10:$O$842,MATCH(CONCATENATE($C33,G$1,$B33),Data!$J$10:$J$842,0),15),"") | H33: =IFERROR(INDEX(Data!$A$10:$O$842,MATCH(CONCATENATE($C33,H$1,$B33),Data!$J$10:$J$842,0),15),"") -> TE301(L3T1)B 704 --- AHM | I33: =IFERROR(INDEX(Data!$A$10:$O$842,MATCH(CONCATENATE($C33,I$1,$B33),Data!$J$10:$J$842,0),15),"") -> TE301(L3T1)A 702 --- AHM | K33: 30 | L33: MR1
A34: =COUNTIF($C$1:C34,C34)+1 -> 6 | B34: =VLOOKUP(A34,$K$4:$L$73,2,FALSE) -> AHM | C34: Wednesday | D34: =IFERROR(INDEX(Data!$A$10:$O$842,MATCH(CONCATENATE($C34,D$1,$B34),Data!$J$10:$J$842,0),15),"") | E34: =IFERROR(INDEX(Data!$A$10:$O$842,MATCH(CONCATENATE($C34,E$1,$B34),Data!$J$10:$J$842,0),15),"") -> TE301(L3T1)C 706 --- AHM | F34: =IFERROR(INDEX(Data!$A$10:$O$842,MATCH(CONCATENATE($C34,F$1,$B34),Data!$J$10:$J$842,0),15),"") | G34: =IFERROR(INDEX(Data!$A$10:$O$842,MATCH(CONCATENATE($C34,G$1,$B34),Data!$J$10:$J$842,0),15),"") | H34: =IFERROR(INDEX(Data!$A$10:$O$842,MATCH(CONCATENATE($C34,H$1,$B34),Data!$J$10:$J$842,0),15),"") | I34: =IFERROR(INDEX(Data!$A$10:$O$842,MATCH(CONCATENATE($C34,I$1,$B34),Data!$J$10:$J$842,0),15),"") | K34: 31 | L34: MRI
A35: =COUNTIF($C$1:C35,C35)+1 -> 6 | B35: =VLOOKUP(A35,$K$4:$L$73,2,FALSE) -> AHM | C35: Thursday | D35: =IFERROR(INDEX(Data!$A$10:$O$842,MATCH(CONCATENATE($C35,D$1,$B35),Data!$J$10:$J$842,0),15),"") | E35: =IFERROR(INDEX(Data!$A$10:$O$842,MATCH(CONCATENATE($C35,E$1,$B35),Data!$J$10:$J$842,0),15),"") | F35: =IFERROR(INDEX(Data!$A$10:$O$842,MATCH(CONCATENATE($C35,F$1,$B35),Data!$J$10:$J$842,0),15),"") -> TE301(L3T1)C L-Yarn2 --- AHM | G35: =IFERROR(INDEX(Data!$A$10:$O$842,MATCH(CONCATENATE($C35,G$1,$B35),Data!$J$10:$J$842,0),15),"") -> TE301(L3T1)C L-Yarn2 --- AHM | H35: =IFERROR(INDEX(Data!$A$10:$O$842,MATCH(CONCATENATE($C35,H$1,$B35),Data!$J$10:$J$842,0),15),"") | I35: =IFERROR(INDEX(Data!$A$10:$O$842,MATCH(CONCATENATE($C35,I$1,$B35),Data!$J$10:$J$842,0),15),"") -> TE301(L3T1)C 704 --- AHM | K35: 32 | L35: MRR
K36: 33 | L36: MSB
A37: =COUNTIF($C$1:C37,C37)+1 -> 7 | B37: =VLOOKUP(A37,$K$4:$L$73,2,FALSE) -> AI | C37: Saturday | D37: =IFERROR(INDEX(Data!$A$10:$O$842,MATCH(CONCATENATE($C37,D$1,$B37),Data!$J$10:$J$842,0),15),"") | E37: =IFERROR(INDEX(Data!$A$10:$O$842,MATCH(CONCATENATE($C37,E$1,$B37),Data!$J$10:$J$842,0),15),"") | F37: =IFERROR(INDEX(Data!$A$10:$O$842,MATCH(CONCATENATE($C37,F$1,$B37),Data!$J$10:$J$842,0),15),"") | G37: =IFERROR(INDEX(Data!$A$10:$O$842,MATCH(CONCATENATE($C37,G$1,$B37),Data!$J$10:$J$842,0),15),"") | H37: =IFERROR(INDEX(Data!$A$10:$O$842,MATCH(CONCATENATE($C37,H$1,$B37),Data!$J$10:$J$842,0),15),"") | I37: =IFERROR(INDEX(Data!$A$10:$O$842,MATCH(CONCATENATE($C37,I$1,$B37),Data!$J$10:$J$842,0),15),"") | K37: 34 | L37: MSU
A38: =COUNTIF($C$1:C38,C38)+1 -> 7 | B38: =VLOOKUP(A38,$K$4:$L$73,2,FALSE) -> AI | C38: Sunday | D38: =IFERROR(INDEX(Data!$A$10:$O$842,MATCH(CONCATENATE($C38,D$1,$B38),Data!$J$10:$J$842,0),15),"") | E38: =IFERROR(INDEX(Data!$A$10:$O$842,MATCH(CONCATENATE($C38,E$1,$B38),Data!$J$10:$J$842,0),15),"") | F38: =IFERROR(INDEX(Data!$A$10:$O$842,MATCH(CONCATENATE($C38,F$1,$B38),Data!$J$10:$J$842,0),15),"") | G38: =IFERROR(INDEX(Data!$A$10:$O$842,MATCH(CONCATENATE($C38,G$1,$B38),Data!$J$10:$J$842,0),15),"") | H38: =IFERROR(INDEX(Data!$A$10:$O$842,MATCH(CONCATENATE($C38,H$1,$B38),Data!$J$10:$J$842,0),15),"") | I38: =IFERROR(INDEX(Data!$A$10:$O$842,MATCH(CONCATENATE($C38,I$1,$B38),Data!$J$10:$J$842,0),15),"") | K38: 35 | L38: NF
A39: =COUNTIF($C$1:C39,C39)+1 -> 7 | B39: =VLOOKUP(A39,$K$4:$L$73,2,FALSE) -> AI | C39: Monday | D39: =IFERROR(INDEX(Data!$A$10:$O$842,MATCH(CONCATENATE($C39,D$1,$B39),Data!$J$10:$J$842,0),15),"") | E39: =IFERROR(INDEX(Data!$A$10:$O$842,MATCH(CONCATENATE($C39,E$1,$B39),Data!$J$10:$J$842,0),15),"") | F39: =IFERROR(INDEX(Data!$A$10:$O$842,MATCH(CONCATENATE($C39,F$1,$B39),Data!$J$10:$J$842,0),15),"") -> TE213(L2T1)D 705 --- AI | G39: =IFERROR(INDEX(Data!$A$10:$O$842,MATCH(CONCATENATE($C39,G$1,$B39),Data!$J$10:$J$842,0),15),"") | H39: =IFERROR(INDEX(Data!$A$10:$O$842,MATCH(CONCATENATE($C39,H$1,$B39),Data!$J$10:$J$842,0),15),"") -> TE214(L2T1)D L-Fab --- AI | I39: =IFERROR(INDEX(Data!$A$10:$O$842,MATCH(CONCATENATE($C39,I$1,$B39),Data!$J$10:$J$842,0),15),"") -> TE214(L2T1)D L-Fab --- AI | K39: 36 | L39: NL
A40: =COUNTIF($C$1:C40,C40)+1 -> 7 | B40: =VLOOKUP(A40,$K$4:$L$73,2,FALSE) -> AI | C40: Tuesday | D40: =IFERROR(INDEX(Data!$A$10:$O$842,MATCH(CONCATENATE($C40,D$1,$B40),Data!$J$10:$J$842,0),15),"") | E40: =IFERROR(INDEX(Data!$A$10:$O$842,MATCH(CONCATENATE($C40,E$1,$B40),Data!$J$10:$J$842,0),15),"") | F40: =IFERROR(INDEX(Data!$A$10:$O$842,MATCH(CONCATENATE($C40,F$1,$B40),Data!$J$10:$J$842,0),15),"") | G40: =IFERROR(INDEX(Data!$A$10:$O$842,MATCH(CONCATENATE($C40,G$1,$B40),Data!$J$10:$J$842,0),15),"") -> TE213(L2T1)D 704 --- AI | H40: =IFERROR(INDEX(Data!$A$10:$O$842,MATCH(CONCATENATE($C40,H$1,$B40),Data!$J$10:$J$842,0),15),"") -> TE302(L3T1)A 706 --- AI | I40: =IFERROR(INDEX(Data!$A$10:$O$842,MATCH(CONCATENATE($C40,I$1,$B40),Data!$J$10:$J$842,0),15),"") | K40: 37 | L40: NRD
...

Sheet Student's routine
A1: Sl | D1: =Data!D1 -> 08:30-10:00 | E1: =Data!E1 -> 10:00-11:30 | F1: =Data!F1 -> 11:30-01:00 | G1: =Data!G1 -> 01:00-02:30 | H1: =Data!H1 -> 2:30-04:00 | I1: =Data!I1 -> 04:00-05:30 | L1: Faculty List
A2: =COUNTIF($C$1:C2,C2)+1 -> 2 | B2: =VLOOKUP(A2,$K$4:$L$73,2,FALSE) -> (Apparel-II) | C2: Saturday | D2: =IFERROR(INDEX(Data!$A$10:$O$842,MATCH(CONCATENATE($C2,D$1,$B2),Data!$K$10:$K$842,0),15),"") | E2: =IFERROR(INDEX(Data!$A$10:$O$842,MATCH(CONCATENATE($C2,E$1,$B2),Data!$K$10:$K$842,0),15),"") | F2: =IFERROR(INDEX(Data!$A$10:$O$842,MATCH(CONCATENATE($C2,F$1,$B2),Data!$K$10:$K$842,0),15),"") -> Uttara campus(Apparel-II) L-App --- 0 | G2: =IFERROR(INDEX(Data!$A$10:$O$842,MATCH(CONCATENATE($C2,G$1,$B2),Data!$K$10:$K$842,0),15),"") -> Uttara campus(Apparel-II) L-App --- 0 | H2: =IFERROR(INDEX(Data!$A$10:$O$842,MATCH(CONCATENATE($C2,H$1,$B2),Data!$K$10:$K$842,0),15),"") | I2: =IFERROR(INDEX(Data!$A$10:$O$842,MATCH(CONCATENATE($C2,I$1,$B2),Data!$K$10:$K$842,0),15),"")
A3: =COUNTIF($C$1:C3,C3)+1 -> 2 | B3: =VLOOKUP(A3,$K$4:$L$73,2,FALSE) -> (Apparel-II) | C3: Sunday | D3: =IFERROR(INDEX(Data!$A$10:$O$842,MATCH(CONCATENATE($C3,D$1,$B3),Data!$K$10:$K$842,0),15),"") | E3: =IFERROR(INDEX(Data!$A$10:$O$842,MATCH(CONCATENATE($C3,E$1,$B3),Data!$K$10:$K$842,0),15),"") | F3: =IFERROR(INDEX(Data!$A$10:$O$842,MATCH(CONCATENATE($C3,F$1,$B3),Data!$K$10:$K$842,0),15),"") | G3: =IFERROR(INDEX(Data!$A$10:$O$842,MATCH(CONCATENATE($C3,G$1,$B3),Data!$K$10:$K$842,0),15),"") | H3: =IFERROR(INDEX(Data!$A$10:$O$842,MATCH(CONCATENATE($C3,H$1,$B3),Data!$K$10:$K$842,0),15),"") | I3: =IFERROR(INDEX(Data!$A$10:$O$842,MATCH(CONCATENATE($C3,I$1,$B3),Data!$K$10:$K$842,0),15),"") | K3: Sl | L3: Section
A4: =COUNTIF($C$1:C4,C4)+1 -> 2 | B4: =VLOOKUP(A4,$K$4:$L$73,2,FALSE) -> (Apparel-II) | C4: Monday | D4: =IFERROR(INDEX(Data!$A$10:$O$842,MATCH(CONCATENATE($C4,D$1,$B4),Data!$K$10:$K$842,0),15),"") | E4: =IFERROR(INDEX(Data!$A$10:$O$842,MATCH(CONCATENATE($C4,E$1,$B4),Data!$K$10:$K$842,0),15),"") | F4: =IFERROR(INDEX(Data!$A$10:$O$842,MATCH(CONCATENATE($C4,F$1,$B4),Data!$K$10:$K$842,0),15),"") | G4: =IFERROR(INDEX(Data!$A$10:$O$842,MATCH(CONCATENATE($C4,G$1,$B4),Data!$K$10:$K$842,0),15),"") | H4: =IFERROR(INDEX(Data!$A$10:$O$842,MATCH(CONCATENATE($C4,H$1,$B4),Data!$K$10:$K$842,0),15),"") | I4: =IFERROR(INDEX(Data!$A$10:$O$842,MATCH(CONCATENATE($C4,I$1,$B4),Data!$K$10:$K$842,0),15),"") | K4: 1 | L4: 0
A5: =COUNTIF($C$1:C5,C5)+1 -> 2 | B5: =VLOOKUP(A5,$K$4:$L$73,2,FALSE) -> (Apparel-II) | C5: Tuesday | D5: =IFERROR(INDEX(Data!$A$10:$O$842,MATCH(CONCATENATE($C5,D$1,$B5),Data!$K$10:$K$842,0),15),"") | E5: =IFERROR(INDEX(Data!$A$10:$O$842,MATCH(CONCATENATE($C5,E$1,$B5),Data!$K$10:$K$842,0),15),"") | F5: =IFERROR(INDEX(Data!$A$10:$O$842,MATCH(CONCATENATE($C5,F$1,$B5),Data!$K$10:$K$842,0),15),"") | G5: =IFERROR(INDEX(Data!$A$10:$O$842,MATCH(CONCATENATE($C5,G$1,$B5),Data!$K$10:$K$842,0),15),"") | H5: =IFERROR(INDEX(Data!$A$10:$O$842,MATCH(CONCATENATE($C5,H$1,$B5),Data!$K$10:$K$842,0),15),"") | I5: =IFERROR(INDEX(Data!$A$10:$O$842,MATCH(CONCATENATE($C5,I$1,$B5),Data!$K$10:$K$842,0),15),"") | K5: 2 | L5: (Apparel-II)
A6: =COUNTIF($C$1:C6,C6)+1 -> 2 | B6: =VLOOKUP(A6,$K$4:$L$73,2,FALSE) -> (Apparel-II) | C6: Wednesday | D6: =IFERROR(INDEX(Data!$A$10:$O$842,MATCH(CONCATENATE($C6,D$1,$B6),Data!$K$10:$K$842,0),15),"") | E6: =IFERROR(INDEX(Data!$A$10:$O$842,MATCH(CONCATENATE($C6,E$1,$B6),Data!$K$10:$K$842,0),15),"") | F6: =IFERROR(INDEX(Data!$A$10:$O$842,MATCH(CONCATENATE($C6,F$1,$B6),Data!$K$10:$K$842,0),15),"") | G6: =IFERROR(INDEX(Data!$A$10:$O$842,MATCH(CONCATENATE($C6,G$1,$B6),Data!$K$10:$K$842,0),15),"") | H6: =IFERROR(INDEX(Data!$A$10:$O$842,MATCH(CONCATENATE($C6,H$1,$B6),Data!$K$10:$K$842,0),15),"") | I6: =IFERROR(INDEX(Data!$A$10:$O$842,MATCH(CONCATENATE($C6,I$1,$B6),Data!$K$10:$K$842,0),15),"") | K6: 3 | L6: (Fabric-I)
A7: =COUNTIF($C$1:C7,C7)+1 -> 2 | B7: =VLOOKUP(A7,$K$4:$L$73,2,FALSE) -> (Apparel-II) | C7: Thursday | D7: =IFERROR(INDEX(Data!$A$10:$O$842,MATCH(CONCATENATE($C7,D$1,$B7),Data!$K$10:$K$842,0),15),"") | E7: =IFERROR(INDEX(Data!$A$10:$O$842,MATCH(CONCATENATE($C7,E$1,$B7),Data!$K$10:$K$842,0),15),"") | F7: =IFERROR(INDEX(Data!$A$10:$O$842,MATCH(CONCATENATE($C7,F$1,$B7),Data!$K$10:$K$842,0),15),"") | G7: =IFERROR(INDEX(Data!$A$10:$O$842,MATCH(CONCATENATE($C7,G$1,$B7),Data!$K$10:$K$842,0),15),"") | H7: =IFERROR(INDEX(Data!$A$10:$O$842,MATCH(CONCATENATE($C7,H$1,$B7),Data!$K$10:$K$842,0),15),"") | I7: =IFERROR(INDEX(Data!$A$10:$O$842,MATCH(CONCATENATE($C7,I$1,$B7),Data!$K$10:$K$842,0),15),"") | K7: 4 | L7: (L1T1)A
K8: 5 | L8: (L1T1)B
A9: =COUNTIF($C$1:C9,C9)+1 -> 3 | B9: =VLOOKUP(A9,$K$4:$L$73,2,FALSE) -> (Fabric-I) | C9: Saturday | D9: =IFERROR(INDEX(Data!$A$10:$O$842,MATCH(CONCATENATE($C9,D$1,$B9),Data!$K$10:$K$842,0),15),"") | E9: =IFERROR(INDEX(Data!$A$10:$O$842,MATCH(CONCATENATE($C9,E$1,$B9),Data!$K$10:$K$842,0),15),"") | F9: =IFERROR(INDEX(Data!$A$10:$O$842,MATCH(CONCATENATE($C9,F$1,$B9),Data!$K$10:$K$842,0),15),"") | G9: =IFERROR(INDEX(Data!$A$10:$O$842,MATCH(CONCATENATE($C9,G$1,$B9),Data!$K$10:$K$842,0),15),"") | H9: =IFERROR(INDEX(Data!$A$10:$O$842,MATCH(CONCATENATE($C9,H$1,$B9),Data!$K$10:$K$842,0),15),"") -> Uttara campus(Fabric-I) L-Fab --- 0 | I9: =IFERROR(INDEX(Data!$A$10:$O$842,MATCH(CONCATENATE($C9,I$1,$B9),Data!$K$10:$K$842,0),15),"") -> Uttara campus(Fabric-I) L-Fab --- 0 | K9: 6 | L9: (L1T1)C
A10: =COUNTIF($C$1:C10,C10)+1 -> 3 | B10: =VLOOKUP(A10,$K$4:$L$73,2,FALSE) -> (Fabric-I) | C10: Sunday | D10: =IFERROR(INDEX(Data!$A$10:$O$842,MATCH(CONCATENATE($C10,D$1,$B10),Data!$K$10:$K$842,0),15),"") | E10: =IFERROR(INDEX(Data!$A$10:$O$842,MATCH(CONCATENATE($C10,E$1,$B10),Data!$K$10:$K$842,0),15),"") | F10: =IFERROR(INDEX(Data!$A$10:$O$842,MATCH(CONCATENATE($C10,F$1,$B10),Data!$K$10:$K$842,0),15),"") | G10: =IFERROR(INDEX(Data!$A$10:$O$842,MATCH(CONCATENATE($C10,G$1,$B10),Data!$K$10:$K$842,0),15),"") | H10: =IFERROR(INDEX(Data!$A$10:$O$842,MATCH(CONCATENATE($C10,H$1,$B10),Data!$K$10:$K$842,0),15),"") | I10: =IFERROR(INDEX(Data!$A$10:$O$842,MATCH(CONCATENATE($C10,I$1,$B10),Data!$K$10:$K$842,0),15),"") | K10: 7 | L10: (L1T1)D
A11: =COUNTIF($C$1:C11,C11)+1 -> 3 | B11: =VLOOKUP(A11,$K$4:$L$73,2,FALSE) -> (Fabric-I) | C11: Monday | D11: =IFERROR(INDEX(Data!$A$10:$O$842,MATCH(CONCATENATE($C11,D$1,$B11),Data!$K$10:$K$842,0),15),"") | E11: =IFERROR(INDEX(Data!$A$10:$O$842,MATCH(CONCATENATE($C11,E$1,$B11),Data!$K$10:$K$842,0),15),"") | F11: =IFERROR(INDEX(Data!$A$10:$O$842,MATCH(CONCATENATE($C11,F$1,$B11),Data!$K$10:$K$842,0),15),"") | G11: =IFERROR(INDEX(Data!$A$10:$O$842,MATCH(CONCATENATE($C11,G$1,$B11),Data!$K$10:$K$842,0),15),"") | H11: =IFERROR(INDEX(Data!$A$10:$O$842,MATCH(CONCATENATE($C11,H$1,$B11),Data!$K$10:$K$842,0),15),"") | I11: =IFERROR(INDEX(Data!$A$10:$O$842,MATCH(CONCATENATE($C11,I$1,$B11),Data!$K$10:$K$842,0),15),"") | K11: 8 | L11: (L1T2)A
A12: =COUNTIF($C$1:C12,C12)+1 -> 3 | B12: =VLOOKUP(A12,$K$4:$L$73,2,FALSE) -> (Fabric-I) | C12: Tuesday | D12: =IFERROR(INDEX(Data!$A$10:$O$842,MATCH(CONCATENATE($C12,D$1,$B12),Data!$K$10:$K$842,0),15),"") | E12: =IFERROR(INDEX(Data!$A$10:$O$842,MATCH(CONCATENATE($C12,E$1,$B12),Data!$K$10:$K$842,0),15),"") | F12: =IFERROR(INDEX(Data!$A$10:$O$842,MATCH(CONCATENATE($C12,F$1,$B12),Data!$K$10:$K$842,0),15),"") | G12: =IFERROR(INDEX(Data!$A$10:$O$842,MATCH(CONCATENATE($C12,G$1,$B12),Data!$K$10:$K$842,0),15),"") | H12: =IFERROR(INDEX(Data!$A$10:$O$842,MATCH(CONCATENATE($C12,H$1,$B12),Data!$K$10:$K$842,0),15),"") | I12: =IFERROR(INDEX(Data!$A$10:$O$842,MATCH(CONCATENATE($C12,I$1,$B12),Data!$K$10:$K$842,0),15),"") | K12: 9 | L12: (L1T2)B
A13: =COUNTIF($C$1:C13,C13)+1 -> 3 | B13: =VLOOKUP(A13,$K$4:$L$73,2,FALSE) -> (Fabric-I) | C13: Wednesday | D13: =IFERROR(INDEX(Data!$A$10:$O$842,MATCH(CONCATENATE($C13,D$1,$B13),Data!$K$10:$K$842,0),15),"") | E13: =IFERROR(INDEX(Data!$A$10:$O$842,MATCH(CONCATENATE($C13,E$1,$B13),Data!$K$10:$K$842,0),15),"") | F13: =IFERROR(INDEX(Data!$A$10:$O$842,MATCH(CONCATENATE($C13,F$1,$B13),Data!$K$10:$K$842,0),15),"") | G13: =IFERROR(INDEX(Data!$A$10:$O$842,MATCH(CONCATENATE($C13,G$1,$B13),Data!$K$10:$K$842,0),15),"") | H13: =IFERROR(INDEX(Data!$A$10:$O$842,MATCH(CONCATENATE($C13,H$1,$B13),Data!$K$10:$K$842,0),15),"") | I13: =IFERROR(INDEX(Data!$A$10:$O$842,MATCH(CONCATENATE($C13,I$1,$B13),Data!$K$10:$K$842,0),15),"") | K13: 10 | L13: (L1T3)A
A14: =COUNTIF($C$1:C14,C14)+1 -> 3 | B14: =VLOOKUP(A14,$K$4:$L$73,2,FALSE) -> (Fabric-I) | C14: Thursday | D14: =IFERROR(INDEX(Data!$A$10:$O$842,MATCH(CONCATENATE($C14,D$1,$B14),Data!$K$10:$K$842,0),15),"") | E14: =IFERROR(INDEX(Data!$A$10:$O$842,MATCH(CONCATENATE($C14,E$1,$B14),Data!$K$10:$K$842,0),15),"") | F14: =IFERROR(INDEX(Data!$A$10:$O$842,MATCH(CONCATENATE($C14,F$1,$B14),Data!$K$10:$K$842,0),15),"") | G14: =IFERROR(INDEX(Data!$A$10:$O$842,MATCH(CONCATENATE($C14,G$1,$B14),Data!$K$10:$K$842,0),15),"") | H14: =IFERROR(INDEX(Data!$A$10:$O$842,MATCH(CONCATENATE($C14,H$1,$B14),Data!$K$10:$K$842,0),15),"") | I14: =IFERROR(INDEX(Data!$A$10:$O$842,MATCH(CONCATENATE($C14,I$1,$B14),Data!$K$10:$K$842,0),15),"") | K14: 11 | L14: (L1T3)B
K15: 12 | L15: (L1T3)C
A16: =COUNTIF($C$1:C16,C16)+1 -> 4 | B16: =VLOOKUP(A16,$K$4:$L$73,2,FALSE) -> (L1T1)A | C16: Saturday | D16: =IFERROR(INDEX(Data!$A$10:$O$842,MATCH(CONCATENATE($C16,D$1,$B16),Data!$K$10:$K$842,0),15),"") | E16: =IFERROR(INDEX(Data!$A$10:$O$842,MATCH(CONCATENATE($C16,E$1,$B16),Data!$K$10:$K$842,0),15),"") -> PHY111(L1T1)A 706 --- AKA | F16: =IFERROR(INDEX(Data!$A$10:$O$842,MATCH(CONCATENATE($C16,F$1,$B16),Data!$K$10:$K$842,0),15),"") | G16: =IFERROR(INDEX(Data!$A$10:$O$842,MATCH(CONCATENATE($C16,G$1,$B16),Data!$K$10:$K$842,0),15),"") -> MAT111(L1T1)A 304P --- SF1 | H16: =IFERROR(INDEX(Data!$A$10:$O$842,MATCH(CONCATENATE($C16,H$1,$B16),Data!$K$10:$K$842,0),15),"") | I16: =IFERROR(INDEX(Data!$A$10:$O$842,MATCH(CONCATENATE($C16,I$1,$B16),Data!$K$10:$K$842,0),15),"") -> ENG111(L1T1)A 702 --- SKB | K16: 13 | L16: (L1T3)D
A17: =COUNTIF($C$1:C17,C17)+1 -> 4 | B17: =VLOOKUP(A17,$K$4:$L$73,2,FALSE) -> (L1T1)A | C17: Sunday | D17: =IFERROR(INDEX(Data!$A$10:$O$842,MATCH(CONCATENATE($C17,D$1,$B17),Data!$K$10:$K$842,0),15),"") | E17: =IFERROR(INDEX(Data!$A$10:$O$842,MATCH(CONCATENATE($C17,E$1,$B17),Data!$K$10:$K$842,0),15),"") | F17: =IFERROR(INDEX(Data!$A$10:$O$842,MATCH(CONCATENATE($C17,F$1,$B17),Data!$K$10:$K$842,0),15),"") | G17: =IFERROR(INDEX(Data!$A$10:$O$842,MATCH(CONCATENATE($C17,G$1,$B17),Data!$K$10:$K$842,0),15),"") -> PHY111(L1T1)A 706 --- AKA | H17: =IFERROR(INDEX(Data!$A$10:$O$842,MATCH(CONCATENATE($C17,H$1,$B17),Data!$K$10:$K$842,0),15),"") | I17: =IFERROR(INDEX(Data!$A$10:$O$842,MATCH(CONCATENATE($C17,I$1,$B17),Data!$K$10:$K$842,0),15),"") | K17: 14 | L17: (L1T3)E
A18: =COUNTIF($C$1:C18,C18)+1 -> 4 | B18: =VLOOKUP(A18,$K$4:$L$73,2,FALSE) -> (L1T1)A | C18: Monday | D18: =IFERROR(INDEX(Data!$A$10:$O$842,MATCH(CONCATENATE($C18,D$1,$B18),Data!$K$10:$K$842,0),15),"") | E18: =IFERROR(INDEX(Data!$A$10:$O$842,MATCH(CONCATENATE($C18,E$1,$B18),Data!$K$10:$K$842,0),15),"") -> TE111(L1T1)A 301P --- MK | F18: =IFERROR(INDEX(Data!$A$10:$O$842,MATCH(CONCATENATE($C18,F$1,$B18),Data!$K$10:$K$842,0),15),"") -> ENG111(L1T1)A 702 --- SKB | G18: =IFERROR(INDEX(Data!$A$10:$O$842,MATCH(CONCATENATE($C18,G$1,$B18),Data!$K$10:$K$842,0),15),"") | H18: =IFERROR(INDEX(Data!$A$10:$O$842,MATCH(CONCATENATE($C18,H$1,$B18),Data!$K$10:$K$842,0),15),"") | I18: =IFERROR(INDEX(Data!$A$10:$O$842,MATCH(CONCATENATE($C18,I$1,$B18),Data!$K$10:$K$842,0),15),"") | K18: 15 | L18: (L1T3)F
A19: =COUNTIF($C$1:C19,C19)+1 -> 4 | B19: =VLOOKUP(A19,$K$4:$L$73,2,FALSE) -> (L1T1)A | C19: Tuesday | D19: =IFERROR(INDEX(Data!$A$10:$O$842,MATCH(CONCATENATE($C19,D$1,$B19),Data!$K$10:$K$842,0),15),"") | E19: =IFERROR(INDEX(Data!$A$10:$O$842,MATCH(CONCATENATE($C19,E$1,$B19),Data!$K$10:$K$842,0),15),"") | F19: =IFERROR(INDEX(Data!$A$10:$O$842,MATCH(CONCATENATE($C19,F$1,$B19),Data!$K$10:$K$842,0),15),"") -> TE111(L1T1)A 711 --- MK | G19: =IFERROR(INDEX(Data!$A$10:$O$842,MATCH(CONCATENATE($C19,G$1,$B19),Data!$K$10:$K$842,0),15),"") -> MAT111(L1T1)A 304P --- SF1 | H19: =IFERROR(INDEX(Data!$A$10:$O$842,MATCH(CONCATENATE($C19,H$1,$B19),Data!$K$10:$K$842,0),15),"") | I19: =IFERROR(INDEX(Data!$A$10:$O$842,MATCH(CONCATENATE($C19,I$1,$B19),Data!$K$10:$K$842,0),15),"") | K19: 16 | L19: (L2T1)A
A20: =COUNTIF($C$1:C20,C20)+1 -> 4 | B20: =VLOOKUP(A20,$K$4:$L$73,2,FALSE) -> (L1T1)A | C20: Wednesday | D20: =IFERROR(INDEX(Data!$A$10:$O$842,MATCH(CONCATENATE($C20,D$1,$B20),Data!$K$10:$K$842,0),15),"") | E20: =IFERROR(INDEX(Data!$A$10:$O$842,MATCH(CONCATENATE($C20,E$1,$B20),Data!$K$10:$K$842,0),15),"") | F20: =IFERROR(INDEX(Data!$A$10:$O$842,MATCH(CONCATENATE($C20,F$1,$B20),Data!$K$10:$K$842,0),15),"") | G20: =IFERROR(INDEX(Data!$A$10:$O$842,MATCH(CONCATENATE($C20,G$1,$B20),Data!$K$10:$K$842,0),15),"") | H20: =IFERROR(INDEX(Data!$A$10:$O$842,MATCH(CONCATENATE($C20,H$1,$B20),Data!$K$10:$K$842,0),15),"") | I20: =IFERROR(INDEX(Data!$A$10:$O$842,MATCH(CONCATENATE($C20,I$1,$B20),Data!$K$10:$K$842,0),15),"") | K20: 17 | L20: (L2T1)B
A21: =COUNTIF($C$1:C21,C21)+1 -> 4 | B21: =VLOOKUP(A21,$K$4:$L$73,2,FALSE) -> (L1T1)A | C21: Thursday | D21: =IFERROR(INDEX(Data!$A$10:$O$842,MATCH(CONCATENATE($C21,D$1,$B21),Data!$K$10:$K$842,0),15),"") | E21: =IFERROR(INDEX(Data!$A$10:$O$842,MATCH(CONCATENATE($C21,E$1,$B21),Data!$K$10:$K$842,0),15),"") | F21: =IFERROR(INDEX(Data!$A$10:$O$842,MATCH(CONCATENATE($C21,F$1,$B21),Data!$K$10:$K$842,0),15),"") | G21: =IFERROR(INDEX(Data!$A$10:$O$842,MATCH(CONCATENATE($C21,G$1,$B21),Data!$K$10:$K$842,0),15),"") | H21: =IFERROR(INDEX(Data!$A$10:$O$842,MATCH(CONCATENATE($C21,H$1,$B21),Data!$K$10:$K$842,0),15),"") | I21: =IFERROR(INDEX(Data!$A$10:$O$842,MATCH(CONCATENATE($C21,I$1,$B21),Data!$K$10:$K$842,0),15),"") | K21: 18 | L21: (L2T1)C
K22: 19 | L22: (L2T1)D
A23: =COUNTIF($C$1:C23,C23)+1 -> 5 | B23: =VLOOKUP(A23,$K$4:$L$73,2,FALSE) -> (L1T1)B | C23: Saturday | D23: =IFERROR(INDEX(Data!$A$10:$O$842,MATCH(CONCATENATE($C23,D$1,$B23),Data!$K$10:$K$842,0),15),"") | E23: =IFERROR(INDEX(Data!$A$10:$O$842,MATCH(CONCATENATE($C23,E$1,$B23),Data!$K$10:$K$842,0),15),"") -> MAT111(L1T1)B 304P --- SF1 | F23: =IFERROR(INDEX(Data!$A$10:$O$842,MATCH(CONCATENATE($C23,F$1,$B23),Data!$K$10:$K$842,0),15),"") -> PHY111(L1T1)B 707 --- AKA | G23: =IFERROR(INDEX(Data!$A$10:$O$842,MATCH(CONCATENATE($C23,G$1,$B23),Data!$K$10:$K$842,0),15),"") | H23: =IFERROR(INDEX(Data!$A$10:$O$842,MATCH(CONCATENATE($C23,H$1,$B23),Data!$K$10:$K$842,0),15),"") | I23: =IFERROR(INDEX(Data!$A$10:$O$842,MATCH(CONCATENATE($C23,I$1,$B23),Data!$K$10:$K$842,0),15),"") | K23: 20 | L23: (L2T2)A
A24: =COUNTIF($C$1:C24,C24)+1 -> 5 | B24: =VLOOKUP(A24,$K$4:$L$73,2,FALSE) -> (L1T1)B | C24: Sunday | D24: =IFERROR(INDEX(Data!$A$10:$O$842,MATCH(CONCATENATE($C24,D$1,$B24),Data!$K$10:$K$842,0),15),"") -> PHY111(L1T1)B 702 --- AKA | E24: =IFERROR(INDEX(Data!$A$10:$O$842,MATCH(CONCATENATE($C24,E$1,$B24),Data!$K$10:$K$842,0),15),"") | F24: =IFERROR(INDEX(Data!$A$10:$O$842,MATCH(CONCATENATE($C24,F$1,$B24),Data!$K$10:$K$842,0),15),"") | G24: =IFERROR(INDEX(Data!$A$10:$O$842,MATCH(CONCATENATE($C24,G$1,$B24),Data!$K$10:$K$842,0),15),"") | H24: =IFERROR(INDEX(Data!$A$10:$O$842,MATCH(CONCATENATE($C24,H$1,$B24),Data!$K$10:$K$842,0),15),"") | I24: =IFERROR(INDEX(Data!$A$10:$O$842,MATCH(CONCATENATE($C24,I$1,$B24),Data!$K$10:$K$842,0),15),"") | K24: 21 | L24: (L2T2)B
A25: =COUNTIF($C$1:C25,C25)+1 -> 5 | B25: =VLOOKUP(A25,$K$4:$L$73,2,FALSE) -> (L1T1)B | C25: Monday | D25: =IFERROR(INDEX(Data!$A$10:$O$842,MATCH(CONCATENATE($C25,D$1,$B25),Data!$K$10:$K$842,0),15),"") -> PHY112(L1T1)B 501 --- 0 | E25: =IFERROR(INDEX(Data!$A$10:$O$842,MATCH(CONCATENATE($C25,E$1,$B25),Data!$K$10:$K$842,0),15),"") -> PHY112(L1T1)B 501 --- 0 | F25: =IFERROR(INDEX(Data!$A$10:$O$842,MATCH(CONCATENATE($C25,F$1,$B25),Data!$K$10:$K$842,0),15),"") | G25: =IFERROR(INDEX(Data!$A$10:$O$842,MATCH(CONCATENATE($C25,G$1,$B25),Data!$K$10:$K$842,0),15),"") -> TE111(L1T1)B 304P --- MK | H25: =IFERROR(INDEX(Data!$A$10:$O$842,MATCH(CONCATENATE($C25,H$1,$B25),Data!$K$10:$K$842,0),15),"") -> MAT111(L1T1)B 304P --- SF1 | I25: =IFERROR(INDEX(Data!$A$10:$O$842,MATCH(CONCATENATE($C25,I$1,$B25),Data!$K$10:$K$842,0),15),"") | K25: 22 | L25: (L2T2)C
A26: =COUNTIF($C$1:C26,C26)+1 -> 5 | B26: =VLOOKUP(A26,$K$4:$L$73,2,FALSE) -> (L1T1)B | C26: Tuesday | D26: =IFERROR(INDEX(Data!$A$10:$O$842,MATCH(CONCATENATE($C26,D$1,$B26),Data!$K$10:$K$842,0),15),"") | E26: =IFERROR(INDEX(Data!$A$10:$O$842,MATCH(CONCATENATE($C26,E$1,$B26),Data!$K$10:$K$842,0),15),"") | F26: =IFERROR(INDEX(Data!$A$10:$O$842,MATCH(CONCATENATE($C26,F$1,$B26),Data!$K$10:$K$842,0),15),"") | G26: =IFERROR(INDEX(Data!$A$10:$O$842,MATCH(CONCATENATE($C26,G$1,$B26),Data!$K$10:$K$842,0),15),"") -> TE111(L1T1)B 301P --- MK | H26: =IFERROR(INDEX(Data!$A$10:$O$842,MATCH(CONCATENATE($C26,H$1,$B26),Data!$K$10:$K$842,0),15),"") -> ENG111(L1T1)B 301P --- SKB | I26: =IFERROR(INDEX(Data!$A$10:$O$842,MATCH(CONCATENATE($C26,I$1,$B26),Data!$K$10:$K$842,0),15),"") | K26: 23 | L26: (L2T3)A
A27: =COUNTIF($C$1:C27,C27)+1 -> 5 | B27: =VLOOKUP(A27,$K$4:$L$73,2,FALSE) -> (L1T1)B | C27: Wednesday | D27: =IFERROR(INDEX(Data!$A$10:$O$842,MATCH(CONCATENATE($C27,D$1,$B27),Data!$K$10:$K$842,0),15),"") | E27: =IFERROR(INDEX(Data!$A$10:$O$842,MATCH(CONCATENATE($C27,E$1,$B27),Data!$K$10:$K$842,0),15),"") | F27: =IFERROR(INDEX(Data!$A$10:$O$842,MATCH(CONCATENATE($C27,F$1,$B27),Data!$K$10:$K$842,0),15),"") | G27: =IFERROR(INDEX(Data!$A$10:$O$842,MATCH(CONCATENATE($C27,G$1,$B27),Data!$K$10:$K$842,0),15),"") | H27: =IFERROR(INDEX(Data!$A$10:$O$842,MATCH(CONCATENATE($C27,H$1,$B27),Data!$K$10:$K$842,0),15),"") | I27: =IFERROR(INDEX(Data!$A$10:$O$842,MATCH(CONCATENATE($C27,I$1,$B27),Data!$K$10:$K$842,0),15),"") | K27: 24 | L27: (L2T3)B
A28: =COUNTIF($C$1:C28,C28)+1 -> 5 | B28: =VLOOKUP(A28,$K$4:$L$73,2,FALSE) -> (L1T1)B | C28: Thursday | D28: =IFERROR(INDEX(Data!$A$10:$O$842,MATCH(CONCATENATE($C28,D$1,$B28),Data!$K$10:$K$842,0),15),"") | E28: =IFERROR(INDEX(Data!$A$10:$O$842,MATCH(CONCATENATE($C28,E$1,$B28),Data!$K$10:$K$842,0),15),"") | F28: =IFERROR(INDEX(Data!$A$10:$O$842,MATCH(CONCATENATE($C28,F$1,$B28),Data!$K$10:$K$842,0),15),"") | G28: =IFERROR(INDEX(Data!$A$10:$O$842,MATCH(CONCATENATE($C28,G$1,$B28),Data!$K$10:$K$842,0),15),"") -> ENG111(L1T1)B 304P --- SKB | H28: =IFERROR(INDEX(Data!$A$10:$O$842,MATCH(CONCATENATE($C28,H$1,$B28),Data!$K$10:$K$842,0),15),"") | I28: =IFERROR(INDEX(Data!$A$10:$O$842,MATCH(CONCATENATE($C28,I$1,$B28),Data!$K$10:$K$842,0),15),"") | K28: 25 | L28: (L2T3)C
K29: 26 | L29: (L2T3)D
A30: =COUNTIF($C$1:C30,C30)+1 -> 6 | B30: =VLOOKUP(A30,$K$4:$L$73,2,FALSE) -> (L1T1)C | C30: Saturday | D30: =IFERROR(INDEX(Data!$A$10:$O$842,MATCH(CONCATENATE($C30,D$1,$B30),Data!$K$10:$K$842,0),15),"") | E30: =IFERROR(INDEX(Data!$A$10:$O$842,MATCH(CONCATENATE($C30,E$1,$B30),Data!$K$10:$K$842,0),15),"") | F30: =IFERROR(INDEX(Data!$A$10:$O$842,MATCH(CONCATENATE($C30,F$1,$B30),Data!$K$10:$K$842,0),15),"") | G30: =IFERROR(INDEX(Data!$A$10:$O$842,MATCH(CONCATENATE($C30,G$1,$B30),Data!$K$10:$K$842,0),15),"") | H30: =IFERROR(INDEX(Data!$A$10:$O$842,MATCH(CONCATENATE($C30,H$1,$B30),Data!$K$10:$K$842,0),15),"") -> PHY111(L1T1)C 701 --- AKA | I30: =IFERROR(INDEX(Data!$A$10:$O$842,MATCH(CONCATENATE($C30,I$1,$B30),Data!$K$10:$K$842,0),15),"") | K30: 27 | L30: (L2T3)E
A31: =COUNTIF($C$1:C31,C31)+1 -> 6 | B31: =VLOOKUP(A31,$K$4:$L$73,2,FALSE) -> (L1T1)C | C31: Sunday | D31: =IFERROR(INDEX(Data!$A$10:$O$842,MATCH(CONCATENATE($C31,D$1,$B31),Data!$K$10:$K$842,0),15),"") | E31: =IFERROR(INDEX(Data!$A$10:$O$842,MATCH(CONCATENATE($C31,E$1,$B31),Data!$K$10:$K$842,0),15),"") | F31: =IFERROR(INDEX(Data!$A$10:$O$842,MATCH(CONCATENATE($C31,F$1,$B31),Data!$K$10:$K$842,0),15),"") | G31: =IFERROR(INDEX(Data!$A$10:$O$842,MATCH(CONCATENATE($C31,G$1,$B31),Data!$K$10:$K$842,0),15),"") | H31: =IFERROR(INDEX(Data!$A$10:$O$842,MATCH(CONCATENATE($C31,H$1,$B31),Data!$K$10:$K$842,0),15),"") -> PHY111(L1T1)C 706 --- AKA | I31: =IFERROR(INDEX(Data!$A$10:$O$842,MATCH(CONCATENATE($C31,I$1,$B31),Data!$K$10:$K$842,0),15),"") -> MAT111(L1T1)C 304P --- SF1 | K31: 28 | L31: (L2T3)F
A32: =COUNTIF($C$1:C32,C32)+1 -> 6 | B32: =VLOOKUP(A32,$K$4:$L$73,2,FALSE) -> (L1T1)C | C32: Monday | D32: =IFERROR(INDEX(Data!$A$10:$O$842,MATCH(CONCATENATE($C32,D$1,$B32),Data!$K$10:$K$842,0),15),"") | E32: =IFERROR(INDEX(Data!$A$10:$O$842,MATCH(CONCATENATE($C32,E$1,$B32),Data!$K$10:$K$842,0),15),"") | F32: =IFERROR(INDEX(Data!$A$10:$O$842,MATCH(CONCATENATE($C32,F$1,$B32),Data!$K$10:$K$842,0),15),"") | G32: =IFERROR(INDEX(Data!$A$10:$O$842,MATCH(CONCATENATE($C32,G$1,$B32),Data!$K$10:$K$842,0),15),"") | H32: =IFERROR(INDEX(Data!$A$10:$O$842,MATCH(CONCATENATE($C32,H$1,$B32),Data!$K$10:$K$842,0),15),"") | I32: =IFERROR(INDEX(Data!$A$10:$O$842,MATCH(CONCATENATE($C32,I$1,$B32),Data!$K$10:$K$842,0),15),"") | K32: 29 | L32: (L3T1)A
A33: =COUNTIF($C$1:C33,C33)+1 -> 6 | B33: =VLOOKUP(A33,$K$4:$L$73,2,FALSE) -> (L1T1)C | C33: Tuesday | D33: =IFERROR(INDEX(Data!$A$10:$O$842,MATCH(CONCATENATE($C33,D$1,$B33),Data!$K$10:$K$842,0),15),"") | E33: =IFERROR(INDEX(Data!$A$10:$O$842,MATCH(CONCATENATE($C33,E$1,$B33),Data!$K$10:$K$842,0),15),"") | F33: =IFERROR(INDEX(Data!$A$10:$O$842,MATCH(CONCATENATE($C33,F$1,$B33),Data!$K$10:$K$842,0),15),"") | G33: =IFERROR(INDEX(Data!$A$10:$O$842,MATCH(CONCATENATE($C33,G$1,$B33),Data!$K$10:$K$842,0),15),"") -> ENG111(L1T1)C 707 --- SKB | H33: =IFERROR(INDEX(Data!$A$10:$O$842,MATCH(CONCATENATE($C33,H$1,$B33),Data!$K$10:$K$842,0),15),"") | I33: =IFERROR(INDEX(Data!$A$10:$O$842,MATCH(CONCATENATE($C33,I$1,$B33),Data!$K$10:$K$842,0),15),"") | K33: 30 | L33: (L3T1)B
A34: =COUNTIF($C$1:C34,C34)+1 -> 6 | B34: =VLOOKUP(A34,$K$4:$L$73,2,FALSE) -> (L1T1)C | C34: Wednesday | D34: =IFERROR(INDEX(Data!$A$10:$O$842,MATCH(CONCATENATE($C34,D$1,$B34),Data!$K$10:$K$842,0),15),"") | E34: =IFERROR(INDEX(Data!$A$10:$O$842,MATCH(CONCATENATE($C34,E$1,$B34),Data!$K$10:$K$842,0),15),"") -> MAT111(L1T1)C 304P --- SF1 | F34: =IFERROR(INDEX(Data!$A$10:$O$842,MATCH(CONCATENATE($C34,F$1,$B34),Data!$K$10:$K$842,0),15),"") -> TE111(L1T1)C 711 --- AMK | G34: =IFERROR(INDEX(Data!$A$10:$O$842,MATCH(CONCATENATE($C34,G$1,$B34),Data!$K$10:$K$842,0),15),"") | H34: =IFERROR(INDEX(Data!$A$10:$O$842,MATCH(CONCATENATE($C34,H$1,$B34),Data!$K$10:$K$842,0),15),"") | I34: =IFERROR(INDEX(Data!$A$10:$O$842,MATCH(CONCATENATE($C34,I$1,$B34),Data!$K$10:$K$842,0),15),"") | K34: 31 | L34: (L3T1)C
A35: =COUNTIF($C$1:C35,C35)+1 -> 6 | B35: =VLOOKUP(A35,$K$4:$L$73,2,FALSE) -> (L1T1)C | C35: Thursday | D35: =IFERROR(INDEX(Data!$A$10:$O$842,MATCH(CONCATENATE($C35,D$1,$B35),Data!$K$10:$K$842,0),15),"") | E35: =IFERROR(INDEX(Data!$A$10:$O$842,MATCH(CONCATENATE($C35,E$1,$B35),Data!$K$10:$K$842,0),15),"") -> TE111(L1T1)C 301P --- AMK | F35: =IFERROR(INDEX(Data!$A$10:$O$842,MATCH(CONCATENATE($C35,F$1,$B35),Data!$K$10:$K$842,0),15),"") -> ENG111(L1T1)C 304P --- SKB | G35: =IFERROR(INDEX(Data!$A$10:$O$842,MATCH(CONCATENATE($C35,G$1,$B35),Data!$K$10:$K$842,0),15),"") | H35: =IFERROR(INDEX(Data!$A$10:$O$842,MATCH(CONCATENATE($C35,H$1,$B35),Data!$K$10:$K$842,0),15),"") | I35: =IFERROR(INDEX(Data!$A$10:$O$842,MATCH(CONCATENATE($C35,I$1,$B35),Data!$K$10:$K$842,0),15),"") | K35: 32 | L35: (L3T2)A
K36: 33 | L36: (L3T2)B
A37: =COUNTIF($C$1:C37,C37)+1 -> 7 | B37: =VLOOKUP(A37,$K$4:$L$73,2,FALSE) -> (L1T1)D | C37: Saturday | D37: =IFERROR(INDEX(Data!$A$10:$O$842,MATCH(CONCATENATE($C37,D$1,$B37),Data!$K$10:$K$842,0),15),"") | E37: =IFERROR(INDEX(Data!$A$10:$O$842,MATCH(CONCATENATE($C37,E$1,$B37),Data!$K$10:$K$842,0),15),"") | F37: =IFERROR(INDEX(Data!$A$10:$O$842,MATCH(CONCATENATE($C37,F$1,$B37),Data!$K$10:$K$842,0),15),"") -> ENG111(L1T1)D 304P --- SKB | G37: =IFERROR(INDEX(Data!$A$10:$O$842,MATCH(CONCATENATE($C37,G$1,$B37),Data!$K$10:$K$842,0),15),"") | H37: =IFERROR(INDEX(Data!$A$10:$O$842,MATCH(CONCATENATE($C37,H$1,$B37),Data!$K$10:$K$842,0),15),"") | I37: =IFERROR(INDEX(Data!$A$10:$O$842,MATCH(CONCATENATE($C37,I$1,$B37),Data!$K$10:$K$842,0),15),"") | K37: 34 | L37: (L3T3)A
A38: =COUNTIF($C$1:C38,C38)+1 -> 7 | B38: =VLOOKUP(A38,$K$4:$L$73,2,FALSE) -> (L1T1)D | C38: Sunday | D38: =IFERROR(INDEX(Data!$A$10:$O$842,MATCH(CONCATENATE($C38,D$1,$B38),Data!$K$10:$K$842,0),15),"") | E38: =IFERROR(INDEX(Data!$A$10:$O$842,MATCH(CONCATENATE($C38,E$1,$B38),Data!$K$10:$K$842,0),15),"") | F38: =IFERROR(INDEX(Data!$A$10:$O$842,MATCH(CONCATENATE($C38,F$1,$B38),Data!$K$10:$K$842,0),15),"") | G38: =IFERROR(INDEX(Data!$A$10:$O$842,MATCH(CONCATENATE($C38,G$1,$B38),Data!$K$10:$K$842,0),15),"") | H38: =IFERROR(INDEX(Data!$A$10:$O$842,MATCH(CONCATENATE($C38,H$1,$B38),Data!$K$10:$K$842,0),15),"") -> MAT111(L1T1)D 304P --- SF1 | I38: =IFERROR(INDEX(Data!$A$10:$O$842,MATCH(CONCATENATE($C38,I$1,$B38),Data!$K$10:$K$842,0),15),"") | K38: 35 | L38: (L3T3)B
A39: =COUNTIF($C$1:C39,C39)+1 -> 7 | B39: =VLOOKUP(A39,$K$4:$L$73,2,FALSE) -> (L1T1)D | C39: Monday | D39: =IFERROR(INDEX(Data!$A$10:$O$842,MATCH(CONCATENATE($C39,D$1,$B39),Data!$K$10:$K$842,0),15),"") | E39: =IFERROR(INDEX(Data!$A$10:$O$842,MATCH(CONCATENATE($C39,E$1,$B39),Data!$K$10:$K$842,0),15),"") | F39: =IFERROR(INDEX(Data!$A$10:$O$842,MATCH(CONCATENATE($C39,F$1,$B39),Data!$K$10:$K$842,0),15),"") | G39: =IFERROR(INDEX(Data!$A$10:$O$842,MATCH(CONCATENATE($C39,G$1,$B39),Data!$K$10:$K$842,0),15),"") | H39: =IFERROR(INDEX(Data!$A$10:$O$842,MATCH(CONCATENATE($C39,H$1,$B39),Data!$K$10:$K$842,0),15),"") | I39: =IFERROR(INDEX(Data!$A$10:$O$842,MATCH(CONCATENATE($C39,I$1,$B39),Data!$K$10:$K$842,0),15),"") | K39: 36 | L39: (L3T3)C
A40: =COUNTIF($C$1:C40,C40)+1 -> 7 | B40: =VLOOKUP(A40,$K$4:$L$73,2,FALSE) -> (L1T1)D | C40: Tuesday | D40: =IFERROR(INDEX(Data!$A$10:$O$842,MATCH(CONCATENATE($C40,D$1,$B40),Data!$K$10:$K$842,0),15),"") | E40: =IFERROR(INDEX(Data!$A$10:$O$842,MATCH(CONCATENATE($C40,E$1,$B40),Data!$K$10:$K$842,0),15),"") | F40: =IFERROR(INDEX(Data!$A$10:$O$842,MATCH(CONCATENATE($C40,F$1,$B40),Data!$K$10:$K$842,0),15),"") | G40: =IFERROR(INDEX(Data!$A$10:$O$842,MATCH(CONCATENATE($C40,G$1,$B40),Data!$K$10:$K$842,0),15),"") | H40: =IFERROR(INDEX(Data!$A$10:$O$842,MATCH(CONCATENATE($C40,H$1,$B40),Data!$K$10:$K$842,0),15),"") | I40: =IFERROR(INDEX(Data!$A$10:$O$842,MATCH(CONCATENATE($C40,I$1,$B40),Data!$K$10:$K$842,0),15),"") -> MAT111(L1T1)D 705 --- SF1 | K40: 37 | L40: (L3T3)D
...

Sheet T's class
A2: LT | B2: (All)
A4: Count of Course | C4: Time
A5: Teacher | B5: Day | C5: 08:30-10:00 | D5: 10:00-11:30 | E5: 11:30-01:00 | F5: 01:00-02:30 | G5: 2:30-04:00 | H5: 04:00-05:30 | I5: Grand Total
A6: 0 | B6: Sunday | C6: 11 | D6: 10 | E6: 10 | F6: 8 | G6: 11 | H6: 13 | I6: 63
B7: Monday | C7: 13 | D7: 12 | E7: 6 | F7: 7 | G7: 11 | H7: 12 | I7: 61
B8: Tuesday | C8: 18 | D8: 12 | E8: 11 | F8: 11 | G8: 10 | H8: 10 | I8: 72
B9: Wednesday | C9: 9 | D9: 9 | E9: 8 | F9: 8 | G9: 10 | H9: 13 | I9: 57
B10: Thursday | C10: 10 | D10: 10 | E10: 9 | F10: 9 | G10: 13 | H10: 16 | I10: 67
B11: Saturday | C11: 15 | D11: 12 | E11: 8 | F11: 9 | G11: 11 | H11: 13 | I11: 68
A12: 0 Total | C12: 76 | D12: 65 | E12: 52 | F12: 52 | G12: 66 | H12: 77 | I12: 388
A13: AAA | B13: Sunday | C13: 1 | E13: 1 | I13: 2
B14: Monday | F14: 1 | H14: 1 | I14: 2
B15: Tuesday | G15: 1 | H15: 1 | I15: 2
B16: Wednesday | E16: 1 | F16: 1 | G16: 1 | H16: 1 | I16: 4
A17: AAA Total | C17: 1 | E17: 2 | F17: 2 | G17: 2 | H17: 3 | I17: 10
A18: AAM | B18: Sunday | D18: 1 | F18: 1 | I18: 2
B19: Monday | E19: 1 | G19: 1 | I19: 2
B20: Wednesday | C20: 1 | D20: 1 | E20: 1 | F20: 1 | I20: 4
B21: Saturday | D21: 1 | F21: 1 | I21: 2
A22: AAM Total | C22: 1 | D22: 3 | E22: 2 | F22: 3 | G22: 1 | I22: 10
A23: AG | B23: Sunday | C23: 1 | D23: 1 | I23: 2
B24: Monday | E24: 1 | F24: 1 | I24: 2
B25: Tuesday | C25: 1 | D25: 1 | I25: 2
B26: Wednesday | E26: 1 | F26: 1 | I26: 2
A27: AG Total | C27: 2 | D27: 2 | E27: 2 | F27: 2 | I27: 8
