Workbook

Sheet Sheet1
A1: Faculty of Science and Information Technology
A2: Class Routine Textile Engineering Department Semester: Fall' 2012
A3: Saturday
A4: 08:30-10:00 | D4: 10:00-11:30 | G4: 11:30-01:00 | J4: 01:00-02:30 | M4: 2:30-04:00 | P4: 04:00-05:30
A5: Class | B5: Course | D5: Class | E5: Course | G5: Class | H5: Course | J5: Class | K5: Course | M5: Class | N5: Course | P5: Class | Q5: Course
A6: 701 | D6: 701 | E6: TE306(L3T2)B | F6: TM | G6: 701 | H6: TE132(L1T3)F | I6: TM | J6: 701 | K6: BDS211(L2T3)D | L6: MI | M6: 701 | N6: PHY111(L1T1)C | O6: AKA | P6: 701 | Q6: TE133(L1T3)E | R6: KSS
A7: 702 | B7: TE309(L3T2)B | C7: MSB | D7: 702 | E7: TE408(L4T2)B(Ap) | F7: AAM | G7: 702 | H7: A&M209(L2T3)A | I7: SKD | J7: 702 | K7: BUS208(L2T2)C | L7: RA | M7: 702 | N7: TE203(L2T2)C | O7: RIK | P7: 702 | Q7: ENG111(L1T1)A | R7: SKB
A8: 703 | B8: TE211(L2T1)D | C8: MRI | D8: 703 | E8: MAT133(L1T3)F | F8: BCD | G8: 703 | H8: TE309(L3T2)A | I8: MSB | J8: 703 | K8: TE408(L4T2)A(Ap) | L8: AAM | M8: 703 | N8: A&M209(L2T3)F | O8: BBA | P8: 703
A9: 704 | B9: TE306(L3T2)A | C9: TM | D9: 704 | E9: TE210(L2T3)A | F9: SH | G9: 704 | H9: TE401(L4T1)B(Ap) | I9: MMR | J9: 704 | K9: MAT133(L1T3)E | L9: BCD | M9: 704 | N9: MAT133(L1T3)B | O9: BCD | P9: 704 | Q9: PHY122(L1T2)B | R9: FN
A10: 705 | D10: 705 | E10: TE133(L1T3)A | F10: MMI | G10: 705 | H10: TE133(L1T3)B | I10: MMI | J10: 705 | K10: TE133(L1T3)F | L10: KSS | M10: 705 | N10: TE133(L1T3)C | O10: MMI | P10: 705 | Q10: BUS208(L2T2)B | R10: RA
A11: 706 | B11: TE132(L1T3)A | C11: WAB | D11: 706 | E11: PHY111(L1T1)A | F11: AKA | G11: 706 | H11: TE132(L1T3)C | I11: WAB | J11: 706 | K11: PHY122(L1T2)A | L11: FN | M11: 706 | N11: BDS211(L2T3)E | O11: FE | P11: 706 | Q11: BDS211(L2T3)F | R11: MI
A12: 707 | D12: 707 | E12: A&M209(L2T3)C | F12: MAN | G12: 707 | H12: PHY111(L1T1)B | I12: AKA | J12: 707 | K12: TE401(L4T1)A(Ap) | L12: MMR | M12: 707 | N12: TE210(L2T3)D | O12: RT | P12: 707 | Q12: STA131(L1T3)C | R12: TM(NS)
A13: 301P | D13: 301P | G13: 301P | H13: STA131(L1T3)E | I13: SRD | J13: 301P | K13: STA131(L1T3)B | L13: SRD | M13: 301P | N13: BUS208(L2T2)A | O13: RA | P13: 301P | Q13: STA131(L1T3)F | R13: SRD
A14: 304P | D14: 304P | E14: MAT111(L1T1)B | F14: SF1 | G14: 304P | H14: ENG111(L1T1)D | I14: SKB | J14: 304P | K14: MAT111(L1T1)A | L14: SF1 | M14: 304P | N14: BUC403(L3T3)A | O14: SKM | P14: 304P | Q14: BUC403(L3T3)A | R14: SKM
A15: 711 | D15: 711 | G15: 711 | J15: 711 | K15: BDS211(L2T3)C | L15: AM | M15: 711 | P15: 711
A16: 712 | B16: BUC403(L3T3)C | C16: SH1 | D16: 712 | E16: BUC403(L3T3)D | F16: SH1 | G16: 712 | J16: 712 | M16: 712 | N16: Uttara campus | O16: MAB1 | P16: 712 | Q16: Uttara campus | R16: MAB1
A17: 506 | D17: 506 | G17: 509 | J17: 509 | M17: 509 | P17: 509
A18: L-Yarn1 | G18: L-Yarn1 | H18: Uttara campus(Yarn-I) | M18: L-Yarn1
A19: L-Yarn2 | G19: L-App4202 | M19: L-Yarn2
A20: L-Fab | B20: TE401 (L4T1)FAB | F20: DMA | G20: L-Fab | H20: TE212(L2T1)D | L20: MRI | M20: L-Fab | N20: Uttara campus(Fabric-I)
A21: L-Col | G21: L-Col | M21: L-Col
A22: L-App201 | B22: TE404(L4T2)A(Ap) | F22: MMR | G22: L-App | H22: Uttara campus(Apparel-II) | M22: L-App201 | N22: TE404(L4T2)B(Ap) | R22: MMR
A23: L-QC1 709 | G23: L-QC1 709 | H23: TE205(L2T2)B | L23: RIK | M23: L-QC1 709
A24: L-QC2 708 | G24: L-QC2 708 | M24: L-QC2 708
G25: Com-Lab | M25: 501
A26: 502 | G26: 502 | M26: 502
M27: L-Elec
A28: L-mec | B28: TE210(L2T3)D | F28: SH | G28: L-mec | H28: TE210(L2T3)B | L28: SH | M28: L-mec
A29: L-Chem | G29: L-Chem | H29: CHE125 (L1T2)B | L29: MH(LAB) | M29: L-Chem
A36: Sunday
A37: 08:30-10:00 | D37: 10:00-11:30 | G37: 11:30-01:00 | J37: 01:00-02:30 | M37: 2:30-04:00 | P37: 04:00-05:30
A38: Class | B38: Course | D38: Class | E38: Course | G38: Class | H38: Course | J38: Class | K38: Course | M38: Class | N38: Course | P38: Class | Q38: Course
A39: 701 | B39: TE402(L3T3)B | C39: DMA | D39: 701 | E39: xxxxxxx | F39: xxx | G39: 701 | J39: 701 | K39: TE404(L4T2)B(Ap) | L39: MMR | M39: 701 | N39: TE401(L4T1)(WP) | O39: ZU | P39: 701 | Q39: TE404(L4T2)(WP) | R39: ZU
A40: 702 | B40: PHY111(L1T1)B | C40: AKA | D40: 702 | E40: TE204(L2T3)C | F40: MRR | G40: 702 | H40: TE132(L1T3)B | I40: WAB | J40: 702 | K40: TE204(L2T3)A | L40: MAB | M40: 702 | N40: TE301 (L3T1)A | O40: AHM | P40: 702 | Q40: TE133(L1T3)E | R40: KSS
A41: 703 | B41: TE406(L4T1)A | C41: AAA | D41: 703 | E41: TE132(L1T3)E | F41: TM | G41: 703 | H41: TE213(L2T1)C | I41: AAA | J41: 703 | M41: 703 | N41: TE205(L2T2)B | O41: RIK | P41: 703
A42: 704 | B42: BDS211(L2T3)A | C42: KAF | D42: 704 | E42: TE408(L4T2)B(Ap) | F42: AAM | G42: 704 | H42: TE203(L2T2)C | I42: RIK | J42: 704 | K42: TE204(L2T3)B | L42: AAM | M42: 704 | N42: TE215(L2T1)A | O42: ANF | P42: 704
A43: 705 | B43: TE132(L1T3)D | C43: WAB | D43: 705 | E43: TE133(L1T3)D | F43: KSS | G43: 705 | H43: CHE124(L1T2)B | I43: MMI | J43: 705 | K43: TE404(L4T2)(Fb) | L43: MMH | M43: 705 | N43: CHE124(L1T2)A | O43: MMI | P43: 705 | Q43: TE215(L2T1)C | R43: ANF
A44: 706 | B44: TE306(L3T2)A | C44: TM | D44: 706 | E44: TE402(L3T3)B | F44: DMA | G44: 706 | H44: TE308 (L3T2)A | I44: MAB | J44: 706 | K44: PHY111(L1T1)A | L44: AKA | M44: 706 | N44: PHY111(L1T1)C | O44: AKA | P44: 706 | Q44: BDS211(L2T3)B | R44: KAF
A45: 707 | B45: TE404(L4T2)A(Ap) | C45: MMR | D45: 707 | E45: TE305(L3T1)A | F45: TAC | G45: 707 | H45: TE305(L3T1)B | I45: TAC | J45: 707 | K45: xxxxxx | L45: xxxx | M45: 707 | N45: TE401(L4T1)A(Ap) | O45: MMR | P45: 707
A46: 301P | B46: TE302(L3T1)B | C46: AG | D46: 304P | E46: TE302(L3T1)C | F46: AG | G46: 301P | H46: TE211(L2T1)B | I46: SM1 | J46: 301P | K46: TE211(L2T1)A | L46: SM1 | M46: 301P | N46: TE311(L3T3)B | O46: SSS | P46: 301P
A47: 304P | D47: 301P | E47: TE311(L3T3)C | F47: MR1 | G47: 304P | H47: TE311(L3T3)D | I47: MR1 | J47: 304P | K47: STA131(L1T3)F | L47: SRD | M47: 304P | N47: MAT111(L1T1)D | O47: SF1 | P47: 304P | Q47: MAT111(L1T1)C | R47: SF1
A48: 711 | D48: 711 | G48: 711 | J48: 711 | K48: BUC403(L3T3)C | L48: SH1 | M48: 711 | N48: BUC403(L3T3)D | O48: SH1 | P48: 711
A49: 712 | D49: 712 | G49: 712 | H49: TE203(L2T2)A | I49: FHA | J49: 712 | K49: TE 205(L2T2)A | L49: FS | M49: 712 | P49: 712
A50: 302 | D50: 301 | E50: TE409(L4T1)A | F50: MH | J50: 301 | K50: TE409(L4T1)B | L50: MH
A51: L-Yarn1 | B51: TE212(L2T1)A | F51: SM1 | G51: L-Yarn1 | M51: L-Yarn1
A52: L-Yarn2 | G52: L-Yarn2 | H52: TE301 (L3T1)A | L52: AHM | M52: L-Yarn2
A53: L-Fab | G53: L-Fab | M53: L-Fab
A54: L-Col | B54: TE203(L2T2)A | F54: FHA | G54: L-Col | H54: TE311(L3T3)B | L54: SSS | M54: L-Col
A55: L-App | G55: L-App | H55: TE204(L2T3)C | L55: MRR | M55: L-App | N55: TE204(L2T3)A | R55: MAB
A56: L-QC1 709 | B56: TE205(L2T2)C | F56: RIK | G56: L-QC1 709 | H56: TE405(L4T1)E | L56: FBS | M56: L-QC1 709 | N56: TE205(L2T2)A | R56: FS
A57: L-QC2 709 | G57: L-QC2 709 | M57: L-QC2 709
A58: 201 | B58: CSE112(L1T3)B | F58: KS | G58: 501 | M58: 501
A59: 502 | B59: PHY123(L1T2)A | I59: MNC | J59: 502 | K59: PHY123(L1T2)B | R59: MNC
G60: L-Elec | M60: Com-Lab
A61: L-mec | B61: TE210(L2T3)E | F61: NRD | G61: L-mec | M61: L-mec
G62: L-Chem | M62: L-Chem
A74: Monday
A75: 08:30-10:00 | D75: 10:00-11:30 | G75: 11:30-01:00 | J75: 01:00-02:30 | M75: 2:30-04:00 | P75: 04:00-05:30
A76: Class | B76: Course | D76: Class | E76: Course | G76: Class | H76: Course | J76: Class | K76: Course | M76: Class | N76: Course | P76: Class | Q76: Course
A77: 701 | B77: TE215(L2T1)D | C77: ANF | D77: 701 | E77: TE401 (L4T1)FAB | F77: DMA | G77: 701 | H77: TE402(L3T3)D | I77: DMA | J77: 701 | K77: 701 TE 408(L4T2)(SPF) MMH | L77: MMH | M77: 701 | N77: TE204(L2T3)E | O77: MIM | P77: 701 | Q77: TE309(L3T2)A | R77: MSB
A78: 702 | B78: TE404(L4T2)B(Ap) | C78: MMR | D78: 702 | E78: TE404(L4T2)A(Ap) | F78: MMR | G78: 702 | H78: ENG111(L1T1)A | I78: SKB | J78: 702 | K78: TE301(L3T1)B | L78: AHM | M78: 702 | N78: TE204(L2T3)B | O78: AAM | P78: 702 | Q78: TE406(L4T1)C | R78: AAA
A79: 703 | B79: BDS307(L3T2)A | C79: FHS | D79: 703 | E79: TE204(L2T3)D | F79: MRR | G79: 703 | H79: TE408(L4T2)A(Ap) | I79: AAM | J79: 703 | K79: TE406(L4T1)A | L79: AAA | M79: 703 | N79: PHY122(L1T2)B | O79: FN | P79: 703 | Q79: PHY122(L1T2)A | R79: FN
A80: 704 | B80: TE305(L3T1)A | C80: SS1 | D80: 704 | E80: TE212(L2T2)A | F80: SS1 | G80: 704 | H80: TE306(L3T1)B | I80: SS1 | J80: 704 | K80: BDS307(L3T2)B | L80: FHS | M80: 704 | N80: MAT133(L1T3)A | O80: BCD | P80: 704 | Q80: STA131(L1T3)A | R80: TM(NS)
A81: 705 | B81: TE310(L3T3)B | C81: SS | D81: 705 | E81: TE310(L3T3)A | F81: SS | G81: 705 | H81: TE213(L2T1)D | I81: AI | J81: 705 | K81: xxx | L81: XXX | M81: 705 | N81: CHE124(L1T2)A | O81: MMI | P81: 705 | Q81: CHE124(L1T2)B | R81: MMI
A82: 706 | B82: TE132(L1T3)D | C82: WAB | D82: 706 | E82: TE215(L2T1)A | F82: ANF | G82: 706 | H82: MAT133(L1T3)E | I82: BCD | J82: 706 | K82: MAT133(L1T3)D | L82: BCD | M82: 706 | N82: TE203(L2T2)B | O82: FHA | P82: 706 | Q82: GED211(L2T1)A | R82: FHS
A83: 707 | B83: xxx | C83: XXX | D83: 707 | E83: TE305(L3T1)C | F83: TAC | G83: 707 | H83: TE405(L4T1)E | I83: FBS | J83: 707 | K83: TE405(L4T1)C | L83: FBS | M83: 707 | N83: A&M209(L2T3)F | O83: MAN | P83: 707 | Q83: BUS208(L2T2)B | R83: RA
A84: 301P | B84: A&M209(L2T3)C | C84: MAN | D84: 301P | E84: TE111(L1T1)A | F84: MK | G84: 301P | H84: BUS208(L2T2)A | I84: RA | J84: 301P | K84: BUS208(L2T2)C | L84: RA | M84: 301P | N84: STA131(L1T3)D | O84: SRD | P84: 301P | Q84: STA131(L1T3)E | R84: SRD
A85: 304P | D85: 304P | E85: A&M209(L2T3)A | F85: SKD | G85: 304P | H85: TE211(L2T1)A | I85: SM1 | J85: 304P | K85: TE111(L1T1)B | L85: MK | M85: 304P | N85: MAT111(L1T1)B | O85: SF1 | P85: 304P | Q85: MAT111(L1T1)E | R85: SF1
A86: 711 | B86: TE402(L3T3)A | C86: DMA | D86: 711 | G86: 711 | H86: BUC403(L3T3)B | I86: SH2 | J86: 711 | M86: 711 | N86: TE408(L4T2)(SWP) | O86: SM | P86: 711
A87: 712 | D87: 712 | G87: 712 | J87: 712 | M87: 712 | P87: 712
A88: 301 | B88: TE409(L4T1)C | C88: MH | J88: 301 | K88: TE409(L4T1)E | L88: MH | M88: 302
A89: L-Yarn1 | B89: TE212(L2T1)B | F89: SM1 | M89: L-Yarn1
A90: L-Fab | G90: L-Fab | H90: TE202(L2T1)B | L90: AG | M90: L-Fab | N90: TE214(L2T1)D | R90: AI
A91: L-Col | G91: L-Col | H91: TE203(L2T2)B | L91: FHA | M91: L-Col
A92: L-App | G92: L-App | H92: TE204(L2T3)D | L92: MRR | M92: L-App
A93: L-QC1 709 | G93: L-QC1 709 | H93: TE305 (L3T1)C | L93: TAC | M93: L-QC1 709
G94: L-Draw | M94: L-CSE
G95: 201 | H95: CSE112(L1T3)A | L95: KS | M95: L-Chem
A96: 201 | B96: CSE112(L1T3)E | F96: NFF | G96: 501
A97: 501 | B97: PHY112(L1T1)B | H97: ZK | I97: 501 | J97: PHY112(L1T1)A | R97: ZK
A98: L-mec | G98: L-mec | H98: TE210(L2T3)A | L98: SH | M98: L-mec | N98: TE210(L2T3)C | R98: SH
A99: L-Chem | G99: L-Chem | H99: CHE125 (L1T2)A | L99: MH(LAB) | M99: L-Chem
A100: L-Yarn2 | B100: TE301(L3T1)B | F100: AHM | G100: L-Yarn2 | M100: L-Yarn2
A101: L-QC2 708 | B101: TE311(L3T3)C | F101: MR1 | G101: L-QC2 708 | M101: L-QC2 708
A111: Tuesday
A112: 08:30-10:00 | D112: 10:00-11:30 | G112: 11:30-01:00 | J112: 01:00-02:30 | M112: 2:30-04:00 | P112: 04:00-05:30
A113: Class | B113: Course | D113: Class | E113: Course | G113: Class | H113: Course | J113: Class | K113: Course | M113: Class | N113: Course | P113: Class | Q113: Course
A114: 701 | B114: TE204(L2T3)C | C114: MRR | D114: 701 | E114: xxxx | F114: xx | G114: 701 | H114: TE204(L2T3)D | I114: MRR | J114: 701 | K114: MAT133(L1T3)A | L114: BCD | M114: 701 | N114: MAT133(L1T3)D | O114: BCD | P114: 701 | Q114: GED211(L2T1)D | R114: FHS
A115: 702 | B115: GED211(L2T1)A | C115: FHS | D115: 702 | E115: TE305(L3T1)A | F115: TAC | G115: 702 | H115: TE309(L3T2)B | I115: MSB | J115: 702 | K115: GED211(L2T1)B | L115: FHS | M115: 702 | N115: TE213(L2T1)C | O115: AAA | P115: 702 | Q115: TE301(L3T1)A | R115: AHM
A116: 703 | B116: TE210(L2T3)D | C116: RT | D116: 703 | E116: TE205(L2T2)C | F116: RIK | G116: 703 | H116: TE205(L2T2)B | I116: RIK | J116: 703 | K116: TE210(L2T3)F | L116: NRD | M116: 703 | N116: TE210(L2T3)E | O116: NRD | P116: 703 | Q116: TE406(L4T1)B | R116: AAA
A117: 704 | B117: TE310(L3T3)A | C117: SS | D117: 704 | E117: TE310(L3T3)C | F117: SS | G117: 704 | H117: TE310(L3T3)D | I117: SS | J117: 704 | K117: TE213(L2T1)D | L117: AI | M117: 704 | N117: TE301(L3T1)B | O117: AHM | P117: 704 | Q117: TE406(L4T1)E | R117: AHB
A118: 705 | B118: TE132(L1T3)B | C118: WAB | D118: 705 | E118: TE133(L1T3)B | F118: MMI | G118: 705 | H118: TE133(L1T3)A | I118: MMI | J118: 705 | K118: xxxx | L118: xxxx | M118: 705 | N118: TE133(L1T3)C | O118: MMI | P118: 705 | Q118: MAT111(L1T1)D | R118: SF1
A119: 706 | B119: BDS211(L2T3)A | C119: KAF | D119: 706 | E119: TE213(L2T1)A | F119: ZR | G119: 706 | H119: TE204(L2T3)A | I119: MAB | J119: 706 | K119: TE308 (L3T2)B | L119: MAB | M119: 706 | N119: TE302(L3T1)A | O119: AI | P119: 706 | Q119: TE204(L2T3)E | R119: MIM
A120: 707 | B120: TE402(L3T3)C | C120: DMA | D120: 707 | E120: TE405(L4T1)A | F120: MRR | G120: 707 | H120: TE213(L2T1)B | I120: ZR | J120: 707 | K120: ENG111(L1T1)C | L120: SKB | M120: 707 | N120: MAT122(L1T2)A | O120: MSU | P120: 707 | Q120: MAT122(L1T2)B | R120: MSU
A121: 301P | B121: TE302(L3T1)C | C121: AG | D121: 301P | E121: TE302(L3T1)B | F121: AG | G121: 301P | H121: TE311(L3T3)A | I121: SSS | J121: 301P | K121: TE111(L1T1)B | L121: MK | M121: 301P | N121: ENG111(L1T1)B | O121: SKB | P121: 301P | Q121: STA131(L1T3)D | R121: SRD
A122: 304P | D122: 304P | G122: 304P | H122: TE 211(L2T1)C | I122: MR1 | J122: 304P | K122: MAT111(L1T1)A | L122: SF1 | M122: 304P | N122: ENG122(L1T2)B | O122: SAH | P122: 304P | Q122: ENG122(L1T2)A | R122: SAH
A123: 711 | D123: 711 | E123: TE204(L2T3)F | F123: AMK | G123: 711 | H123: TE111(L1T1)A | I123: MK | J123: 711 | K123: TE405(L4T1)B | L123: SM | M123: 711 | N123: TE408(L4T2)(SWP) | O123: SM | P123: 711
A124: 712 | D124: 712 | G124: 712 | J124: 712 | M124: 712 | P124: 712
A125: 302 | D125: 301 | E125: TE409(L4T1)B | F125: MH | G125: 302 | J125: 301 | K125: TE409(L4T1)A | L125: MH | M125: 302 | P125: 404AB
A127: L-Yarn1 | G127: L-Yarn1 | M127: L-Yarn1
...

Sheet Teacher's routine
D1: 08:30-10:00 | E1: 10:00-11:30 | F1: 11:30-01:00 | G1: 01:00-02:30 | H1: 2:30-04:00 | I1: 04:00-05:30 | L1: Faculty List
A2: =COUNTIF($C$1:C2,C2)+1 -> 2 | B2: =VLOOKUP(A2,$K$4:$L$73,2,FALSE) -> AAA | C2: Saturday | D2: =IFERROR(INDEX(Data!$A$10:$O$842,MATCH(CONCATENATE($C2,D$1,$B2),Data!$J$10:$J$842,0),15),"") | E2: =IFERROR(INDEX(Data!$A$10:$O$842,MATCH(CONCATENATE($C2,E$1,$B2),Data!$J$10:$J$842,0),15),"") | F2: =IFERROR(INDEX(Data!$A$10:$O$842,MATCH(CONCATENATE($C2,F$1,$B2),Data!$J$10:$J$842,0),15),"") | G2: =IFERROR(INDEX(Data!$A$10:$O$842,MATCH(CONCATENATE($C2,G$1,$B2),Data!$J$10:$J$842,0),15),"") | H2: =IFERROR(INDEX(Data!$A$10:$O$842,MATCH(CONCATENATE($C2,H$1,$B2),Data!$J$10:$J$842,0),15),"") | I2: =IFERROR(INDEX(Data!$A$10:$O$842,MATCH(CONCATENATE($C2,I$1,$B2),Data!$J$10:$J$842,0),15),"")
A3: =COUNTIF($C$1:C3,C3)+1 -> 2 | B3: =VLOOKUP(A3,$K$4:$L$73,2,FALSE) -> AAA | C3: Sunday | D3: =IFERROR(INDEX(Data!$A$10:$O$842,MATCH(CONCATENATE($C3,D$1,$B3),Data!$J$10:$J$842,0),15),"") -> TE406(L4T1)A 703 --- AAA | E3: =IFERROR(INDEX(Data!$A$10:$O$842,MATCH(CONCATENATE($C3,E$1,$B3),Data!$J$10:$J$842,0),15),"") | F3: =IFERROR(INDEX(Data!$A$10:$O$842,MATCH(CONCATENATE($C3,F$1,$B3),Data!$J$10:$J$842,0),15),"") -> TE213(L2T1)C 703 --- AAA | G3: =IFERROR(INDEX(Data!$A$10:$O$842,MATCH(CONCATENATE($C3,G$1,$B3),Data!$J$10:$J$842,0),15),"") | H3: =IFERROR(INDEX(Data!$A$10:$O$842,MATCH(CONCATENATE($C3,H$1,$B3),Data!$J$10:$J$842,0),15),"") | I3: =IFERROR(INDEX(Data!$A$10:$O$842,MATCH(CONCATENATE($C3,I$1,$B3),Data!$J$10:$J$842,0),15),"") | K3: Sl | L3: Teacher
A4: =COUNTIF($C$1:C4,C4)+1 -> 2 | B4: =VLOOKUP(A4,$K$4:$L$73,2,FALSE) -> AAA | C4: Monday | D4: =IFERROR(INDEX(Data!$A$10:$O$842,MATCH(CONCATENATE($C4,D$1,$B4),Data!$J$10:$J$842,0),15),"") | E4: =IFERROR(INDEX(Data!$A$10:$O$842,MATCH(CONCATENATE($C4,E$1,$B4),Data!$J$10:$J$842,0),15),"") | F4: =IFERROR(INDEX(Data!$A$10:$O$842,MATCH(CONCATENATE($C4,F$1,$B4),Data!$J$10:$J$842,0),15),"") | G4: =IFERROR(INDEX(Data!$A$10:$O$842,MATCH(CONCATENATE($C4,G$1,$B4),Data!$J$10:$J$842,0),15),"") -> TE406(L4T1)A 703 --- AAA | H4: =IFERROR(INDEX(Data!$A$10:$O$842,MATCH(CONCATENATE($C4,H$1,$B4),Data!$J$10:$J$842,0),15),"") | I4: =IFERROR(INDEX(Data!$A$10:$O$842,MATCH(CONCATENATE($C4,I$1,$B4),Data!$J$10:$J$842,0),15),"") -> TE406(L4T1)C 702 --- AAA | K4: 1 | L4: 0
A5: =COUNTIF($C$1:C5,C5)+1 -> 2 | B5: =VLOOKUP(A5,$K$4:$L$73,2,FALSE) -> AAA | C5: Tuesday | D5: =IFERROR(INDEX(Data!$A$10:$O$842,MATCH(CONCATENATE($C5,D$1,$B5),Data!$J$10:$J$842,0),15),"") | E5: =IFERROR(INDEX(Data!$A$10:$O$842,MATCH(CONCATENATE($C5,E$1,$B5),Data!$J$10:$J$842,0),15),"") | F5: =IFERROR(INDEX(Data!$A$10:$O$842,MATCH(CONCATENATE($C5,F$1,$B5),Data!$J$10:$J$842,0),15),"") | G5: =IFERROR(INDEX(Data!$A$10:$O$842,MATCH(CONCATENATE($C5,G$1,$B5),Data!$J$10:$J$842,0),15),"") | H5: =IFERROR(INDEX(Data!$A$10:$O$842,MATCH(CONCATENATE($C5,H$1,$B5),Data!$J$10:$J$842,0),15),"") -> TE213(L2T1)C 702 --- AAA | I5: =IFERROR(INDEX(Data!$A$10:$O$842,MATCH(CONCATENATE($C5,I$1,$B5),Data!$J$10:$J$842,0),15),"") -> TE406(L4T1)B 703 --- AAA | K5: 2 | L5: AAA
A6: =COUNTIF($C$1:C6,C6)+1 -> 2 | B6: =VLOOKUP(A6,$K$4:$L$73,2,FALSE) -> AAA | C6: Wednesday | D6: =IFERROR(INDEX(Data!$A$10:$O$842,MATCH(CONCATENATE($C6,D$1,$B6),Data!$J$10:$J$842,0),15),"") | E6: =IFERROR(INDEX(Data!$A$10:$O$842,MATCH(CONCATENATE($C6,E$1,$B6),Data!$J$10:$J$842,0),15),"") | F6: =IFERROR(INDEX(Data!$A$10:$O$842,MATCH(CONCATENATE($C6,F$1,$B6),Data!$J$10:$J$842,0),15),"") -> TE406(L4T1)C 707 --- AAA | G6: =IFERROR(INDEX(Data!$A$10:$O$842,MATCH(CONCATENATE($C6,G$1,$B6),Data!$J$10:$J$842,0),15),"") -> TE406(L4T1)B 704 --- AAA | H6: =IFERROR(INDEX(Data!$A$10:$O$842,MATCH(CONCATENATE($C6,H$1,$B6),Data!$J$10:$J$842,0),15),"") -> TE214(L2T1)C L-Fab --- AAA | I6: =IFERROR(INDEX(Data!$A$10:$O$842,MATCH(CONCATENATE($C6,I$1,$B6),Data!$J$10:$J$842,0),15),"") -> TE214(L2T1)C L-Fab --- AAA | K6: 3 | L6: AAM
A7: =COUNTIF($C$1:C7,C7)+1 -> 2 | B7: =VLOOKUP(A7,$K$4:$L$73,2,FALSE) -> AAA | C7: Thursday | D7: =IFERROR(INDEX(Data!$A$10:$O$842,MATCH(CONCATENATE($C7,D$1,$B7),Data!$J$10:$J$842,0),15),"") | E7: =IFERROR(INDEX(Data!$A$10:$O$842,MATCH(CONCATENATE($C7,E$1,$B7),Data!$J$10:$J$842,0),15),"") | F7: =IFERROR(INDEX(Data!$A$10:$O$842,MATCH(CONCATENATE($C7,F$1,$B7),Data!$J$10:$J$842,0),15),"") | G7: =IFERROR(INDEX(Data!$A$10:$O$842,MATCH(CONCATENATE($C7,G$1,$B7),Data!$J$10:$J$842,0),15),"") | H7: =IFERROR(INDEX(Data!$A$10:$O$842,MATCH(CONCATENATE($C7,H$1,$B7),Data!$J$10:$J$842,0),15),"") | I7: =IFERROR(INDEX(Data!$A$10:$O$842,MATCH(CONCATENATE($C7,I$1,$B7),Data!$J$10:$J$842,0),15),"") | K7: 4 | L7: AG
D8: 08:30-10:00 | E8: 10:00-11:30 | F8: 11:30-01:00 | G8: 01:00-02:30 | H8: 2:30-04:00 | I8: 04:00-05:30 | K8: 5 | L8: AHB
A9: =COUNTIF($C$1:C9,C9)+1 -> 3 | B9: =VLOOKUP(A9,$K$4:$L$73,2,FALSE) -> AAM | C9: Saturday | D9: =IFERROR(INDEX(Data!$A$10:$O$842,MATCH(CONCATENATE($C9,D$1,$B9),Data!$J$10:$J$842,0),15),"") | E9: =IFERROR(INDEX(Data!$A$10:$O$842,MATCH(CONCATENATE($C9,E$1,$B9),Data!$J$10:$J$842,0),15),"") -> TE408(L4T2)B(Ap) 702 --- AAM | F9: =IFERROR(INDEX(Data!$A$10:$O$842,MATCH(CONCATENATE($C9,F$1,$B9),Data!$J$10:$J$842,0),15),"") | G9: =IFERROR(INDEX(Data!$A$10:$O$842,MATCH(CONCATENATE($C9,G$1,$B9),Data!$J$10:$J$842,0),15),"") -> TE408(L4T2)A(Ap) 703 --- AAM | H9: =IFERROR(INDEX(Data!$A$10:$O$842,MATCH(CONCATENATE($C9,H$1,$B9),Data!$J$10:$J$842,0),15),"") | I9: =IFERROR(INDEX(Data!$A$10:$O$842,MATCH(CONCATENATE($C9,I$1,$B9),Data!$J$10:$J$842,0),15),"") | K9: 6 | L9: AHM
A10: =COUNTIF($C$1:C10,C10)+1 -> 3 | B10: =VLOOKUP(A10,$K$4:$L$73,2,FALSE) -> AAM | C10: Sunday | D10: =IFERROR(INDEX(Data!$A$10:$O$842,MATCH(CONCATENATE($C10,D$1,$B10),Data!$J$10:$J$842,0),15),"") | E10: =IFERROR(INDEX(Data!$A$10:$O$842,MATCH(CONCATENATE($C10,E$1,$B10),Data!$J$10:$J$842,0),15),"") -> TE408(L4T2)B(Ap) 704 --- AAM | F10: =IFERROR(INDEX(Data!$A$10:$O$842,MATCH(CONCATENATE($C10,F$1,$B10),Data!$J$10:$J$842,0),15),"") | G10: =IFERROR(INDEX(Data!$A$10:$O$842,MATCH(CONCATENATE($C10,G$1,$B10),Data!$J$10:$J$842,0),15),"") -> TE204(L2T3)B 704 --- AAM | H10: =IFERROR(INDEX(Data!$A$10:$O$842,MATCH(CONCATENATE($C10,H$1,$B10),Data!$J$10:$J$842,0),15),"") | I10: =IFERROR(INDEX(Data!$A$10:$O$842,MATCH(CONCATENATE($C10,I$1,$B10),Data!$J$10:$J$842,0),15),"") | K10: 7 | L10: AI
A11: =COUNTIF($C$1:C11,C11)+1 -> 3 | B11: =VLOOKUP(A11,$K$4:$L$73,2,FALSE) -> AAM | C11: Monday | D11: =IFERROR(INDEX(Data!$A$10:$O$842,MATCH(CONCATENATE($C11,D$1,$B11),Data!$J$10:$J$842,0),15),"") | E11: =IFERROR(INDEX(Data!$A$10:$O$842,MATCH(CONCATENATE($C11,E$1,$B11),Data!$J$10:$J$842,0),15),"") | F11: =IFERROR(INDEX(Data!$A$10:$O$842,MATCH(CONCATENATE($C11,F$1,$B11),Data!$J$10:$J$842,0),15),"") -> TE408(L4T2)A(Ap) 703 --- AAM | G11: =IFERROR(INDEX(Data!$A$10:$O$842,MATCH(CONCATENATE($C11,G$1,$B11),Data!$J$10:$J$842,0),15),"") | H11: =IFERROR(INDEX(Data!$A$10:$O$842,MATCH(CONCATENATE($C11,H$1,$B11),Data!$J$10:$J$842,0),15),"") -> TE204(L2T3)B 702 --- AAM | I11: =IFERROR(INDEX(Data!$A$10:$O$842,MATCH(CONCATENATE($C11,I$1,$B11),Data!$J$10:$J$842,0),15),"") | K11: 8 | L11: AKA
A12: =COUNTIF($C$1:C12,C12)+1 -> 3 | B12: =VLOOKUP(A12,$K$4:$L$73,2,FALSE) -> AAM | C12: Tuesday | D12: =IFERROR(INDEX(Data!$A$10:$O$842,MATCH(CONCATENATE($C12,D$1,$B12),Data!$J$10:$J$842,0),15),"") -> TE408(L4T2)A L-App --- AAM | E12: =IFERROR(INDEX(Data!$A$10:$O$842,MATCH(CONCATENATE($C12,E$1,$B12),Data!$J$10:$J$842,0),15),"") -> TE408(L4T2)A L-App --- AAM | F12: =IFERROR(INDEX(Data!$A$10:$O$842,MATCH(CONCATENATE($C12,F$1,$B12),Data!$J$10:$J$842,0),15),"") -> TE408(L4T2)B L-app --- AAM | G12: =IFERROR(INDEX(Data!$A$10:$O$842,MATCH(CONCATENATE($C12,G$1,$B12),Data!$J$10:$J$842,0),15),"") -> TE408(L4T2)B L-app --- AAM | H12: =IFERROR(INDEX(Data!$A$10:$O$842,MATCH(CONCATENATE($C12,H$1,$B12),Data!$J$10:$J$842,0),15),"") | I12: =IFERROR(INDEX(Data!$A$10:$O$842,MATCH(CONCATENATE($C12,I$1,$B12),Data!$J$10:$J$842,0),15),"") | K12: 9 | L12: AMK
A13: =COUNTIF($C$1:C13,C13)+1 -> 3 | B13: =VLOOKUP(A13,$K$4:$L$73,2,FALSE) -> AAM | C13: Wednesday | D13: =IFERROR(INDEX(Data!$A$10:$O$842,MATCH(CONCATENATE($C13,D$1,$B13),Data!$J$10:$J$842,0),15),"") -> TE204(L2T3)F L-App --- AAM | E13: =IFERROR(INDEX(Data!$A$10:$O$842,MATCH(CONCATENATE($C13,E$1,$B13),Data!$J$10:$J$842,0),15),"") -> TE204(L2T3)F L-App --- AAM | F13: =IFERROR(INDEX(Data!$A$10:$O$842,MATCH(CONCATENATE($C13,F$1,$B13),Data!$J$10:$J$842,0),15),"") -> TE204(L2T3)B L-App --- AAM | G13: =IFERROR(INDEX(Data!$A$10:$O$842,MATCH(CONCATENATE($C13,G$1,$B13),Data!$J$10:$J$842,0),15),"") -> TE204(L2T3)B L-App --- AAM | H13: =IFERROR(INDEX(Data!$A$10:$O$842,MATCH(CONCATENATE($C13,H$1,$B13),Data!$J$10:$J$842,0),15),"") | I13: =IFERROR(INDEX(Data!$A$10:$O$842,MATCH(CONCATENATE($C13,I$1,$B13),Data!$J$10:$J$842,0),15),"") | K13: 10 | L13: ANF
A14: =COUNTIF($C$1:C14,C14)+1 -> 3 | B14: =VLOOKUP(A14,$K$4:$L$73,2,FALSE) -> AAM | C14: Thursday | D14: =IFERROR(INDEX(Data!$A$10:$O$842,MATCH(CONCATENATE($C14,D$1,$B14),Data!$J$10:$J$842,0),15),"") | E14: =IFERROR(INDEX(Data!$A$10:$O$842,MATCH(CONCATENATE($C14,E$1,$B14),Data!$J$10:$J$842,0),15),"") | F14: =IFERROR(INDEX(Data!$A$10:$O$842,MATCH(CONCATENATE($C14,F$1,$B14),Data!$J$10:$J$842,0),15),"") | G14: =IFERROR(INDEX(Data!$A$10:$O$842,MATCH(CONCATENATE($C14,G$1,$B14),Data!$J$10:$J$842,0),15),"") | H14: =IFERROR(INDEX(Data!$A$10:$O$842,MATCH(CONCATENATE($C14,H$1,$B14),Data!$J$10:$J$842,0),15),"") | I14: =IFERROR(INDEX(Data!$A$10:$O$842,MATCH(CONCATENATE($C14,I$1,$B14),Data!$J$10:$J$842,0),15),"") | K14: 11 | L14: BCD
D15: 08:30-10:00 | E15: 10:00-11:30 | F15: 11:30-01:00 | G15: 01:00-02:30 | H15: 2:30-04:00 | I15: 04:00-05:30 | K15: 12 | L15: CF
A16: =COUNTIF($C$1:C16,C16)+1 -> 4 | B16: =VLOOKUP(A16,$K$4:$L$73,2,FALSE) -> AG | C16: Saturday | D16: =IFERROR(INDEX(Data!$A$10:$O$842,MATCH(CONCATENATE($C16,D$1,$B16),Data!$J$10:$J$842,0),15),"") | E16: =IFERROR(INDEX(Data!$A$10:$O$842,MATCH(CONCATENATE($C16,E$1,$B16),Data!$J$10:$J$842,0),15),"") | F16: =IFERROR(INDEX(Data!$A$10:$O$842,MATCH(CONCATENATE($C16,F$1,$B16),Data!$J$10:$J$842,0),15),"") | G16: =IFERROR(INDEX(Data!$A$10:$O$842,MATCH(CONCATENATE($C16,G$1,$B16),Data!$J$10:$J$842,0),15),"") | H16: =IFERROR(INDEX(Data!$A$10:$O$842,MATCH(CONCATENATE($C16,H$1,$B16),Data!$J$10:$J$842,0),15),"") | I16: =IFERROR(INDEX(Data!$A$10:$O$842,MATCH(CONCATENATE($C16,I$1,$B16),Data!$J$10:$J$842,0),15),"") | K16: 13 | L16: DMA
A17: =COUNTIF($C$1:C17,C17)+1 -> 4 | B17: =VLOOKUP(A17,$K$4:$L$73,2,FALSE) -> AG | C17: Sunday | D17: =IFERROR(INDEX(Data!$A$10:$O$842,MATCH(CONCATENATE($C17,D$1,$B17),Data!$J$10:$J$842,0),15),"") -> TE302(L3T1)B 301P --- AG | E17: =IFERROR(INDEX(Data!$A$10:$O$842,MATCH(CONCATENATE($C17,E$1,$B17),Data!$J$10:$J$842,0),15),"") -> TE302(L3T1)C 304P --- AG | F17: =IFERROR(INDEX(Data!$A$10:$O$842,MATCH(CONCATENATE($C17,F$1,$B17),Data!$J$10:$J$842,0),15),"") | G17: =IFERROR(INDEX(Data!$A$10:$O$842,MATCH(CONCATENATE($C17,G$1,$B17),Data!$J$10:$J$842,0),15),"") | H17: =IFERROR(INDEX(Data!$A$10:$O$842,MATCH(CONCATENATE($C17,H$1,$B17),Data!$J$10:$J$842,0),15),"") | I17: =IFERROR(INDEX(Data!$A$10:$O$842,MATCH(CONCATENATE($C17,I$1,$B17),Data!$J$10:$J$842,0),15),"") | K17: 14 | L17: E-2
A18: =COUNTIF($C$1:C18,C18)+1 -> 4 | B18: =VLOOKUP(A18,$K$4:$L$73,2,FALSE) -> AG | C18: Monday | D18: =IFERROR(INDEX(Data!$A$10:$O$842,MATCH(CONCATENATE($C18,D$1,$B18),Data!$J$10:$J$842,0),15),"") | E18: =IFERROR(INDEX(Data!$A$10:$O$842,MATCH(CONCATENATE($C18,E$1,$B18),Data!$J$10:$J$842,0),15),"") | F18: =IFERROR(INDEX(Data!$A$10:$O$842,MATCH(CONCATENATE($C18,F$1,$B18),Data!$J$10:$J$842,0),15),"") -> TE202(L2T1)B L-Fab --- AG | G18: =IFERROR(INDEX(Data!$A$10:$O$842,MATCH(CONCATENATE($C18,G$1,$B18),Data!$J$10:$J$842,0),15),"") -> TE202(L2T1)B L-Fab --- AG | H18: =IFERROR(INDEX(Data!$A$10:$O$842,MATCH(CONCATENATE($C18,H$1,$B18),Data!$J$10:$J$842,0),15),"") | I18: =IFERROR(INDEX(Data!$A$10:$O$842,MATCH(CONCATENATE($C18,I$1,$B18),Data!$J$10:$J$842,0),15),"") | K18: 15 | L18: FBS
A19: =COUNTIF($C$1:C19,C19)+1 -> 4 | B19: =VLOOKUP(A19,$K$4:$L$73,2,FALSE) -> AG | C19: Tuesday | D19: =IFERROR(INDEX(Data!$A$10:$O$842,MATCH(CONCATENATE($C19,D$1,$B19),Data!$J$10:$J$842,0),15),"") -> TE302(L3T1)C 301P --- AG | E19: =IFERROR(INDEX(Data!$A$10:$O$842,MATCH(CONCATENATE($C19,E$1,$B19),Data!$J$10:$J$842,0),15),"") -> TE302(L3T1)B 301P --- AG | F19: =IFERROR(INDEX(Data!$A$10:$O$842,MATCH(CONCATENATE($C19,F$1,$B19),Data!$J$10:$J$842,0),15),"") | G19: =IFERROR(INDEX(Data!$A$10:$O$842,MATCH(CONCATENATE($C19,G$1,$B19),Data!$J$10:$J$842,0),15),"") | H19: =IFERROR(INDEX(Data!$A$10:$O$842,MATCH(CONCATENATE($C19,H$1,$B19),Data!$J$10:$J$842,0),15),"") | I19: =IFERROR(INDEX(Data!$A$10:$O$842,MATCH(CONCATENATE($C19,I$1,$B19),Data!$J$10:$J$842,0),15),"") | K19: 16 | L19: FHA
A20: =COUNTIF($C$1:C20,C20)+1 -> 4 | B20: =VLOOKUP(A20,$K$4:$L$73,2,FALSE) -> AG | C20: Wednesday | D20: =IFERROR(INDEX(Data!$A$10:$O$842,MATCH(CONCATENATE($C20,D$1,$B20),Data!$J$10:$J$842,0),15),"") | E20: =IFERROR(INDEX(Data!$A$10:$O$842,MATCH(CONCATENATE($C20,E$1,$B20),Data!$J$10:$J$842,0),15),"") | F20: =IFERROR(INDEX(Data!$A$10:$O$842,MATCH(CONCATENATE($C20,F$1,$B20),Data!$J$10:$J$842,0),15),"") -> TE302(L3T1)C L-Fab --- AG | G20: =IFERROR(INDEX(Data!$A$10:$O$842,MATCH(CONCATENATE($C20,G$1,$B20),Data!$J$10:$J$842,0),15),"") -> TE302(L3T1)C L-Fab --- AG | H20: =IFERROR(INDEX(Data!$A$10:$O$842,MATCH(CONCATENATE($C20,H$1,$B20),Data!$J$10:$J$842,0),15),"") | I20: =IFERROR(INDEX(Data!$A$10:$O$842,MATCH(CONCATENATE($C20,I$1,$B20),Data!$J$10:$J$842,0),15),"") | K20: 17 | L20: FHS
A21: =COUNTIF($C$1:C21,C21)+1 -> 4 | B21: =VLOOKUP(A21,$K$4:$L$73,2,FALSE) -> AG | C21: Thursday | D21: =IFERROR(INDEX(Data!$A$10:$O$842,MATCH(CONCATENATE($C21,D$1,$B21),Data!$J$10:$J$842,0),15),"") | E21: =IFERROR(INDEX(Data!$A$10:$O$842,MATCH(CONCATENATE($C21,E$1,$B21),Data!$J$10:$J$842,0),15),"") | F21: =IFERROR(INDEX(Data!$A$10:$O$842,MATCH(CONCATENATE($C21,F$1,$B21),Data!$J$10:$J$842,0),15),"") | G21: =IFERROR(INDEX(Data!$A$10:$O$842,MATCH(CONCATENATE($C21,G$1,$B21),Data!$J$10:$J$842,0),15),"") | H21: =IFERROR(INDEX(Data!$A$10:$O$842,MATCH(CONCATENATE($C21,H$1,$B21),Data!$J$10:$J$842,0),15),"") | I21: =IFERROR(INDEX(Data!$A$10:$O$842,MATCH(CONCATENATE($C21,I$1,$B21),Data!$J$10:$J$842,0),15),"") | K21: 18 | L21: FN
K22: 19 | L22: FS
A23: =COUNTIF($C$1:C23,C23)+1 -> 5 | B23: =VLOOKUP(A23,$K$4:$L$73,2,FALSE) -> AHB | C23: Saturday | D23: =IFERROR(INDEX(Data!$A$10:$O$842,MATCH(CONCATENATE($C23,D$1,$B23),Data!$J$10:$J$842,0),15),"") | E23: =IFERROR(INDEX(Data!$A$10:$O$842,MATCH(CONCATENATE($C23,E$1,$B23),Data!$J$10:$J$842,0),15),"") | F23: =IFERROR(INDEX(Data!$A$10:$O$842,MATCH(CONCATENATE($C23,F$1,$B23),Data!$J$10:$J$842,0),15),"") | G23: =IFERROR(INDEX(Data!$A$10:$O$842,MATCH(CONCATENATE($C23,G$1,$B23),Data!$J$10:$J$842,0),15),"") | H23: =IFERROR(INDEX(Data!$A$10:$O$842,MATCH(CONCATENATE($C23,H$1,$B23),Data!$J$10:$J$842,0),15),"") | I23: =IFERROR(INDEX(Data!$A$10:$O$842,MATCH(CONCATENATE($C23,I$1,$B23),Data!$J$10:$J$842,0),15),"") | K23: 20 | L23: KSS
A24: =COUNTIF($C$1:C24,C24)+1 -> 5 | B24: =VLOOKUP(A24,$K$4:$L$73,2,FALSE) -> AHB | C24: Sunday | D24: =IFERROR(INDEX(Data!$A$10:$O$842,MATCH(CONCATENATE($C24,D$1,$B24),Data!$J$10:$J$842,0),15),"") | E24: =IFERROR(INDEX(Data!$A$10:$O$842,MATCH(CONCATENATE($C24,E$1,$B24),Data!$J$10:$J$842,0),15),"") | F24: =IFERROR(INDEX(Data!$A$10:$O$842,MATCH(CONCATENATE($C24,F$1,$B24),Data!$J$10:$J$842,0),15),"") | G24: =IFERROR(INDEX(Data!$A$10:$O$842,MATCH(CONCATENATE($C24,G$1,$B24),Data!$J$10:$J$842,0),15),"") | H24: =IFERROR(INDEX(Data!$A$10:$O$842,MATCH(CONCATENATE($C24,H$1,$B24),Data!$J$10:$J$842,0),15),"") | I24: =IFERROR(INDEX(Data!$A$10:$O$842,MATCH(CONCATENATE($C24,I$1,$B24),Data!$J$10:$J$842,0),15),"") | K24: 21 | L24: MAB
A25: =COUNTIF($C$1:C25,C25)+1 -> 5 | B25: =VLOOKUP(A25,$K$4:$L$73,2,FALSE) -> AHB | C25: Monday | D25: =IFERROR(INDEX(Data!$A$10:$O$842,MATCH(CONCATENATE($C25,D$1,$B25),Data!$J$10:$J$842,0),15),"") | E25: =IFERROR(INDEX(Data!$A$10:$O$842,MATCH(CONCATENATE($C25,E$1,$B25),Data!$J$10:$J$842,0),15),"") | F25: =IFERROR(INDEX(Data!$A$10:$O$842,MATCH(CONCATENATE($C25,F$1,$B25),Data!$J$10:$J$842,0),15),"") | G25: =IFERROR(INDEX(Data!$A$10:$O$842,MATCH(CONCATENATE($C25,G$1,$B25),Data!$J$10:$J$842,0),15),"") | H25: =IFERROR(INDEX(Data!$A$10:$O$842,MATCH(CONCATENATE($C25,H$1,$B25),Data!$J$10:$J$842,0),15),"") | I25: =IFERROR(INDEX(Data!$A$10:$O$842,MATCH(CONCATENATE($C25,I$1,$B25),Data!$J$10:$J$842,0),15),"") | K25: 22 | L25: MH
A26: =COUNTIF($C$1:C26,C26)+1 -> 5 | B26: =VLOOKUP(A26,$K$4:$L$73,2,FALSE) -> AHB | C26: Tuesday | D26: =IFERROR(INDEX(Data!$A$10:$O$842,MATCH(CONCATENATE($C26,D$1,$B26),Data!$J$10:$J$842,0),15),"") | E26: =IFERROR(INDEX(Data!$A$10:$O$842,MATCH(CONCATENATE($C26,E$1,$B26),Data!$J$10:$J$842,0),15),"") | F26: =IFERROR(INDEX(Data!$A$10:$O$842,MATCH(CONCATENATE($C26,F$1,$B26),Data!$J$10:$J$842,0),15),"") | G26: =IFERROR(INDEX(Data!$A$10:$O$842,MATCH(CONCATENATE($C26,G$1,$B26),Data!$J$10:$J$842,0),15),"") | H26: =IFERROR(INDEX(Data!$A$10:$O$842,MATCH(CONCATENATE($C26,H$1,$B26),Data!$J$10:$J$842,0),15),"") | I26: =IFERROR(INDEX(Data!$A$10:$O$842,MATCH(CONCATENATE($C26,I$1,$B26),Data!$J$10:$J$842,0),15),"") -> TE406(L4T1)E 704 --- AHB | K26: 23 | L26: MH(LAB)
A27: =COUNTIF($C$1:C27,C27)+1 -> 5 | B27: =VLOOKUP(A27,$K$4:$L$73,2,FALSE) -> AHB | C27: Wednesday | D27: =IFERROR(INDEX(Data!$A$10:$O$842,MATCH(CONCATENATE($C27,D$1,$B27),Data!$J$10:$J$842,0),15),"") | E27: =IFERROR(INDEX(Data!$A$10:$O$842,MATCH(CONCATENATE($C27,E$1,$B27),Data!$J$10:$J$842,0),15),"") | F27: =IFERROR(INDEX(Data!$A$10:$O$842,MATCH(CONCATENATE($C27,F$1,$B27),Data!$J$10:$J$842,0),15),"") | G27: =IFERROR(INDEX(Data!$A$10:$O$842,MATCH(CONCATENATE($C27,G$1,$B27),Data!$J$10:$J$842,0),15),"") | H27: =IFERROR(INDEX(Data!$A$10:$O$842,MATCH(CONCATENATE($C27,H$1,$B27),Data!$J$10:$J$842,0),15),"") | I27: =IFERROR(INDEX(Data!$A$10:$O$842,MATCH(CONCATENATE($C27,I$1,$B27),Data!$J$10:$J$842,0),15),"") -> TE406(L4T1)E 701 --- AHB | K27: 24 | L27: MIM
A28: =COUNTIF($C$1:C28,C28)+1 -> 5 | B28: =VLOOKUP(A28,$K$4:$L$73,2,FALSE) -> AHB | C28: Thursday | D28: =IFERROR(INDEX(Data!$A$10:$O$842,MATCH(CONCATENATE($C28,D$1,$B28),Data!$J$10:$J$842,0),15),"") | E28: =IFERROR(INDEX(Data!$A$10:$O$842,MATCH(CONCATENATE($C28,E$1,$B28),Data!$J$10:$J$842,0),15),"") | F28: =IFERROR(INDEX(Data!$A$10:$O$842,MATCH(CONCATENATE($C28,F$1,$B28),Data!$J$10:$J$842,0),15),"") | G28: =IFERROR(INDEX(Data!$A$10:$O$842,MATCH(CONCATENATE($C28,G$1,$B28),Data!$J$10:$J$842,0),15),"") | H28: =IFERROR(INDEX(Data!$A$10:$O$842,MATCH(CONCATENATE($C28,H$1,$B28),Data!$J$10:$J$842,0),15),"") | I28: =IFERROR(INDEX(Data!$A$10:$O$842,MATCH(CONCATENATE($C28,I$1,$B28),Data!$J$10:$J$842,0),15),"") | K28: 25 | L28: MK
K29: 26 | L29: MMH
A30: =COUNTIF($C$1:C30,C30)+1 -> 6 | B30: =VLOOKUP(A30,$K$4:$L$73,2,FALSE) -> AHM | C30: Saturday | D30: =IFERROR(INDEX(Data!$A$10:$O$842,MATCH(CONCATENATE($C30,D$1,$B30),Data!$J$10:$J$842,0),15),"") | E30: =IFERROR(INDEX(Data!$A$10:$O$842,MATCH(CONCATENATE($C30,E$1,$B30),Data!$J$10:$J$842,0),15),"") | F30: =IFERROR(INDEX(Data!$A$10:$O$842,MATCH(CONCATENATE($C30,F$1,$B30),Data!$J$10:$J$842,0),15),"") | G30: =IFERROR(INDEX(Data!$A$10:$O$842,MATCH(CONCATENATE($C30,G$1,$B30),Data!$J$10:$J$842,0),15),"") | H30: =IFERROR(INDEX(Data!$A$10:$O$842,MATCH(CONCATENATE($C30,H$1,$B30),Data!$J$10:$J$842,0),15),"") | I30: =IFERROR(INDEX(Data!$A$10:$O$842,MATCH(CONCATENATE($C30,I$1,$B30),Data!$J$10:$J$842,0),15),"") | K30: 27 | L30: MMI
A31: =COUNTIF($C$1:C31,C31)+1 -> 6 | B31: =VLOOKUP(A31,$K$4:$L$73,2,FALSE) -> AHM | C31: Sunday | D31: =IFERROR(INDEX(Data!$A$10:$O$842,MATCH(CONCATENATE($C31,D$1,$B31),Data!$J$10:$J$842,0),15),"") | E31: =IFERROR(INDEX(Data!$A$10:$O$842,MATCH(CONCATENATE($C31,E$1,$B31),Data!$J$10:$J$842,0),15),"") | F31: =IFERROR(INDEX(Data!$A$10:$O$842,MATCH(CONCATENATE($C31,F$1,$B31),Data!$J$10:$J$842,0),15),"") -> TE301 (L3T1)A L-Yarn2 --- AHM | G31: =IFERROR(INDEX(Data!$A$10:$O$842,MATCH(CONCATENATE($C31,G$1,$B31),Data!$J$10:$J$842,0),15),"") -> TE301 (L3T1)A L-Yarn2 --- AHM | H31: =IFERROR(INDEX(Data!$A$10:$O$842,MATCH(CONCATENATE($C31,H$1,$B31),Data!$J$10:$J$842,0),15),"") -> TE301 (L3T1)A 702 --- AHM | I31: =IFERROR(INDEX(Data!$A$10:$O$842,MATCH(CONCATENATE($C31,I$1,$B31),Data!$J$10:$J$842,0),15),"") | K31: 28 | L31: MMR
A32: =COUNTIF($C$1:C32,C32)+1 -> 6 | B32: =VLOOKUP(A32,$K$4:$L$73,2,FALSE) -> AHM | C32: Monday | D32: =IFERROR(INDEX(Data!$A$10:$O$842,MATCH(CONCATENATE($C32,D$1,$B32),Data!$J$10:$J$842,0),15),"") | E32: =IFERROR(INDEX(Data!$A$10:$O$842,MATCH(CONCATENATE($C32,E$1,$B32),Data!$J$10:$J$842,0),15),"") | F32: =IFERROR(INDEX(Data!$A$10:$O$842,MATCH(CONCATENATE($C32,F$1,$B32),Data!$J$10:$J$842,0),15),"") | G32: =IFERROR(INDEX(Data!$A$10:$O$842,MATCH(CONCATENATE($C32,G$1,$B32),Data!$J$10:$J$842,0),15),"") -> TE301(L3T1)B 702 --- AHM | H32: =IFERROR(INDEX(Data!$A$10:$O$842,MATCH(CONCATENATE($C32,H$1,$B32),Data!$J$10:$J$842,0),15),"") | I32: =IFERROR(INDEX(Data!$A$10:$O$842,MATCH(CONCATENATE($C32,I$1,$B32),Data!$J$10:$J$842,0),15),"") | K32: 29 | L32: MNC
A33: =COUNTIF($C$1:C33,C33)+1 -> 6 | B33: =VLOOKUP(A33,$K$4:$L$73,2,FALSE) -> AHM | C33: Tuesday | D33: =IFERROR(INDEX(Data!$A$10:$O$842,MATCH(CONCATENATE($C33,D$1,$B33),Data!$J$10:$J$842,0),15),"") | E33: =IFERROR(INDEX(Data!$A$10:$O$842,MATCH(CONCATENATE($C33,E$1,$B33),Data!$J$10:$J$842,0),15),"") | F33: =IFERROR(INDEX(Data!$A$10:$O$842,MATCH(CONCATENATE($C33,F$1,$B33),Data!$J$10:$J$842,0),15),"") | G33: =IFERROR(INDEX(Data!$A$10:$O$842,MATCH(CONCATENATE($C33,G$1,$B33),Data!$J$10:$J$842,0),15),"") | H33: =IFERROR(INDEX(Data!$A$10:$O$842,MATCH(CONCATENATE($C33,H$1,$B33),Data!$J$10:$J$842,0),15),"") -> TE301(L3T1)B 704 --- AHM | I33: =IFERROR(INDEX(Data!$A$10:$O$842,MATCH(CONCATENATE($C33,I$1,$B33),Data!$J$10:$J$842,0),15),"") -> TE301(L3T1)A 702 --- AHM | K33: 30 | L33: MR1
A34: =COUNTIF($C$1:C34,C34)+1 -> 6 | B34: =VLOOKUP(A34,$K$4:$L$73,2,FALSE) -> AHM | C34: Wednesday | D34: =IFERROR(INDEX(Data!$A$10:$O$842,MATCH(CONCATENATE($C34,D$1,$B34),Data!$J$10:$J$842,0),15),"") | E34: =IFERROR(INDEX(Data!$A$10:$O$842,MATCH(CONCATENATE($C34,E$1,$B34),Data!$J$10:$J$842,0),15),"") -> TE301(L3T1)C 706 --- AHM | F34: =IFERROR(INDEX(Data!$A$10:$O$842,MATCH(CONCATENATE($C34,F$1,$B34),Data!$J$10:$J$842,0),15),"") | G34: =IFERROR(INDEX(Data!$A$10:$O$842,MATCH(CONCATENATE($C34,G$1,$B34),Data!$J$10:$J$842,0),15),"") | H34: =IFERROR(INDEX(Data!$A$10:$O$842,MATCH(CONCATENATE($C34,H$1,$B34),Data!$J$10:$J$842,0),15),"") | I34: =IFERROR(INDEX(Data!$A$10:$O$842,MATCH(CONCATENATE($C34,I$1,$B34),Data!$J$10:$J$842,0),15),"") | K34: 31 | L34: MRI
A35: =COUNTIF($C$1:C35,C35)+1 -> 6 | B35: =VLOOKUP(A35,$K$4:$L$73,2,FALSE) -> AHM | C35: Thursday | D35: =IFERROR(INDEX(Data!$A$10:$O$842,MATCH(CONCATENATE($C35,D$1,$B35),Data!$J$10:$J$842,0),15),"") | E35: =IFERROR(INDEX(Data!$A$10:$O$842,MATCH(CONCATENATE($C35,E$1,$B35),Data!$J$10:$J$842,0),15),"") | F35: =IFERROR(INDEX(Data!$A$10:$O$842,MATCH(CONCATENATE($C35,F$1,$B35),Data!$J$10:$J$842,0),15),"") -> TE301(L3T1)C L-Yarn2 --- AHM | G35: =IFERROR(INDEX(Data!$A$10:$O$842,MATCH(CONCATENATE($C35,G$1,$B35),Data!$J$10:$J$842,0),15),"") -> TE301(L3T1)C L-Yarn2 --- AHM | H35: =IFERROR(INDEX(Data!$A$10:$O$842,MATCH(CONCATENATE($C35,H$1,$B35),Data!$J$10:$J$842,0),15),"") | I35: =IFERROR(INDEX(Data!$A$10:$O$842,MATCH(CONCATENATE($C35,I$1,$B35),Data!$J$10:$J$842,0),15),"") -> TE301(L3T1)C 704 --- AHM | K35: 32 | L35: MRR
K36: 33 | L36: MSB
A37: =COUNTIF($C$1:C37,C37)+1 -> 7 | B37: =VLOOKUP(A37,$K$4:$L$73,2,FALSE) -> AI | C37: Saturday | D37: =IFERROR(INDEX(Data!$A$10:$O$842,MATCH(CONCATENATE($C37,D$1,$B37),Data!$J$10:$J$842,0),15),"") | E37: =IFERROR(INDEX(Data!$A$10:$O$842,MATCH(CONCATENATE($C37,E$1,$B37),Data!$J$10:$J$842,0),15),"") | F37: =IFERROR(INDEX(Data!$A$10:$O$842,MATCH(CONCATENATE($C37,F$1,$B37),Data!$J$10:$J$842,0),15),"") | G37: =IFERROR(INDEX(Data!$A$10:$O$842,MATCH(CONCATENATE($C37,G$1,$B37),Data!$J$10:$J$842,0),15),"") | H37: =IFERROR(INDEX(Data!$A$10:$O$842,MATCH(CONCATENATE($C37,H$1,$B37),Data!$J$10:$J$842,0),15),"") | I37: =IFERROR(INDEX(Data!$A$10:$O$842,MATCH(CONCATENATE($C37,I$1,$B37),Data!$J$10:$J$842,0),15),"") | K37: 34 | L37: MSU
A38: =COUNTIF($C$1:C38,C38)+1 -> 7 | B38: =VLOOKUP(A38,$K$4:$L$73,2,FALSE) -> AI | C38: Sunday | D38: =IFERROR(INDEX(Data!$A$10:$O$842,MATCH(CONCATENATE($C38,D$1,$B38),Data!$J$10:$J$842,0),15),"") | E38: =IFERROR(INDEX(Data!$A$10:$O$842,MATCH(CONCATENATE($C38,E$1,$B38),Data!$J$10:$J$842,0),15),"") | F38: =IFERROR(INDEX(Data!$A$10:$O$842,MATCH(CONCATENATE($C38,F$1,$B38),Data!$J$10:$J$842,0),15),"") | G38: =IFERROR(INDEX(Data!$A$10:$O$842,MATCH(CONCATENATE($C38,G$1,$B38),Data!$J$10:$J$842,0),15),"") | H38: =IFERROR(INDEX(Data!$A$10:$O$842,MATCH(CONCATENATE($C38,H$1,$B38),Data!$J$10:$J$842,0),15),"") | I38: =IFERROR(INDEX(Data!$A$10:$O$842,MATCH(CONCATENATE($C38,I$1,$B38),Data!$J$10:$J$842,0),15),"") | K38: 35 | L38: NF
A39: =COUNTIF($C$1:C39,C39)+1 -> 7 | B39: =VLOOKUP(A39,$K$4:$L$73,2,FALSE) -> AI | C39: Monday | D39: =IFERROR(INDEX(Data!$A$10:$O$842,MATCH(CONCATENATE($C39,D$1,$B39),Data!$J$10:$J$842,0),15),"") | E39: =IFERROR(INDEX(Data!$A$10:$O$842,MATCH(CONCATENATE($C39,E$1,$B39),Data!$J$10:$J$842,0),15),"") | F39: =IFERROR(INDEX(Data!$A$10:$O$842,MATCH(CONCATENATE($C39,F$1,$B39),Data!$J$10:$J$842,0),15),"") -> TE213(L2T1)D 705 --- AI | G39: =IFERROR(INDEX(Data!$A$10:$O$842,MATCH(CONCATENATE($C39,G$1,$B39),Data!$J$10:$J$842,0),15),"") | H39: =IFERROR(INDEX(Data!$A$10:$O$842,MATCH(CONCATENATE($C39,H$1,$B39),Data!$J$10:$J$842,0),15),"") -> TE214(L2T1)D L-Fab --- AI | I39: =IFERROR(INDEX(Data!$A$10:$O$842,MATCH(CONCATENATE($C39,I$1,$B39),Data!$J$10:$J$842,0),15),"") -> TE214(L2T1)D L-Fab --- AI | K39: 36 | L39: NL
A40: =COUNTIF($C$1:C40,C40)+1 -> 7 | B40: =VLOOKUP(A40,$K$4:$L$73,2,FALSE) -> AI | C40: Tuesday | D40: =IFERROR(INDEX(Data!$A$10:$O$842,MATCH(CONCATENATE($C40,D$1,$B40),Data!$J$10:$J$842,0),15),"") | E40: =IFERROR(INDEX(Data!$A$10:$O$842,MATCH(CONCATENATE($C40,E$1,$B40),Data!$J$10:$J$842,0),15),"") | F40: =IFERROR(INDEX(Data!$A$10:$O$842,MATCH(CONCATENATE($C40,F$1,$B40),Data!$J$10:$J$842,0),15),"") | G40: =IFERROR(INDEX(Data!$A$10:$O$842,MATCH(CONCATENATE($C40,G$1,$B40),Data!$J$10:$J$842,0),15),"") -> TE213(L2T1)D 704 --- AI | H40: =IFERROR(INDEX(Data!$A$10:$O$842,MATCH(CONCATENATE($C40,H$1,$B40),Data!$J$10:$J$842,0),15),"") -> TE302(L3T1)A 706 --- AI | I40: =IFERROR(INDEX(Data!$A$10:$O$842,MATCH(CONCATENATE($C40,I$1,$B40),Data!$J$10:$J$842,0),15),"") | K40: 37 | L40: NRD
A41: =COUNTIF($C$1:C41,C41)+1 -> 7 | B41: =VLOOKUP(A41,$K$4:$L$73,2,FALSE) -> AI | C41: Wednesday | D41: =IFERROR(INDEX(Data!$A$10:$O$842,MATCH(CONCATENATE($C41,D$1,$B41),Data!$J$10:$J$842,0),15),"") -> TE302(L3T1)A L-Fab --- AI | E41: =IFERROR(INDEX(Data!$A$10:$O$842,MATCH(CONCATENATE($C41,E$1,$B41),Data!$J$10:$J$842,0),15),"") -> TE302(L3T1)A L-Fab --- AI | F41: =IFERROR(INDEX(Data!$A$10:$O$842,MATCH(CONCATENATE($C41,F$1,$B41),Data!$J$10:$J$842,0),15),"") -> TE302(L3T1)A 703 --- AI | G41: =IFERROR(INDEX(Data!$A$10:$O$842,MATCH(CONCATENATE($C41,G$1,$B41),Data!$J$10:$J$842,0),15),"") | H41: =IFERROR(INDEX(Data!$A$10:$O$842,MATCH(CONCATENATE($C41,H$1,$B41),Data!$J$10:$J$842,0),15),"") | I41: =IFERROR(INDEX(Data!$A$10:$O$842,MATCH(CONCATENATE($C41,I$1,$B41),Data!$J$10:$J$842,0),15),"") | K41: 38 | L41: PT-1
A42: =COUNTIF($C$1:C42,C42)+1 -> 7 | B42: =VLOOKUP(A42,$K$4:$L$73,2,FALSE) -> AI | C42: Thursday | D42: =IFERROR(INDEX(Data!$A$10:$O$842,MATCH(CONCATENATE($C42,D$1,$B42),Data!$J$10:$J$842,0),15),"") | E42: =IFERROR(INDEX(Data!$A$10:$O$842,MATCH(CONCATENATE($C42,E$1,$B42),Data!$J$10:$J$842,0),15),"") | F42: =IFERROR(INDEX(Data!$A$10:$O$842,MATCH(CONCATENATE($C42,F$1,$B42),Data!$J$10:$J$842,0),15),"") | G42: =IFERROR(INDEX(Data!$A$10:$O$842,MATCH(CONCATENATE($C42,G$1,$B42),Data!$J$10:$J$842,0),15),"") | H42: =IFERROR(INDEX(Data!$A$10:$O$842,MATCH(CONCATENATE($C42,H$1,$B42),Data!$J$10:$J$842,0),15),"") | I42: =IFERROR(INDEX(Data!$A$10:$O$842,MATCH(CONCATENATE($C42,I$1,$B42),Data!$J$10:$J$842,0),15),"") | K42: 39 | L42: PT-2
K43: 40 | L43: PT-3
A44: =COUNTIF($C$1:C44,C44)+1 -> 8 | B44: =VLOOKUP(A44,$K$4:$L$73,2,FALSE) -> AKA | C44: Saturday | D44: =IFERROR(INDEX(Data!$A$10:$O$842,MATCH(CONCATENATE($C44,D$1,$B44),Data!$J$10:$J$842,0),15),"") | E44: =IFERROR(INDEX(Data!$A$10:$O$842,MATCH(CONCATENATE($C44,E$1,$B44),Data!$J$10:$J$842,0),15),"") -> PHY111(L1T1)A 706 --- AKA | F44: =IFERROR(INDEX(Data!$A$10:$O$842,MATCH(CONCATENATE($C44,F$1,$B44),Data!$J$10:$J$842,0),15),"") -> PHY111(L1T1)B 707 --- AKA | G44: =IFERROR(INDEX(Data!$A$10:$O$842,MATCH(CONCATENATE($C44,G$1,$B44),Data!$J$10:$J$842,0),15),"") | H44: =IFERROR(INDEX(Data!$A$10:$O$842,MATCH(CONCATENATE($C44,H$1,$B44),Data!$J$10:$J$842,0),15),"") -> PHY111(L1T1)C 701 --- AKA | I44: =IFERROR(INDEX(Data!$A$10:$O$842,MATCH(CONCATENATE($C44,I$1,$B44),Data!$J$10:$J$842,0),15),"") | K44: 41 | L44: RA
A45: =COUNTIF($C$1:C45,C45)+1 -> 8 | B45: =VLOOKUP(A45,$K$4:$L$73,2,FALSE) -> AKA | C45: Sunday | D45: =IFERROR(INDEX(Data!$A$10:$O$842,MATCH(CONCATENATE($C45,D$1,$B45),Data!$J$10:$J$842,0),15),"") -> PHY111(L1T1)B 702 --- AKA | E45: =IFERROR(INDEX(Data!$A$10:$O$842,MATCH(CONCATENATE($C45,E$1,$B45),Data!$J$10:$J$842,0),15),"") | F45: =IFERROR(INDEX(Data!$A$10:$O$842,MATCH(CONCATENATE($C45,F$1,$B45),Data!$J$10:$J$842,0),15),"") | G45: =IFERROR(INDEX(Data!$A$10:$O$842,MATCH(CONCATENATE($C45,G$1,$B45),Data!$J$10:$J$842,0),15),"") -> PHY111(L1T1)A 706 --- AKA | H45: =IFERROR(INDEX(Data!$A$10:$O$842,MATCH(CONCATENATE($C45,H$1,$B45),Data!$J$10:$J$842,0),15),"") -> PHY111(L1T1)C 706 --- AKA | I45: =IFERROR(INDEX(Data!$A$10:$O$842,MATCH(CONCATENATE($C45,I$1,$B45),Data!$J$10:$J$842,0),15),"") | K45: 42 | L45: Rakhal
A46: =COUNTIF($C$1:C46,C46)+1 -> 8 | B46: =VLOOKUP(A46,$K$4:$L$73,2,FALSE) -> AKA | C46: Monday | D46: =IFERROR(INDEX(Data!$A$10:$O$842,MATCH(CONCATENATE($C46,D$1,$B46),Data!$J$10:$J$842,0),15),"") | E46: =IFERROR(INDEX(Data!$A$10:$O$842,MATCH(CONCATENATE($C46,E$1,$B46),Data!$J$10:$J$842,0),15),"") | F46: =IFERROR(INDEX(Data!$A$10:$O$842,MATCH(CONCATENATE($C46,F$1,$B46),Data!$J$10:$J$842,0),15),"") | G46: =IFERROR(INDEX(Data!$A$10:$O$842,MATCH(CONCATENATE($C46,G$1,$B46),Data!$J$10:$J$842,0),15),"") | H46: =IFERROR(INDEX(Data!$A$10:$O$842,MATCH(CONCATENATE($C46,H$1,$B46),Data!$J$10:$J$842,0),15),"") | I46: =IFERROR(INDEX(Data!$A$10:$O$842,MATCH(CONCATENATE($C46,I$1,$B46),Data!$J$10:$J$842,0),15),"") | K46: 43 | L46: RIK
A47: =COUNTIF($C$1:C47,C47)+1 -> 8 | B47: =VLOOKUP(A47,$K$4:$L$73,2,FALSE) -> AKA | C47: Tuesday | D47: =IFERROR(INDEX(Data!$A$10:$O$842,MATCH(CONCATENATE($C47,D$1,$B47),Data!$J$10:$J$842,0),15),"") | E47: =IFERROR(INDEX(Data!$A$10:$O$842,MATCH(CONCATENATE($C47,E$1,$B47),Data!$J$10:$J$842,0),15),"") | F47: =IFERROR(INDEX(Data!$A$10:$O$842,MATCH(CONCATENATE($C47,F$1,$B47),Data!$J$10:$J$842,0),15),"") | G47: =IFERROR(INDEX(Data!$A$10:$O$842,MATCH(CONCATENATE($C47,G$1,$B47),Data!$J$10:$J$842,0),15),"") | H47: =IFERROR(INDEX(Data!$A$10:$O$842,MATCH(CONCATENATE($C47,H$1,$B47),Data!$J$10:$J$842,0),15),"") | I47: =IFERROR(INDEX(Data!$A$10:$O$842,MATCH(CONCATENATE($C47,I$1,$B47),Data!$J$10:$J$842,0),15),"") | K47: 44 | L47: SF1
A48: =COUNTIF($C$1:C48,C48)+1 -> 8 | B48: =VLOOKUP(A48,$K$4:$L$73,2,FALSE) -> AKA | C48: Wednesday | D48: =IFERROR(INDEX(Data!$A$10:$O$842,MATCH(CONCATENATE($C48,D$1,$B48),Data!$J$10:$J$842,0),15),"") | E48: =IFERROR(INDEX(Data!$A$10:$O$842,MATCH(CONCATENATE($C48,E$1,$B48),Data!$J$10:$J$842,0),15),"") | F48: =IFERROR(INDEX(Data!$A$10:$O$842,MATCH(CONCATENATE($C48,F$1,$B48),Data!$J$10:$J$842,0),15),"") | G48: =IFERROR(INDEX(Data!$A$10:$O$842,MATCH(CONCATENATE($C48,G$1,$B48),Data!$J$10:$J$842,0),15),"") | H48: =IFERROR(INDEX(Data!$A$10:$O$842,MATCH(CONCATENATE($C48,H$1,$B48),Data!$J$10:$J$842,0),15),"") | I48: =IFERROR(INDEX(Data!$A$10:$O$842,MATCH(CONCATENATE($C48,I$1,$B48),Data!$J$10:$J$842,0),15),"") -> PHY111(L1T1)D 705 --- AKA | K48: 45 | L48: SH
A49: =COUNTIF($C$1:C49,C49)+1 -> 8 | B49: =VLOOKUP(A49,$K$4:$L$73,2,FALSE) -> AKA | C49: Thursday | D49: =IFERROR(INDEX(Data!$A$10:$O$842,MATCH(CONCATENATE($C49,D$1,$B49),Data!$J$10:$J$842,0),15),"") | E49: =IFERROR(INDEX(Data!$A$10:$O$842,MATCH(CONCATENATE($C49,E$1,$B49),Data!$J$10:$J$842,0),15),"") | F49: =IFERROR(INDEX(Data!$A$10:$O$842,MATCH(CONCATENATE($C49,F$1,$B49),Data!$J$10:$J$842,0),15),"") | G49: =IFERROR(INDEX(Data!$A$10:$O$842,MATCH(CONCATENATE($C49,G$1,$B49),Data!$J$10:$J$842,0),15),"") | H49: =IFERROR(INDEX(Data!$A$10:$O$842,MATCH(CONCATENATE($C49,H$1,$B49),Data!$J$10:$J$842,0),15),"") -> PHY111(L1T1)D 707 --- AKA | I49: =IFERROR(INDEX(Data!$A$10:$O$842,MATCH(CONCATENATE($C49,I$1,$B49),Data!$J$10:$J$842,0),15),"") | K49: 46 | L49: SH1
K50: 47 | L50: SH2
A51: =COUNTIF($C$1:C51,C51)+1 -> 9 | B51: =VLOOKUP(A51,$K$4:$L$73,2,FALSE) -> AMK | C51: Saturday | D51: =IFERROR(INDEX(Data!$A$10:$O$842,MATCH(CONCATENATE($C51,D$1,$B51),Data!$J$10:$J$842,0),15),"") | E51: =IFERROR(INDEX(Data!$A$10:$O$842,MATCH(CONCATENATE($C51,E$1,$B51),Data!$J$10:$J$842,0),15),"") | F51: =IFERROR(INDEX(Data!$A$10:$O$842,MATCH(CONCATENATE($C51,F$1,$B51),Data!$J$10:$J$842,0),15),"") | G51: =IFERROR(INDEX(Data!$A$10:$O$842,MATCH(CONCATENATE($C51,G$1,$B51),Data!$J$10:$J$842,0),15),"") | H51: =IFERROR(INDEX(Data!$A$10:$O$842,MATCH(CONCATENATE($C51,H$1,$B51),Data!$J$10:$J$842,0),15),"") | I51: =IFERROR(INDEX(Data!$A$10:$O$842,MATCH(CONCATENATE($C51,I$1,$B51),Data!$J$10:$J$842,0),15),"") | K51: 48 | L51: SKB
A52: =COUNTIF($C$1:C52,C52)+1 -> 9 | B52: =VLOOKUP(A52,$K$4:$L$73,2,FALSE) -> AMK | C52: Sunday | D52: =IFERROR(INDEX(Data!$A$10:$O$842,MATCH(CONCATENATE($C52,D$1,$B52),Data!$J$10:$J$842,0),15),"") | E52: =IFERROR(INDEX(Data!$A$10:$O$842,MATCH(CONCATENATE($C52,E$1,$B52),Data!$J$10:$J$842,0),15),"") | F52: =IFERROR(INDEX(Data!$A$10:$O$842,MATCH(CONCATENATE($C52,F$1,$B52),Data!$J$10:$J$842,0),15),"") | G52: =IFERROR(INDEX(Data!$A$10:$O$842,MATCH(CONCATENATE($C52,G$1,$B52),Data!$J$10:$J$842,0),15),"") | H52: =IFERROR(INDEX(Data!$A$10:$O$842,MATCH(CONCATENATE($C52,H$1,$B52),Data!$J$10:$J$842,0),15),"") | I52: =IFERROR(INDEX(Data!$A$10:$O$842,MATCH(CONCATENATE($C52,I$1,$B52),Data!$J$10:$J$842,0),15),"") | K52: 49 | L52: SKD
A53: =COUNTIF($C$1:C53,C53)+1 -> 9 | B53: =VLOOKUP(A53,$K$4:$L$73,2,FALSE) -> AMK | C53: Monday | D53: =IFERROR(INDEX(Data!$A$10:$O$842,MATCH(CONCATENATE($C53,D$1,$B53),Data!$J$10:$J$842,0),15),"") | E53: =IFERROR(INDEX(Data!$A$10:$O$842,MATCH(CONCATENATE($C53,E$1,$B53),Data!$J$10:$J$842,0),15),"") | F53: =IFERROR(INDEX(Data!$A$10:$O$842,MATCH(CONCATENATE($C53,F$1,$B53),Data!$J$10:$J$842,0),15),"") | G53: =IFERROR(INDEX(Data!$A$10:$O$842,MATCH(CONCATENATE($C53,G$1,$B53),Data!$J$10:$J$842,0),15),"") | H53: =IFERROR(INDEX(Data!$A$10:$O$842,MATCH(CONCATENATE($C53,H$1,$B53),Data!$J$10:$J$842,0),15),"") | I53: =IFERROR(INDEX(Data!$A$10:$O$842,MATCH(CONCATENATE($C53,I$1,$B53),Data!$J$10:$J$842,0),15),"") | K53: 50 | L53: SKM
A54: =COUNTIF($C$1:C54,C54)+1 -> 9 | B54: =VLOOKUP(A54,$K$4:$L$73,2,FALSE) -> AMK | C54: Tuesday | D54: =IFERROR(INDEX(Data!$A$10:$O$842,MATCH(CONCATENATE($C54,D$1,$B54),Data!$J$10:$J$842,0),15),"") | E54: =IFERROR(INDEX(Data!$A$10:$O$842,MATCH(CONCATENATE($C54,E$1,$B54),Data!$J$10:$J$842,0),15),"") -> TE204(L2T3)F 711 --- AMK | F54: =IFERROR(INDEX(Data!$A$10:$O$842,MATCH(CONCATENATE($C54,F$1,$B54),Data!$J$10:$J$842,0),15),"") | G54: =IFERROR(INDEX(Data!$A$10:$O$842,MATCH(CONCATENATE($C54,G$1,$B54),Data!$J$10:$J$842,0),15),"") | H54: =IFERROR(INDEX(Data!$A$10:$O$842,MATCH(CONCATENATE($C54,H$1,$B54),Data!$J$10:$J$842,0),15),"") | I54: =IFERROR(INDEX(Data!$A$10:$O$842,MATCH(CONCATENATE($C54,I$1,$B54),Data!$J$10:$J$842,0),15),"") | K54: 51 | L54: SM
A55: =COUNTIF($C$1:C55,C55)+1 -> 9 | B55: =VLOOKUP(A55,$K$4:$L$73,2,FALSE) -> AMK | C55: Wednesday | D55: =IFERROR(INDEX(Data!$A$10:$O$842,MATCH(CONCATENATE($C55,D$1,$B55),Data!$J$10:$J$842,0),15),"") | E55: =IFERROR(INDEX(Data!$A$10:$O$842,MATCH(CONCATENATE($C55,E$1,$B55),Data!$J$10:$J$842,0),15),"") | F55: =IFERROR(INDEX(Data!$A$10:$O$842,MATCH(CONCATENATE($C55,F$1,$B55),Data!$J$10:$J$842,0),15),"") -> TE111(L1T1)C 711 --- AMK | G55: =IFERROR(INDEX(Data!$A$10:$O$842,MATCH(CONCATENATE($C55,G$1,$B55),Data!$J$10:$J$842,0),15),"") | H55: =IFERROR(INDEX(Data!$A$10:$O$842,MATCH(CONCATENATE($C55,H$1,$B55),Data!$J$10:$J$842,0),15),"") | I55: =IFERROR(INDEX(Data!$A$10:$O$842,MATCH(CONCATENATE($C55,I$1,$B55),Data!$J$10:$J$842,0),15),"") | K55: 52 | L55: SM1
A56: =COUNTIF($C$1:C56,C56)+1 -> 9 | B56: =VLOOKUP(A56,$K$4:$L$73,2,FALSE) -> AMK | C56: Thursday | D56: =IFERROR(INDEX(Data!$A$10:$O$842,MATCH(CONCATENATE($C56,D$1,$B56),Data!$J$10:$J$842,0),15),"") -> TE204(L2T3)F 301P --- AMK | E56: =IFERROR(INDEX(Data!$A$10:$O$842,MATCH(CONCATENATE($C56,E$1,$B56),Data!$J$10:$J$842,0),15),"") -> TE111(L1T1)C 301P --- AMK | F56: =IFERROR(INDEX(Data!$A$10:$O$842,MATCH(CONCATENATE($C56,F$1,$B56),Data!$J$10:$J$842,0),15),"") | G56: =IFERROR(INDEX(Data!$A$10:$O$842,MATCH(CONCATENATE($C56,G$1,$B56),Data!$J$10:$J$842,0),15),"") | H56: =IFERROR(INDEX(Data!$A$10:$O$842,MATCH(CONCATENATE($C56,H$1,$B56),Data!$J$10:$J$842,0),15),"") | I56: =IFERROR(INDEX(Data!$A$10:$O$842,MATCH(CONCATENATE($C56,I$1,$B56),Data!$J$10:$J$842,0),15),"") | K56: 53 | L56: SRD
K57: 54 | L57: SS
A58: =COUNTIF($C$1:C58,C58)+1 -> 10 | B58: =VLOOKUP(A58,$K$4:$L$73,2,FALSE) -> ANF | C58: Saturday | D58: =IFERROR(INDEX(Data!$A$10:$O$842,MATCH(CONCATENATE($C58,D$1,$B58),Data!$J$10:$J$842,0),15),"") | E58: =IFERROR(INDEX(Data!$A$10:$O$842,MATCH(CONCATENATE($C58,E$1,$B58),Data!$J$10:$J$842,0),15),"") | F58: =IFERROR(INDEX(Data!$A$10:$O$842,MATCH(CONCATENATE($C58,F$1,$B58),Data!$J$10:$J$842,0),15),"") | G58: =IFERROR(INDEX(Data!$A$10:$O$842,MATCH(CONCATENATE($C58,G$1,$B58),Data!$J$10:$J$842,0),15),"") | H58: =IFERROR(INDEX(Data!$A$10:$O$842,MATCH(CONCATENATE($C58,H$1,$B58),Data!$J$10:$J$842,0),15),"") | I58: =IFERROR(INDEX(Data!$A$10:$O$842,MATCH(CONCATENATE($C58,I$1,$B58),Data!$J$10:$J$842,0),15),"") | K58: 55 | L58: SS1
A59: =COUNTIF($C$1:C59,C59)+1 -> 10 | B59: =VLOOKUP(A59,$K$4:$L$73,2,FALSE) -> ANF | C59: Sunday | D59: =IFERROR(INDEX(Data!$A$10:$O$842,MATCH(CONCATENATE($C59,D$1,$B59),Data!$J$10:$J$842,0),15),"") | E59: =IFERROR(INDEX(Data!$A$10:$O$842,MATCH(CONCATENATE($C59,E$1,$B59),Data!$J$10:$J$842,0),15),"") | F59: =IFERROR(INDEX(Data!$A$10:$O$842,MATCH(CONCATENATE($C59,F$1,$B59),Data!$J$10:$J$842,0),15),"") | G59: =IFERROR(INDEX(Data!$A$10:$O$842,MATCH(CONCATENATE($C59,G$1,$B59),Data!$J$10:$J$842,0),15),"") | H59: =IFERROR(INDEX(Data!$A$10:$O$842,MATCH(CONCATENATE($C59,H$1,$B59),Data!$J$10:$J$842,0),15),"") -> TE215(L2T1)A 704 --- ANF | I59: =IFERROR(INDEX(Data!$A$10:$O$842,MATCH(CONCATENATE($C59,I$1,$B59),Data!$J$10:$J$842,0),15),"") -> TE215(L2T1)C 705 --- ANF | K59: 56 | L59: SSS
A60: =COUNTIF($C$1:C60,C60)+1 -> 10 | B60: =VLOOKUP(A60,$K$4:$L$73,2,FALSE) -> ANF | C60: Monday | D60: =IFERROR(INDEX(Data!$A$10:$O$842,MATCH(CONCATENATE($C60,D$1,$B60),Data!$J$10:$J$842,0),15),"") -> TE215(L2T1)D 701 --- ANF | E60: =IFERROR(INDEX(Data!$A$10:$O$842,MATCH(CONCATENATE($C60,E$1,$B60),Data!$J$10:$J$842,0),15),"") -> TE215(L2T1)A 706 --- ANF | F60: =IFERROR(INDEX(Data!$A$10:$O$842,MATCH(CONCATENATE($C60,F$1,$B60),Data!$J$10:$J$842,0),15),"") | G60: =IFERROR(INDEX(Data!$A$10:$O$842,MATCH(CONCATENATE($C60,G$1,$B60),Data!$J$10:$J$842,0),15),"") | H60: =IFERROR(INDEX(Data!$A$10:$O$842,MATCH(CONCATENATE($C60,H$1,$B60),Data!$J$10:$J$842,0),15),"") | I60: =IFERROR(INDEX(Data!$A$10:$O$842,MATCH(CONCATENATE($C60,I$1,$B60),Data!$J$10:$J$842,0),15),"") | K60: 57 | L60: TAC
A61: =COUNTIF($C$1:C61,C61)+1 -> 10 | B61: =VLOOKUP(A61,$K$4:$L$73,2,FALSE) -> ANF | C61: Tuesday | D61: =IFERROR(INDEX(Data!$A$10:$O$842,MATCH(CONCATENATE($C61,D$1,$B61),Data!$J$10:$J$842,0),15),"") | E61: =IFERROR(INDEX(Data!$A$10:$O$842,MATCH(CONCATENATE($C61,E$1,$B61),Data!$J$10:$J$842,0),15),"") | F61: =IFERROR(INDEX(Data!$A$10:$O$842,MATCH(CONCATENATE($C61,F$1,$B61),Data!$J$10:$J$842,0),15),"") | G61: =IFERROR(INDEX(Data!$A$10:$O$842,MATCH(CONCATENATE($C61,G$1,$B61),Data!$J$10:$J$842,0),15),"") | H61: =IFERROR(INDEX(Data!$A$10:$O$842,MATCH(CONCATENATE($C61,H$1,$B61),Data!$J$10:$J$842,0),15),"") | I61: =IFERROR(INDEX(Data!$A$10:$O$842,MATCH(CONCATENATE($C61,I$1,$B61),Data!$J$10:$J$842,0),15),"") | K61: 58 | L61: TM
A62: =COUNTIF($C$1:C62,C62)+1 -> 10 | B62: =VLOOKUP(A62,$K$4:$L$73,2,FALSE) -> ANF | C62: Wednesday | D62: =IFERROR(INDEX(Data!$A$10:$O$842,MATCH(CONCATENATE($C62,D$1,$B62),Data!$J$10:$J$842,0),15),"") | E62: =IFERROR(INDEX(Data!$A$10:$O$842,MATCH(CONCATENATE($C62,E$1,$B62),Data!$J$10:$J$842,0),15),"") | F62: =IFERROR(INDEX(Data!$A$10:$O$842,MATCH(CONCATENATE($C62,F$1,$B62),Data!$J$10:$J$842,0),15),"") | G62: =IFERROR(INDEX(Data!$A$10:$O$842,MATCH(CONCATENATE($C62,G$1,$B62),Data!$J$10:$J$842,0),15),"") | H62: =IFERROR(INDEX(Data!$A$10:$O$842,MATCH(CONCATENATE($C62,H$1,$B62),Data!$J$10:$J$842,0),15),"") -> TE215(L2T1)B 701 --- ANF | I62: =IFERROR(INDEX(Data!$A$10:$O$842,MATCH(CONCATENATE($C62,I$1,$B62),Data!$J$10:$J$842,0),15),"") -> TE215(L2T1)D 703 --- ANF | K62: 59 | L62: TM(NS)
A63: =COUNTIF($C$1:C63,C63)+1 -> 10 | B63: =VLOOKUP(A63,$K$4:$L$73,2,FALSE) -> ANF | C63: Thursday | D63: =IFERROR(INDEX(Data!$A$10:$O$842,MATCH(CONCATENATE($C63,D$1,$B63),Data!$J$10:$J$842,0),15),"") | E63: =IFERROR(INDEX(Data!$A$10:$O$842,MATCH(CONCATENATE($C63,E$1,$B63),Data!$J$10:$J$842,0),15),"") | F63: =IFERROR(INDEX(Data!$A$10:$O$842,MATCH(CONCATENATE($C63,F$1,$B63),Data!$J$10:$J$842,0),15),"") | G63: =IFERROR(INDEX(Data!$A$10:$O$842,MATCH(CONCATENATE($C63,G$1,$B63),Data!$J$10:$J$842,0),15),"") -> TE215(L2T1)C 701 --- ANF | H63: =IFERROR(INDEX(Data!$A$10:$O$842,MATCH(CONCATENATE($C63,H$1,$B63),Data!$J$10:$J$842,0),15),"") -> TE215(L2T1)B 702 --- ANF | I63: =IFERROR(INDEX(Data!$A$10:$O$842,MATCH(CONCATENATE($C63,I$1,$B63),Data!$J$10:$J$842,0),15),"") | K63: 60 | L63: WAB
K64: 61 | L64: xx
A65: =COUNTIF($C$1:C65,C65)+1 -> 11 | B65: =VLOOKUP(A65,$K$4:$L$73,2,FALSE) -> BCD | C65: Saturday | D65: =IFERROR(INDEX(Data!$A$10:$O$842,MATCH(CONCATENATE($C65,D$1,$B65),Data!$J$10:$J$842,0),15),"") | E65: =IFERROR(INDEX(Data!$A$10:$O$842,MATCH(CONCATENATE($C65,E$1,$B65),Data!$J$10:$J$842,0),15),"") -> MAT133(L1T3)F 703 --- BCD | F65: =IFERROR(INDEX(Data!$A$10:$O$842,MATCH(CONCATENATE($C65,F$1,$B65),Data!$J$10:$J$842,0),15),"") | G65: =IFERROR(INDEX(Data!$A$10:$O$842,MATCH(CONCATENATE($C65,G$1,$B65),Data!$J$10:$J$842,0),15),"") -> MAT133(L1T3)E 704 --- BCD | H65: =IFERROR(INDEX(Data!$A$10:$O$842,MATCH(CONCATENATE($C65,H$1,$B65),Data!$J$10:$J$842,0),15),"") -> MAT133(L1T3)B 704 --- BCD | I65: =IFERROR(INDEX(Data!$A$10:$O$842,MATCH(CONCATENATE($C65,I$1,$B65),Data!$J$10:$J$842,0),15),"") | K65: 62 | L65: xxx
A66: =COUNTIF($C$1:C66,C66)+1 -> 11 | B66: =VLOOKUP(A66,$K$4:$L$73,2,FALSE) -> BCD | C66: Sunday | D66: =IFERROR(INDEX(Data!$A$10:$O$842,MATCH(CONCATENATE($C66,D$1,$B66),Data!$J$10:$J$842,0),15),"") | E66: =IFERROR(INDEX(Data!$A$10:$O$842,MATCH(CONCATENATE($C66,E$1,$B66),Data!$J$10:$J$842,0),15),"") | F66: =IFERROR(INDEX(Data!$A$10:$O$842,MATCH(CONCATENATE($C66,F$1,$B66),Data!$J$10:$J$842,0),15),"") | G66: =IFERROR(INDEX(Data!$A$10:$O$842,MATCH(CONCATENATE($C66,G$1,$B66),Data!$J$10:$J$842,0),15),"") | H66: =IFERROR(INDEX(Data!$A$10:$O$842,MATCH(CONCATENATE($C66,H$1,$B66),Data!$J$10:$J$842,0),15),"") | I66: =IFERROR(INDEX(Data!$A$10:$O$842,MATCH(CONCATENATE($C66,I$1,$B66),Data!$J$10:$J$842,0),15),"") | K66: 63 | L66: xxxx
A67: =COUNTIF($C$1:C67,C67)+1 -> 11 | B67: =VLOOKUP(A67,$K$4:$L$73,2,FALSE) -> BCD | C67: Monday | D67: =IFERROR(INDEX(Data!$A$10:$O$842,MATCH(CONCATENATE($C67,D$1,$B67),Data!$J$10:$J$842,0),15),"") | E67: =IFERROR(INDEX(Data!$A$10:$O$842,MATCH(CONCATENATE($C67,E$1,$B67),Data!$J$10:$J$842,0),15),"") | F67: =IFERROR(INDEX(Data!$A$10:$O$842,MATCH(CONCATENATE($C67,F$1,$B67),Data!$J$10:$J$842,0),15),"") -> MAT133(L1T3)E 706 --- BCD | G67: =IFERROR(INDEX(Data!$A$10:$O$842,MATCH(CONCATENATE($C67,G$1,$B67),Data!$J$10:$J$842,0),15),"") -> MAT133(L1T3)D 706 --- BCD | H67: =IFERROR(INDEX(Data!$A$10:$O$842,MATCH(CONCATENATE($C67,H$1,$B67),Data!$J$10:$J$842,0),15),"") -> MAT133(L1T3)A 704 --- BCD | I67: =IFERROR(INDEX(Data!$A$10:$O$842,MATCH(CONCATENATE($C67,I$1,$B67),Data!$J$10:$J$842,0),15),"") | K67: 64 | L67: ZK
A68: =COUNTIF($C$1:C68,C68)+1 -> 11 | B68: =VLOOKUP(A68,$K$4:$L$73,2,FALSE) -> BCD | C68: Tuesday | D68: =IFERROR(INDEX(Data!$A$10:$O$842,MATCH(CONCATENATE($C68,D$1,$B68),Data!$J$10:$J$842,0),15),"") | E68: =IFERROR(INDEX(Data!$A$10:$O$842,MATCH(CONCATENATE($C68,E$1,$B68),Data!$J$10:$J$842,0),15),"") | F68: =IFERROR(INDEX(Data!$A$10:$O$842,MATCH(CONCATENATE($C68,F$1,$B68),Data!$J$10:$J$842,0),15),"") | G68: =IFERROR(INDEX(Data!$A$10:$O$842,MATCH(CONCATENATE($C68,G$1,$B68),Data!$J$10:$J$842,0),15),"") -> MAT133(L1T3)A 701 --- BCD | H68: =IFERROR(INDEX(Data!$A$10:$O$842,MATCH(CONCATENATE($C68,H$1,$B68),Data!$J$10:$J$842,0),15),"") -> MAT133(L1T3)D 701 --- BCD | I68: =IFERROR(INDEX(Data!$A$10:$O$842,MATCH(CONCATENATE($C68,I$1,$B68),Data!$J$10:$J$842,0),15),"") | K68: 65 | L68: ZR
A69: =COUNTIF($C$1:C69,C69)+1 -> 11 | B69: =VLOOKUP(A69,$K$4:$L$73,2,FALSE) -> BCD | C69: Wednesday | D69: =IFERROR(INDEX(Data!$A$10:$O$842,MATCH(CONCATENATE($C69,D$1,$B69),Data!$J$10:$J$842,0),15),"") | E69: =IFERROR(INDEX(Data!$A$10:$O$842,MATCH(CONCATENATE($C69,E$1,$B69),Data!$J$10:$J$842,0),15),"") -> MAT133(L1T3)C 703 --- BCD | F69: =IFERROR(INDEX(Data!$A$10:$O$842,MATCH(CONCATENATE($C69,F$1,$B69),Data!$J$10:$J$842,0),15),"") | G69: =IFERROR(INDEX(Data!$A$10:$O$842,MATCH(CONCATENATE($C69,G$1,$B69),Data!$J$10:$J$842,0),15),"") | H69: =IFERROR(INDEX(Data!$A$10:$O$842,MATCH(CONCATENATE($C69,H$1,$B69),Data!$J$10:$J$842,0),15),"") | I69: =IFERROR(INDEX(Data!$A$10:$O$842,MATCH(CONCATENATE($C69,I$1,$B69),Data!$J$10:$J$842,0),15),"") | K69: 66 | L69: ZU
A70: =COUNTIF($C$1:C70,C70)+1 -> 11 | B70: =VLOOKUP(A70,$K$4:$L$73,2,FALSE) -> BCD | C70: Thursday | D70: =IFERROR(INDEX(Data!$A$10:$O$842,MATCH(CONCATENATE($C70,D$1,$B70),Data!$J$10:$J$842,0),15),"") | E70: =IFERROR(INDEX(Data!$A$10:$O$842,MATCH(CONCATENATE($C70,E$1,$B70),Data!$J$10:$J$842,0),15),"") -> MAT133(L1T3)C 703 --- BCD | F70: =IFERROR(INDEX(Data!$A$10:$O$842,MATCH(CONCATENATE($C70,F$1,$B70),Data!$J$10:$J$842,0),15),"") | G70: =IFERROR(INDEX(Data!$A$10:$O$842,MATCH(CONCATENATE($C70,G$1,$B70),Data!$J$10:$J$842,0),15),"") -> MAT133(L1T3)F 703 --- BCD | H70: =IFERROR(INDEX(Data!$A$10:$O$842,MATCH(CONCATENATE($C70,H$1,$B70),Data!$J$10:$J$842,0),15),"") -> MAT133(L1T3)B 706 --- BCD | I70: =IFERROR(INDEX(Data!$A$10:$O$842,MATCH(CONCATENATE($C70,I$1,$B70),Data!$J$10:$J$842,0),15),"") | K70: 67 | L70: (blank)
K71: 68 | L71: Grand Total
A72: =COUNTIF($C$1:C72,C72)+1 -> 12 | B72: =VLOOKUP(A72,$K$4:$L$73,2,FALSE) -> CF | C72: Saturday | D72: =IFERROR(INDEX(Data!$A$10:$O$842,MATCH(CONCATENATE($C72,D$1,$B72),Data!$J$10:$J$842,0),15),"") | E72: =IFERROR(INDEX(Data!$A$10:$O$842,MATCH(CONCATENATE($C72,E$1,$B72),Data!$J$10:$J$842,0),15),"") | F72: =IFERROR(INDEX(Data!$A$10:$O$842,MATCH(CONCATENATE($C72,F$1,$B72),Data!$J$10:$J$842,0),15),"") | G72: =IFERROR(INDEX(Data!$A$10:$O$842,MATCH(CONCATENATE($C72,G$1,$B72),Data!$J$10:$J$842,0),15),"") | H72: =IFERROR(INDEX(Data!$A$10:$O$842,MATCH(CONCATENATE($C72,H$1,$B72),Data!$J$10:$J$842,0),15),"") | I72: =IFERROR(INDEX(Data!$A$10:$O$842,MATCH(CONCATENATE($C72,I$1,$B72),Data!$J$10:$J$842,0),15),"") | K72: 69
A73: =COUNTIF($C$1:C73,C73)+1 -> 12 | B73: =VLOOKUP(A73,$K$4:$L$73,2,FALSE) -> CF | C73: Sunday | D73: =IFERROR(INDEX(Data!$A$10:$O$842,MATCH(CONCATENATE($C73,D$1,$B73),Data!$J$10:$J$842,0),15),"") | E73: =IFERROR(INDEX(Data!$A$10:$O$842,MATCH(CONCATENATE($C73,E$1,$B73),Data!$J$10:$J$842,0),15),"") | F73: =IFERROR(INDEX(Data!$A$10:$O$842,MATCH(CONCATENATE($C73,F$1,$B73),Data!$J$10:$J$842,0),15),"") | G73: =IFERROR(INDEX(Data!$A$10:$O$842,MATCH(CONCATENATE($C73,G$1,$B73),Data!$J$10:$J$842,0),15),"") | H73: =IFERROR(INDEX(Data!$A$10:$O$842,MATCH(CONCATENATE($C73,H$1,$B73),Data!$J$10:$J$842,0),15),"") | I73: =IFERROR(INDEX(Data!$A$10:$O$842,MATCH(CONCATENATE($C73,I$1,$B73),Data!$J$10:$J$842,0),15),"") | K73: 70
A74: =COUNTIF($C$1:C74,C74)+1 -> 12 | B74: =VLOOKUP(A74,$K$4:$L$73,2,FALSE) -> CF | C74: Monday | D74: =IFERROR(INDEX(Data!$A$10:$O$842,MATCH(CONCATENATE($C74,D$1,$B74),Data!$J$10:$J$842,0),15),"") | E74: =IFERROR(INDEX(Data!$A$10:$O$842,MATCH(CONCATENATE($C74,E$1,$B74),Data!$J$10:$J$842,0),15),"") | F74: =IFERROR(INDEX(Data!$A$10:$O$842,MATCH(CONCATENATE($C74,F$1,$B74),Data!$J$10:$J$842,0),15),"") | G74: =IFERROR(INDEX(Data!$A$10:$O$842,MATCH(CONCATENATE($C74,G$1,$B74),Data!$J$10:$J$842,0),15),"") | H74: =IFERROR(INDEX(Data!$A$10:$O$842,MATCH(CONCATENATE($C74,H$1,$B74),Data!$J$10:$J$842,0),15),"") | I74: =IFERROR(INDEX(Data!$A$10:$O$842,MATCH(CONCATENATE($C74,I$1,$B74),Data!$J$10:$J$842,0),15),"")
A75: =COUNTIF($C$1:C75,C75)+1 -> 12 | B75: =VLOOKUP(A75,$K$4:$L$73,2,FALSE) -> CF | C75: Tuesday | D75: =IFERROR(INDEX(Data!$A$10:$O$842,MATCH(CONCATENATE($C75,D$1,$B75),Data!$J$10:$J$842,0),15),"") | E75: =IFERROR(INDEX(Data!$A$10:$O$842,MATCH(CONCATENATE($C75,E$1,$B75),Data!$J$10:$J$842,0),15),"") | F75: =IFERROR(INDEX(Data!$A$10:$O$842,MATCH(CONCATENATE($C75,F$1,$B75),Data!$J$10:$J$842,0),15),"") | G75: =IFERROR(INDEX(Data!$A$10:$O$842,MATCH(CONCATENATE($C75,G$1,$B75),Data!$J$10:$J$842,0),15),"") | H75: =IFERROR(INDEX(Data!$A$10:$O$842,MATCH(CONCATENATE($C75,H$1,$B75),Data!$J$10:$J$842,0),15),"") | I75: =IFERROR(INDEX(Data!$A$10:$O$842,MATCH(CONCATENATE($C75,I$1,$B75),Data!$J$10:$J$842,0),15),"")
A76: =COUNTIF($C$1:C76,C76)+1 -> 12 | B76: =VLOOKUP(A76,$K$4:$L$73,2,FALSE) -> CF | C76: Wednesday | D76: =IFERROR(INDEX(Data!$A$10:$O$842,MATCH(CONCATENATE($C76,D$1,$B76),Data!$J$10:$J$842,0),15),"") | E76: =IFERROR(INDEX(Data!$A$10:$O$842,MATCH(CONCATENATE($C76,E$1,$B76),Data!$J$10:$J$842,0),15),"") | F76: =IFERROR(INDEX(Data!$A$10:$O$842,MATCH(CONCATENATE($C76,F$1,$B76),Data!$J$10:$J$842,0),15),"") | G76: =IFERROR(INDEX(Data!$A$10:$O$842,MATCH(CONCATENATE($C76,G$1,$B76),Data!$J$10:$J$842,0),15),"") | H76: =IFERROR(INDEX(Data!$A$10:$O$842,MATCH(CONCATENATE($C76,H$1,$B76),Data!$J$10:$J$842,0),15),"") | I76: =IFERROR(INDEX(Data!$A$10:$O$842,MATCH(CONCATENATE($C76,I$1,$B76),Data!$J$10:$J$842,0),15),"")
A77: =COUNTIF($C$1:C77,C77)+1 -> 12 | B77: =VLOOKUP(A77,$K$4:$L$73,2,FALSE) -> CF | C77: Thursday | D77: =IFERROR(INDEX(Data!$A$10:$O$842,MATCH(CONCATENATE($C77,D$1,$B77),Data!$J$10:$J$842,0),15),"") | E77: =IFERROR(INDEX(Data!$A$10:$O$842,MATCH(CONCATENATE($C77,E$1,$B77),Data!$J$10:$J$842,0),15),"") | F77: =IFERROR(INDEX(Data!$A$10:$O$842,MATCH(CONCATENATE($C77,F$1,$B77),Data!$J$10:$J$842,0),15),"") | G77: =IFERROR(INDEX(Data!$A$10:$O$842,MATCH(CONCATENATE($C77,G$1,$B77),Data!$J$10:$J$842,0),15),"") | H77: =IFERROR(INDEX(Data!$A$10:$O$842,MATCH(CONCATENATE($C77,H$1,$B77),Data!$J$10:$J$842,0),15),"") | I77: =IFERROR(INDEX(Data!$A$10:$O$842,MATCH(CONCATENATE($C77,I$1,$B77),Data!$J$10:$J$842,0),15),"")
A79: =COUNTIF($C$1:C79,C79)+1 -> 13 | B79: =VLOOKUP(A79,$K$4:$L$73,2,FALSE) -> DMA | C79: Saturday | D79: =IFERROR(INDEX(Data!$A$10:$O$842,MATCH(CONCATENATE($C79,D$1,$B79),Data!$J$10:$J$842,0),15),"") -> TE401 (L4T1)FAB L-Fab --- DMA | E79: =IFERROR(INDEX(Data!$A$10:$O$842,MATCH(CONCATENATE($C79,E$1,$B79),Data!$J$10:$J$842,0),15),"") -> TE401 (L4T1)FAB L-Fab --- DMA | F79: =IFERROR(INDEX(Data!$A$10:$O$842,MATCH(CONCATENATE($C79,F$1,$B79),Data!$J$10:$J$842,0),15),"") | G79: =IFERROR(INDEX(Data!$A$10:$O$842,MATCH(CONCATENATE($C79,G$1,$B79),Data!$J$10:$J$842,0),15),"") | H79: =IFERROR(INDEX(Data!$A$10:$O$842,MATCH(CONCATENATE($C79,H$1,$B79),Data!$J$10:$J$842,0),15),"") | I79: =IFERROR(INDEX(Data!$A$10:$O$842,MATCH(CONCATENATE($C79,I$1,$B79),Data!$J$10:$J$842,0),15),"")
A80: =COUNTIF($C$1:C80,C80)+1 -> 13 | B80: =VLOOKUP(A80,$K$4:$L$73,2,FALSE) -> DMA | C80: Sunday | D80: =IFERROR(INDEX(Data!$A$10:$O$842,MATCH(CONCATENATE($C80,D$1,$B80),Data!$J$10:$J$842,0),15),"") -> TE402(L3T3)B 701 --- DMA | E80: =IFERROR(INDEX(Data!$A$10:$O$842,MATCH(CONCATENATE($C80,E$1,$B80),Data!$J$10:$J$842,0),15),"") -> TE402(L3T3)B 706 --- DMA | F80: =IFERROR(INDEX(Data!$A$10:$O$842,MATCH(CONCATENATE($C80,F$1,$B80),Data!$J$10:$J$842,0),15),"") | G80: =IFERROR(INDEX(Data!$A$10:$O$842,MATCH(CONCATENATE($C80,G$1,$B80),Data!$J$10:$J$842,0),15),"") | H80: =IFERROR(INDEX(Data!$A$10:$O$842,MATCH(CONCATENATE($C80,H$1,$B80),Data!$J$10:$J$842,0),15),"") | I80: =IFERROR(INDEX(Data!$A$10:$O$842,MATCH(CONCATENATE($C80,I$1,$B80),Data!$J$10:$J$842,0),15),"")
A81: =COUNTIF($C$1:C81,C81)+1 -> 13 | B81: =VLOOKUP(A81,$K$4:$L$73,2,FALSE) -> DMA | C81: Monday | D81: =IFERROR(INDEX(Data!$A$10:$O$842,MATCH(CONCATENATE($C81,D$1,$B81),Data!$J$10:$J$842,0),15),"") -> TE402(L3T3)A 711 --- DMA | E81: =IFERROR(INDEX(Data!$A$10:$O$842,MATCH(CONCATENATE($C81,E$1,$B81),Data!$J$10:$J$842,0),15),"") -> TE401 (L4T1)FAB 701 --- DMA | F81: =IFERROR(INDEX(Data!$A$10:$O$842,MATCH(CONCATENATE($C81,F$1,$B81),Data!$J$10:$J$842,0),15),"") -> TE402(L3T3)D 701 --- DMA | G81: =IFERROR(INDEX(Data!$A$10:$O$842,MATCH(CONCATENATE($C81,G$1,$B81),Data!$J$10:$J$842,0),15),"") | H81: =IFERROR(INDEX(Data!$A$10:$O$842,MATCH(CONCATENATE($C81,H$1,$B81),Data!$J$10:$J$842,0),15),"") | I81: =IFERROR(INDEX(Data!$A$10:$O$842,MATCH(CONCATENATE($C81,I$1,$B81),Data!$J$10:$J$842,0),15),"")
A82: =COUNTIF($C$1:C82,C82)+1 -> 13 | B82: =VLOOKUP(A82,$K$4:$L$73,2,FALSE) -> DMA | C82: Tuesday | D82: =IFERROR(INDEX(Data!$A$10:$O$842,MATCH(CONCATENATE($C82,D$1,$B82),Data!$J$10:$J$842,0),15),"") -> TE402(L3T3)C 707 --- DMA | E82: =IFERROR(INDEX(Data!$A$10:$O$842,MATCH(CONCATENATE($C82,E$1,$B82),Data!$J$10:$J$842,0),15),"") | F82: =IFERROR(INDEX(Data!$A$10:$O$842,MATCH(CONCATENATE($C82,F$1,$B82),Data!$J$10:$J$842,0),15),"") | G82: =IFERROR(INDEX(Data!$A$10:$O$842,MATCH(CONCATENATE($C82,G$1,$B82),Data!$J$10:$J$842,0),15),"") | H82: =IFERROR(INDEX(Data!$A$10:$O$842,MATCH(CONCATENATE($C82,H$1,$B82),Data!$J$10:$J$842,0),15),"") | I82: =IFERROR(INDEX(Data!$A$10:$O$842,MATCH(CONCATENATE($C82,I$1,$B82),Data!$J$10:$J$842,0),15),"")
A83: =COUNTIF($C$1:C83,C83)+1 -> 13 | B83: =VLOOKUP(A83,$K$4:$L$73,2,FALSE) -> DMA | C83: Wednesday | D83: =IFERROR(INDEX(Data!$A$10:$O$842,MATCH(CONCATENATE($C83,D$1,$B83),Data!$J$10:$J$842,0),15),"") -> TE402(L3T3)D 707 --- DMA | E83: =IFERROR(INDEX(Data!$A$10:$O$842,MATCH(CONCATENATE($C83,E$1,$B83),Data!$J$10:$J$842,0),15),"") -> TE402(L3T3)A 707 --- DMA | F83: =IFERROR(INDEX(Data!$A$10:$O$842,MATCH(CONCATENATE($C83,F$1,$B83),Data!$J$10:$J$842,0),15),"") | G83: =IFERROR(INDEX(Data!$A$10:$O$842,MATCH(CONCATENATE($C83,G$1,$B83),Data!$J$10:$J$842,0),15),"") -> TE402(L3T3)C 707 --- DMA | H83: =IFERROR(INDEX(Data!$A$10:$O$842,MATCH(CONCATENATE($C83,H$1,$B83),Data!$J$10:$J$842,0),15),"") | I83: =IFERROR(INDEX(Data!$A$10:$O$842,MATCH(CONCATENATE($C83,I$1,$B83),Data!$J$10:$J$842,0),15),"")
A84: =COUNTIF($C$1:C84,C84)+1 -> 13 | B84: =VLOOKUP(A84,$K$4:$L$73,2,FALSE) -> DMA | C84: Thursday | D84: =IFERROR(INDEX(Data!$A$10:$O$842,MATCH(CONCATENATE($C84,D$1,$B84),Data!$J$10:$J$842,0),15),"") | E84: =IFERROR(INDEX(Data!$A$10:$O$842,MATCH(CONCATENATE($C84,E$1,$B84),Data!$J$10:$J$842,0),15),"") | F84: =IFERROR(INDEX(Data!$A$10:$O$842,MATCH(CONCATENATE($C84,F$1,$B84),Data!$J$10:$J$842,0),15),"") | G84: =IFERROR(INDEX(Data!$A$10:$O$842,MATCH(CONCATENATE($C84,G$1,$B84),Data!$J$10:$J$842,0),15),"") -> TE401 (L4T1)FAB 707 --- DMA | H84: =IFERROR(INDEX(Data!$A$10:$O$842,MATCH(CONCATENATE($C84,H$1,$B84),Data!$J$10:$J$842,0),15),"") | I84: =IFERROR(INDEX(Data!$A$10:$O$842,MATCH(CONCATENATE($C84,I$1,$B84),Data!$J$10:$J$842,0),15),"")
A86: =COUNTIF($C$1:C86,C86)+1 -> 14 | B86: =VLOOKUP(A86,$K$4:$L$73,2,FALSE) -> E-2 | C86: Saturday | D86: =IFERROR(INDEX(Data!$A$10:$O$842,MATCH(CONCATENATE($C86,D$1,$B86),Data!$J$10:$J$842,0),15),"") | E86: =IFERROR(INDEX(Data!$A$10:$O$842,MATCH(CONCATENATE($C86,E$1,$B86),Data!$J$10:$J$842,0),15),"") | F86: =IFERROR(INDEX(Data!$A$10:$O$842,MATCH(CONCATENATE($C86,F$1,$B86),Data!$J$10:$J$842,0),15),"") | G86: =IFERROR(INDEX(Data!$A$10:$O$842,MATCH(CONCATENATE($C86,G$1,$B86),Data!$J$10:$J$842,0),15),"") | H86: =IFERROR(INDEX(Data!$A$10:$O$842,MATCH(CONCATENATE($C86,H$1,$B86),Data!$J$10:$J$842,0),15),"") | I86: =IFERROR(INDEX(Data!$A$10:$O$842,MATCH(CONCATENATE($C86,I$1,$B86),Data!$J$10:$J$842,0),15),"")
A87: =COUNTIF($C$1:C87,C87)+1 -> 14 | B87: =VLOOKUP(A87,$K$4:$L$73,2,FALSE) -> E-2 | C87: Sunday | D87: =IFERROR(INDEX(Data!$A$10:$O$842,MATCH(CONCATENATE($C87,D$1,$B87),Data!$J$10:$J$842,0),15),"") | E87: =IFERROR(INDEX(Data!$A$10:$O$842,MATCH(CONCATENATE($C87,E$1,$B87),Data!$J$10:$J$842,0),15),"") | F87: =IFERROR(INDEX(Data!$A$10:$O$842,MATCH(CONCATENATE($C87,F$1,$B87),Data!$J$10:$J$842,0),15),"") | G87: =IFERROR(INDEX(Data!$A$10:$O$842,MATCH(CONCATENATE($C87,G$1,$B87),Data!$J$10:$J$842,0),15),"") | H87: =IFERROR(INDEX(Data!$A$10:$O$842,MATCH(CONCATENATE($C87,H$1,$B87),Data!$J$10:$J$842,0),15),"") | I87: =IFERROR(INDEX(Data!$A$10:$O$842,MATCH(CONCATENATE($C87,I$1,$B87),Data!$J$10:$J$842,0),15),"")
... A427: =COUNTIF($C$1:C427,C427)+1 -> 62 | B427: =VLOOKUP(A427,$K$4:$L$73,2,FALSE) -> xxx | C427: Thursday | D427: =IFERROR(INDEX(Data!$A$10:$O$842,MATCH(CONCATENATE($C427,D$1,$B427),Data!$J$10:$J$842,0),15),"") | E427: =IFERROR(INDEX(Data!$A$10:$O$842,MATCH(CONCATENATE($C427,E$1,$B427),Data!$J$10:$J$842,0),15),"") | F427: =IFERROR(INDEX(Data!$A$10:$O$842,MATCH(CONCATENATE($C427,F$1,$B427),Data!$J$10:$J$842,0),15),"") | G427: =IFERROR(INDEX(Data!$A$10:$O$842,MATCH(CONCATENATE($C427,G$1,$B427),Data!$J$10:$J$842,0),15),"") | H427: =IFERROR(INDEX(Data!$A$10:$O$842,MATCH(CONCATENATE($C427,H$1,$B427),Data!$J$10:$J$842,0),15),"") | I427: =IFERROR(INDEX(Data!$A$10:$O$842,MATCH(CONCATENATE($C427,I$1,$B427),Data!$J$10:$J$842,0),15),"")

Sheet Student's routine
A1: Sl | D1: =Data!D1 -> 08:30-10:00 | E1: =Data!E1 -> 10:00-11:30 | F1: =Data!F1 -> 11:30-01:00 | G1: =Data!G1 -> 01:00-02:30 | H1: =Data!H1 -> 2:30-04:00 | I1: =Data!I1 -> 04:00-05:30 | L1: Faculty List
A2: =COUNTIF($C$1:C2,C2)+1 -> 2 | B2: =VLOOKUP(A2,$K$4:$L$73,2,FALSE) -> (Apparel-II) | C2: Saturday | D2: =IFERROR(INDEX(Data!$A$10:$O$842,MATCH(CONCATENATE($C2,D$1,$B2),Data!$K$10:$K$842,0),15),"") | E2: =IFERROR(INDEX(Data!$A$10:$O$842,MATCH(CONCATENATE($C2,E$1,$B2),Data!$K$10:$K$842,0),15),"") | F2: =IFERROR(INDEX(Data!$A$10:$O$842,MATCH(CONCATENATE($C2,F$1,$B2),Data!$K$10:$K$842,0),15),"") -> Uttara campus(Apparel-II) L-App --- 0 | G2: =IFERROR(INDEX(Data!$A$10:$O$842,MATCH(CONCATENATE($C2,G$1,$B2),Data!$K$10:$K$842,0),15),"") -> Uttara campus(Apparel-II) L-App --- 0 | H2: =IFERROR(INDEX(Data!$A$10:$O$842,MATCH(CONCATENATE($C2,H$1,$B2),Data!$K$10:$K$842,0),15),"") | I2: =IFERROR(INDEX(Data!$A$10:$O$842,MATCH(CONCATENATE($C2,I$1,$B2),Data!$K$10:$K$842,0),15),"")
A3: =COUNTIF($C$1:C3,C3)+1 -> 2 | B3: =VLOOKUP(A3,$K$4:$L$73,2,FALSE) -> (Apparel-II) | C3: Sunday | D3: =IFERROR(INDEX(Data!$A$10:$O$842,MATCH(CONCATENATE($C3,D$1,$B3),Data!$K$10:$K$842,0),15),"") | E3: =IFERROR(INDEX(Data!$A$10:$O$842,MATCH(CONCATENATE($C3,E$1,$B3),Data!$K$10:$K$842,0),15),"") | F3: =IFERROR(INDEX(Data!$A$10:$O$842,MATCH(CONCATENATE($C3,F$1,$B3),Data!$K$10:$K$842,0),15),"") | G3: =IFERROR(INDEX(Data!$A$10:$O$842,MATCH(CONCATENATE($C3,G$1,$B3),Data!$K$10:$K$842,0),15),"") | H3: =IFERROR(INDEX(Data!$A$10:$O$842,MATCH(CONCATENATE($C3,H$1,$B3),Data!$K$10:$K$842,0),15),"") | I3: =IFERROR(INDEX(Data!$A$10:$O$842,MATCH(CONCATENATE($C3,I$1,$B3),Data!$K$10:$K$842,0),15),"") | K3: Sl | L3: Section
A4: =COUNTIF($C$1:C4,C4)+1 -> 2 | B4: =VLOOKUP(A4,$K$4:$L$73,2,FALSE) -> (Apparel-II) | C4: Monday | D4: =IFERROR(INDEX(Data!$A$10:$O$842,MATCH(CONCATENATE($C4,D$1,$B4),Data!$K$10:$K$842,0),15),"") | E4: =IFERROR(INDEX(Data!$A$10:$O$842,MATCH(CONCATENATE($C4,E$1,$B4),Data!$K$10:$K$842,0),15),"") | F4: =IFERROR(INDEX(Data!$A$10:$O$842,MATCH(CONCATENATE($C4,F$1,$B4),Data!$K$10:$K$842,0),15),"") | G4: =IFERROR(INDEX(Data!$A$10:$O$842,MATCH(CONCATENATE($C4,G$1,$B4),Data!$K$10:$K$842,0),15),"") | H4: =IFERROR(INDEX(Data!$A$10:$O$842,MATCH(CONCATENATE($C4,H$1,$B4),Data!$K$10:$K$842,0),15),"") | I4: =IFERROR(INDEX(Data!$A$10:$O$842,MATCH(CONCATENATE($C4,I$1,$B4),Data!$K$10:$K$842,0),15),"") | K4: 1 | L4: 0
A5: =COUNTIF($C$1:C5,C5)+1 -> 2 | B5: =VLOOKUP(A5,$K$4:$L$73,2,FALSE) -> (Apparel-II) | C5: Tuesday | D5: =IFERROR(INDEX(Data!$A$10:$O$842,MATCH(CONCATENATE($C5,D$1,$B5),Data!$K$10:$K$842,0),15),"") | E5: =IFERROR(INDEX(Data!$A$10:$O$842,MATCH(CONCATENATE($C5,E$1,$B5),Data!$K$10:$K$842,0),15),"") | F5: =IFERROR(INDEX(Data!$A$10:$O$842,MATCH(CONCATENATE($C5,F$1,$B5),Data!$K$10:$K$842,0),15),"") | G5: =IFERROR(INDEX(Data!$A$10:$O$842,MATCH(CONCATENATE($C5,G$1,$B5),Data!$K$10:$K$842,0),15),"") | H5: =IFERROR(INDEX(Data!$A$10:$O$842,MATCH(CONCATENATE($C5,H$1,$B5),Data!$K$10:$K$842,0),15),"") | I5: =IFERROR(INDEX(Data!$A$10:$O$842,MATCH(CONCATENATE($C5,I$1,$B5),Data!$K$10:$K$842,0),15),"") | K5: 2 | L5: (Apparel-II)
A6: =COUNTIF($C$1:C6,C6)+1 -> 2 | B6: =VLOOKUP(A6,$K$4:$L$73,2,FALSE) -> (Apparel-II) | C6: Wednesday | D6: =IFERROR(INDEX(Data!$A$10:$O$842,MATCH(CONCATENATE($C6,D$1,$B6),Data!$K$10:$K$842,0),15),"") | E6: =IFERROR(INDEX(Data!$A$10:$O$842,MATCH(CONCATENATE($C6,E$1,$B6),Data!$K$10:$K$842,0),15),"") | F6: =IFERROR(INDEX(Data!$A$10:$O$842,MATCH(CONCATENATE($C6,F$1,$B6),Data!$K$10:$K$842,0),15),"") | G6: =IFERROR(INDEX(Data!$A$10:$O$842,MATCH(CONCATENATE($C6,G$1,$B6),Data!$K$10:$K$842,0),15),"") | H6: =IFERROR(INDEX(Data!$A$10:$O$842,MATCH(CONCATENATE($C6,H$1,$B6),Data!$K$10:$K$842,0),15),"") | I6: =IFERROR(INDEX(Data!$A$10:$O$842,MATCH(CONCATENATE($C6,I$1,$B6),Data!$K$10:$K$842,0),15),"") | K6: 3 | L6: (Fabric-I)
A7: =COUNTIF($C$1:C7,C7)+1 -> 2 | B7: =VLOOKUP(A7,$K$4:$L$73,2,FALSE) -> (Apparel-II) | C7: Thursday | D7: =IFERROR(INDEX(Data!$A$10:$O$842,MATCH(CONCATENATE($C7,D$1,$B7),Data!$K$10:$K$842,0),15),"") | E7: =IFERROR(INDEX(Data!$A$10:$O$842,MATCH(CONCATENATE($C7,E$1,$B7),Data!$K$10:$K$842,0),15),"") | F7: =IFERROR(INDEX(Data!$A$10:$O$842,MATCH(CONCATENATE($C7,F$1,$B7),Data!$K$10:$K$842,0),15),"") | G7: =IFERROR(INDEX(Data!$A$10:$O$842,MATCH(CONCATENATE($C7,G$1,$B7),Data!$K$10:$K$842,0),15),"") | H7: =IFERROR(INDEX(Data!$A$10:$O$842,MATCH(CONCATENATE($C7,H$1,$B7),Data!$K$10:$K$842,0),15),"") | I7: =IFERROR(INDEX(Data!$A$10:$O$842,MATCH(CONCATENATE($C7,I$1,$B7),Data!$K$10:$K$842,0),15),"") | K7: 4 | L7: (L1T1)A
K8: 5 | L8: (L1T1)B
A9: =COUNTIF($C$1:C9,C9)+1 -> 3 | B9: =VLOOKUP(A9,$K$4:$L$73,2,FALSE) -> (Fabric-I) | C9: Saturday | D9: =IFERROR(INDEX(Data!$A$10:$O$842,MATCH(CONCATENATE($C9,D$1,$B9),Data!$K$10:$K$842,0),15),"") | E9: =IFERROR(INDEX(Data!$A$10:$O$842,MATCH(CONCATENATE($C9,E$1,$B9),Data!$K$10:$K$842,0),15),"") | F9: =IFERROR(INDEX(Data!$A$10:$O$842,MATCH(CONCATENATE($C9,F$1,$B9),Data!$K$10:$K$842,0),15),"") | G9: =IFERROR(INDEX(Data!$A$10:$O$842,MATCH(CONCATENATE($C9,G$1,$B9),Data!$K$10:$K$842,0),15),"") | H9: =IFERROR(INDEX(Data!$A$10:$O$842,MATCH(CONCATENATE($C9,H$1,$B9),Data!$K$10:$K$842,0),15),"") -> Uttara campus(Fabric-I) L-Fab --- 0 | I9: =IFERROR(INDEX(Data!$A$10:$O$842,MATCH(CONCATENATE($C9,I$1,$B9),Data!$K$10:$K$842,0),15),"") -> Uttara campus(Fabric-I) L-Fab --- 0 | K9: 6 | L9: (L1T1)C
A10: =COUNTIF($C$1:C10,C10)+1 -> 3 | B10: =VLOOKUP(A10,$K$4:$L$73,2,FALSE) -> (Fabric-I) | C10: Sunday | D10: =IFERROR(INDEX(Data!$A$10:$O$842,MATCH(CONCATENATE($C10,D$1,$B10),Data!$K$10:$K$842,0),15),"") | E10: =IFERROR(INDEX(Data!$A$10:$O$842,MATCH(CONCATENATE($C10,E$1,$B10),Data!$K$10:$K$842,0),15),"") | F10: =IFERROR(INDEX(Data!$A$10:$O$842,MATCH(CONCATENATE($C10,F$1,$B10),Data!$K$10:$K$842,0),15),"") | G10: =IFERROR(INDEX(Data!$A$10:$O$842,MATCH(CONCATENATE($C10,G$1,$B10),Data!$K$10:$K$842,0),15),"") | H10: =IFERROR(INDEX(Data!$A$10:$O$842,MATCH(CONCATENATE($C10,H$1,$B10),Data!$K$10:$K$842,0),15),"") | I10: =IFERROR(INDEX(Data!$A$10:$O$842,MATCH(CONCATENATE($C10,I$1,$B10),Data!$K$10:$K$842,0),15),"") | K10: 7 | L10: (L1T1)D
A11: =COUNTIF($C$1:C11,C11)+1 -> 3 | B11: =VLOOKUP(A11,$K$4:$L$73,2,FALSE) -> (Fabric-I) | C11: Monday | D11: =IFERROR(INDEX(Data!$A$10:$O$842,MATCH(CONCATENATE($C11,D$1,$B11),Data!$K$10:$K$842,0),15),"") | E11: =IFERROR(INDEX(Data!$A$10:$O$842,MATCH(CONCATENATE($C11,E$1,$B11),Data!$K$10:$K$842,0),15),"") | F11: =IFERROR(INDEX(Data!$A$10:$O$842,MATCH(CONCATENATE($C11,F$1,$B11),Data!$K$10:$K$842,0),15),"") | G11: =IFERROR(INDEX(Data!$A$10:$O$842,MATCH(CONCATENATE($C11,G$1,$B11),Data!$K$10:$K$842,0),15),"") | H11: =IFERROR(INDEX(Data!$A$10:$O$842,MATCH(CONCATENATE($C11,H$1,$B11),Data!$K$10:$K$842,0),15),"") | I11: =IFERROR(INDEX(Data!$A$10:$O$842,MATCH(CONCATENATE($C11,I$1,$B11),Data!$K$10:$K$842,0),15),"") | K11: 8 | L11: (L1T2)A
A12: =COUNTIF($C$1:C12,C12)+1 -> 3 | B12: =VLOOKUP(A12,$K$4:$L$73,2,FALSE) -> (Fabric-I) | C12: Tuesday | D12: =IFERROR(INDEX(Data!$A$10:$O$842,MATCH(CONCATENATE($C12,D$1,$B12),Data!$K$10:$K$842,0),15),"") | E12: =IFERROR(INDEX(Data!$A$10:$O$842,MATCH(CONCATENATE($C12,E$1,$B12),Data!$K$10:$K$842,0),15),"") | F12: =IFERROR(INDEX(Data!$A$10:$O$842,MATCH(CONCATENATE($C12,F$1,$B12),Data!$K$10:$K$842,0),15),"") | G12: =IFERROR(INDEX(Data!$A$10:$O$842,MATCH(CONCATENATE($C12,G$1,$B12),Data!$K$10:$K$842,0),15),"") | H12: =IFERROR(INDEX(Data!$A$10:$O$842,MATCH(CONCATENATE($C12,H$1,$B12),Data!$K$10:$K$842,0),15),"") | I12: =IFERROR(INDEX(Data!$A$10:$O$842,MATCH(CONCATENATE($C12,I$1,$B12),Data!$K$10:$K$842,0),15),"") | K12: 9 | L12: (L1T2)B
A13: =COUNTIF($C$1:C13,C13)+1 -> 3 | B13: =VLOOKUP(A13,$K$4:$L$73,2,FALSE) -> (Fabric-I) | C13: Wednesday | D13: =IFERROR(INDEX(Data!$A$10:$O$842,MATCH(CONCATENATE($C13,D$1,$B13),Data!$K$10:$K$842,0),15),"") | E13: =IFERROR(INDEX(Data!$A$10:$O$842,MATCH(CONCATENATE($C13,E$1,$B13),Data!$K$10:$K$842,0),15),"") | F13: =IFERROR(INDEX(Data!$A$10:$O$842,MATCH(CONCATENATE($C13,F$1,$B13),Data!$K$10:$K$842,0),15),"") | G13: =IFERROR(INDEX(Data!$A$10:$O$842,MATCH(CONCATENATE($C13,G$1,$B13),Data!$K$10:$K$842,0),15),"") | H13: =IFERROR(INDEX(Data!$A$10:$O$842,MATCH(CONCATENATE($C13,H$1,$B13),Data!$K$10:$K$842,0),15),"") | I13: =IFERROR(INDEX(Data!$A$10:$O$842,MATCH(CONCATENATE($C13,I$1,$B13),Data!$K$10:$K$842,0),15),"") | K13: 10 | L13: (L1T3)A
A14: =COUNTIF($C$1:C14,C14)+1 -> 3 | B14: =VLOOKUP(A14,$K$4:$L$73,2,FALSE) -> (Fabric-I) | C14: Thursday | D14: =IFERROR(INDEX(Data!$A$10:$O$842,MATCH(CONCATENATE($C14,D$1,$B14),Data!$K$10:$K$842,0),15),"") | E14: =IFERROR(INDEX(Data!$A$10:$O$842,MATCH(CONCATENATE($C14,E$1,$B14),Data!$K$10:$K$842,0),15),"") | F14: =IFERROR(INDEX(Data!$A$10:$O$842,MATCH(CONCATENATE($C14,F$1,$B14),Data!$K$10:$K$842,0),15),"") | G14: =IFERROR(INDEX(Data!$A$10:$O$842,MATCH(CONCATENATE($C14,G$1,$B14),Data!$K$10:$K$842,0),15),"") | H14: =IFERROR(INDEX(Data!$A$10:$O$842,MATCH(CONCATENATE($C14,H$1,$B14),Data!$K$10:$K$842,0),15),"") | I14: =IFERROR(INDEX(Data!$A$10:$O$842,MATCH(CONCATENATE($C14,I$1,$B14),Data!$K$10:$K$842,0),15),"") | K14: 11 | L14: (L1T3)B
K15: 12 | L15: (L1T3)C
A16: =COUNTIF($C$1:C16,C16)+1 -> 4 | B16: =VLOOKUP(A16,$K$4:$L$73,2,FALSE) -> (L1T1)A | C16: Saturday | D16: =IFERROR(INDEX(Data!$A$10:$O$842,MATCH(CONCATENATE($C16,D$1,$B16),Data!$K$10:$K$842,0),15),"") | E16: =IFERROR(INDEX(Data!$A$10:$O$842,MATCH(CONCATENATE($C16,E$1,$B16),Data!$K$10:$K$842,0),15),"") -> PHY111(L1T1)A 706 --- AKA | F16: =IFERROR(INDEX(Data!$A$10:$O$842,MATCH(CONCATENATE($C16,F$1,$B16),Data!$K$10:$K$842,0),15),"") | G16: =IFERROR(INDEX(Data!$A$10:$O$842,MATCH(CONCATENATE($C16,G$1,$B16),Data!$K$10:$K$842,0),15),"") -> MAT111(L1T1)A 304P --- SF1 | H16: =IFERROR(INDEX(Data!$A$10:$O$842,MATCH(CONCATENATE($C16,H$1,$B16),Data!$K$10:$K$842,0),15),"") | I16: =IFERROR(INDEX(Data!$A$10:$O$842,MATCH(CONCATENATE($C16,I$1,$B16),Data!$K$10:$K$842,0),15),"") -> ENG111(L1T1)A 702 --- SKB | K16: 13 | L16: (L1T3)D
A17: =COUNTIF($C$1:C17,C17)+1 -> 4 | B17: =VLOOKUP(A17,$K$4:$L$73,2,FALSE) -> (L1T1)A | C17: Sunday | D17: =IFERROR(INDEX(Data!$A$10:$O$842,MATCH(CONCATENATE($C17,D$1,$B17),Data!$K$10:$K$842,0),15),"") | E17: =IFERROR(INDEX(Data!$A$10:$O$842,MATCH(CONCATENATE($C17,E$1,$B17),Data!$K$10:$K$842,0),15),"") | F17: =IFERROR(INDEX(Data!$A$10:$O$842,MATCH(CONCATENATE($C17,F$1,$B17),Data!$K$10:$K$842,0),15),"") | G17: =IFERROR(INDEX(Data!$A$10:$O$842,MATCH(CONCATENATE($C17,G$1,$B17),Data!$K$10:$K$842,0),15),"") -> PHY111(L1T1)A 706 --- AKA | H17: =IFERROR(INDEX(Data!$A$10:$O$842,MATCH(CONCATENATE($C17,H$1,$B17),Data!$K$10:$K$842,0),15),"") | I17: =IFERROR(INDEX(Data!$A$10:$O$842,MATCH(CONCATENATE($C17,I$1,$B17),Data!$K$10:$K$842,0),15),"") | K17: 14 | L17: (L1T3)E
A18: =COUNTIF($C$1:C18,C18)+1 -> 4 | B18: =VLOOKUP(A18,$K$4:$L$73,2,FALSE) -> (L1T1)A | C18: Monday | D18: =IFERROR(INDEX(Data!$A$10:$O$842,MATCH(CONCATENATE($C18,D$1,$B18),Data!$K$10:$K$842,0),15),"") | E18: =IFERROR(INDEX(Data!$A$10:$O$842,MATCH(CONCATENATE($C18,E$1,$B18),Data!$K$10:$K$842,0),15),"") -> TE111(L1T1)A 301P --- MK | F18: =IFERROR(INDEX(Data!$A$10:$O$842,MATCH(CONCATENATE($C18,F$1,$B18),Data!$K$10:$K$842,0),15),"") -> ENG111(L1T1)A 702 --- SKB | G18: =IFERROR(INDEX(Data!$A$10:$O$842,MATCH(CONCATENATE($C18,G$1,$B18),Data!$K$10:$K$842,0),15),"") | H18: =IFERROR(INDEX(Data!$A$10:$O$842,MATCH(CONCATENATE($C18,H$1,$B18),Data!$K$10:$K$842,0),15),"") | I18: =IFERROR(INDEX(Data!$A$10:$O$842,MATCH(CONCATENATE($C18,I$1,$B18),Data!$K$10:$K$842,0),15),"") | K18: 15 | L18: (L1T3)F
A19: =COUNTIF($C$1:C19,C19)+1 -> 4 | B19: =VLOOKUP(A19,$K$4:$L$73,2,FALSE) -> (L1T1)A | C19: Tuesday | D19: =IFERROR(INDEX(Data!$A$10:$O$842,MATCH(CONCATENATE($C19,D$1,$B19),Data!$K$10:$K$842,0),15),"") | E19: =IFERROR(INDEX(Data!$A$10:$O$842,MATCH(CONCATENATE($C19,E$1,$B19),Data!$K$10:$K$842,0),15),"") | F19: =IFERROR(INDEX(Data!$A$10:$O$842,MATCH(CONCATENATE($C19,F$1,$B19),Data!$K$10:$K$842,0),15),"") -> TE111(L1T1)A 711 --- MK | G19: =IFERROR(INDEX(Data!$A$10:$O$842,MATCH(CONCATENATE($C19,G$1,$B19),Data!$K$10:$K$842,0),15),"") -> MAT111(L1T1)A 304P --- SF1 | H19: =IFERROR(INDEX(Data!$A$10:$O$842,MATCH(CONCATENATE($C19,H$1,$B19),Data!$K$10:$K$842,0),15),"") | I19: =IFERROR(INDEX(Data!$A$10:$O$842,MATCH(CONCATENATE($C19,I$1,$B19),Data!$K$10:$K$842,0),15),"") | K19: 16 | L19: (L2T1)A
A20: =COUNTIF($C$1:C20,C20)+1 -> 4 | B20: =VLOOKUP(A20,$K$4:$L$73,2,FALSE) -> (L1T1)A | C20: Wednesday | D20: =IFERROR(INDEX(Data!$A$10:$O$842,MATCH(CONCATENATE($C20,D$1,$B20),Data!$K$10:$K$842,0),15),"") | E20: =IFERROR(INDEX(Data!$A$10:$O$842,MATCH(CONCATENATE($C20,E$1,$B20),Data!$K$10:$K$842,0),15),"") | F20: =IFERROR(INDEX(Data!$A$10:$O$842,MATCH(CONCATENATE($C20,F$1,$B20),Data!$K$10:$K$842,0),15),"") | G20: =IFERROR(INDEX(Data!$A$10:$O$842,MATCH(CONCATENATE($C20,G$1,$B20),Data!$K$10:$K$842,0),15),"") | H20: =IFERROR(INDEX(Data!$A$10:$O$842,MATCH(CONCATENATE($C20,H$1,$B20),Data!$K$10:$K$842,0),15),"") | I20: =IFERROR(INDEX(Data!$A$10:$O$842,MATCH(CONCATENATE($C20,I$1,$B20),Data!$K$10:$K$842,0),15),"") | K20: 17 | L20: (L2T1)B
A21: =COUNTIF($C$1:C21,C21)+1 -> 4 | B21: =VLOOKUP(A21,$K$4:$L$73,2,FALSE) -> (L1T1)A | C21: Thursday | D21: =IFERROR(INDEX(Data!$A$10:$O$842,MATCH(CONCATENATE($C21,D$1,$B21),Data!$K$10:$K$842,0),15),"") | E21: =IFERROR(INDEX(Data!$A$10:$O$842,MATCH(CONCATENATE($C21,E$1,$B21),Data!$K$10:$K$842,0),15),"") | F21: =IFERROR(INDEX(Data!$A$10:$O$842,MATCH(CONCATENATE($C21,F$1,$B21),Data!$K$10:$K$842,0),15),"") | G21: =IFERROR(INDEX(Data!$A$10:$O$842,MATCH(CONCATENATE($C21,G$1,$B21),Data!$K$10:$K$842,0),15),"") | H21: =IFERROR(INDEX(Data!$A$10:$O$842,MATCH(CONCATENATE($C21,H$1,$B21),Data!$K$10:$K$842,0),15),"") | I21: =IFERROR(INDEX(Data!$A$10:$O$842,MATCH(CONCATENATE($C21,I$1,$B21),Data!$K$10:$K$842,0),15),"") | K21: 18 | L21: (L2T1)C
K22: 19 | L22: (L2T1)D
A23: =COUNTIF($C$1:C23,C23)+1 -> 5 | B23: =VLOOKUP(A23,$K$4:$L$73,2,FALSE) -> (L1T1)B | C23: Saturday | D23: =IFERROR(INDEX(Data!$A$10:$O$842,MATCH(CONCATENATE($C23,D$1,$B23),Data!$K$10:$K$842,0),15),"") | E23: =IFERROR(INDEX(Data!$A$10:$O$842,MATCH(CONCATENATE($C23,E$1,$B23),Data!$K$10:$K$842,0),15),"") -> MAT111(L1T1)B 304P --- SF1 | F23: =IFERROR(INDEX(Data!$A$10:$O$842,MATCH(CONCATENATE($C23,F$1,$B23),Data!$K$10:$K$842,0),15),"") -> PHY111(L1T1)B 707 --- AKA | G23: =IFERROR(INDEX(Data!$A$10:$O$842,MATCH(CONCATENATE($C23,G$1,$B23),Data!$K$10:$K$842,0),15),"") | H23: =IFERROR(INDEX(Data!$A$10:$O$842,MATCH(CONCATENATE($C23,H$1,$B23),Data!$K$10:$K$842,0),15),"") | I23: =IFERROR(INDEX(Data!$A$10:$O$842,MATCH(CONCATENATE($C23,I$1,$B23),Data!$K$10:$K$842,0),15),"") | K23: 20 | L23: (L2T2)A
A24: =COUNTIF($C$1:C24,C24)+1 -> 5 | B24: =VLOOKUP(A24,$K$4:$L$73,2,FALSE) -> (L1T1)B | C24: Sunday | D24: =IFERROR(INDEX(Data!$A$10:$O$842,MATCH(CONCATENATE($C24,D$1,$B24),Data!$K$10:$K$842,0),15),"") -> PHY111(L1T1)B 702 --- AKA | E24: =IFERROR(INDEX(Data!$A$10:$O$842,MATCH(CONCATENATE($C24,E$1,$B24),Data!$K$10:$K$842,0),15),"") | F24: =IFERROR(INDEX(Data!$A$10:$O$842,MATCH(CONCATENATE($C24,F$1,$B24),Data!$K$10:$K$842,0),15),"") | G24: =IFERROR(INDEX(Data!$A$10:$O$842,MATCH(CONCATENATE($C24,G$1,$B24),Data!$K$10:$K$842,0),15),"") | H24: =IFERROR(INDEX(Data!$A$10:$O$842,MATCH(CONCATENATE($C24,H$1,$B24),Data!$K$10:$K$842,0),15),"") | I24: =IFERROR(INDEX(Data!$A$10:$O$842,MATCH(CONCATENATE($C24,I$1,$B24),Data!$K$10:$K$842,0),15),"") | K24: 21 | L24: (L2T2)B
A25: =COUNTIF($C$1:C25,C25)+1 -> 5 | B25: =VLOOKUP(A25,$K$4:$L$73,2,FALSE) -> (L1T1)B | C25: Monday | D25: =IFERROR(INDEX(Data!$A$10:$O$842,MATCH(CONCATENATE($C25,D$1,$B25),Data!$K$10:$K$842,0),15),"") -> PHY112(L1T1)B 501 --- 0 | E25: =IFERROR(INDEX(Data!$A$10:$O$842,MATCH(CONCATENATE($C25,E$1,$B25),Data!$K$10:$K$842,0),15),"") -> PHY112(L1T1)B 501 --- 0 | F25: =IFERROR(INDEX(Data!$A$10:$O$842,MATCH(CONCATENATE($C25,F$1,$B25),Data!$K$10:$K$842,0),15),"") | G25: =IFERROR(INDEX(Data!$A$10:$O$842,MATCH(CONCATENATE($C25,G$1,$B25),Data!$K$10:$K$842,0),15),"") -> TE111(L1T1)B 304P --- MK | H25: =IFERROR(INDEX(Data!$A$10:$O$842,MATCH(CONCATENATE($C25,H$1,$B25),Data!$K$10:$K$842,0),15),"") -> MAT111(L1T1)B 304P --- SF1 | I25: =IFERROR(INDEX(Data!$A$10:$O$842,MATCH(CONCATENATE($C25,I$1,$B25),Data!$K$10:$K$842,0),15),"") | K25: 22 | L25: (L2T2)C
A26: =COUNTIF($C$1:C26,C26)+1 -> 5 | B26: =VLOOKUP(A26,$K$4:$L$73,2,FALSE) -> (L1T1)B | C26: Tuesday | D26: =IFERROR(INDEX(Data!$A$10:$O$842,MATCH(CONCATENATE($C26,D$1,$B26),Data!$K$10:$K$842,0),15),"") | E26: =IFERROR(INDEX(Data!$A$10:$O$842,MATCH(CONCATENATE($C26,E$1,$B26),Data!$K$10:$K$842,0),15),"") | F26: =IFERROR(INDEX(Data!$A$10:$O$842,MATCH(CONCATENATE($C26,F$1,$B26),Data!$K$10:$K$842,0),15),"") | G26: =IFERROR(INDEX(Data!$A$10:$O$842,MATCH(CONCATENATE($C26,G$1,$B26),Data!$K$10:$K$842,0),15),"") -> TE111(L1T1)B 301P --- MK | H26: =IFERROR(INDEX(Data!$A$10:$O$842,MATCH(CONCATENATE($C26,H$1,$B26),Data!$K$10:$K$842,0),15),"") -> ENG111(L1T1)B 301P --- SKB | I26: =IFERROR(INDEX(Data!$A$10:$O$842,MATCH(CONCATENATE($C26,I$1,$B26),Data!$K$10:$K$842,0),15),"") | K26: 23 | L26: (L2T3)A
A27: =COUNTIF($C$1:C27,C27)+1 -> 5 | B27: =VLOOKUP(A27,$K$4:$L$73,2,FALSE) -> (L1T1)B | C27: Wednesday | D27: =IFERROR(INDEX(Data!$A$10:$O$842,MATCH(CONCATENATE($C27,D$1,$B27),Data!$K$10:$K$842,0),15),"") | E27: =IFERROR(INDEX(Data!$A$10:$O$842,MATCH(CONCATENATE($C27,E$1,$B27),Data!$K$10:$K$842,0),15),"") | F27: =IFERROR(INDEX(Data!$A$10:$O$842,MATCH(CONCATENATE($C27,F$1,$B27),Data!$K$10:$K$842,0),15),"") | G27: =IFERROR(INDEX(Data!$A$10:$O$842,MATCH(CONCATENATE($C27,G$1,$B27),Data!$K$10:$K$842,0),15),"") | H27: =IFERROR(INDEX(Data!$A$10:$O$842,MATCH(CONCATENATE($C27,H$1,$B27),Data!$K$10:$K$842,0),15),"") | I27: =IFERROR(INDEX(Data!$A$10:$O$842,MATCH(CONCATENATE($C27,I$1,$B27),Data!$K$10:$K$842,0),15),"") | K27: 24 | L27: (L2T3)B
A28: =COUNTIF($C$1:C28,C28)+1 -> 5 | B28: =VLOOKUP(A28,$K$4:$L$73,2,FALSE) -> (L1T1)B | C28: Thursday | D28: =IFERROR(INDEX(Data!$A$10:$O$842,MATCH(CONCATENATE($C28,D$1,$B28),Data!$K$10:$K$842,0),15),"") | E28: =IFERROR(INDEX(Data!$A$10:$O$842,MATCH(CONCATENATE($C28,E$1,$B28),Data!$K$10:$K$842,0),15),"") | F28: =IFERROR(INDEX(Data!$A$10:$O$842,MATCH(CONCATENATE($C28,F$1,$B28),Data!$K$10:$K$842,0),15),"") | G28: =IFERROR(INDEX(Data!$A$10:$O$842,MATCH(CONCATENATE($C28,G$1,$B28),Data!$K$10:$K$842,0),15),"") -> ENG111(L1T1)B 304P --- SKB | H28: =IFERROR(INDEX(Data!$A$10:$O$842,MATCH(CONCATENATE($C28,H$1,$B28),Data!$K$10:$K$842,0),15),"") | I28: =IFERROR(INDEX(Data!$A$10:$O$842,MATCH(CONCATENATE($C28,I$1,$B28),Data!$K$10:$K$842,0),15),"") | K28: 25 | L28: (L2T3)C
K29: 26 | L29: (L2T3)D
A30: =COUNTIF($C$1:C30,C30)+1 -> 6 | B30: =VLOOKUP(A30,$K$4:$L$73,2,FALSE) -> (L1T1)C | C30: Saturday | D30: =IFERROR(INDEX(Data!$A$10:$O$842,MATCH(CONCATENATE($C30,D$1,$B30),Data!$K$10:$K$842,0),15),"") | E30: =IFERROR(INDEX(Data!$A$10:$O$842,MATCH(CONCATENATE($C30,E$1,$B30),Data!$K$10:$K$842,0),15),"") | F30: =IFERROR(INDEX(Data!$A$10:$O$842,MATCH(CONCATENATE($C30,F$1,$B30),Data!$K$10:$K$842,0),15),"") | G30: =IFERROR(INDEX(Data!$A$10:$O$842,MATCH(CONCATENATE($C30,G$1,$B30),Data!$K$10:$K$842,0),15),"") | H30: =IFERROR(INDEX(Data!$A$10:$O$842,MATCH(CONCATENATE($C30,H$1,$B30),Data!$K$10:$K$842,0),15),"") -> PHY111(L1T1)C 701 --- AKA | I30: =IFERROR(INDEX(Data!$A$10:$O$842,MATCH(CONCATENATE($C30,I$1,$B30),Data!$K$10:$K$842,0),15),"") | K30: 27 | L30: (L2T3)E
A31: =COUNTIF($C$1:C31,C31)+1 -> 6 | B31: =VLOOKUP(A31,$K$4:$L$73,2,FALSE) -> (L1T1)C | C31: Sunday | D31: =IFERROR(INDEX(Data!$A$10:$O$842,MATCH(CONCATENATE($C31,D$1,$B31),Data!$K$10:$K$842,0),15),"") | E31: =IFERROR(INDEX(Data!$A$10:$O$842,MATCH(CONCATENATE($C31,E$1,$B31),Data!$K$10:$K$842,0),15),"") | F31: =IFERROR(INDEX(Data!$A$10:$O$842,MATCH(CONCATENATE($C31,F$1,$B31),Data!$K$10:$K$842,0),15),"") | G31: =IFERROR(INDEX(Data!$A$10:$O$842,MATCH(CONCATENATE($C31,G$1,$B31),Data!$K$10:$K$842,0),15),"") | H31: =IFERROR(INDEX(Data!$A$10:$O$842,MATCH(CONCATENATE($C31,H$1,$B31),Data!$K$10:$K$842,0),15),"") -> PHY111(L1T1)C 706 --- AKA | I31: =IFERROR(INDEX(Data!$A$10:$O$842,MATCH(CONCATENATE($C31,I$1,$B31),Data!$K$10:$K$842,0),15),"") -> MAT111(L1T1)C 304P --- SF1 | K31: 28 | L31: (L2T3)F
A32: =COUNTIF($C$1:C32,C32)+1 -> 6 | B32: =VLOOKUP(A32,$K$4:$L$73,2,FALSE) -> (L1T1)C | C32: Monday | D32: =IFERROR(INDEX(Data!$A$10:$O$842,MATCH(CONCATENATE($C32,D$1,$B32),Data!$K$10:$K$842,0),15),"") | E32: =IFERROR(INDEX(Data!$A$10:$O$842,MATCH(CONCATENATE($C32,E$1,$B32),Data!$K$10:$K$842,0),15),"") | F32: =IFERROR(INDEX(Data!$A$10:$O$842,MATCH(CONCATENATE($C32,F$1,$B32),Data!$K$10:$K$842,0),15),"") | G32: =IFERROR(INDEX(Data!$A$10:$O$842,MATCH(CONCATENATE($C32,G$1,$B32),Data!$K$10:$K$842,0),15),"") | H32: =IFERROR(INDEX(Data!$A$10:$O$842,MATCH(CONCATENATE($C32,H$1,$B32),Data!$K$10:$K$842,0),15),"") | I32: =IFERROR(INDEX(Data!$A$10:$O$842,MATCH(CONCATENATE($C32,I$1,$B32),Data!$K$10:$K$842,0),15),"") | K32: 29 | L32: (L3T1)A
A33: =COUNTIF($C$1:C33,C33)+1 -> 6 | B33: =VLOOKUP(A33,$K$4:$L$73,2,FALSE) -> (L1T1)C | C33: Tuesday | D33: =IFERROR(INDEX(Data!$A$10:$O$842,MATCH(CONCATENATE($C33,D$1,$B33),Data!$K$10:$K$842,0),15),"") | E33: =IFERROR(INDEX(Data!$A$10:$O$842,MATCH(CONCATENATE($C33,E$1,$B33),Data!$K$10:$K$842,0),15),"") | F33: =IFERROR(INDEX(Data!$A$10:$O$842,MATCH(CONCATENATE($C33,F$1,$B33),Data!$K$10:$K$842,0),15),"") | G33: =IFERROR(INDEX(Data!$A$10:$O$842,MATCH(CONCATENATE($C33,G$1,$B33),Data!$K$10:$K$842,0),15),"") -> ENG111(L1T1)C 707 --- SKB | H33: =IFERROR(INDEX(Data!$A$10:$O$842,MATCH(CONCATENATE($C33,H$1,$B33),Data!$K$10:$K$842,0),15),"") | I33: =IFERROR(INDEX(Data!$A$10:$O$842,MATCH(CONCATENATE($C33,I$1,$B33),Data!$K$10:$K$842,0),15),"") | K33: 30 | L33: (L3T1)B
A34: =COUNTIF($C$1:C34,C34)+1 -> 6 | B34: =VLOOKUP(A34,$K$4:$L$73,2,FALSE) -> (L1T1)C | C34: Wednesday | D34: =IFERROR(INDEX(Data!$A$10:$O$842,MATCH(CONCATENATE($C34,D$1,$B34),Data!$K$10:$K$842,0),15),"") | E34: =IFERROR(INDEX(Data!$A$10:$O$842,MATCH(CONCATENATE($C34,E$1,$B34),Data!$K$10:$K$842,0),15),"") -> MAT111(L1T1)C 304P --- SF1 | F34: =IFERROR(INDEX(Data!$A$10:$O$842,MATCH(CONCATENATE($C34,F$1,$B34),Data!$K$10:$K$842,0),15),"") -> TE111(L1T1)C 711 --- AMK | G34: =IFERROR(INDEX(Data!$A$10:$O$842,MATCH(CONCATENATE($C34,G$1,$B34),Data!$K$10:$K$842,0),15),"") | H34: =IFERROR(INDEX(Data!$A$10:$O$842,MATCH(CONCATENATE($C34,H$1,$B34),Data!$K$10:$K$842,0),15),"") | I34: =IFERROR(INDEX(Data!$A$10:$O$842,MATCH(CONCATENATE($C34,I$1,$B34),Data!$K$10:$K$842,0),15),"") | K34: 31 | L34: (L3T1)C
A35: =COUNTIF($C$1:C35,C35)+1 -> 6 | B35: =VLOOKUP(A35,$K$4:$L$73,2,FALSE) -> (L1T1)C | C35: Thursday | D35: =IFERROR(INDEX(Data!$A$10:$O$842,MATCH(CONCATENATE($C35,D$1,$B35),Data!$K$10:$K$842,0),15),"") | E35: =IFERROR(INDEX(Data!$A$10:$O$842,MATCH(CONCATENATE($C35,E$1,$B35),Data!$K$10:$K$842,0),15),"") -> TE111(L1T1)C 301P --- AMK | F35: =IFERROR(INDEX(Data!$A$10:$O$842,MATCH(CONCATENATE($C35,F$1,$B35),Data!$K$10:$K$842,0),15),"") -> ENG111(L1T1)C 304P --- SKB | G35: =IFERROR(INDEX(Data!$A$10:$O$842,MATCH(CONCATENATE($C35,G$1,$B35),Data!$K$10:$K$842,0),15),"") | H35: =IFERROR(INDEX(Data!$A$10:$O$842,MATCH(CONCATENATE($C35,H$1,$B35),Data!$K$10:$K$842,0),15),"") | I35: =IFERROR(INDEX(Data!$A$10:$O$842,MATCH(CONCATENATE($C35,I$1,$B35),Data!$K$10:$K$842,0),15),"") | K35: 32 | L35: (L3T2)A
K36: 33 | L36: (L3T2)B
A37: =COUNTIF($C$1:C37,C37)+1 -> 7 | B37: =VLOOKUP(A37,$K$4:$L$73,2,FALSE) -> (L1T1)D | C37: Saturday | D37: =IFERROR(INDEX(Data!$A$10:$O$842,MATCH(CONCATENATE($C37,D$1,$B37),Data!$K$10:$K$842,0),15),"") | E37: =IFERROR(INDEX(Data!$A$10:$O$842,MATCH(CONCATENATE($C37,E$1,$B37),Data!$K$10:$K$842,0),15),"") | F37: =IFERROR(INDEX(Data!$A$10:$O$842,MATCH(CONCATENATE($C37,F$1,$B37),Data!$K$10:$K$842,0),15),"") -> ENG111(L1T1)D 304P --- SKB | G37: =IFERROR(INDEX(Data!$A$10:$O$842,MATCH(CONCATENATE($C37,G$1,$B37),Data!$K$10:$K$842,0),15),"") | H37: =IFERROR(INDEX(Data!$A$10:$O$842,MATCH(CONCATENATE($C37,H$1,$B37),Data!$K$10:$K$842,0),15),"") | I37: =IFERROR(INDEX(Data!$A$10:$O$842,MATCH(CONCATENATE($C37,I$1,$B37),Data!$K$10:$K$842,0),15),"") | K37: 34 | L37: (L3T3)A
A38: =COUNTIF($C$1:C38,C38)+1 -> 7 | B38: =VLOOKUP(A38,$K$4:$L$73,2,FALSE) -> (L1T1)D | C38: Sunday | D38: =IFERROR(INDEX(Data!$A$10:$O$842,MATCH(CONCATENATE($C38,D$1,$B38),Data!$K$10:$K$842,0),15),"") | E38: =IFERROR(INDEX(Data!$A$10:$O$842,MATCH(CONCATENATE($C38,E$1,$B38),Data!$K$10:$K$842,0),15),"") | F38: =IFERROR(INDEX(Data!$A$10:$O$842,MATCH(CONCATENATE($C38,F$1,$B38),Data!$K$10:$K$842,0),15),"") | G38: =IFERROR(INDEX(Data!$A$10:$O$842,MATCH(CONCATENATE($C38,G$1,$B38),Data!$K$10:$K$842,0),15),"") | H38: =IFERROR(INDEX(Data!$A$10:$O$842,MATCH(CONCATENATE($C38,H$1,$B38),Data!$K$10:$K$842,0),15),"") -> MAT111(L1T1)D 304P --- SF1 | I38: =IFERROR(INDEX(Data!$A$10:$O$842,MATCH(CONCATENATE($C38,I$1,$B38),Data!$K$10:$K$842,0),15),"") | K38: 35 | L38: (L3T3)B
A39: =COUNTIF($C$1:C39,C39)+1 -> 7 | B39: =VLOOKUP(A39,$K$4:$L$73,2,FALSE) -> (L1T1)D | C39: Monday | D39: =IFERROR(INDEX(Data!$A$10:$O$842,MATCH(CONCATENATE($C39,D$1,$B39),Data!$K$10:$K$842,0),15),"") | E39: =IFERROR(INDEX(Data!$A$10:$O$842,MATCH(CONCATENATE($C39,E$1,$B39),Data!$K$10:$K$842,0),15),"") | F39: =IFERROR(INDEX(Data!$A$10:$O$842,MATCH(CONCATENATE($C39,F$1,$B39),Data!$K$10:$K$842,0),15),"") | G39: =IFERROR(INDEX(Data!$A$10:$O$842,MATCH(CONCATENATE($C39,G$1,$B39),Data!$K$10:$K$842,0),15),"") | H39: =IFERROR(INDEX(Data!$A$10:$O$842,MATCH(CONCATENATE($C39,H$1,$B39),Data!$K$10:$K$842,0),15),"") | I39: =IFERROR(INDEX(Data!$A$10:$O$842,MATCH(CONCATENATE($C39,I$1,$B39),Data!$K$10:$K$842,0),15),"") | K39: 36 | L39: (L3T3)C
A40: =COUNTIF($C$1:C40,C40)+1 -> 7 | B40: =VLOOKUP(A40,$K$4:$L$73,2,FALSE) -> (L1T1)D | C40: Tuesday | D40: =IFERROR(INDEX(Data!$A$10:$O$842,MATCH(CONCATENATE($C40,D$1,$B40),Data!$K$10:$K$842,0),15),"") | E40: =IFERROR(INDEX(Data!$A$10:$O$842,MATCH(CONCATENATE($C40,E$1,$B40),Data!$K$10:$K$842,0),15),"") | F40: =IFERROR(INDEX(Data!$A$10:$O$842,MATCH(CONCATENATE($C40,F$1,$B40),Data!$K$10:$K$842,0),15),"") | G40: =IFERROR(INDEX(Data!$A$10:$O$842,MATCH(CONCATENATE($C40,G$1,$B40),Data!$K$10:$K$842,0),15),"") | H40: =IFERROR(INDEX(Data!$A$10:$O$842,MATCH(CONCATENATE($C40,H$1,$B40),Data!$K$10:$K$842,0),15),"") | I40: =IFERROR(INDEX(Data!$A$10:$O$842,MATCH(CONCATENATE($C40,I$1,$B40),Data!$K$10:$K$842,0),15),"") -> MAT111(L1T1)D 705 --- SF1 | K40: 37 | L40: (L3T3)D
A41: =COUNTIF($C$1:C41,C41)+1 -> 7 | B41: =VLOOKUP(A41,$K$4:$L$73,2,FALSE) -> (L1T1)D | C41: Wednesday | D41: =IFERROR(INDEX(Data!$A$10:$O$842,MATCH(CONCATENATE($C41,D$1,$B41),Data!$K$10:$K$842,0),15),"") -> PHY112(L1T1)D 501 --- 0 | E41: =IFERROR(INDEX(Data!$A$10:$O$842,MATCH(CONCATENATE($C41,E$1,$B41),Data!$K$10:$K$842,0),15),"") -> PHY112(L1T1)D 501 --- 0 | F41: =IFERROR(INDEX(Data!$A$10:$O$842,MATCH(CONCATENATE($C41,F$1,$B41),Data!$K$10:$K$842,0),15),"") | G41: =IFERROR(INDEX(Data!$A$10:$O$842,MATCH(CONCATENATE($C41,G$1,$B41),Data!$K$10:$K$842,0),15),"") | H41: =IFERROR(INDEX(Data!$A$10:$O$842,MATCH(CONCATENATE($C41,H$1,$B41),Data!$K$10:$K$842,0),15),"") -> TE111(L1T1)D 301P --- FS | I41: =IFERROR(INDEX(Data!$A$10:$O$842,MATCH(CONCATENATE($C41,I$1,$B41),Data!$K$10:$K$842,0),15),"") -> PHY111(L1T1)D 705 --- AKA | K41: 38 | L41: (L3T3A
A42: =COUNTIF($C$1:C42,C42)+1 -> 7 | B42: =VLOOKUP(A42,$K$4:$L$73,2,FALSE) -> (L1T1)D | C42: Thursday | D42: =IFERROR(INDEX(Data!$A$10:$O$842,MATCH(CONCATENATE($C42,D$1,$B42),Data!$K$10:$K$842,0),15),"") | E42: =IFERROR(INDEX(Data!$A$10:$O$842,MATCH(CONCATENATE($C42,E$1,$B42),Data!$K$10:$K$842,0),15),"") -> ENG111(L1T1)D 304P --- SKB | F42: =IFERROR(INDEX(Data!$A$10:$O$842,MATCH(CONCATENATE($C42,F$1,$B42),Data!$K$10:$K$842,0),15),"") -> TE111(L1T1)D 301P --- FS | G42: =IFERROR(INDEX(Data!$A$10:$O$842,MATCH(CONCATENATE($C42,G$1,$B42),Data!$K$10:$K$842,0),15),"") | H42: =IFERROR(INDEX(Data!$A$10:$O$842,MATCH(CONCATENATE($C42,H$1,$B42),Data!$K$10:$K$842,0),15),"") -> PHY111(L1T1)D 707 --- AKA | I42: =IFERROR(INDEX(Data!$A$10:$O$842,MATCH(CONCATENATE($C42,I$1,$B42),Data!$K$10:$K$842,0),15),"") | K42: 39 | L42: (L3T3B
K43: 40 | L43: (L4T1)(WP)
A44: =COUNTIF($C$1:C44,C44)+1 -> 8 | B44: =VLOOKUP(A44,$K$4:$L$73,2,FALSE) -> (L1T2)A | C44: Saturday | D44: =IFERROR(INDEX(Data!$A$10:$O$842,MATCH(CONCATENATE($C44,D$1,$B44),Data!$K$10:$K$842,0),15),"") | E44: =IFERROR(INDEX(Data!$A$10:$O$842,MATCH(CONCATENATE($C44,E$1,$B44),Data!$K$10:$K$842,0),15),"") | F44: =IFERROR(INDEX(Data!$A$10:$O$842,MATCH(CONCATENATE($C44,F$1,$B44),Data!$K$10:$K$842,0),15),"") | G44: =IFERROR(INDEX(Data!$A$10:$O$842,MATCH(CONCATENATE($C44,G$1,$B44),Data!$K$10:$K$842,0),15),"") -> PHY122(L1T2)A 706 --- FN | H44: =IFERROR(INDEX(Data!$A$10:$O$842,MATCH(CONCATENATE($C44,H$1,$B44),Data!$K$10:$K$842,0),15),"") | I44: =IFERROR(INDEX(Data!$A$10:$O$842,MATCH(CONCATENATE($C44,I$1,$B44),Data!$K$10:$K$842,0),15),"") | K44: 41 | L44: (L4T1)A
A45: =COUNTIF($C$1:C45,C45)+1 -> 8 | B45: =VLOOKUP(A45,$K$4:$L$73,2,FALSE) -> (L1T2)A | C45: Sunday | D45: =IFERROR(INDEX(Data!$A$10:$O$842,MATCH(CONCATENATE($C45,D$1,$B45),Data!$K$10:$K$842,0),15),"") -> PHY123(L1T2)A 502 --- 0 | E45: =IFERROR(INDEX(Data!$A$10:$O$842,MATCH(CONCATENATE($C45,E$1,$B45),Data!$K$10:$K$842,0),15),"") -> PHY123(L1T2)A 502 --- 0 | F45: =IFERROR(INDEX(Data!$A$10:$O$842,MATCH(CONCATENATE($C45,F$1,$B45),Data!$K$10:$K$842,0),15),"") | G45: =IFERROR(INDEX(Data!$A$10:$O$842,MATCH(CONCATENATE($C45,G$1,$B45),Data!$K$10:$K$842,0),15),"") | H45: =IFERROR(INDEX(Data!$A$10:$O$842,MATCH(CONCATENATE($C45,H$1,$B45),Data!$K$10:$K$842,0),15),"") -> CHE124(L1T2)A 705 --- MMI | I45: =IFERROR(INDEX(Data!$A$10:$O$842,MATCH(CONCATENATE($C45,I$1,$B45),Data!$K$10:$K$842,0),15),"") | K45: 42 | L45: (L4T1)A(Ap)
A46: =COUNTIF($C$1:C46,C46)+1 -> 8 | B46: =VLOOKUP(A46,$K$4:$L$73,2,FALSE) -> (L1T2)A | C46: Monday | D46: =IFERROR(INDEX(Data!$A$10:$O$842,MATCH(CONCATENATE($C46,D$1,$B46),Data!$K$10:$K$842,0),15),"") | E46: =IFERROR(INDEX(Data!$A$10:$O$842,MATCH(CONCATENATE($C46,E$1,$B46),Data!$K$10:$K$842,0),15),"") | F46: =IFERROR(INDEX(Data!$A$10:$O$842,MATCH(CONCATENATE($C46,F$1,$B46),Data!$K$10:$K$842,0),15),"") -> CHE125 (L1T2)A L-Chem --- MH(LAB) | G46: =IFERROR(INDEX(Data!$A$10:$O$842,MATCH(CONCATENATE($C46,G$1,$B46),Data!$K$10:$K$842,0),15),"") -> CHE125 (L1T2)A L-Chem --- MH(LAB) | H46: =IFERROR(INDEX(Data!$A$10:$O$842,MATCH(CONCATENATE($C46,H$1,$B46),Data!$K$10:$K$842,0),15),"") -> CHE124(L1T2)A 705 --- MMI | I46: =IFERROR(INDEX(Data!$A$10:$O$842,MATCH(CONCATENATE($C46,I$1,$B46),Data!$K$10:$K$842,0),15),"") -> PHY122(L1T2)A 703 --- FN | K46: 43 | L46: (L4T1)B
A47: =COUNTIF($C$1:C47,C47)+1 -> 8 | B47: =VLOOKUP(A47,$K$4:$L$73,2,FALSE) -> (L1T2)A | C47: Tuesday | D47: =IFERROR(INDEX(Data!$A$10:$O$842,MATCH(CONCATENATE($C47,D$1,$B47),Data!$K$10:$K$842,0),15),"") | E47: =IFERROR(INDEX(Data!$A$10:$O$842,MATCH(CONCATENATE($C47,E$1,$B47),Data!$K$10:$K$842,0),15),"") | F47: =IFERROR(INDEX(Data!$A$10:$O$842,MATCH(CONCATENATE($C47,F$1,$B47),Data!$K$10:$K$842,0),15),"") | G47: =IFERROR(INDEX(Data!$A$10:$O$842,MATCH(CONCATENATE($C47,G$1,$B47),Data!$K$10:$K$842,0),15),"") | H47: =IFERROR(INDEX(Data!$A$10:$O$842,MATCH(CONCATENATE($C47,H$1,$B47),Data!$K$10:$K$842,0),15),"") -> MAT122(L1T2)A 707 --- MSU | I47: =IFERROR(INDEX(Data!$A$10:$O$842,MATCH(CONCATENATE($C47,I$1,$B47),Data!$K$10:$K$842,0),15),"") -> ENG122(L1T2)A 304P --- SAH | K47: 44 | L47: (L4T1)B(Ap)
A48: =COUNTIF($C$1:C48,C48)+1 -> 8 | B48: =VLOOKUP(A48,$K$4:$L$73,2,FALSE) -> (L1T2)A | C48: Wednesday | D48: =IFERROR(INDEX(Data!$A$10:$O$842,MATCH(CONCATENATE($C48,D$1,$B48),Data!$K$10:$K$842,0),15),"") | E48: =IFERROR(INDEX(Data!$A$10:$O$842,MATCH(CONCATENATE($C48,E$1,$B48),Data!$K$10:$K$842,0),15),"") | F48: =IFERROR(INDEX(Data!$A$10:$O$842,MATCH(CONCATENATE($C48,F$1,$B48),Data!$K$10:$K$842,0),15),"") | G48: =IFERROR(INDEX(Data!$A$10:$O$842,MATCH(CONCATENATE($C48,G$1,$B48),Data!$K$10:$K$842,0),15),"") | H48: =IFERROR(INDEX(Data!$A$10:$O$842,MATCH(CONCATENATE($C48,H$1,$B48),Data!$K$10:$K$842,0),15),"") -> MAT122(L1T2)A 703 --- MSU | I48: =IFERROR(INDEX(Data!$A$10:$O$842,MATCH(CONCATENATE($C48,I$1,$B48),Data!$K$10:$K$842,0),15),"") -> ENG122(L1T2)A 304P --- SAH | K48: 45 | L48: (L4T1)C
A49: =COUNTIF($C$1:C49,C49)+1 -> 8 | B49: =VLOOKUP(A49,$K$4:$L$73,2,FALSE) -> (L1T2)A | C49: Thursday | D49: =IFERROR(INDEX(Data!$A$10:$O$842,MATCH(CONCATENATE($C49,D$1,$B49),Data!$K$10:$K$842,0),15),"") | E49: =IFERROR(INDEX(Data!$A$10:$O$842,MATCH(CONCATENATE($C49,E$1,$B49),Data!$K$10:$K$842,0),15),"") | F49: =IFERROR(INDEX(Data!$A$10:$O$842,MATCH(CONCATENATE($C49,F$1,$B49),Data!$K$10:$K$842,0),15),"") | G49: =IFERROR(INDEX(Data!$A$10:$O$842,MATCH(CONCATENATE($C49,G$1,$B49),Data!$K$10:$K$842,0),15),"") | H49: =IFERROR(INDEX(Data!$A$10:$O$842,MATCH(CONCATENATE($C49,H$1,$B49),Data!$K$10:$K$842,0),15),"") | I49: =IFERROR(INDEX(Data!$A$10:$O$842,MATCH(CONCATENATE($C49,I$1,$B49),Data!$K$10:$K$842,0),15),"") | K49: 46 | L49: (L4T1)E
K50: 47 | L50: (L4T1)FAB
A51: =COUNTIF($C$1:C51,C51)+1 -> 9 | B51: =VLOOKUP(A51,$K$4:$L$73,2,FALSE) -> (L1T2)B | C51: Saturday | D51: =IFERROR(INDEX(Data!$A$10:$O$842,MATCH(CONCATENATE($C51,D$1,$B51),Data!$K$10:$K$842,0),15),"") | E51: =IFERROR(INDEX(Data!$A$10:$O$842,MATCH(CONCATENATE($C51,E$1,$B51),Data!$K$10:$K$842,0),15),"") | F51: =IFERROR(INDEX(Data!$A$10:$O$842,MATCH(CONCATENATE($C51,F$1,$B51),Data!$K$10:$K$842,0),15),"") | G51: =IFERROR(INDEX(Data!$A$10:$O$842,MATCH(CONCATENATE($C51,G$1,$B51),Data!$K$10:$K$842,0),15),"") | H51: =IFERROR(INDEX(Data!$A$10:$O$842,MATCH(CONCATENATE($C51,H$1,$B51),Data!$K$10:$K$842,0),15),"") | I51: =IFERROR(INDEX(Data!$A$10:$O$842,MATCH(CONCATENATE($C51,I$1,$B51),Data!$K$10:$K$842,0),15),"") -> PHY122(L1T2)B 704 --- FN | K51: 48 | L51: (L4T2)(Fb)
A52: =COUNTIF($C$1:C52,C52)+1 -> 9 | B52: =VLOOKUP(A52,$K$4:$L$73,2,FALSE) -> (L1T2)B | C52: Sunday | D52: =IFERROR(INDEX(Data!$A$10:$O$842,MATCH(CONCATENATE($C52,D$1,$B52),Data!$K$10:$K$842,0),15),"") | E52: =IFERROR(INDEX(Data!$A$10:$O$842,MATCH(CONCATENATE($C52,E$1,$B52),Data!$K$10:$K$842,0),15),"") | F52: =IFERROR(INDEX(Data!$A$10:$O$842,MATCH(CONCATENATE($C52,F$1,$B52),Data!$K$10:$K$842,0),15),"") -> CHE124(L1T2)B 705 --- MMI | G52: =IFERROR(INDEX(Data!$A$10:$O$842,MATCH(CONCATENATE($C52,G$1,$B52),Data!$K$10:$K$842,0),15),"") | H52: =IFERROR(INDEX(Data!$A$10:$O$842,MATCH(CONCATENATE($C52,H$1,$B52),Data!$K$10:$K$842,0),15),"") | I52: =IFERROR(INDEX(Data!$A$10:$O$842,MATCH(CONCATENATE($C52,I$1,$B52),Data!$K$10:$K$842,0),15),"") | K52: 49 | L52: (L4T2)(SPF)
A53: =COUNTIF($C$1:C53,C53)+1 -> 9 | B53: =VLOOKUP(A53,$K$4:$L$73,2,FALSE) -> (L1T2)B | C53: Monday | D53: =IFERROR(INDEX(Data!$A$10:$O$842,MATCH(CONCATENATE($C53,D$1,$B53),Data!$K$10:$K$842,0),15),"") | E53: =IFERROR(INDEX(Data!$A$10:$O$842,MATCH(CONCATENATE($C53,E$1,$B53),Data!$K$10:$K$842,0),15),"") | F53: =IFERROR(INDEX(Data!$A$10:$O$842,MATCH(CONCATENATE($C53,F$1,$B53),Data!$K$10:$K$842,0),15),"") | G53: =IFERROR(INDEX(Data!$A$10:$O$842,MATCH(CONCATENATE($C53,G$1,$B53),Data!$K$10:$K$842,0),15),"") | H53: =IFERROR(INDEX(Data!$A$10:$O$842,MATCH(CONCATENATE($C53,H$1,$B53),Data!$K$10:$K$842,0),15),"") -> PHY122(L1T2)B 703 --- FN | I53: =IFERROR(INDEX(Data!$A$10:$O$842,MATCH(CONCATENATE($C53,I$1,$B53),Data!$K$10:$K$842,0),15),"") -> CHE124(L1T2)B 705 --- MMI | K53: 50 | L53: (L4T2)(SPF)
A54: =COUNTIF($C$1:C54,C54)+1 -> 9 | B54: =VLOOKUP(A54,$K$4:$L$73,2,FALSE) -> (L1T2)B | C54: Tuesday | D54: =IFERROR(INDEX(Data!$A$10:$O$842,MATCH(CONCATENATE($C54,D$1,$B54),Data!$K$10:$K$842,0),15),"") | E54: =IFERROR(INDEX(Data!$A$10:$O$842,MATCH(CONCATENATE($C54,E$1,$B54),Data!$K$10:$K$842,0),15),"") | F54: =IFERROR(INDEX(Data!$A$10:$O$842,MATCH(CONCATENATE($C54,F$1,$B54),Data!$K$10:$K$842,0),15),"") | G54: =IFERROR(INDEX(Data!$A$10:$O$842,MATCH(CONCATENATE($C54,G$1,$B54),Data!$K$10:$K$842,0),15),"") | H54: =IFERROR(INDEX(Data!$A$10:$O$842,MATCH(CONCATENATE($C54,H$1,$B54),Data!$K$10:$K$842,0),15),"") -> ENG122(L1T2)B 304P --- SAH | I54: =IFERROR(INDEX(Data!$A$10:$O$842,MATCH(CONCATENATE($C54,I$1,$B54),Data!$K$10:$K$842,0),15),"") -> MAT122(L1T2)B 707 --- MSU | K54: 51 | L54: (L4T2)(SWP)
A55: =COUNTIF($C$1:C55,C55)+1 -> 9 | B55: =VLOOKUP(A55,$K$4:$L$73,2,FALSE) -> (L1T2)B | C55: Wednesday | D55: =IFERROR(INDEX(Data!$A$10:$O$842,MATCH(CONCATENATE($C55,D$1,$B55),Data!$K$10:$K$842,0),15),"") | E55: =IFERROR(INDEX(Data!$A$10:$O$842,MATCH(CONCATENATE($C55,E$1,$B55),Data!$K$10:$K$842,0),15),"") | F55: =IFERROR(INDEX(Data!$A$10:$O$842,MATCH(CONCATENATE($C55,F$1,$B55),Data!$K$10:$K$842,0),15),"") | G55: =IFERROR(INDEX(Data!$A$10:$O$842,MATCH(CONCATENATE($C55,G$1,$B55),Data!$K$10:$K$842,0),15),"") | H55: =IFERROR(INDEX(Data!$A$10:$O$842,MATCH(CONCATENATE($C55,H$1,$B55),Data!$K$10:$K$842,0),15),"") -> ENG122(L1T2)B 304P --- SAH | I55: =IFERROR(INDEX(Data!$A$10:$O$842,MATCH(CONCATENATE($C55,I$1,$B55),Data!$K$10:$K$842,0),15),"") -> MAT122(L1T2)B 704 --- MSU | K55: 52 | L55: (L4T2)(WP)
A56: =COUNTIF($C$1:C56,C56)+1 -> 9 | B56: =VLOOKUP(A56,$K$4:$L$73,2,FALSE) -> (L1T2)B | C56: Thursday | D56: =IFERROR(INDEX(Data!$A$10:$O$842,MATCH(CONCATENATE($C56,D$1,$B56),Data!$K$10:$K$842,0),15),"") | E56: =IFERROR(INDEX(Data!$A$10:$O$842,MATCH(CONCATENATE($C56,E$1,$B56),Data!$K$10:$K$842,0),15),"") | F56: =IFERROR(INDEX(Data!$A$10:$O$842,MATCH(CONCATENATE($C56,F$1,$B56),Data!$K$10:$K$842,0),15),"") | G56: =IFERROR(INDEX(Data!$A$10:$O$842,MATCH(CONCATENATE($C56,G$1,$B56),Data!$K$10:$K$842,0),15),"") | H56: =IFERROR(INDEX(Data!$A$10:$O$842,MATCH(CONCATENATE($C56,H$1,$B56),Data!$K$10:$K$842,0),15),"") | I56: =IFERROR(INDEX(Data!$A$10:$O$842,MATCH(CONCATENATE($C56,I$1,$B56),Data!$K$10:$K$842,0),15),"") | K56: 53 | L56: (L4T2)A
K57: 54 | L57: (L4T2)A(Ap)
A58: =COUNTIF($C$1:C58,C58)+1 -> 10 | B58: =VLOOKUP(A58,$K$4:$L$73,2,FALSE) -> (L1T3)A | C58: Saturday | D58: =IFERROR(INDEX(Data!$A$10:$O$842,MATCH(CONCATENATE($C58,D$1,$B58),Data!$K$10:$K$842,0),15),"") -> TE132(L1T3)A 706 --- WAB | E58: =IFERROR(INDEX(Data!$A$10:$O$842,MATCH(CONCATENATE($C58,E$1,$B58),Data!$K$10:$K$842,0),15),"") -> TE133(L1T3)A 705 --- MMI | F58: =IFERROR(INDEX(Data!$A$10:$O$842,MATCH(CONCATENATE($C58,F$1,$B58),Data!$K$10:$K$842,0),15),"") | G58: =IFERROR(INDEX(Data!$A$10:$O$842,MATCH(CONCATENATE($C58,G$1,$B58),Data!$K$10:$K$842,0),15),"") | H58: =IFERROR(INDEX(Data!$A$10:$O$842,MATCH(CONCATENATE($C58,H$1,$B58),Data!$K$10:$K$842,0),15),"") | I58: =IFERROR(INDEX(Data!$A$10:$O$842,MATCH(CONCATENATE($C58,I$1,$B58),Data!$K$10:$K$842,0),15),"") | K58: 55 | L58: (L4T2)B
A59: =COUNTIF($C$1:C59,C59)+1 -> 10 | B59: =VLOOKUP(A59,$K$4:$L$73,2,FALSE) -> (L1T3)A | C59: Sunday | D59: =IFERROR(INDEX(Data!$A$10:$O$842,MATCH(CONCATENATE($C59,D$1,$B59),Data!$K$10:$K$842,0),15),"") | E59: =IFERROR(INDEX(Data!$A$10:$O$842,MATCH(CONCATENATE($C59,E$1,$B59),Data!$K$10:$K$842,0),15),"") | F59: =IFERROR(INDEX(Data!$A$10:$O$842,MATCH(CONCATENATE($C59,F$1,$B59),Data!$K$10:$K$842,0),15),"") | G59: =IFERROR(INDEX(Data!$A$10:$O$842,MATCH(CONCATENATE($C59,G$1,$B59),Data!$K$10:$K$842,0),15),"") | H59: =IFERROR(INDEX(Data!$A$10:$O$842,MATCH(CONCATENATE($C59,H$1,$B59),Data!$K$10:$K$842,0),15),"") | I59: =IFERROR(INDEX(Data!$A$10:$O$842,MATCH(CONCATENATE($C59,I$1,$B59),Data!$K$10:$K$842,0),15),"") | K59: 56 | L59: (L4T2)B(Ap)
A60: =COUNTIF($C$1:C60,C60)+1 -> 10 | B60: =VLOOKUP(A60,$K$4:$L$73,2,FALSE) -> (L1T3)A | C60: Monday | D60: =IFERROR(INDEX(Data!$A$10:$O$842,MATCH(CONCATENATE($C60,D$1,$B60),Data!$K$10:$K$842,0),15),"") | E60: =IFERROR(INDEX(Data!$A$10:$O$842,MATCH(CONCATENATE($C60,E$1,$B60),Data!$K$10:$K$842,0),15),"") | F60: =IFERROR(INDEX(Data!$A$10:$O$842,MATCH(CONCATENATE($C60,F$1,$B60),Data!$K$10:$K$842,0),15),"") -> CSE112(L1T3)A 201 --- KS | G60: =IFERROR(INDEX(Data!$A$10:$O$842,MATCH(CONCATENATE($C60,G$1,$B60),Data!$K$10:$K$842,0),15),"") -> CSE112(L1T3)A 201 --- KS | H60: =IFERROR(INDEX(Data!$A$10:$O$842,MATCH(CONCATENATE($C60,H$1,$B60),Data!$K$10:$K$842,0),15),"") -> MAT133(L1T3)A 704 --- BCD | I60: =IFERROR(INDEX(Data!$A$10:$O$842,MATCH(CONCATENATE($C60,I$1,$B60),Data!$K$10:$K$842,0),15),"") -> STA131(L1T3)A 704 --- TM(NS) | K60: 57 | L60: (Yarn-I)
A61: =COUNTIF($C$1:C61,C61)+1 -> 10 | B61: =VLOOKUP(A61,$K$4:$L$73,2,FALSE) -> (L1T3)A | C61: Tuesday | D61: =IFERROR(INDEX(Data!$A$10:$O$842,MATCH(CONCATENATE($C61,D$1,$B61),Data!$K$10:$K$842,0),15),"") | E61: =IFERROR(INDEX(Data!$A$10:$O$842,MATCH(CONCATENATE($C61,E$1,$B61),Data!$K$10:$K$842,0),15),"") | F61: =IFERROR(INDEX(Data!$A$10:$O$842,MATCH(CONCATENATE($C61,F$1,$B61),Data!$K$10:$K$842,0),15),"") -> TE133(L1T3)A 705 --- MMI | G61: =IFERROR(INDEX(Data!$A$10:$O$842,MATCH(CONCATENATE($C61,G$1,$B61),Data!$K$10:$K$842,0),15),"") -> MAT133(L1T3)A 701 --- BCD | H61: =IFERROR(INDEX(Data!$A$10:$O$842,MATCH(CONCATENATE($C61,H$1,$B61),Data!$K$10:$K$842,0),15),"") | I61: =IFERROR(INDEX(Data!$A$10:$O$842,MATCH(CONCATENATE($C61,I$1,$B61),Data!$K$10:$K$842,0),15),"") | K61: 58 | L61: TE405L4T1)E
A62: =COUNTIF($C$1:C62,C62)+1 -> 10 | B62: =VLOOKUP(A62,$K$4:$L$73,2,FALSE) -> (L1T3)A | C62: Wednesday | D62: =IFERROR(INDEX(Data!$A$10:$O$842,MATCH(CONCATENATE($C62,D$1,$B62),Data!$K$10:$K$842,0),15),"") | E62: =IFERROR(INDEX(Data!$A$10:$O$842,MATCH(CONCATENATE($C62,E$1,$B62),Data!$K$10:$K$842,0),15),"") | F62: =IFERROR(INDEX(Data!$A$10:$O$842,MATCH(CONCATENATE($C62,F$1,$B62),Data!$K$10:$K$842,0),15),"") | G62: =IFERROR(INDEX(Data!$A$10:$O$842,MATCH(CONCATENATE($C62,G$1,$B62),Data!$K$10:$K$842,0),15),"") | H62: =IFERROR(INDEX(Data!$A$10:$O$842,MATCH(CONCATENATE($C62,H$1,$B62),Data!$K$10:$K$842,0),15),"") | I62: =IFERROR(INDEX(Data!$A$10:$O$842,MATCH(CONCATENATE($C62,I$1,$B62),Data!$K$10:$K$842,0),15),"") | K62: 59 | L62: uttara.
A63: =COUNTIF($C$1:C63,C63)+1 -> 10 | B63: =VLOOKUP(A63,$K$4:$L$73,2,FALSE) -> (L1T3)A | C63: Thursday | D63: =IFERROR(INDEX(Data!$A$10:$O$842,MATCH(CONCATENATE($C63,D$1,$B63),Data!$K$10:$K$842,0),15),"") | E63: =IFERROR(INDEX(Data!$A$10:$O$842,MATCH(CONCATENATE($C63,E$1,$B63),Data!$K$10:$K$842,0),15),"") | F63: =IFERROR(INDEX(Data!$A$10:$O$842,MATCH(CONCATENATE($C63,F$1,$B63),Data!$K$10:$K$842,0),15),"") -> TE132(L1T3)A 702 --- WAB | G63: =IFERROR(INDEX(Data!$A$10:$O$842,MATCH(CONCATENATE($C63,G$1,$B63),Data!$K$10:$K$842,0),15),"") -> STA131(L1T3)A 706 --- TM(NS) | H63: =IFERROR(INDEX(Data!$A$10:$O$842,MATCH(CONCATENATE($C63,H$1,$B63),Data!$K$10:$K$842,0),15),"") | I63: =IFERROR(INDEX(Data!$A$10:$O$842,MATCH(CONCATENATE($C63,I$1,$B63),Data!$K$10:$K$842,0),15),"") | K63: 60 | L63: xxx
K64: 61 | L64: xxxx
A65: =COUNTIF($C$1:C65,C65)+1 -> 11 | B65: =VLOOKUP(A65,$K$4:$L$73,2,FALSE) -> (L1T3)B | C65: Saturday | D65: =IFERROR(INDEX(Data!$A$10:$O$842,MATCH(CONCATENATE($C65,D$1,$B65),Data!$K$10:$K$842,0),15),"") | E65: =IFERROR(INDEX(Data!$A$10:$O$842,MATCH(CONCATENATE($C65,E$1,$B65),Data!$K$10:$K$842,0),15),"") | F65: =IFERROR(INDEX(Data!$A$10:$O$842,MATCH(CONCATENATE($C65,F$1,$B65),Data!$K$10:$K$842,0),15),"") -> TE133(L1T3)B 705 --- MMI | G65: =IFERROR(INDEX(Data!$A$10:$O$842,MATCH(CONCATENATE($C65,G$1,$B65),Data!$K$10:$K$842,0),15),"") -> STA131(L1T3)B 301P --- SRD | H65: =IFERROR(INDEX(Data!$A$10:$O$842,MATCH(CONCATENATE($C65,H$1,$B65),Data!$K$10:$K$842,0),15),"") -> MAT133(L1T3)B 704 --- BCD | I65: =IFERROR(INDEX(Data!$A$10:$O$842,MATCH(CONCATENATE($C65,I$1,$B65),Data!$K$10:$K$842,0),15),"") | K65: 62 | L65: xxxxxx
A66: =COUNTIF($C$1:C66,C66)+1 -> 11 | B66: =VLOOKUP(A66,$K$4:$L$73,2,FALSE) -> (L1T3)B | C66: Sunday | D66: =IFERROR(INDEX(Data!$A$10:$O$842,MATCH(CONCATENATE($C66,D$1,$B66),Data!$K$10:$K$842,0),15),"") -> CSE112(L1T3)B 201 --- KS | E66: =IFERROR(INDEX(Data!$A$10:$O$842,MATCH(CONCATENATE($C66,E$1,$B66),Data!$K$10:$K$842,0),15),"") -> CSE112(L1T3)B 201 --- KS | F66: =IFERROR(INDEX(Data!$A$10:$O$842,MATCH(CONCATENATE($C66,F$1,$B66),Data!$K$10:$K$842,0),15),"") -> TE132(L1T3)B 702 --- WAB | G66: =IFERROR(INDEX(Data!$A$10:$O$842,MATCH(CONCATENATE($C66,G$1,$B66),Data!$K$10:$K$842,0),15),"") | H66: =IFERROR(INDEX(Data!$A$10:$O$842,MATCH(CONCATENATE($C66,H$1,$B66),Data!$K$10:$K$842,0),15),"") | I66: =IFERROR(INDEX(Data!$A$10:$O$842,MATCH(CONCATENATE($C66,I$1,$B66),Data!$K$10:$K$842,0),15),"") | K66: 63 | L66: xxxxxxx
A67: =COUNTIF($C$1:C67,C67)+1 -> 11 | B67: =VLOOKUP(A67,$K$4:$L$73,2,FALSE) -> (L1T3)B | C67: Monday | D67: =IFERROR(INDEX(Data!$A$10:$O$842,MATCH(CONCATENATE($C67,D$1,$B67),Data!$K$10:$K$842,0),15),"") | E67: =IFERROR(INDEX(Data!$A$10:$O$842,MATCH(CONCATENATE($C67,E$1,$B67),Data!$K$10:$K$842,0),15),"") | F67: =IFERROR(INDEX(Data!$A$10:$O$842,MATCH(CONCATENATE($C67,F$1,$B67),Data!$K$10:$K$842,0),15),"") | G67: =IFERROR(INDEX(Data!$A$10:$O$842,MATCH(CONCATENATE($C67,G$1,$B67),Data!$K$10:$K$842,0),15),"") | H67: =IFERROR(INDEX(Data!$A$10:$O$842,MATCH(CONCATENATE($C67,H$1,$B67),Data!$K$10:$K$842,0),15),"") | I67: =IFERROR(INDEX(Data!$A$10:$O$842,MATCH(CONCATENATE($C67,I$1,$B67),Data!$K$10:$K$842,0),15),"") | K67: 64 | L67: ZK
A68: =COUNTIF($C$1:C68,C68)+1 -> 11 | B68: =VLOOKUP(A68,$K$4:$L$73,2,FALSE) -> (L1T3)B | C68: Tuesday | D68: =IFERROR(INDEX(Data!$A$10:$O$842,MATCH(CONCATENATE($C68,D$1,$B68),Data!$K$10:$K$842,0),15),"") -> TE132(L1T3)B 705 --- WAB | E68: =IFERROR(INDEX(Data!$A$10:$O$842,MATCH(CONCATENATE($C68,E$1,$B68),Data!$K$10:$K$842,0),15),"") -> TE133(L1T3)B 705 --- MMI | F68: =IFERROR(INDEX(Data!$A$10:$O$842,MATCH(CONCATENATE($C68,F$1,$B68),Data!$K$10:$K$842,0),15),"") | G68: =IFERROR(INDEX(Data!$A$10:$O$842,MATCH(CONCATENATE($C68,G$1,$B68),Data!$K$10:$K$842,0),15),"") | H68: =IFERROR(INDEX(Data!$A$10:$O$842,MATCH(CONCATENATE($C68,H$1,$B68),Data!$K$10:$K$842,0),15),"") | I68: =IFERROR(INDEX(Data!$A$10:$O$842,MATCH(CONCATENATE($C68,I$1,$B68),Data!$K$10:$K$842,0),15),"") | K68: 65 | L68: (blank)
A69: =COUNTIF($C$1:C69,C69)+1 -> 11 | B69: =VLOOKUP(A69,$K$4:$L$73,2,FALSE) -> (L1T3)B | C69: Wednesday | D69: =IFERROR(INDEX(Data!$A$10:$O$842,MATCH(CONCATENATE($C69,D$1,$B69),Data!$K$10:$K$842,0),15),"") | E69: =IFERROR(INDEX(Data!$A$10:$O$842,MATCH(CONCATENATE($C69,E$1,$B69),Data!$K$10:$K$842,0),15),"") | F69: =IFERROR(INDEX(Data!$A$10:$O$842,MATCH(CONCATENATE($C69,F$1,$B69),Data!$K$10:$K$842,0),15),"") | G69: =IFERROR(INDEX(Data!$A$10:$O$842,MATCH(CONCATENATE($C69,G$1,$B69),Data!$K$10:$K$842,0),15),"") | H69: =IFERROR(INDEX(Data!$A$10:$O$842,MATCH(CONCATENATE($C69,H$1,$B69),Data!$K$10:$K$842,0),15),"") | I69: =IFERROR(INDEX(Data!$A$10:$O$842,MATCH(CONCATENATE($C69,I$1,$B69),Data!$K$10:$K$842,0),15),"") | K69: 66 | L69: Grand Total
A70: =COUNTIF($C$1:C70,C70)+1 -> 11 | B70: =VLOOKUP(A70,$K$4:$L$73,2,FALSE) -> (L1T3)B | C70: Thursday | D70: =IFERROR(INDEX(Data!$A$10:$O$842,MATCH(CONCATENATE($C70,D$1,$B70),Data!$K$10:$K$842,0),15),"") | E70: =IFERROR(INDEX(Data!$A$10:$O$842,MATCH(CONCATENATE($C70,E$1,$B70),Data!$K$10:$K$842,0),15),"") | F70: =IFERROR(INDEX(Data!$A$10:$O$842,MATCH(CONCATENATE($C70,F$1,$B70),Data!$K$10:$K$842,0),15),"") | G70: =IFERROR(INDEX(Data!$A$10:$O$842,MATCH(CONCATENATE($C70,G$1,$B70),Data!$K$10:$K$842,0),15),"") | H70: =IFERROR(INDEX(Data!$A$10:$O$842,MATCH(CONCATENATE($C70,H$1,$B70),Data!$K$10:$K$842,0),15),"") -> MAT133(L1T3)B 706 --- BCD | I70: =IFERROR(INDEX(Data!$A$10:$O$842,MATCH(CONCATENATE($C70,I$1,$B70),Data!$K$10:$K$842,0),15),"") -> STA131(L1T3)B 705 --- SRD(NS) | K70: 67
K71: 68
A72: =COUNTIF($C$1:C72,C72)+1 -> 12 | B72: =VLOOKUP(A72,$K$4:$L$73,2,FALSE) -> (L1T3)C | C72: Saturday | D72: =IFERROR(INDEX(Data!$A$10:$O$842,MATCH(CONCATENATE($C72,D$1,$B72),Data!$K$10:$K$842,0),15),"") | E72: =IFERROR(INDEX(Data!$A$10:$O$842,MATCH(CONCATENATE($C72,E$1,$B72),Data!$K$10:$K$842,0),15),"") | F72: =IFERROR(INDEX(Data!$A$10:$O$842,MATCH(CONCATENATE($C72,F$1,$B72),Data!$K$10:$K$842,0),15),"") -> TE132(L1T3)C 706 --- WAB | G72: =IFERROR(INDEX(Data!$A$10:$O$842,MATCH(CONCATENATE($C72,G$1,$B72),Data!$K$10:$K$842,0),15),"") | H72: =IFERROR(INDEX(Data!$A$10:$O$842,MATCH(CONCATENATE($C72,H$1,$B72),Data!$K$10:$K$842,0),15),"") -> TE133(L1T3)C 705 --- MMI | I72: =IFERROR(INDEX(Data!$A$10:$O$842,MATCH(CONCATENATE($C72,I$1,$B72),Data!$K$10:$K$842,0),15),"") -> STA131(L1T3)C 707 --- TM(NS) | K72: 69
A73: =COUNTIF($C$1:C73,C73)+1 -> 12 | B73: =VLOOKUP(A73,$K$4:$L$73,2,FALSE) -> (L1T3)C | C73: Sunday | D73: =IFERROR(INDEX(Data!$A$10:$O$842,MATCH(CONCATENATE($C73,D$1,$B73),Data!$K$10:$K$842,0),15),"") | E73: =IFERROR(INDEX(Data!$A$10:$O$842,MATCH(CONCATENATE($C73,E$1,$B73),Data!$K$10:$K$842,0),15),"") | F73: =IFERROR(INDEX(Data!$A$10:$O$842,MATCH(CONCATENATE($C73,F$1,$B73),Data!$K$10:$K$842,0),15),"") | G73: =IFERROR(INDEX(Data!$A$10:$O$842,MATCH(CONCATENATE($C73,G$1,$B73),Data!$K$10:$K$842,0),15),"") | H73: =IFERROR(INDEX(Data!$A$10:$O$842,MATCH(CONCATENATE($C73,H$1,$B73),Data!$K$10:$K$842,0),15),"") | I73: =IFERROR(INDEX(Data!$A$10:$O$842,MATCH(CONCATENATE($C73,I$1,$B73),Data!$K$10:$K$842,0),15),"") | K73: 70
A74: =COUNTIF($C$1:C74,C74)+1 -> 12 | B74: =VLOOKUP(A74,$K$4:$L$73,2,FALSE) -> (L1T3)C | C74: Monday | D74: =IFERROR(INDEX(Data!$A$10:$O$842,MATCH(CONCATENATE($C74,D$1,$B74),Data!$K$10:$K$842,0),15),"") | E74: =IFERROR(INDEX(Data!$A$10:$O$842,MATCH(CONCATENATE($C74,E$1,$B74),Data!$K$10:$K$842,0),15),"") | F74: =IFERROR(INDEX(Data!$A$10:$O$842,MATCH(CONCATENATE($C74,F$1,$B74),Data!$K$10:$K$842,0),15),"") | G74: =IFERROR(INDEX(Data!$A$10:$O$842,MATCH(CONCATENATE($C74,G$1,$B74),Data!$K$10:$K$842,0),15),"") | H74: =IFERROR(INDEX(Data!$A$10:$O$842,MATCH(CONCATENATE($C74,H$1,$B74),Data!$K$10:$K$842,0),15),"") | I74: =IFERROR(INDEX(Data!$A$10:$O$842,MATCH(CONCATENATE($C74,I$1,$B74),Data!$K$10:$K$842,0),15),"")
A75: =COUNTIF($C$1:C75,C75)+1 -> 12 | B75: =VLOOKUP(A75,$K$4:$L$73,2,FALSE) -> (L1T3)C | C75: Tuesday | D75: =IFERROR(INDEX(Data!$A$10:$O$842,MATCH(CONCATENATE($C75,D$1,$B75),Data!$K$10:$K$842,0),15),"") | E75: =IFERROR(INDEX(Data!$A$10:$O$842,MATCH(CONCATENATE($C75,E$1,$B75),Data!$K$10:$K$842,0),15),"") | F75: =IFERROR(INDEX(Data!$A$10:$O$842,MATCH(CONCATENATE($C75,F$1,$B75),Data!$K$10:$K$842,0),15),"") | G75: =IFERROR(INDEX(Data!$A$10:$O$842,MATCH(CONCATENATE($C75,G$1,$B75),Data!$K$10:$K$842,0),15),"") | H75: =IFERROR(INDEX(Data!$A$10:$O$842,MATCH(CONCATENATE($C75,H$1,$B75),Data!$K$10:$K$842,0),15),"") -> TE133(L1T3)C 705 --- MMI | I75: =IFERROR(INDEX(Data!$A$10:$O$842,MATCH(CONCATENATE($C75,I$1,$B75),Data!$K$10:$K$842,0),15),"")
A76: =COUNTIF($C$1:C76,C76)+1 -> 12 | B76: =VLOOKUP(A76,$K$4:$L$73,2,FALSE) -> (L1T3)C | C76: Wednesday | D76: =IFERROR(INDEX(Data!$A$10:$O$842,MATCH(CONCATENATE($C76,D$1,$B76),Data!$K$10:$K$842,0),15),"") | E76: =IFERROR(INDEX(Data!$A$10:$O$842,MATCH(CONCATENATE($C76,E$1,$B76),Data!$K$10:$K$842,0),15),"") -> MAT133(L1T3)C 703 --- BCD | F76: =IFERROR(INDEX(Data!$A$10:$O$842,MATCH(CONCATENATE($C76,F$1,$B76),Data!$K$10:$K$842,0),15),"") -> CSE112(L1T3)C 201 --- KS | G76: =IFERROR(INDEX(Data!$A$10:$O$842,MATCH(CONCATENATE($C76,G$1,$B76),Data!$K$10:$K$842,0),15),"") -> CSE112(L1T3)C 201 --- KS | H76: =IFERROR(INDEX(Data!$A$10:$O$842,MATCH(CONCATENATE($C76,H$1,$B76),Data!$K$10:$K$842,0),15),"") -> STA131(L1T3)C 705 --- TM(NS) | I76: =IFERROR(INDEX(Data!$A$10:$O$842,MATCH(CONCATENATE($C76,I$1,$B76),Data!$K$10:$K$842,0),15),"")
A77: =COUNTIF($C$1:C77,C77)+1 -> 12 | B77: =VLOOKUP(A77,$K$4:$L$73,2,FALSE) -> (L1T3)C | C77: Thursday | D77: =IFERROR(INDEX(Data!$A$10:$O$842,MATCH(CONCATENATE($C77,D$1,$B77),Data!$K$10:$K$842,0),15),"") -> TE132(L1T3)C 705 --- WAB | E77: =IFERROR(INDEX(Data!$A$10:$O$842,MATCH(CONCATENATE($C77,E$1,$B77),Data!$K$10:$K$842,0),15),"") -> MAT133(L1T3)C 703 --- BCD | F77: =IFERROR(INDEX(Data!$A$10:$O$842,MATCH(CONCATENATE($C77,F$1,$B77),Data!$K$10:$K$842,0),15),"") | G77: =IFERROR(INDEX(Data!$A$10:$O$842,MATCH(CONCATENATE($C77,G$1,$B77),Data!$K$10:$K$842,0),15),"") | H77: =IFERROR(INDEX(Data!$A$10:$O$842,MATCH(CONCATENATE($C77,H$1,$B77),Data!$K$10:$K$842,0),15),"") | I77: =IFERROR(INDEX(Data!$A$10:$O$842,MATCH(CONCATENATE($C77,I$1,$B77),Data!$K$10:$K$842,0),15),"")
A79: =COUNTIF($C$1:C79,C79)+1 -> 13 | B79: =VLOOKUP(A79,$K$4:$L$73,2,FALSE) -> (L1T3)D | C79: Saturday | D79: =IFERROR(INDEX(Data!$A$10:$O$842,MATCH(CONCATENATE($C79,D$1,$B79),Data!$K$10:$K$842,0),15),"") | E79: =IFERROR(INDEX(Data!$A$10:$O$842,MATCH(CONCATENATE($C79,E$1,$B79),Data!$K$10:$K$842,0),15),"") | F79: =IFERROR(INDEX(Data!$A$10:$O$842,MATCH(CONCATENATE($C79,F$1,$B79),Data!$K$10:$K$842,0),15),"") | G79: =IFERROR(INDEX(Data!$A$10:$O$842,MATCH(CONCATENATE($C79,G$1,$B79),Data!$K$10:$K$842,0),15),"") | H79: =IFERROR(INDEX(Data!$A$10:$O$842,MATCH(CONCATENATE($C79,H$1,$B79),Data!$K$10:$K$842,0),15),"") | I79: =IFERROR(INDEX(Data!$A$10:$O$842,MATCH(CONCATENATE($C79,I$1,$B79),Data!$K$10:$K$842,0),15),"")
A80: =COUNTIF($C$1:C80,C80)+1 -> 13 | B80: =VLOOKUP(A80,$K$4:$L$73,2,FALSE) -> (L1T3)D | C80: Sunday | D80: =IFERROR(INDEX(Data!$A$10:$O$842,MATCH(CONCATENATE($C80,D$1,$B80),Data!$K$10:$K$842,0),15),"") -> TE132(L1T3)D 705 --- WAB | E80: =IFERROR(INDEX(Data!$A$10:$O$842,MATCH(CONCATENATE($C80,E$1,$B80),Data!$K$10:$K$842,0),15),"") -> TE133(L1T3)D 705 --- KSS | F80: =IFERROR(INDEX(Data!$A$10:$O$842,MATCH(CONCATENATE($C80,F$1,$B80),Data!$K$10:$K$842,0),15),"") | G80: =IFERROR(INDEX(Data!$A$10:$O$842,MATCH(CONCATENATE($C80,G$1,$B80),Data!$K$10:$K$842,0),15),"") | H80: =IFERROR(INDEX(Data!$A$10:$O$842,MATCH(CONCATENATE($C80,H$1,$B80),Data!$K$10:$K$842,0),15),"") | I80: =IFERROR(INDEX(Data!$A$10:$O$842,MATCH(CONCATENATE($C80,I$1,$B80),Data!$K$10:$K$842,0),15),"")
A81: =COUNTIF($C$1:C81,C81)+1 -> 13 | B81: =VLOOKUP(A81,$K$4:$L$73,2,FALSE) -> (L1T3)D | C81: Monday | D81: =IFERROR(INDEX(Data!$A$10:$O$842,MATCH(CONCATENATE($C81,D$1,$B81),Data!$K$10:$K$842,0),15),"") -> TE132(L1T3)D 706 --- WAB | E81: =IFERROR(INDEX(Data!$A$10:$O$842,MATCH(CONCATENATE($C81,E$1,$B81),Data!$K$10:$K$842,0),15),"") | F81: =IFERROR(INDEX(Data!$A$10:$O$842,MATCH(CONCATENATE($C81,F$1,$B81),Data!$K$10:$K$842,0),15),"") | G81: =IFERROR(INDEX(Data!$A$10:$O$842,MATCH(CONCATENATE($C81,G$1,$B81),Data!$K$10:$K$842,0),15),"") -> MAT133(L1T3)D 706 --- BCD | H81: =IFERROR(INDEX(Data!$A$10:$O$842,MATCH(CONCATENATE($C81,H$1,$B81),Data!$K$10:$K$842,0),15),"") -> STA131(L1T3)D 301P --- SRD | I81: =IFERROR(INDEX(Data!$A$10:$O$842,MATCH(CONCATENATE($C81,I$1,$B81),Data!$K$10:$K$842,0),15),"")
A82: =COUNTIF($C$1:C82,C82)+1 -> 13 | B82: =VLOOKUP(A82,$K$4:$L$73,2,FALSE) -> (L1T3)D | C82: Tuesday | D82: =IFERROR(INDEX(Data!$A$10:$O$842,MATCH(CONCATENATE($C82,D$1,$B82),Data!$K$10:$K$842,0),15),"") | E82: =IFERROR(INDEX(Data!$A$10:$O$842,MATCH(CONCATENATE($C82,E$1,$B82),Data!$K$10:$K$842,0),15),"") | F82: =IFERROR(INDEX(Data!$A$10:$O$842,MATCH(CONCATENATE($C82,F$1,$B82),Data!$K$10:$K$842,0),15),"") | G82: =IFERROR(INDEX(Data!$A$10:$O$842,MATCH(CONCATENATE($C82,G$1,$B82),Data!$K$10:$K$842,0),15),"") | H82: =IFERROR(INDEX(Data!$A$10:$O$842,MATCH(CONCATENATE($C82,H$1,$B82),Data!$K$10:$K$842,0),15),"") -> MAT133(L1T3)D 701 --- BCD | I82: =IFERROR(INDEX(Data!$A$10:$O$842,MATCH(CONCATENATE($C82,I$1,$B82),Data!$K$10:$K$842,0),15),"") -> STA131(L1T3)D 301P --- SRD
A83: =COUNTIF($C$1:C83,C83)+1 -> 13 | B83: =VLOOKUP(A83,$K$4:$L$73,2,FALSE) -> (L1T3)D | C83: Wednesday | D83: =IFERROR(INDEX(Data!$A$10:$O$842,MATCH(CONCATENATE($C83,D$1,$B83),Data!$K$10:$K$842,0),15),"") | E83: =IFERROR(INDEX(Data!$A$10:$O$842,MATCH(CONCATENATE($C83,E$1,$B83),Data!$K$10:$K$842,0),15),"") | F83: =IFERROR(INDEX(Data!$A$10:$O$842,MATCH(CONCATENATE($C83,F$1,$B83),Data!$K$10:$K$842,0),15),"") | G83: =IFERROR(INDEX(Data!$A$10:$O$842,MATCH(CONCATENATE($C83,G$1,$B83),Data!$K$10:$K$842,0),15),"") -> TE133(L1T3)D 702 --- KSS | H83: =IFERROR(INDEX(Data!$A$10:$O$842,MATCH(CONCATENATE($C83,H$1,$B83),Data!$K$10:$K$842,0),15),"") -> CSE112(L1T3)D 201 --- KA | I83: =IFERROR(INDEX(Data!$A$10:$O$842,MATCH(CONCATENATE($C83,I$1,$B83),Data!$K$10:$K$842,0),15),"") -> CSE112(L1T3)D 201 --- KA
A84: =COUNTIF($C$1:C84,C84)+1 -> 13 | B84: =VLOOKUP(A84,$K$4:$L$73,2,FALSE) -> (L1T3)D | C84: Thursday | D84: =IFERROR(INDEX(Data!$A$10:$O$842,MATCH(CONCATENATE($C84,D$1,$B84),Data!$K$10:$K$842,0),15),"") | E84: =IFERROR(INDEX(Data!$A$10:$O$842,MATCH(CONCATENATE($C84,E$1,$B84),Data!$K$10:$K$842,0),15),"") | F84: =IFERROR(INDEX(Data!$A$10:$O$842,MATCH(CONCATENATE($C84,F$1,$B84),Data!$K$10:$K$842,0),15),"") | G84: =IFERROR(INDEX(Data!$A$10:$O$842,MATCH(CONCATENATE($C84,G$1,$B84),Data!$K$10:$K$842,0),15),"") | H84: =IFERROR(INDEX(Data!$A$10:$O$842,MATCH(CONCATENATE($C84,H$1,$B84),Data!$K$10:$K$842,0),15),"") | I84: =IFERROR(INDEX(Data!$A$10:$O$842,MATCH(CONCATENATE($C84,I$1,$B84),Data!$K$10:$K$842,0),15),"")
A86: =COUNTIF($C$1:C86,C86)+1 -> 14 | B86: =VLOOKUP(A86,$K$4:$L$73,2,FALSE) -> (L1T3)E | C86: Saturday | D86: =IFERROR(INDEX(Data!$A$10:$O$842,MATCH(CONCATENATE($C86,D$1,$B86),Data!$K$10:$K$842,0),15),"") | E86: =IFERROR(INDEX(Data!$A$10:$O$842,MATCH(CONCATENATE($C86,E$1,$B86),Data!$K$10:$K$842,0),15),"") | F86: =IFERROR(INDEX(Data!$A$10:$O$842,MATCH(CONCATENATE($C86,F$1,$B86),Data!$K$10:$K$842,0),15),"") -> STA131(L1T3)E 301P --- SRD | G86: =IFERROR(INDEX(Data!$A$10:$O$842,MATCH(CONCATENATE($C86,G$1,$B86),Data!$K$10:$K$842,0),15),"") -> MAT133(L1T3)E 704 --- BCD | H86: =IFERROR(INDEX(Data!$A$10:$O$842,MATCH(CONCATENATE($C86,H$1,$B86),Data!$K$10:$K$842,0),15),"") | I86: =IFERROR(INDEX(Data!$A$10:$O$842,MATCH(CONCATENATE($C86,I$1,$B86),Data!$K$10:$K$842,0),15),"") -> TE133(L1T3)E 701 --- KSS
A87: =COUNTIF($C$1:C87,C87)+1 -> 14 | B87: =VLOOKUP(A87,$K$4:$L$73,2,FALSE) -> (L1T3)E | C87: Sunday | D87: =IFERROR(INDEX(Data!$A$10:$O$842,MATCH(CONCATENATE($C87,D$1,$B87),Data!$K$10:$K$842,0),15),"") | E87: =IFERROR(INDEX(Data!$A$10:$O$842,MATCH(CONCATENATE($C87,E$1,$B87),Data!$K$10:$K$842,0),15),"") -> TE132(L1T3)E 703 --- TM | F87: =IFERROR(INDEX(Data!$A$10:$O$842,MATCH(CONCATENATE($C87,F$1,$B87),Data!$K$10:$K$842,0),15),"") | G87: =IFERROR(INDEX(Data!$A$10:$O$842,MATCH(CONCATENATE($C87,G$1,$B87),Data!$K$10:$K$842,0),15),"") | H87: =IFERROR(INDEX(Data!$A$10:$O$842,MATCH(CONCATENATE($C87,H$1,$B87),Data!$K$10:$K$842,0),15),"") | I87: =IFERROR(INDEX(Data!$A$10:$O$842,MATCH(CONCATENATE($C87,I$1,$B87),Data!$K$10:$K$842,0),15),"") -> TE133(L1T3)E 702 --- KSS
... A336: =COUNTIF($C$1:C336,C336)+1 -> 49 | B336: =VLOOKUP(A336,$K$4:$L$73,2,FALSE) -> (L4T2)(SPF) | C336: Thursday | D336: =IFERROR(INDEX(Data!$A$10:$O$842,MATCH(CONCATENATE($C336,D$1,$B336),Data!$K$10:$K$842,0),15),"") | E336: =IFERROR(INDEX(Data!$A$10:$O$842,MATCH(CONCATENATE($C336,E$1,$B336),Data!$K$10:$K$842,0),15),"") | F336: =IFERROR(INDEX(Data!$A$10:$O$842,MATCH(CONCATENATE($C336,F$1,$B336),Data!$K$10:$K$842,0),15),"") | G336: =IFERROR(INDEX(Data!$A$10:$O$842,MATCH(CONCATENATE($C336,G$1,$B336),Data!$K$10:$K$842,0),15),"") | H336: =IFERROR(INDEX(Data!$A$10:$O$842,MATCH(CONCATENATE($C336,H$1,$B336),Data!$K$10:$K$842,0),15),"") | I336: =IFERROR(INDEX(Data!$A$10:$O$842,MATCH(CONCATENATE($C336,I$1,$B336),Data!$K$10:$K$842,0),15),"")

Sheet T's class
A2: LT | B2: (All)
A4: Count of Course | C4: Time
A5: Teacher | B5: Day | C5: 08:30-10:00 | D5: 10:00-11:30 | E5: 11:30-01:00 | F5: 01:00-02:30 | G5: 2:30-04:00 | H5: 04:00-05:30 | I5: Grand Total
A6: 0 | B6: Sunday | C6: 11 | D6: 10 | E6: 10 | F6: 8 | G6: 11 | H6: 13 | I6: 63
B7: Monday | C7: 13 | D7: 12 | E7: 6 | F7: 7 | G7: 11 | H7: 12 | I7: 61
B8: Tuesday | C8: 18 | D8: 12 | E8: 11 | F8: 11 | G8: 10 | H8: 10 | I8: 72
B9: Wednesday | C9: 9 | D9: 9 | E9: 8 | F9: 8 | G9: 10 | H9: 13 | I9: 57
B10: Thursday | C10: 10 | D10: 10 | E10: 9 | F10: 9 | G10: 13 | H10: 16 | I10: 67
B11: Saturday | C11: 15 | D11: 12 | E11: 8 | F11: 9 | G11: 11 | H11: 13 | I11: 68
A12: 0 Total | C12: 76 | D12: 65 | E12: 52 | F12: 52 | G12: 66 | H12: 77 | I12: 388
A13: AAA | B13: Sunday | C13: 1 | E13: 1 | I13: 2
B14: Monday | F14: 1 | H14: 1 | I14: 2
B15: Tuesday | G15: 1 | H15: 1 | I15: 2
B16: Wednesday | E16: 1 | F16: 1 | G16: 1 | H16: 1 | I16: 4
A17: AAA Total | C17: 1 | E17: 2 | F17: 2 | G17: 2 | H17: 3 | I17: 10
A18: AAM | B18: Sunday | D18: 1 | F18: 1 | I18: 2
B19: Monday | E19: 1 | G19: 1 | I19: 2
B20: Wednesday | C20: 1 | D20: 1 | E20: 1 | F20: 1 | I20: 4
B21: Saturday | D21: 1 | F21: 1 | I21: 2
A22: AAM Total | C22: 1 | D22: 3 | E22: 2 | F22: 3 | G22: 1 | I22: 10
A23: AG | B23: Sunday | C23: 1 | D23: 1 | I23: 2
B24: Monday | E24: 1 | F24: 1 | I24: 2
B25: Tuesday | C25: 1 | D25: 1 | I25: 2
B26: Wednesday | E26: 1 | F26: 1 | I26: 2
A27: AG Total | C27: 2 | D27: 2 | E27: 2 | F27: 2 | I27: 8
A28: AHB | B28: Tuesday | H28: 1 | I28: 1
B29: Wednesday | H29: 1 | I29: 1
A30: AHB Total | H30: 2 | I30: 2
A31: AHM | B31: Sunday | E31: 1 | F31: 1 | G31: 1 | I31: 3
B32: Monday | F32: 1 | I32: 1
B33: Tuesday | G33: 1 | H33: 1 | I33: 2
B34: Wednesday | D34: 1 | I34: 1
B35: Thursday | E35: 1 | F35: 1 | H35: 1 | I35: 3
A36: AHM Total | D36: 1 | E36: 2 | F36: 3 | G36: 2 | H36: 2 | I36: 10
A37: AI | B37: Monday | E37: 1 | G37: 1 | H37: 1 | I37: 3
B38: Tuesday | E38: 1 | F38: 1 | I38: 2
B39: Wednesday | C39: 1 | D39: 1 | E39: 1 | I39: 3
A40: AI Total | C40: 1 | D40: 1 | E40: 3 | F40: 1 | G40: 1 | H40: 1 | I40: 8
A41: AKA | B41: Sunday | C41: 1 | F41: 1 | G41: 1 | H41: 1 | I41: 4
B42: Saturday | D42: 1 | E42: 1 | G42: 1 | H42: 1 | I42: 4
A43: AKA Total | C43: 1 | D43: 1 | E43: 1 | F43: 1 | G43: 2 | H43: 2 | I43: 8
A44: AMK | B44: Wednesday | D44: 1 | E44: 1 | G44: 1 | I44: 3
B45: Thursday | C45: 1 | D45: 1 | E45: 1 | I45: 3
A46: AMK Total | C46: 1 | D46: 2 | E46: 2 | G46: 1 | I46: 6
A47: ANF | B47: Sunday | G47: 1 | H47: 1 | I47: 2
B48: Monday | C48: 1 | D48: 1 | I48: 2
B49: Wednesday | G49: 1 | H49: 1 | I49: 2
B50: Thursday | F50: 1 | G50: 1 | I50: 2
A51: ANF Total | C51: 1 | D51: 1 | F51: 1 | G51: 3 | H51: 2 | I51: 8
A52: BCD | B52: Monday | G52: 1 | H52: 1 | I52: 2
B53: Tuesday | F53: 1 | G53: 1 | H53: 1 | I53: 3
B54: Thursday | C54: 1 | D54: 1 | F54: 1 | G54: 1 | I54: 4
B55: Saturday | D55: 1 | F55: 1 | G55: 1 | I55: 3
A56: BCD Total | C56: 1 | D56: 2 | F56: 3 | G56: 4 | H56: 2 | I56: 12
A57: CF | B57: Sunday | C57: 1 | D57: 1 | I57: 2
B58: Monday | C58: 1 | D58: 1 | E58: 1 | F58: 1 | I58: 4
B59: Wednesday | C59: 1 | D59: 1 | E59: 1 | F59: 1 | I59: 4
B60: Thursday | E60: 1 | F60: 1 | I60: 2
A61: CF Total | C61: 3 | D61: 3 | E61: 3 | F61: 3 | I61: 12
A62: CHE | B62: Monday | G62: 1 | H62: 1 | I62: 2
B63: Saturday | F63: 1 | H63: 1 | I63: 2
A64: CHE Total | F64: 1 | G64: 1 | H64: 2 | I64: 4
A65: DMA | B65: Sunday | D65: 1 | I65: 1
B66: Monday | F66: 1 | I66: 1
B67: Tuesday | C67: 1 | I67: 1
B68: Wednesday | C68: 1 | D68: 1 | F68: 1 | I68: 3
B69: Thursday | E69: 1 | F69: 1 | I69: 2
A70: DMA Total | C70: 2 | D70: 2 | E70: 1 | F70: 3 | I70: 8
A71: E-2 | B71: Tuesday | G71: 1 | H71: 1 | I71: 2
B72: Wednesday | G72: 1 | H72: 1 | I72: 2
A73: E-2 Total | G73: 2 | H73: 2 | I73: 4
A74: ENG | B74: Sunday | H74: 1 | I74: 1
B75: Monday | C75: 1 | I75: 1
B76: Tuesday | G76: 1 | I76: 1
B77: Thursday | C77: 1 | D77: 1 | E77: 1 | I77: 3
B78: Saturday | E78: 1 | F78: 1 | I78: 2
A79: ENG Total | C79: 2 | D79: 1 | E79: 2 | F79: 1 | G79: 1 | H79: 1 | I79: 8
A80: FBS | B80: Tuesday | G80: 1 | H80: 1 | I80: 2
B81: Wednesday | C81: 1 | I81: 1
B82: Thursday | C82: 1 | D82: 1 | E82: 1 | F82: 1 | G82: 1 | I82: 5
A83: FBS Total | C83: 2 | D83: 1 | E83: 1 | F83: 1 | G83: 2 | H83: 1 | I83: 8
A84: FHA | B84: Sunday | C84: 1 | D84: 1 | E84: 1 | I84: 3
B85: Monday | E85: 1 | F85: 1 | G85: 1 | I85: 3
B86: Thursday | E86: 1 | F86: 1 | I86: 2
A87: FHA Total | C87: 1 | D87: 1 | E87: 3 | F87: 2 | G87: 1 | I87: 8
A88: FHS | B88: Monday | C88: 1 | F88: 1 | I88: 2
B89: Tuesday | F89: 1 | H89: 1 | I89: 2
B90: Wednesday | G90: 1 | H90: 1 | I90: 2
B91: Thursday | C91: 1 | E91: 1 | G91: 1 | I91: 3
B92: Saturday | C92: 1 | F92: 1 | H92: 1 | I92: 3
A93: FHS Total | C93: 3 | E93: 1 | F93: 3 | G93: 2 | H93: 3 | I93: 12
A94: FN | B94: Monday | G94: 1 | H94: 1 | I94: 2
B95: Saturday | F95: 1 | H95: 1 | I95: 2
A96: FN Total | F96: 1 | G96: 1 | H96: 2 | I96: 4
A97: FS | B97: Sunday | F97: 1 | G97: 1 | H97: 1 | I97: 3
B98: Thursday | H98: 1 | I98: 1
A99: FS Total | F99: 1 | G99: 1 | H99: 2 | I99: 4
A100: FZ | B100: Monday | C100: 1 | D100: 1 | E100: 1 | I100: 3
B101: Wednesday | C101: 1 | E101: 1 | G101: 1 | I101: 3
B102: Thursday | F102: 1 | G102: 1 | H102: 1 | I102: 3
...

Sheet S's class
A2: LT | B2: (All)
A4: Count of Course | C4: Time
A5: Section | B5: Day | C5: 08:30-10:00 | D5: 10:00-11:30 | E5: 11:30-01:00 | F5: 01:00-02:30 | G5: 2:30-04:00 | H5: 04:00-05:30 | I5: Grand Total
A6: 0 | B6: Sunday | C6: 10 | D6: 9 | E6: 10 | F6: 8 | G6: 12 | H6: 14 | I6: 63
B7: Monday | C7: 12 | D7: 12 | E7: 6 | F7: 6 | G7: 11 | H7: 12 | I7: 59
B8: Tuesday | C8: 18 | D8: 12 | E8: 10 | F8: 10 | G8: 10 | H8: 10 | I8: 70
B9: Wednesday | C9: 8 | D9: 9 | E9: 8 | F9: 7 | G9: 10 | H9: 13 | I9: 55
B10: Thursday | C10: 10 | D10: 10 | E10: 9 | F10: 9 | G10: 13 | H10: 16 | I10: 67
B11: Saturday | C11: 14 | D11: 11 | E11: 7 | F11: 8 | G11: 10 | H11: 12 | I11: 62
A12: 0 Total | C12: 72 | D12: 63 | E12: 50 | F12: 48 | G12: 66 | H12: 77 | I12: 376
A13: (Apparel-II) | B13: Saturday | E13: 1 | F13: 1 | I13: 2
A14: (Apparel-II) Total | E14: 1 | F14: 1 | I14: 2
A15: (Fabric-I) | B15: Saturday | G15: 1 | H15: 1 | I15: 2
A16: (Fabric-I) Total | G16: 1 | H16: 1 | I16: 2
A17: (L1T1)A | B17: Sunday | F17: 1 | H17: 1 | I17: 2
B18: Monday | C18: 1 | D18: 1 | G18: 1 | H18: 1 | I18: 4
B19: Tuesday | E19: 1 | F19: 1 | I19: 2
B20: Saturday | D20: 1 | F20: 1 | I20: 2
A21: (L1T1)A Total | C21: 1 | D21: 2 | E21: 1 | F21: 3 | G21: 1 | H21: 2 | I21: 10
A22: (L1T1)B | B22: Sunday | C22: 1 | I22: 1
B23: Monday | C23: 1 | D23: 1 | F23: 1 | G23: 1 | I23: 4
B24: Tuesday | F24: 1 | G24: 1 | I24: 2
B25: Saturday | D25: 1 | E25: 1 | F25: 1 | I25: 3
A26: (L1T1)B Total | C26: 2 | D26: 2 | E26: 1 | F26: 3 | G26: 2 | I26: 10
A27: (L1T1)C | B27: Sunday | G27: 1 | H27: 1 | I27: 2
B28: Wednesday | E28: 1 | G28: 1 | H28: 1 | I28: 3
B29: Thursday | C29: 1 | D29: 1 | E29: 1 | I29: 3
B30: Saturday | G30: 1 | H30: 1 | I30: 2
A31: (L1T1)C Total | C31: 1 | D31: 1 | E31: 2 | G31: 3 | H31: 3 | I31: 10
A32: (L1T1)D | B32: Sunday | G32: 1 | H32: 1 | I32: 2
B33: Wednesday | C33: 1 | D33: 1 | G33: 1 | I33: 3
B34: Thursday | D34: 1 | E34: 1 | I34: 2
B35: Saturday | E35: 1 | G35: 1 | H35: 1 | I35: 3
A36: (L1T1)D Total | C36: 1 | D36: 2 | E36: 2 | G36: 3 | H36: 2 | I36: 10
A37: (L1T2)A | B37: Sunday | C37: 1 | D37: 1 | I37: 2
B38: Monday | E38: 1 | F38: 1 | G38: 1 | H38: 1 | I38: 4
B39: Tuesday | G39: 1 | H39: 1 | I39: 2
B40: Wednesday | G40: 1 | H40: 1 | I40: 2
B41: Saturday | F41: 1 | H41: 1 | I41: 2
A42: (L1T2)A Total | C42: 1 | D42: 1 | E42: 1 | F42: 2 | G42: 3 | H42: 4 | I42: 12
A43: (L1T2)B | B43: Sunday | C43: 1 | D43: 1 | G43: 1 | H43: 1 | I43: 4
B44: Monday | G44: 1 | H44: 1 | I44: 2
B45: Tuesday | G45: 1 | H45: 1 | I45: 2
B46: Wednesday | G46: 1 | H46: 1 | I46: 2
B47: Saturday | F47: 1 | H47: 1 | I47: 2
A48: (L1T2)B Total | C48: 1 | D48: 1 | F48: 1 | G48: 4 | H48: 5 | I48: 12
A49: (L1T3)A | B49: Monday | E49: 1 | F49: 1 | G49: 1 | H49: 1 | I49: 4
B50: Tuesday | E50: 1 | F50: 1 | I50: 2
B51: Thursday | E51: 1 | F51: 1 | I51: 2
B52: Saturday | C52: 1 | D52: 1 | I52: 2
A53: (L1T3)A Total | C53: 1 | D53: 1 | E53: 3 | F53: 3 | G53: 1 | H53: 1 | I53: 10
A54: (L1T3)B | B54: Sunday | C54: 1 | D54: 1 | E54: 1 | I54: 3
B55: Tuesday | C55: 1 | D55: 1 | I55: 2
B56: Thursday | G56: 1 | H56: 1 | I56: 2
B57: Saturday | E57: 1 | F57: 1 | G57: 1 | I57: 3
A58: (L1T3)B Total | C58: 2 | D58: 2 | E58: 2 | F58: 1 | G58: 2 | H58: 1 | I58: 10
A59: (L1T3)C | B59: Tuesday | G59: 1 | H59: 1 | I59: 2
B60: Wednesday | E60: 1 | F60: 1 | G60: 1 | I60: 3
B61: Thursday | C61: 1 | D61: 1 | I61: 2
B62: Saturday | E62: 1 | G62: 1 | H62: 1 | I62: 3
A63: (L1T3)C Total | C63: 1 | D63: 1 | E63: 2 | F63: 1 | G63: 3 | H63: 2 | I63: 10
A64: (L1T3)D | B64: Sunday | C64: 1 | D64: 1 | I64: 2
B65: Monday | E65: 1 | G65: 1 | H65: 1 | I65: 3
B66: Tuesday | G66: 1 | H66: 1 | I66: 2
B67: Thursday | E67: 1 | F67: 1 | G67: 1 | I67: 3
A68: (L1T3)D Total | C68: 1 | D68: 1 | E68: 2 | F68: 1 | G68: 3 | H68: 2 | I68: 10
A69: (L1T3)E | B69: Sunday | G69: 1 | H69: 1 | I69: 2
B70: Monday | C70: 1 | D70: 1 | I70: 2
B71: Thursday | C71: 1 | D71: 1 | E71: 1 | I71: 3
B72: Saturday | E72: 1 | F72: 1 | H72: 1 | I72: 3
A73: (L1T3)E Total | C73: 2 | D73: 2 | E73: 2 | F73: 1 | G73: 1 | H73: 2 | I73: 10
A74: (L1T3)F | B74: Sunday | E74: 1 | F74: 1 | I74: 2
B75: Wednesday | C75: 1 | D75: 1 | F75: 1 | I75: 3
B76: Thursday | C76: 1 | D76: 1 | F76: 1 | I76: 3
B77: Saturday | D77: 1 | E77: 1 | I77: 2
A78: (L1T3)F Total | C78: 2 | D78: 3 | E78: 2 | F78: 3 | I78: 10
A79: (L2T1)A | B79: Sunday | F79: 1 | G79: 1 | I79: 2
B80: Monday | D80: 1 | E80: 1 | I80: 2
B81: Tuesday | D81: 1 | I81: 1
B82: Wednesday | C82: 1 | D82: 1 | H82: 1 | I82: 3
B83: Thursday | D83: 1 | G83: 1 | H83: 1 | I83: 3
B84: Saturday | F84: 1 | I84: 1
A85: (L2T1)A Total | C85: 1 | D85: 4 | E85: 1 | F85: 2 | G85: 2 | H85: 2 | I85: 12
A86: (L2T1)B | B86: Sunday | E86: 1 | I86: 1
B87: Monday | C87: 1 | D87: 1 | E87: 1 | F87: 1 | I87: 4
B88: Tuesday | E88: 1 | G88: 1 | H88: 1 | I88: 3
B89: Wednesday | E89: 1 | G89: 1 | I89: 2
B90: Thursday | E90: 1 | G90: 1 | I90: 2
B91: Saturday | H91: 1 | I91: 1
A92: (L2T1)B Total | C92: 1 | D92: 1 | E92: 5 | F92: 1 | G92: 3 | H92: 2 | I92: 13
A93: (L2T1)C | B93: Sunday | E93: 1 | H93: 1 | I93: 2
B94: Tuesday | E94: 1 | F94: 1 | G94: 1 | I94: 3
B95: Wednesday | F95: 1 | G95: 1 | H95: 1 | I95: 3
B96: Thursday | C96: 1 | D96: 1 | F96: 1 | G96: 1 | I96: 4
B97: Saturday | C97: 1 | I97: 1
A98: (L2T1)C Total | C98: 2 | D98: 1 | E98: 2 | F98: 3 | G98: 3 | H98: 2 | I98: 13
A99: (L2T1)D | B99: Monday | C99: 1 | E99: 1 | G99: 1 | H99: 1 | I99: 4
B100: Tuesday | F100: 1 | H100: 1 | I100: 2
B101: Wednesday | G101: 1 | H101: 1 | I101: 2
B102: Thursday | H102: 1 | I102: 1
...

Sheet T wise class
A2: LT | B2: (All)
A4: Teacher | B4: Section | C4: Day | D4: Count of Course
A5: 0 | B5: 0 | D5: 374
B6: (L1T2)A | D6: 2
B7: xxx | D7: 4
B8: (Yarn-I) | C8: Saturday | D8: 2
B9: (Apparel-II) | C9: Saturday | D9: 2
B10: (Fabric-I) | C10: Saturday | D10: 2
B11: uttara. | C11: Tuesday | D11: 2
A12: 0 Total | D12: 388
A13: AAA | B13: (L2T1)C | D13: 4
B14: (L4T1)A | D14: 2
B15: (L4T1)C | D15: 2
B16: (L4T1)B | C16: Tuesday | D16: 1
C17: Wednesday | D17: 1
A18: AAA Total | D18: 10
A19: AAM | B19: (L2T3)B | D19: 4
B20: (L4T2)A(Ap) | D20: 2
B21: (L4T2)B(Ap) | D21: 2
B22: (L2T3)F | C22: Wednesday | D22: 2
A23: AAM Total | D23: 10
A24: AG | B24: (L2T1)B | D24: 2
B25: (L3T1)B | D25: 2
B26: (L3T1)C | D26: 4
A27: AG Total | D27: 8
A28: AHB | B28: (L4T1)D | D28: 2
A29: AHB Total | D29: 2
A30: AHM | B30: (L3T1)A | D30: 4
B31: (L3T1)B | D31: 2
B32: (L3T1)C | D32: 4
A33: AHM Total | D33: 10
A34: AI | B34: (L2T1)D | D34: 4
B35: (L3T1)A | D35: 4
A36: AI Total | D36: 8
A37: AKA | B37: (L1T1)A | D37: 2
B38: (L1T1)B | D38: 2
B39: (L1T1)C | D39: 2
B40: (L1T1)D | D40: 2
A41: AKA Total | D41: 8
A42: AMK | B42: (L1T1)C | D42: 2
B43: (L1T1)D | D43: 2
B44: (L2T3)F | C44: Wednesday | D44: 1
C45: Thursday | D45: 1
A46: AMK Total | D46: 6
A47: ANF | B47: (L2T1)A | D47: 2
B48: (L2T1)B | D48: 2
B49: (L2T1)C | D49: 2
B50: (L2T1)D | D50: 2
A51: ANF Total | D51: 8
A52: BCD | B52: (L1T3)A | D52: 2
B53: (L1T3)B | D53: 2
B54: (L1T3)C | D54: 2
B55: (L1T3)F | C55: Thursday | D55: 1
C56: Saturday | D56: 1
B57: (L1T3)E | C57: Thursday | D57: 1
C58: Saturday | D58: 1
B59: (L1T3)D | C59: Monday | D59: 1
C60: Tuesday | D60: 1
A61: BCD Total | D61: 12
A62: CF | B62: (L1T3)A | D62: 2
B63: (L1T3)B | D63: 2
B64: (L1T3)C | D64: 2
B65: (L1T3)F | C65: Wednesday | D65: 2
B66: (L1T3)E | C66: Monday | D66: 2
B67: (L1T3)D | C67: Thursday | D67: 2
A68: CF Total | D68: 12
A69: CHE | B69: (L1T2)A | D69: 2
B70: (L1T2)B | D70: 2
A71: CHE Total | D71: 4
A72: DMA | B72: (L3T3)A | D72: 2
B73: (L3T3)B | D73: 2
B74: (L3T3)D | C74: Sunday | D74: 1
C75: Wednesday | D75: 1
B76: (L3T3)C | C76: Tuesday | D76: 1
C77: Wednesday | D77: 1
A78: DMA Total | D78: 8
A79: E-2 | B79: (L1T2)A | D79: 2
B80: (L1T2)B | D80: 2
A81: E-2 Total | D81: 4
A82: ENG | B82: (L1T1)A | D82: 2
B83: (L1T1)B | D83: 2
B84: (L1T1)C | D84: 2
B85: (L1T1)D | D85: 2
A86: ENG Total | D86: 8
A87: FBS | B87: (L4T1)C | D87: 4
B88: (L4T1)E | D88: 3
B89: TE405L4T1)E | C89: Tuesday | D89: 1
A90: FBS Total | D90: 8
A91: FHA | B91: (L2T2)A | D91: 4
B92: (L2T2)B | D92: 4
A93: FHA Total | D93: 8
A94: FHS | B94: (L2T1)A | D94: 2
B95: (L2T1)B | D95: 1
B96: (L2T1)C | D96: 3
B97: (L2T1)D | D97: 2
B98: (L3T2)A | D98: 2
B99: (L3T2)B | D99: 2
A100: FHS Total | D100: 12
A101: FN | B101: (L1T2)A | D101: 2
B102: (L1T2)B | D102: 2
...

Sheet Section wise class
A4: Count of Course | D4: Time
A5: LT | B5: Section | C5: Day | D5: 08:30-10:00 | E5: 10:00-11:30 | F5: 11:30-01:00 | G5: 01:00-02:30 | H5: 2:30-04:00 | I5: 04:00-05:30 | J5: Grand Total
A6: Appa | B6: (Apparel-II) | C6: Saturday | F6: 1 | G6: 1 | J6: 2
A7: E405 | B7: TE405L4T1)E | C7: Tuesday | I7: 1 | J7: 1
A8: Fabr | B8: (Fabric-I) | C8: Saturday | H8: 1 | I8: 1 | J8: 2
A9: L1T1 | B9: (L1T1)A | C9: Sunday | G9: 1 | I9: 1 | J9: 2
C10: Monday | D10: 1 | E10: 1 | H10: 1 | I10: 1 | J10: 4
C11: Tuesday | F11: 1 | G11: 1 | J11: 2
C12: Saturday | E12: 1 | G12: 1 | J12: 2
B13: (L1T1)B | C13: Sunday | D13: 1 | J13: 1
C14: Monday | D14: 1 | E14: 1 | G14: 1 | H14: 1 | J14: 4
C15: Tuesday | G15: 1 | H15: 1 | J15: 2
C16: Saturday | E16: 1 | F16: 1 | G16: 1 | J16: 3
B17: (L1T1)C | C17: Sunday | H17: 1 | I17: 1 | J17: 2
C18: Wednesday | F18: 1 | H18: 1 | I18: 1 | J18: 3
C19: Thursday | D19: 1 | E19: 1 | F19: 1 | J19: 3
C20: Saturday | H20: 1 | I20: 1 | J20: 2
B21: (L1T1)D | C21: Sunday | H21: 1 | I21: 1 | J21: 2
C22: Wednesday | D22: 1 | E22: 1 | H22: 1 | J22: 3
C23: Thursday | E23: 1 | F23: 1 | J23: 2
C24: Saturday | F24: 1 | H24: 1 | I24: 1 | J24: 3
A25: L1T2 | B25: (L1T2)A | C25: Sunday | D25: 1 | E25: 1 | J25: 2
C26: Monday | F26: 1 | G26: 1 | H26: 1 | I26: 1 | J26: 4
C27: Tuesday | H27: 1 | I27: 1 | J27: 2
C28: Wednesday | H28: 1 | I28: 1 | J28: 2
C29: Saturday | G29: 1 | I29: 1 | J29: 2
B30: (L1T2)B | C30: Sunday | D30: 1 | E30: 1 | H30: 1 | I30: 1 | J30: 4
C31: Monday | H31: 1 | I31: 1 | J31: 2
C32: Tuesday | H32: 1 | I32: 1 | J32: 2
C33: Wednesday | H33: 1 | I33: 1 | J33: 2
C34: Saturday | G34: 1 | I34: 1 | J34: 2
A35: L1T3 | B35: (L1T3)A | C35: Monday | F35: 1 | G35: 1 | H35: 1 | I35: 1 | J35: 4
C36: Tuesday | F36: 1 | G36: 1 | J36: 2
C37: Thursday | F37: 1 | G37: 1 | J37: 2
C38: Saturday | D38: 1 | E38: 1 | J38: 2
B39: (L1T3)B | C39: Sunday | D39: 1 | E39: 1 | F39: 1 | J39: 3
C40: Tuesday | D40: 1 | E40: 1 | J40: 2
C41: Thursday | H41: 1 | I41: 1 | J41: 2
C42: Saturday | F42: 1 | G42: 1 | H42: 1 | J42: 3
B43: (L1T3)C | C43: Tuesday | H43: 1 | I43: 1 | J43: 2
C44: Wednesday | F44: 1 | G44: 1 | H44: 1 | J44: 3
C45: Thursday | D45: 1 | E45: 1 | J45: 2
C46: Saturday | F46: 1 | H46: 1 | I46: 1 | J46: 3
B47: (L1T3)D | C47: Sunday | D47: 1 | E47: 1 | J47: 2
C48: Monday | F48: 1 | H48: 1 | I48: 1 | J48: 3
C49: Tuesday | H49: 1 | I49: 1 | J49: 2
C50: Thursday | F50: 1 | G50: 1 | H50: 1 | J50: 3
B51: (L1T3)E | C51: Sunday | H51: 1 | I51: 1 | J51: 2
C52: Monday | D52: 1 | E52: 1 | J52: 2
C53: Thursday | D53: 1 | E53: 1 | F53: 1 | J53: 3
C54: Saturday | F54: 1 | G54: 1 | I54: 1 | J54: 3
B55: (L1T3)F | C55: Sunday | F55: 1 | G55: 1 | J55: 2
C56: Wednesday | D56: 1 | E56: 1 | G56: 1 | J56: 3
C57: Thursday | D57: 1 | E57: 1 | G57: 1 | J57: 3
C58: Saturday | E58: 1 | F58: 1 | J58: 2
A59: L2T1 | B59: (L2T1)A | C59: Sunday | G59: 1 | H59: 1 | J59: 2
C60: Monday | E60: 1 | F60: 1 | J60: 2
C61: Tuesday | E61: 1 | J61: 1
C62: Wednesday | D62: 1 | E62: 1 | I62: 1 | J62: 3
C63: Thursday | E63: 1 | H63: 1 | I63: 1 | J63: 3
C64: Saturday | G64: 1 | J64: 1
B65: (L2T1)B | C65: Sunday | F65: 1 | J65: 1
C66: Monday | D66: 1 | E66: 1 | F66: 1 | G66: 1 | J66: 4
C67: Tuesday | F67: 1 | H67: 1 | I67: 1 | J67: 3
C68: Wednesday | F68: 1 | H68: 1 | J68: 2
C69: Thursday | F69: 1 | H69: 1 | J69: 2
C70: Saturday | I70: 1 | J70: 1
B71: (L2T1)C | C71: Sunday | F71: 1 | I71: 1 | J71: 2
C72: Tuesday | F72: 1 | G72: 1 | H72: 1 | J72: 3
C73: Wednesday | G73: 1 | H73: 1 | I73: 1 | J73: 3
C74: Thursday | D74: 1 | E74: 1 | G74: 1 | H74: 1 | J74: 4
C75: Saturday | D75: 1 | J75: 1
B76: (L2T1)D | C76: Monday | D76: 1 | F76: 1 | H76: 1 | I76: 1 | J76: 4
C77: Tuesday | G77: 1 | I77: 1 | J77: 2
C78: Wednesday | H78: 1 | I78: 1 | J78: 2
C79: Thursday | I79: 1 | J79: 1
C80: Saturday | E80: 1 | F80: 1 | G80: 1 | J80: 3
A81: L2T2 | B81: (L2T2)A | C81: Sunday | D81: 1 | E81: 1 | F81: 1 | G81: 1 | J81: 4
C82: Monday | E82: 1 | F82: 1 | J82: 2
C83: Thursday | F83: 1 | G83: 1 | I83: 1 | J83: 3
C84: Saturday | H84: 1 | J84: 1
B85: (L2T2)B | C85: Sunday | H85: 1 | J85: 1
C86: Monday | F86: 1 | G86: 1 | H86: 1 | I86: 1 | J86: 4
C87: Tuesday | F87: 1 | J87: 1
C88: Wednesday | H88: 1 | J88: 1
C89: Thursday | F89: 1 | H89: 1 | J89: 2
C90: Saturday | F90: 1 | G90: 1 | I90: 1 | J90: 3
B91: (L2T2)C | C91: Sunday | G91: 1 | J91: 1
C92: Monday | G92: 1 | J92: 1
C93: Tuesday | E93: 1 | H93: 1 | I93: 1 | J93: 3
C94: Wednesday | G94: 2 | H94: 1 | I94: 1 | J94: 4
C95: Thursday | H95: 1 | J95: 1
C96: Saturday | G96: 1 | H96: 1 | J96: 2
A97: L2T3 | B97: (L2T3)A | C97: Sunday | G97: 1 | H97: 1 | I97: 1 | J97: 3
C98: Monday | E98: 1 | F98: 1 | G98: 1 | J98: 3
C99: Tuesday | F99: 1 | J99: 1
C100: Thursday | F100: 1 | G100: 1 | J100: 2
C101: Saturday | D101: 1 | E101: 1 | F101: 1 | J101: 3
B102: (L2T3)B | C102: Sunday | G102: 1 | J102: 1
C103: Monday | H103: 1 | J103: 1
...

Sheet student's movement
A2: LT | B2: L2T3
A4: Count of Course | D4: Class room
A5: Section | B5: Day | C5: Time | D5: 701 | E5: 702 | F5: 703 | G5: 704 | H5: 706 | I5: 707 | J5: 711 | K5: 712 | L5: 406P | M5: 407P | N5: L-App | O5: L-mec | P5: Grand Total
A6: (L2T3)F | B6: Monday | C6: 11:30-01:00 | F6: 1 | P6: 1
B7: Tuesday | C7: 01:00-02:30 | F7: 1 | P7: 1
B8: Wednesday | C8: 10:00-11:30 | M8: 1 | P8: 1
C9: 11:30-01:00 | N9: 1 | P9: 1
C10: 01:00-02:30 | N10: 1 | P10: 1
B11: Thursday | C11: 08:30-10:00 | L11: 1 | P11: 1
C12: 10:00-11:30 | G12: 1 | P12: 1
C13: 04:00-05:30 | J13: 1 | P13: 1
B14: Saturday | C14: 2:30-04:00 | F14: 1 | P14: 1
C15: 04:00-05:30 | H15: 1 | P15: 1
A16: (L2T3)E | B16: Sunday | C16: 08:30-10:00 | O16: 1 | P16: 1
C17: 10:00-11:30 | O17: 1 | P17: 1
B18: Monday | C18: 2:30-04:00 | D18: 1 | P18: 1
B19: Tuesday | C19: 11:30-01:00 | N19: 1 | P19: 1
C20: 01:00-02:30 | N20: 1 | P20: 1
C21: 2:30-04:00 | E21: 1 | J21: 1 | P21: 2
B22: Wednesday | C22: 2:30-04:00 | K22: 1 | P22: 1
B23: Thursday | C23: 08:30-10:00 | G23: 1 | P23: 1
C24: 01:00-02:30 | K24: 1 | P24: 1
C25: 2:30-04:00 | J25: 1 | P25: 1
B26: Saturday | C26: 2:30-04:00 | H26: 1 | P26: 1
A27: (L2T3)D | B27: Monday | C27: 10:00-11:30 | E27: 1 | P27: 1
C28: 11:30-01:00 | N28: 1 | P28: 1
C29: 01:00-02:30 | N29: 1 | P29: 1
B30: Tuesday | C30: 11:30-01:00 | D30: 1 | P30: 1
B31: Wednesday | C31: 08:30-10:00 | F31: 1 | P31: 1
C32: 01:00-02:30 | E32: 1 | P32: 1
B33: Thursday | C33: 01:00-02:30 | J33: 1 | P33: 1
C34: 2:30-04:00 | K34: 1 | P34: 1
B35: Saturday | C35: 08:30-10:00 | O35: 1 | P35: 1
C36: 10:00-11:30 | O36: 1 | P36: 1
C37: 2:30-04:00 | E37: 1 | I37: 1 | P37: 2
A38: (L2T3)C | B38: Sunday | C38: 10:00-11:30 | E38: 1 | P38: 1
C39: 11:30-01:00 | N39: 1 | P39: 1
C40: 01:00-02:30 | N40: 1 | P40: 1
B41: Monday | C41: 08:30-10:00 | H41: 1 | P41: 1
C42: 2:30-04:00 | O42: 1 | P42: 1
C43: 04:00-05:30 | O43: 1 | P43: 1
B44: Tuesday | C44: 10:00-11:30 | D44: 1 | P44: 1
B45: Wednesday | C45: 2:30-04:00 | E45: 1 | P45: 1
B46: Thursday | C46: 08:30-10:00 | J46: 1 | P46: 1
C47: 10:00-11:30 | D47: 1 | P47: 1
B48: Saturday | C48: 10:00-11:30 | I48: 1 | P48: 1
C49: 01:00-02:30 | J49: 1 | P49: 1
A50: (L2T3)B | B50: Sunday | C50: 01:00-02:30 | G50: 1 | P50: 1
B51: Monday | C51: 2:30-04:00 | E51: 1 | P51: 1
B52: Wednesday | C52: 08:30-10:00 | N52: 1 | P52: 1
C53: 10:00-11:30 | N53: 1 | P53: 1
C54: 11:30-01:00 | E54: 1 | P54: 1
B55: Thursday | C55: 08:30-10:00 | F55: 1 | P55: 1
C56: 10:00-11:30 | K56: 1 | P56: 1
C57: 04:00-05:30 | H57: 1 | P57: 1
B58: Saturday | C58: 10:00-11:30 | J58: 1 | P58: 1
C59: 11:30-01:00 | G59: 1 | O59: 1 | P59: 2
C60: 01:00-02:30 | O60: 1 | P60: 1
A61: (L2T3)A | B61: Sunday | C61: 01:00-02:30 | E61: 1 | P61: 1
C62: 2:30-04:00 | N62: 1 | P62: 1
C63: 04:00-05:30 | N63: 1 | P63: 1
B64: Monday | C64: 10:00-11:30 | F64: 1 | P64: 1
C65: 11:30-01:00 | O65: 1 | P65: 1
C66: 01:00-02:30 | O66: 1 | P66: 1
B67: Tuesday | C67: 11:30-01:00 | H67: 1 | P67: 1
B68: Thursday | C68: 11:30-01:00 | K68: 1 | P68: 1
C69: 01:00-02:30 | E69: 1 | P69: 1
B70: Saturday | C70: 08:30-10:00 | J70: 1 | P70: 1
C71: 10:00-11:30 | G71: 1 | P71: 1
C72: 11:30-01:00 | E72: 1 | P72: 1
A73: Grand Total | D73: 4 | E73: 11 | F73: 6 | G73: 5 | H73: 5 | I73: 2 | J73: 8 | K73: 5 | L73: 1 | M73: 1 | N73: 12 | O73: 10 | P73: 70

Sheet Data
A1: ='Teacher''s routine'!B1 -> 0 | B1: No. of Classroom | C1: 12 | D1: 08:30-10:00 | E1: 10:00-11:30 | F1: 11:30-01:00 | G1: 01:00-02:30 | H1: 2:30-04:00 | I1: 04:00-05:30 | K1: 08:30-10:00 | L1: A | P1: Faculty List | R1: Faculty List
B2: Saturday | C2: 6 | D2: =IF($A$1=1,IFERROR(INDEX($A$10:$O$842,MATCH(CONCATENATE($B2,D$1,$A$3),$J$10:$J$842,0),15),""),IFERROR(INDEX($A$10:$O$842,MATCH(CONCATENATE($B2,D$1,$A$5),$K$10:$K$842,0),15),"")) | E2: =IF($A$1=1,IFERROR(INDEX($A$10:$O$842,MATCH(CONCATENATE($B2,E$1,$A$3),$J$10:$J$842,0),15),""),IFERROR(INDEX($A$10:$O$842,MATCH(CONCATENATE($B2,E$1,$A$5),$K$10:$K$842,0),15),"")) | F2: =IF($A$1=1,IFERROR(INDEX($A$10:$O$842,MATCH(CONCATENATE($B2,F$1,$A$3),$J$10:$J$842,0),15),""),IFERROR(INDEX($A$10:$O$842,MATCH(CONCATENATE($B2,F$1,$A$5),$K$10:$K$842,0),15),"")) | G2: =IF($A$1=1,IFERROR(INDEX($A$10:$O$842,MATCH(CONCATENATE($B2,G$1,$A$3),$J$10:$J$842,0),15),""),IFERROR(INDEX($A$10:$O$842,MATCH(CONCATENATE($B2,G$1,$A$5),$K$10:$K$842,0),15),"")) | H2: =IF($A$1=1,IFERROR(INDEX($A$10:$O$842,MATCH(CONCATENATE($B2,H$1,$A$3),$J$10:$J$842,0),15),""),IFERROR(INDEX($A$10:$O$842,MATCH(CONCATENATE($B2,H$1,$A$5),$K$10:$K$842,0),15),"")) | I2: =IF($A$1=1,IFERROR(INDEX($A$10:$O$842,MATCH(CONCATENATE($B2,I$1,$A$3),$J$10:$J$842,0),15),""),IFERROR(INDEX($A$10:$O$842,MATCH(CONCATENATE($B2,I$1,$A$5),$K$10:$K$842,0),15),"")) | K2: 10:00-11:30 | L2: D
A3: MSZ | B3: Sunday | C3: 39 | D3: =IF($A$1=1,IFERROR(INDEX($A$10:$O$842,MATCH(CONCATENATE($B3,D$1,$A$3),$J$10:$J$842,0),15),""),IFERROR(INDEX($A$10:$O$842,MATCH(CONCATENATE($B3,D$1,$A$5),$K$10:$K$842,0),15),"")) -> TE406(L4T1)A 703 --- AAA | E3: =IF($A$1=1,IFERROR(INDEX($A$10:$O$842,MATCH(CONCATENATE($B3,E$1,$A$3),$J$10:$J$842,0),15),""),IFERROR(INDEX($A$10:$O$842,MATCH(CONCATENATE($B3,E$1,$A$5),$K$10:$K$842,0),15),"")) -> TE409(L4T1)A 301 --- MH | F3: =IF($A$1=1,IFERROR(INDEX($A$10:$O$842,MATCH(CONCATENATE($B3,F$1,$A$3),$J$10:$J$842,0),15),""),IFERROR(INDEX($A$10:$O$842,MATCH(CONCATENATE($B3,F$1,$A$5),$K$10:$K$842,0),15),"")) | G3: =IF($A$1=1,IFERROR(INDEX($A$10:$O$842,MATCH(CONCATENATE($B3,G$1,$A$3),$J$10:$J$842,0),15),""),IFERROR(INDEX($A$10:$O$842,MATCH(CONCATENATE($B3,G$1,$A$5),$K$10:$K$842,0),15),"")) | H3: =IF($A$1=1,IFERROR(INDEX($A$10:$O$842,MATCH(CONCATENATE($B3,H$1,$A$3),$J$10:$J$842,0),15),""),IFERROR(INDEX($A$10:$O$842,MATCH(CONCATENATE($B3,H$1,$A$5),$K$10:$K$842,0),15),"")) | I3: =IF($A$1=1,IFERROR(INDEX($A$10:$O$842,MATCH(CONCATENATE($B3,I$1,$A$3),$J$10:$J$842,0),15),""),IFERROR(INDEX($A$10:$O$842,MATCH(CONCATENATE($B3,I$1,$A$5),$K$10:$K$842,0),15),"")) | K3: 11:30-01:00 | L3: G | P3: Teacher | R3: Section | S3: 125
B4: Monday | C4: 77 | D4: =IF($A$1=1,IFERROR(INDEX($A$10:$O$842,MATCH(CONCATENATE($B4,D$1,$A$3),$J$10:$J$842,0),15),""),IFERROR(INDEX($A$10:$O$842,MATCH(CONCATENATE($B4,D$1,$A$5),$K$10:$K$842,0),15),"")) | E4: =IF($A$1=1,IFERROR(INDEX($A$10:$O$842,MATCH(CONCATENATE($B4,E$1,$A$3),$J$10:$J$842,0),15),""),IFERROR(INDEX($A$10:$O$842,MATCH(CONCATENATE($B4,E$1,$A$5),$K$10:$K$842,0),15),"")) | F4: =IF($A$1=1,IFERROR(INDEX($A$10:$O$842,MATCH(CONCATENATE($B4,F$1,$A$3),$J$10:$J$842,0),15),""),IFERROR(INDEX($A$10:$O$842,MATCH(CONCATENATE($B4,F$1,$A$5),$K$10:$K$842,0),15),"")) | G4: =IF($A$1=1,IFERROR(INDEX($A$10:$O$842,MATCH(CONCATENATE($B4,G$1,$A$3),$J$10:$J$842,0),15),""),IFERROR(INDEX($A$10:$O$842,MATCH(CONCATENATE($B4,G$1,$A$5),$K$10:$K$842,0),15),"")) -> TE406(L4T1)A 703 --- AAA | H4: =IF($A$1=1,IFERROR(INDEX($A$10:$O$842,MATCH(CONCATENATE($B4,H$1,$A$3),$J$10:$J$842,0),15),""),IFERROR(INDEX($A$10:$O$842,MATCH(CONCATENATE($B4,H$1,$A$5),$K$10:$K$842,0),15),"")) | I4: =IF($A$1=1,IFERROR(INDEX($A$10:$O$842,MATCH(CONCATENATE($B4,I$1,$A$3),$J$10:$J$842,0),15),""),IFERROR(INDEX($A$10:$O$842,MATCH(CONCATENATE($B4,I$1,$A$5),$K$10:$K$842,0),15),"")) | K4: 01:00-02:30 | L4: J | P4: 0 | R4: 0 | S4: 163
A5: (L4T1)A | B5: Tuesday | C5: 113 | D5: =IF($A$1=1,IFERROR(INDEX($A$10:$O$842,MATCH(CONCATENATE($B5,D$1,$A$3),$J$10:$J$842,0),15),""),IFERROR(INDEX($A$10:$O$842,MATCH(CONCATENATE($B5,D$1,$A$5),$K$10:$K$842,0),15),"")) | E5: =IF($A$1=1,IFERROR(INDEX($A$10:$O$842,MATCH(CONCATENATE($B5,E$1,$A$3),$J$10:$J$842,0),15),""),IFERROR(INDEX($A$10:$O$842,MATCH(CONCATENATE($B5,E$1,$A$5),$K$10:$K$842,0),15),"")) -> TE405(L4T1)A 707 --- MRR | F5: =IF($A$1=1,IFERROR(INDEX($A$10:$O$842,MATCH(CONCATENATE($B5,F$1,$A$3),$J$10:$J$842,0),15),""),IFERROR(INDEX($A$10:$O$842,MATCH(CONCATENATE($B5,F$1,$A$5),$K$10:$K$842,0),15),"")) | G5: =IF($A$1=1,IFERROR(INDEX($A$10:$O$842,MATCH(CONCATENATE($B5,G$1,$A$3),$J$10:$J$842,0),15),""),IFERROR(INDEX($A$10:$O$842,MATCH(CONCATENATE($B5,G$1,$A$5),$K$10:$K$842,0),15),"")) | H5: =IF($A$1=1,IFERROR(INDEX($A$10:$O$842,MATCH(CONCATENATE($B5,H$1,$A$3),$J$10:$J$842,0),15),""),IFERROR(INDEX($A$10:$O$842,MATCH(CONCATENATE($B5,H$1,$A$5),$K$10:$K$842,0),15),"")) | I5: =IF($A$1=1,IFERROR(INDEX($A$10:$O$842,MATCH(CONCATENATE($B5,I$1,$A$3),$J$10:$J$842,0),15),""),IFERROR(INDEX($A$10:$O$842,MATCH(CONCATENATE($B5,I$1,$A$5),$K$10:$K$842,0),15),"")) | K5: 2:30-04:00 | L5: M | P5: AAA | R5: (L4T1)A | S5: 199
B6: Wednesday | C6: 151 | D6: =IF($A$1=1,IFERROR(INDEX($A$10:$O$842,MATCH(CONCATENATE($B6,D$1,$A$3),$J$10:$J$842,0),15),""),IFERROR(INDEX($A$10:$O$842,MATCH(CONCATENATE($B6,D$1,$A$5),$K$10:$K$842,0),15),"")) | E6: =IF($A$1=1,IFERROR(INDEX($A$10:$O$842,MATCH(CONCATENATE($B6,E$1,$A$3),$J$10:$J$842,0),15),""),IFERROR(INDEX($A$10:$O$842,MATCH(CONCATENATE($B6,E$1,$A$5),$K$10:$K$842,0),15),"")) | F6: =IF($A$1=1,IFERROR(INDEX($A$10:$O$842,MATCH(CONCATENATE($B6,F$1,$A$3),$J$10:$J$842,0),15),""),IFERROR(INDEX($A$10:$O$842,MATCH(CONCATENATE($B6,F$1,$A$5),$K$10:$K$842,0),15),"")) | G6: =IF($A$1=1,IFERROR(INDEX($A$10:$O$842,MATCH(CONCATENATE($B6,G$1,$A$3),$J$10:$J$842,0),15),""),IFERROR(INDEX($A$10:$O$842,MATCH(CONCATENATE($B6,G$1,$A$5),$K$10:$K$842,0),15),"")) -> TE405(L4T1)A 711 --- MRR | H6: =IF($A$1=1,IFERROR(INDEX($A$10:$O$842,MATCH(CONCATENATE($B6,H$1,$A$3),$J$10:$J$842,0),15),""),IFERROR(INDEX($A$10:$O$842,MATCH(CONCATENATE($B6,H$1,$A$5),$K$10:$K$842,0),15),"")) -> TE405(L4T1)A L-QC2 708 --- MRR | I6: =IF($A$1=1,IFERROR(INDEX($A$10:$O$842,MATCH(CONCATENATE($B6,I$1,$A$3),$J$10:$J$842,0),15),""),IFERROR(INDEX($A$10:$O$842,MATCH(CONCATENATE($B6,I$1,$A$5),$K$10:$K$842,0),15),"")) -> TE405(L4T1)A L-QC2 708 --- MRR | K6: 04:00-05:30 | L6: P | P6: AAM | R6: (L4T1)C
B7: Thursday | C7: 187 | D7: =IF($A$1=1,IFERROR(INDEX($A$10:$O$842,MATCH(CONCATENATE($B7,D$1,$A$3),$J$10:$J$842,0),15),""),IFERROR(INDEX($A$10:$O$842,MATCH(CONCATENATE($B7,D$1,$A$5),$K$10:$K$842,0),15),"")) | E7: =IF($A$1=1,IFERROR(INDEX($A$10:$O$842,MATCH(CONCATENATE($B7,E$1,$A$3),$J$10:$J$842,0),15),""),IFERROR(INDEX($A$10:$O$842,MATCH(CONCATENATE($B7,E$1,$A$5),$K$10:$K$842,0),15),"")) | F7: =IF($A$1=1,IFERROR(INDEX($A$10:$O$842,MATCH(CONCATENATE($B7,F$1,$A$3),$J$10:$J$842,0),15),""),IFERROR(INDEX($A$10:$O$842,MATCH(CONCATENATE($B7,F$1,$A$5),$K$10:$K$842,0),15),"")) | G7: =IF($A$1=1,IFERROR(INDEX($A$10:$O$842,MATCH(CONCATENATE($B7,G$1,$A$3),$J$10:$J$842,0),15),""),IFERROR(INDEX($A$10:$O$842,MATCH(CONCATENATE($B7,G$1,$A$5),$K$10:$K$842,0),15),"")) | H7: =IF($A$1=1,IFERROR(INDEX($A$10:$O$842,MATCH(CONCATENATE($B7,H$1,$A$3),$J$10:$J$842,0),15),""),IFERROR(INDEX($A$10:$O$842,MATCH(CONCATENATE($B7,H$1,$A$5),$K$10:$K$842,0),15),"")) | I7: =IF($A$1=1,IFERROR(INDEX($A$10:$O$842,MATCH(CONCATENATE($B7,I$1,$A$3),$J$10:$J$842,0),15),""),IFERROR(INDEX($A$10:$O$842,MATCH(CONCATENATE($B7,I$1,$A$5),$K$10:$K$842,0),15),"")) | P7: AG | R7: (L4T1)D
P8: AHB | R8: xxx
P9: AHM | R9: (L4T1)E
A10: Sl | B10: Day | C10: Time | D10: Ref. | E10: Ref | F10: Class room | G10: Course | H10: Teacher | I10: Section | J10: Code 1 | K10: Code 2 | L10: Duplicate | M10: LT | N10: CLASS/LAB | O10: CODE3 | P10: AI | R10: (L4T1)A(Ap)
A11: 1 | B11: Saturday | C11: =LOOKUP(D11,$L$1:$L$6,$K$1:$K$6) -> 08:30-10:00 | D11: A | E11: =$C$2 -> 6 | F11: =INDIRECT(CONCATENATE("Sheet1!",CHAR(CODE(D11)),E11),1) -> 701 | G11: =INDIRECT(CONCATENATE("Sheet1!",CHAR(CODE(D11)+1),E11),1) -> 0 | H11: =INDIRECT(CONCATENATE("Sheet1!",CHAR(CODE(D11)+2),E11),1) -> 0 | I11: =IFERROR(MID(G11,SEARCH("(",G11,1),12),G11) -> 0 | J11: =CONCATENATE(B11,C11,H11) -> Saturday08:30-10:000 | K11: =CONCATENATE(B11,C11,I11) -> Saturday08:30-10:000 | L11: =COUNTIFS($J$11:$J$442,J11) -> 7 | M11: =IFERROR(MID(I11,2,4),I11) | O11: =CONCATENATE(G11,CHAR(10),F11," --- ",H11) -> 0 701 --- 0 | P11: AKA | R11: (L4T1)(WP)
A12: 2 | B12: Saturday | C12: =LOOKUP(D12,$L$1:$L$6,$K$1:$K$6) -> 08:30-10:00 | D12: A | E12: =E11+1 -> 7 | F12: =INDIRECT(CONCATENATE("Sheet1!",CHAR(CODE(D12)),E12),1) -> 702 | G12: =INDIRECT(CONCATENATE("Sheet1!",CHAR(CODE(D12)+1),E12),1) -> TE309(L3T2)B | H12: =INDIRECT(CONCATENATE("Sheet1!",CHAR(CODE(D12)+2),E12),1) -> MSB | I12: =IFERROR(MID(G12,SEARCH("(",G12,1),12),G12) -> (L3T2)B | J12: =CONCATENATE(B12,C12,H12) -> Saturday08:30-10:00MSB | K12: =CONCATENATE(B12,C12,I12) -> Saturday08:30-10:00(L3T2)B | L12: =COUNTIFS($J$11:$J$442,J12) -> 1 | M12: =IFERROR(MID(I12,2,4),I12) -> L3T2 | O12: =CONCATENATE(G12,CHAR(10),F12," --- ",H12) -> TE309(L3T2)B 702 --- MSB | P12: AMK | R12: (L4T2)(WP)
A13: 3 | B13: Saturday | C13: =LOOKUP(D13,$L$1:$L$6,$K$1:$K$6) -> 08:30-10:00 | D13: A | E13: =E12+1 -> 8 | F13: =INDIRECT(CONCATENATE("Sheet1!",CHAR(CODE(D13)),E13),1) -> 703 | G13: =INDIRECT(CONCATENATE("Sheet1!",CHAR(CODE(D13)+1),E13),1) -> TE211(L2T1)D | H13: =INDIRECT(CONCATENATE("Sheet1!",CHAR(CODE(D13)+2),E13),1) -> MRI | I13: =IFERROR(MID(G13,SEARCH("(",G13,1),12),G13) -> (L2T1)D | J13: =CONCATENATE(B13,C13,H13) -> Saturday08:30-10:00MRI | K13: =CONCATENATE(B13,C13,I13) -> Saturday08:30-10:00(L2T1)D | L13: =COUNTIFS($J$11:$J$442,J13) -> 1 | M13: =IFERROR(MID(I13,2,4),I13) -> L2T1 | O13: =CONCATENATE(G13,CHAR(10),F13," --- ",H13) -> TE211(L2T1)D 703 --- MRI | P13: ANF | R13: (L4T1)B(Ap)
A14: 4 | B14: Saturday | C14: =LOOKUP(D14,$L$1:$L$6,$K$1:$K$6) -> 08:30-10:00 | D14: A | E14: =E13+1 -> 9 | F14: =INDIRECT(CONCATENATE("Sheet1!",CHAR(CODE(D14)),E14),1) -> 704 | G14: =INDIRECT(CONCATENATE("Sheet1!",CHAR(CODE(D14)+1),E14),1) -> TE306(L3T2)A | H14: =INDIRECT(CONCATENATE("Sheet1!",CHAR(CODE(D14)+2),E14),1) -> TM | I14: =IFERROR(MID(G14,SEARCH("(",G14,1),12),G14) -> (L3T2)A | J14: =CONCATENATE(B14,C14,H14) -> Saturday08:30-10:00TM | K14: =CONCATENATE(B14,C14,I14) -> Saturday08:30-10:00(L3T2)A | L14: =COUNTIFS($J$11:$J$442,J14) -> 1 | M14: =IFERROR(MID(I14,2,4),I14) -> L3T2 | O14: =CONCATENATE(G14,CHAR(10),F14," --- ",H14) -> TE306(L3T2)A 704 --- TM | P14: BCD | R14: (L4T2)A(Ap)
A15: 5 | B15: Saturday | C15: =LOOKUP(D15,$L$1:$L$6,$K$1:$K$6) -> 08:30-10:00 | D15: A | E15: =E14+1 -> 10 | F15: =INDIRECT(CONCATENATE("Sheet1!",CHAR(CODE(D15)),E15),1) -> 705 | G15: =INDIRECT(CONCATENATE("Sheet1!",CHAR(CODE(D15)+1),E15),1) -> 0 | H15: =INDIRECT(CONCATENATE("Sheet1!",CHAR(CODE(D15)+2),E15),1) -> 0 | I15: =IFERROR(MID(G15,SEARCH("(",G15,1),12),G15) -> 0 | J15: =CONCATENATE(B15,C15,H15) -> Saturday08:30-10:000 | K15: =CONCATENATE(B15,C15,I15) -> Saturday08:30-10:000 | L15: =COUNTIFS($J$11:$J$442,J15) -> 7 | M15: =IFERROR(MID(I15,2,4),I15) | O15: =CONCATENATE(G15,CHAR(10),F15," --- ",H15) -> 0 705 --- 0 | P15: CHE | R15: (L1T1)B
A16: 6 | B16: Saturday | C16: =LOOKUP(D16,$L$1:$L$6,$K$1:$K$6) -> 08:30-10:00 | D16: A | E16: =E15+1 -> 11 | F16: =INDIRECT(CONCATENATE("Sheet1!",CHAR(CODE(D16)),E16),1) -> 706 | G16: =INDIRECT(CONCATENATE("Sheet1!",CHAR(CODE(D16)+1),E16),1) -> TE132(L1T3)A | H16: =INDIRECT(CONCATENATE("Sheet1!",CHAR(CODE(D16)+2),E16),1) -> WAB | I16: =IFERROR(MID(G16,SEARCH("(",G16,1),12),G16) -> (L1T3)A | J16: =CONCATENATE(B16,C16,H16) -> Saturday08:30-10:00WAB | K16: =CONCATENATE(B16,C16,I16) -> Saturday08:30-10:00(L1T3)A | L16: =COUNTIFS($J$11:$J$442,J16) -> 1 | M16: =IFERROR(MID(I16,2,4),I16) -> L1T3 | O16: =CONCATENATE(G16,CHAR(10),F16," --- ",H16) -> TE132(L1T3)A 706 --- WAB | P16: DMA | R16: (L1T1)A
A17: 7 | B17: Saturday | C17: =LOOKUP(D17,$L$1:$L$6,$K$1:$K$6) -> 08:30-10:00 | D17: A | E17: =E16+1 -> 12 | F17: =INDIRECT(CONCATENATE("Sheet1!",CHAR(CODE(D17)),E17),1) -> 707 | G17: =INDIRECT(CONCATENATE("Sheet1!",CHAR(CODE(D17)+1),E17),1) -> 0 | H17: =INDIRECT(CONCATENATE("Sheet1!",CHAR(CODE(D17)+2),E17),1) -> 0 | I17: =IFERROR(MID(G17,SEARCH("(",G17,1),12),G17) -> 0 | J17: =CONCATENATE(B17,C17,H17) -> Saturday08:30-10:000 | K17: =CONCATENATE(B17,C17,I17) -> Saturday08:30-10:000 | L17: =COUNTIFS($J$11:$J$442,J17) -> 7 | M17: =IFERROR(MID(I17,2,4),I17) | O17: =CONCATENATE(G17,CHAR(10),F17," --- ",H17) -> 0 707 --- 0 | P17: E-2 | R17: (L4T2)B(Ap)
A18: 8 | B18: Saturday | C18: =LOOKUP(D18,$L$1:$L$6,$K$1:$K$6) -> 08:30-10:00 | D18: A | E18: =E17+1 -> 13 | F18: =INDIRECT(CONCATENATE("Sheet1!",CHAR(CODE(D18)),E18),1) -> 301P | G18: =INDIRECT(CONCATENATE("Sheet1!",CHAR(CODE(D18)+1),E18),1) -> 0 | H18: =INDIRECT(CONCATENATE("Sheet1!",CHAR(CODE(D18)+2),E18),1) -> 0 | I18: =IFERROR(MID(G18,SEARCH("(",G18,1),12),G18) -> 0 | J18: =CONCATENATE(B18,C18,H18) -> Saturday08:30-10:000 | K18: =CONCATENATE(B18,C18,I18) -> Saturday08:30-10:000 | L18: =COUNTIFS($J$11:$J$442,J18) -> 7 | M18: =IFERROR(MID(I18,2,4),I18) | O18: =CONCATENATE(G18,CHAR(10),F18," --- ",H18) -> 0 301P --- 0 | P18: ENG | R18: (L1T1)C
A19: 9 | B19: Saturday | C19: =LOOKUP(D19,$L$1:$L$6,$K$1:$K$6) -> 08:30-10:00 | D19: A | E19: =E18+1 -> 14 | F19: =INDIRECT(CONCATENATE("Sheet1!",CHAR(CODE(D19)),E19),1) -> 304P | G19: =INDIRECT(CONCATENATE("Sheet1!",CHAR(CODE(D19)+1),E19),1) -> 0 | H19: =INDIRECT(CONCATENATE("Sheet1!",CHAR(CODE(D19)+2),E19),1) -> 0 | I19: =IFERROR(MID(G19,SEARCH("(",G19,1),12),G19) -> 0 | J19: =CONCATENATE(B19,C19,H19) -> Saturday08:30-10:000 | K19: =CONCATENATE(B19,C19,I19) -> Saturday08:30-10:000 | L19: =COUNTIFS($J$11:$J$442,J19) -> 7 | M19: =IFERROR(MID(I19,2,4),I19) | O19: =CONCATENATE(G19,CHAR(10),F19," --- ",H19) -> 0 304P --- 0 | P19: FBS | R19: (L2T2)C
A20: 10 | B20: Saturday | C20: =LOOKUP(D20,$L$1:$L$6,$K$1:$K$6) -> 08:30-10:00 | D20: A | E20: =E19+1 -> 15 | F20: =INDIRECT(CONCATENATE("Sheet1!",CHAR(CODE(D20)),E20),1) -> 711 | G20: =INDIRECT(CONCATENATE("Sheet1!",CHAR(CODE(D20)+1),E20),1) -> 0 | H20: =INDIRECT(CONCATENATE("Sheet1!",CHAR(CODE(D20)+2),E20),1) -> 0 | I20: =IFERROR(MID(G20,SEARCH("(",G20,1),12),G20) -> 0 | J20: =CONCATENATE(B20,C20,H20) -> Saturday08:30-10:000 | K20: =CONCATENATE(B20,C20,I20) -> Saturday08:30-10:000 | L20: =COUNTIFS($J$11:$J$442,J20) -> 7 | M20: =IFERROR(MID(I20,2,4),I20) | O20: =CONCATENATE(G20,CHAR(10),F20," --- ",H20) -> 0 711 --- 0 | P20: FHA | R20: (L1T3)A
A21: 11 | B21: Saturday | C21: =LOOKUP(D21,$L$1:$L$6,$K$1:$K$6) -> 08:30-10:00 | D21: A | E21: =E20+1 -> 16 | F21: =INDIRECT(CONCATENATE("Sheet1!",CHAR(CODE(D21)),E21),1) -> 712 | G21: =INDIRECT(CONCATENATE("Sheet1!",CHAR(CODE(D21)+1),E21),1) -> BUC403(L3T3)C | H21: =INDIRECT(CONCATENATE("Sheet1!",CHAR(CODE(D21)+2),E21),1) -> SH1 | I21: =IFERROR(MID(G21,SEARCH("(",G21,1),12),G21) -> (L3T3)C | J21: =CONCATENATE(B21,C21,H21) -> Saturday08:30-10:00SH1 | K21: =CONCATENATE(B21,C21,I21) -> Saturday08:30-10:00(L3T3)C | L21: =COUNTIFS($J$11:$J$442,J21) -> 1 | M21: =IFERROR(MID(I21,2,4),I21) -> L3T3 | O21: =CONCATENATE(G21,CHAR(10),F21," --- ",H21) -> BUC403(L3T3)C 712 --- SH1 | P21: FHS | R21: (L1T3)B
A22: 11 | B22: Saturday | C22: =LOOKUP(D22,$L$1:$L$6,$K$1:$K$6) -> 08:30-10:00 | D22: A | E22: =E21+1 -> 17 | F22: =INDIRECT(CONCATENATE("Sheet1!",CHAR(CODE(D22)),E22),1) -> 506 | G22: =INDIRECT(CONCATENATE("Sheet1!",CHAR(CODE(D22)+1),E22),1) -> 0 | H22: =INDIRECT(CONCATENATE("Sheet1!",CHAR(CODE(D22)+2),E22),1) -> 0 | I22: =IFERROR(MID(G22,SEARCH("(",G22,1),12),G22) -> 0 | J22: =CONCATENATE(B22,C22,H22) -> Saturday08:30-10:000 | K22: =CONCATENATE(B22,C22,I22) -> Saturday08:30-10:000 | L22: =COUNTIFS($J$11:$J$442,J22) -> 7 | M22: =IFERROR(MID(I22,2,4),I22) | O22: =CONCATENATE(G22,CHAR(10),F22," --- ",H22) -> 0 506 --- 0 | P22: FN | R22: (L1T2)A
A23: 13 | B23: Saturday | C23: =LOOKUP(D23,$L$1:$L$6,$K$1:$K$6) -> 10:00-11:30 | D23: D | E23: =E11 -> 6 | F23: =INDIRECT(CONCATENATE("Sheet1!",CHAR(CODE(D23)),E23),1) -> 701 | G23: =INDIRECT(CONCATENATE("Sheet1!",CHAR(CODE(D23)+1),E23),1) -> TE306(L3T2)B | H23: =INDIRECT(CONCATENATE("Sheet1!",CHAR(CODE(D23)+2),E23),1) -> TM | I23: =IFERROR(MID(G23,SEARCH("(",G23,1),12),G23) -> (L3T2)B | J23: =CONCATENATE(B23,C23,H23) -> Saturday10:00-11:30TM | K23: =CONCATENATE(B23,C23,I23) -> Saturday10:00-11:30(L3T2)B | L23: =COUNTIFS($J$11:$J$442,J23) -> 1 | M23: =IFERROR(MID(I23,2,4),I23) -> L3T2 | O23: =CONCATENATE(G23,CHAR(10),F23," --- ",H23) -> TE306(L3T2)B 701 --- TM | P23: FS | R23: (L1T3)C
A24: 14 | B24: Saturday | C24: =LOOKUP(D24,$L$1:$L$6,$K$1:$K$6) -> 10:00-11:30 | D24: D | E24: =E23+1 -> 7 | F24: =INDIRECT(CONCATENATE("Sheet1!",CHAR(CODE(D24)),E24),1) -> 702 | G24: =INDIRECT(CONCATENATE("Sheet1!",CHAR(CODE(D24)+1),E24),1) -> TE408(L4T2)B(Ap) | H24: =INDIRECT(CONCATENATE("Sheet1!",CHAR(CODE(D24)+2),E24),1) -> AAM | I24: =IFERROR(MID(G24,SEARCH("(",G24,1),12),G24) -> (L4T2)B(Ap) | J24: =CONCATENATE(B24,C24,H24) -> Saturday10:00-11:30AAM | K24: =CONCATENATE(B24,C24,I24) -> Saturday10:00-11:30(L4T2)B(Ap) | L24: =COUNTIFS($J$11:$J$442,J24) -> 1 | M24: =IFERROR(MID(I24,2,4),I24) -> L4T2 | O24: =CONCATENATE(G24,CHAR(10),F24," --- ",H24) -> TE408(L4T2)B(Ap) 702 --- AAM | P24: FZ | R24: (L1T2)B
A25: 15 | B25: Saturday | C25: =LOOKUP(D25,$L$1:$L$6,$K$1:$K$6) -> 10:00-11:30 | D25: D | E25: =E24+1 -> 8 | F25: =INDIRECT(CONCATENATE("Sheet1!",CHAR(CODE(D25)),E25),1) -> 703 | G25: =INDIRECT(CONCATENATE("Sheet1!",CHAR(CODE(D25)+1),E25),1) -> MAT133(L1T3)F | H25: =INDIRECT(CONCATENATE("Sheet1!",CHAR(CODE(D25)+2),E25),1) -> BCD | I25: =IFERROR(MID(G25,SEARCH("(",G25,1),12),G25) -> (L1T3)F | J25: =CONCATENATE(B25,C25,H25) -> Saturday10:00-11:30BCD | K25: =CONCATENATE(B25,C25,I25) -> Saturday10:00-11:30(L1T3)F | L25: =COUNTIFS($J$11:$J$442,J25) -> 1 | M25: =IFERROR(MID(I25,2,4),I25) -> L1T3 | O25: =CONCATENATE(G25,CHAR(10),F25," --- ",H25) -> MAT133(L1T3)F 703 --- BCD | P25: MAB | R25: (L4T2)(Fb)
A26: 16 | B26: Saturday | C26: =LOOKUP(D26,$L$1:$L$6,$K$1:$K$6) -> 10:00-11:30 | D26: D | E26: =E25+1 -> 9 | F26: =INDIRECT(CONCATENATE("Sheet1!",CHAR(CODE(D26)),E26),1) -> 704 | G26: =INDIRECT(CONCATENATE("Sheet1!",CHAR(CODE(D26)+1),E26),1) -> TE210(L2T3)A | H26: =INDIRECT(CONCATENATE("Sheet1!",CHAR(CODE(D26)+2),E26),1) -> SH | I26: =IFERROR(MID(G26,SEARCH("(",G26,1),12),G26) -> (L2T3)A | J26: =CONCATENATE(B26,C26,H26) -> Saturday10:00-11:30SH | K26: =CONCATENATE(B26,C26,I26) -> Saturday10:00-11:30(L2T3)A | L26: =COUNTIFS($J$11:$J$442,J26) -> 1 | M26: =IFERROR(MID(I26,2,4),I26) -> L2T3 | O26: =CONCATENATE(G26,CHAR(10),F26," --- ",H26) -> TE210(L2T3)A 704 --- SH | P26: MH | R26: (L3T1)A
A27: 17 | B27: Saturday | C27: =LOOKUP(D27,$L$1:$L$6,$K$1:$K$6) -> 10:00-11:30 | D27: D | E27: =E26+1 -> 10 | F27: =INDIRECT(CONCATENATE("Sheet1!",CHAR(CODE(D27)),E27),1) -> 705 | G27: =INDIRECT(CONCATENATE("Sheet1!",CHAR(CODE(D27)+1),E27),1) -> TE133(L1T3)A | H27: =INDIRECT(CONCATENATE("Sheet1!",CHAR(CODE(D27)+2),E27),1) -> MMI | I27: =IFERROR(MID(G27,SEARCH("(",G27,1),12),G27) -> (L1T3)A | J27: =CONCATENATE(B27,C27,H27) -> Saturday10:00-11:30MMI | K27: =CONCATENATE(B27,C27,I27) -> Saturday10:00-11:30(L1T3)A | L27: =COUNTIFS($J$11:$J$442,J27) -> 1 | M27: =IFERROR(MID(I27,2,4),I27) -> L1T3 | O27: =CONCATENATE(G27,CHAR(10),F27," --- ",H27) -> TE133(L1T3)A 705 --- MMI | P27: MIM | R27: (L3T1)B
A28: 18 | B28: Saturday | C28: =LOOKUP(D28,$L$1:$L$6,$K$1:$K$6) -> 10:00-11:30 | D28: D | E28: =E27+1 -> 11 | F28: =INDIRECT(CONCATENATE("Sheet1!",CHAR(CODE(D28)),E28),1) -> 706 | G28: =INDIRECT(CONCATENATE("Sheet1!",CHAR(CODE(D28)+1),E28),1) -> PHY111(L1T1)A | H28: =INDIRECT(CONCATENATE("Sheet1!",CHAR(CODE(D28)+2),E28),1) -> AKA | I28: =IFERROR(MID(G28,SEARCH("(",G28,1),12),G28) -> (L1T1)A | J28: =CONCATENATE(B28,C28,H28) -> Saturday10:00-11:30AKA | K28: =CONCATENATE(B28,C28,I28) -> Saturday10:00-11:30(L1T1)A | L28: =COUNTIFS($J$11:$J$442,J28) -> 1 | M28: =IFERROR(MID(I28,2,4),I28) -> L1T1 | O28: =CONCATENATE(G28,CHAR(10),F28," --- ",H28) -> PHY111(L1T1)A 706 --- AKA | P28: MK | R28: (L3T3)B
A29: 19 | B29: Saturday | C29: =LOOKUP(D29,$L$1:$L$6,$K$1:$K$6) -> 10:00-11:30 | D29: D | E29: =E28+1 -> 12 | F29: =INDIRECT(CONCATENATE("Sheet1!",CHAR(CODE(D29)),E29),1) -> 707 | G29: =INDIRECT(CONCATENATE("Sheet1!",CHAR(CODE(D29)+1),E29),1) -> A&M209(L2T3)C | H29: =INDIRECT(CONCATENATE("Sheet1!",CHAR(CODE(D29)+2),E29),1) -> MAN | I29: =IFERROR(MID(G29,SEARCH("(",G29,1),12),G29) -> (L2T3)C | J29: =CONCATENATE(B29,C29,H29) -> Saturday10:00-11:30MAN | K29: =CONCATENATE(B29,C29,I29) -> Saturday10:00-11:30(L2T3)C | L29: =COUNTIFS($J$11:$J$442,J29) -> 1 | M29: =IFERROR(MID(I29,2,4),I29) -> L2T3 | O29: =CONCATENATE(G29,CHAR(10),F29," --- ",H29) -> A&M209(L2T3)C 707 --- MAN | P29: MMH | R29: (L3T3)A
A30: 20 | B30: Saturday | C30: =LOOKUP(D30,$L$1:$L$6,$K$1:$K$6) -> 10:00-11:30 | D30: D | E30: =E29+1 -> 13 | F30: =INDIRECT(CONCATENATE("Sheet1!",CHAR(CODE(D30)),E30),1) -> 301P | G30: =INDIRECT(CONCATENATE("Sheet1!",CHAR(CODE(D30)+1),E30),1) -> 0 | H30: =INDIRECT(CONCATENATE("Sheet1!",CHAR(CODE(D30)+2),E30),1) -> 0 | I30: =IFERROR(MID(G30,SEARCH("(",G30,1),12),G30) -> 0 | J30: =CONCATENATE(B30,C30,H30) -> Saturday10:00-11:300 | K30: =CONCATENATE(B30,C30,I30) -> Saturday10:00-11:300 | L30: =COUNTIFS($J$11:$J$442,J30) -> 3 | M30: =IFERROR(MID(I30,2,4),I30) | O30: =CONCATENATE(G30,CHAR(10),F30," --- ",H30) -> 0 301P --- 0 | P30: MMI | R30: (L3T2)A
A31: 21 | B31: Saturday | C31: =LOOKUP(D31,$L$1:$L$6,$K$1:$K$6) -> 10:00-11:30 | D31: D | E31: =E30+1 -> 14 | F31: =INDIRECT(CONCATENATE("Sheet1!",CHAR(CODE(D31)),E31),1) -> 304P | G31: =INDIRECT(CONCATENATE("Sheet1!",CHAR(CODE(D31)+1),E31),1) -> MAT111(L1T1)B | H31: =INDIRECT(CONCATENATE("Sheet1!",CHAR(CODE(D31)+2),E31),1) -> SF1 | I31: =IFERROR(MID(G31,SEARCH("(",G31,1),12),G31) -> (L1T1)B | J31: =CONCATENATE(B31,C31,H31) -> Saturday10:00-11:30SF1 | K31: =CONCATENATE(B31,C31,I31) -> Saturday10:00-11:30(L1T1)B | L31: =COUNTIFS($J$11:$J$442,J31) -> 1 | M31: =IFERROR(MID(I31,2,4),I31) -> L1T1 | O31: =CONCATENATE(G31,CHAR(10),F31," --- ",H31) -> MAT111(L1T1)B 304P --- SF1 | P31: MMR | R31: (L3T2)B
A32: 22 | B32: Saturday | C32: =LOOKUP(D32,$L$1:$L$6,$K$1:$K$6) -> 10:00-11:30 | D32: D | E32: =E31+1 -> 15 | F32: =INDIRECT(CONCATENATE("Sheet1!",CHAR(CODE(D32)),E32),1) -> 711 | G32: =INDIRECT(CONCATENATE("Sheet1!",CHAR(CODE(D32)+1),E32),1) -> 0 | H32: =INDIRECT(CONCATENATE("Sheet1!",CHAR(CODE(D32)+2),E32),1) -> 0 | I32: =IFERROR(MID(G32,SEARCH("(",G32,1),12),G32) -> 0 | J32: =CONCATENATE(B32,C32,H32) -> Saturday10:00-11:300 | K32: =CONCATENATE(B32,C32,I32) -> Saturday10:00-11:300 | L32: =COUNTIFS($J$11:$J$442,J32) -> 3 | M32: =IFERROR(MID(I32,2,4),I32) | O32: =CONCATENATE(G32,CHAR(10),F32," --- ",H32) -> 0 711 --- 0 | P32: MR1 | R32: (L3T1)C
A33: 23 | B33: Saturday | C33: =LOOKUP(D33,$L$1:$L$6,$K$1:$K$6) -> 10:00-11:30 | D33: D | E33: =E32+1 -> 16 | F33: =INDIRECT(CONCATENATE("Sheet1!",CHAR(CODE(D33)),E33),1) -> 712 | G33: =INDIRECT(CONCATENATE("Sheet1!",CHAR(CODE(D33)+1),E33),1) -> BUC403(L3T3)D | H33: =INDIRECT(CONCATENATE("Sheet1!",CHAR(CODE(D33)+2),E33),1) -> SH1 | I33: =IFERROR(MID(G33,SEARCH("(",G33,1),12),G33) -> (L3T3)D | J33: =CONCATENATE(B33,C33,H33) -> Saturday10:00-11:30SH1 | K33: =CONCATENATE(B33,C33,I33) -> Saturday10:00-11:30(L3T3)D | L33: =COUNTIFS($J$11:$J$442,J33) -> 1 | M33: =IFERROR(MID(I33,2,4),I33) -> L3T3 | O33: =CONCATENATE(G33,CHAR(10),F33," --- ",H33) -> BUC403(L3T3)D 712 --- SH1 | P33: MRI | R33: (L2T3)B
A34: 24 | B34: Saturday | C34: =LOOKUP(D34,$L$1:$L$6,$K$1:$K$6) -> 10:00-11:30 | D34: D | E34: =E33+1 -> 17 | F34: =INDIRECT(CONCATENATE("Sheet1!",CHAR(CODE(D34)),E34),1) -> 506 | G34: =INDIRECT(CONCATENATE("Sheet1!",CHAR(CODE(D34)+1),E34),1) -> 0 | H34: =INDIRECT(CONCATENATE("Sheet1!",CHAR(CODE(D34)+2),E34),1) -> 0 | I34: =IFERROR(MID(G34,SEARCH("(",G34,1),12),G34) -> 0 | J34: =CONCATENATE(B34,C34,H34) -> Saturday10:00-11:300 | K34: =CONCATENATE(B34,C34,I34) -> Saturday10:00-11:300 | L34: =COUNTIFS($J$11:$J$442,J34) -> 3 | M34: =IFERROR(MID(I34,2,4),I34) | O34: =CONCATENATE(G34,CHAR(10),F34," --- ",H34) -> 0 506 --- 0 | P34: MRR | R34: (L2T1)A
A35: 25 | B35: Saturday | C35: =LOOKUP(D35,$L$1:$L$6,$K$1:$K$6) -> 11:30-01:00 | D35: G | E35: =E23 -> 6 | F35: =INDIRECT(CONCATENATE("Sheet1!",CHAR(CODE(D35)),E35),1) -> 701 | G35: =INDIRECT(CONCATENATE("Sheet1!",CHAR(CODE(D35)+1),E35),1) -> TE132(L1T3)F | H35: =INDIRECT(CONCATENATE("Sheet1!",CHAR(CODE(D35)+2),E35),1) -> TM | I35: =IFERROR(MID(G35,SEARCH("(",G35,1),12),G35) -> (L1T3)F | J35: =CONCATENATE(B35,C35,H35) -> Saturday11:30-01:00TM | K35: =CONCATENATE(B35,C35,I35) -> Saturday11:30-01:00(L1T3)F | L35: =COUNTIFS($J$11:$J$442,J35) -> 1 | M35: =IFERROR(MID(I35,2,4),I35) -> L1T3 | O35: =CONCATENATE(G35,CHAR(10),F35," --- ",H35) -> TE132(L1T3)F 701 --- TM | P35: MSB | R35: (L2T1)B
A36: 26 | B36: Saturday | C36: =LOOKUP(D36,$L$1:$L$6,$K$1:$K$6) -> 11:30-01:00 | D36: G | E36: =E35+1 -> 7 | F36: =INDIRECT(CONCATENATE("Sheet1!",CHAR(CODE(D36)),E36),1) -> 702 | G36: =INDIRECT(CONCATENATE("Sheet1!",CHAR(CODE(D36)+1),E36),1) -> A&M209(L2T3)A | H36: =INDIRECT(CONCATENATE("Sheet1!",CHAR(CODE(D36)+2),E36),1) -> SKD | I36: =IFERROR(MID(G36,SEARCH("(",G36,1),12),G36) -> (L2T3)A | J36: =CONCATENATE(B36,C36,H36) -> Saturday11:30-01:00SKD | K36: =CONCATENATE(B36,C36,I36) -> Saturday11:30-01:00(L2T3)A | L36: =COUNTIFS($J$11:$J$442,J36) -> 1 | M36: =IFERROR(MID(I36,2,4),I36) -> L2T3 | O36: =CONCATENATE(G36,CHAR(10),F36," --- ",H36) -> A&M209(L2T3)A 702 --- SKD | P36: MSU | R36: (L2T1)C
A37: 27 | B37: Saturday | C37: =LOOKUP(D37,$L$1:$L$6,$K$1:$K$6) -> 11:30-01:00 | D37: G | E37: =E36+1 -> 8 | F37: =INDIRECT(CONCATENATE("Sheet1!",CHAR(CODE(D37)),E37),1) -> 703 | G37: =INDIRECT(CONCATENATE("Sheet1!",CHAR(CODE(D37)+1),E37),1) -> TE309(L3T2)A | H37: =INDIRECT(CONCATENATE("Sheet1!",CHAR(CODE(D37)+2),E37),1) -> MSB | I37: =IFERROR(MID(G37,SEARCH("(",G37,1),12),G37) -> (L3T2)A | J37: =CONCATENATE(B37,C37,H37) -> Saturday11:30-01:00MSB | K37: =CONCATENATE(B37,C37,I37) -> Saturday11:30-01:00(L3T2)A | L37: =COUNTIFS($J$11:$J$442,J37) -> 1 | M37: =IFERROR(MID(I37,2,4),I37) -> L3T2 | O37: =CONCATENATE(G37,CHAR(10),F37," --- ",H37) -> TE309(L3T2)A 703 --- MSB | P37: NF | R37: (L2T1)D
A38: 28 | B38: Saturday | C38: =LOOKUP(D38,$L$1:$L$6,$K$1:$K$6) -> 11:30-01:00 | D38: G | E38: =E37+1 -> 9 | F38: =INDIRECT(CONCATENATE("Sheet1!",CHAR(CODE(D38)),E38),1) -> 704 | G38: =INDIRECT(CONCATENATE("Sheet1!",CHAR(CODE(D38)+1),E38),1) -> TE401(L4T1)B(Ap) | H38: =INDIRECT(CONCATENATE("Sheet1!",CHAR(CODE(D38)+2),E38),1) -> MMR | I38: =IFERROR(MID(G38,SEARCH("(",G38,1),12),G38) -> (L4T1)B(Ap) | J38: =CONCATENATE(B38,C38,H38) -> Saturday11:30-01:00MMR | K38: =CONCATENATE(B38,C38,I38) -> Saturday11:30-01:00(L4T1)B(Ap) | L38: =COUNTIFS($J$11:$J$442,J38) -> 1 | M38: =IFERROR(MID(I38,2,4),I38) -> L4T1 | O38: =CONCATENATE(G38,CHAR(10),F38," --- ",H38) -> TE401(L4T1)B(Ap) 704 --- MMR | P38: NL | R38: (L1T1)D
A39: 29 | B39: Saturday | C39: =LOOKUP(D39,$L$1:$L$6,$K$1:$K$6) -> 11:30-01:00 | D39: G | E39: =E38+1 -> 10 | F39: =INDIRECT(CONCATENATE("Sheet1!",CHAR(CODE(D39)),E39),1) -> 705 | G39: =INDIRECT(CONCATENATE("Sheet1!",CHAR(CODE(D39)+1),E39),1) -> TE133(L1T3)B | H39: =INDIRECT(CONCATENATE("Sheet1!",CHAR(CODE(D39)+2),E39),1) -> MMI | I39: =IFERROR(MID(G39,SEARCH("(",G39,1),12),G39) -> (L1T3)B | J39: =CONCATENATE(B39,C39,H39) -> Saturday11:30-01:00MMI | K39: =CONCATENATE(B39,C39,I39) -> Saturday11:30-01:00(L1T3)B | L39: =COUNTIFS($J$11:$J$442,J39) -> 1 | M39: =IFERROR(MID(I39,2,4),I39) -> L1T3 | O39: =CONCATENATE(G39,CHAR(10),F39," --- ",H39) -> TE133(L1T3)B 705 --- MMI | P39: NRD | R39: (L2T3)A
A40: 30 | B40: Saturday | C40: =LOOKUP(D40,$L$1:$L$6,$K$1:$K$6) -> 11:30-01:00 | D40: G | E40: =E39+1 -> 11 | F40: =INDIRECT(CONCATENATE("Sheet1!",CHAR(CODE(D40)),E40),1) -> 706 | G40: =INDIRECT(CONCATENATE("Sheet1!",CHAR(CODE(D40)+1),E40),1) -> TE132(L1T3)C | H40: =INDIRECT(CONCATENATE("Sheet1!",CHAR(CODE(D40)+2),E40),1) -> WAB | I40: =IFERROR(MID(G40,SEARCH("(",G40,1),12),G40) -> (L1T3)C | J40: =CONCATENATE(B40,C40,H40) -> Saturday11:30-01:00WAB | K40: =CONCATENATE(B40,C40,I40) -> Saturday11:30-01:00(L1T3)C | L40: =COUNTIFS($J$11:$J$442,J40) -> 1 | M40: =IFERROR(MID(I40,2,4),I40) -> L1T3 | O40: =CONCATENATE(G40,CHAR(10),F40," --- ",H40) -> TE132(L1T3)C 706 --- WAB | P40: PT-1 | R40: (L2T2)B
A41: 31 | B41: Saturday | C41: =LOOKUP(D41,$L$1:$L$6,$K$1:$K$6) -> 11:30-01:00 | D41: G | E41: =E40+1 -> 12 | F41: =INDIRECT(CONCATENATE("Sheet1!",CHAR(CODE(D41)),E41),1) -> 707 | G41: =INDIRECT(CONCATENATE("Sheet1!",CHAR(CODE(D41)+1),E41),1) -> PHY111(L1T1)B | H41: =INDIRECT(CONCATENATE("Sheet1!",CHAR(CODE(D41)+2),E41),1) -> AKA | I41: =IFERROR(MID(G41,SEARCH("(",G41,1),12),G41) -> (L1T1)B | J41: =CONCATENATE(B41,C41,H41) -> Saturday11:30-01:00AKA | K41: =CONCATENATE(B41,C41,I41) -> Saturday11:30-01:00(L1T1)B | L41: =COUNTIFS($J$11:$J$442,J41) -> 1 | M41: =IFERROR(MID(I41,2,4),I41) -> L1T1 | O41: =CONCATENATE(G41,CHAR(10),F41," --- ",H41) -> PHY111(L1T1)B 707 --- AKA | P41: PT-2 | R41: (L2T2)A
A42: 32 | B42: Saturday | C42: =LOOKUP(D42,$L$1:$L$6,$K$1:$K$6) -> 11:30-01:00 | D42: G | E42: =E41+1 -> 13 | F42: =INDIRECT(CONCATENATE("Sheet1!",CHAR(CODE(D42)),E42),1) -> 301P | G42: =INDIRECT(CONCATENATE("Sheet1!",CHAR(CODE(D42)+1),E42),1) -> STA131(L1T3)E | H42: =INDIRECT(CONCATENATE("Sheet1!",CHAR(CODE(D42)+2),E42),1) -> SRD | I42: =IFERROR(MID(G42,SEARCH("(",G42,1),12),G42) -> (L1T3)E | J42: =CONCATENATE(B42,C42,H42) -> Saturday11:30-01:00SRD | K42: =CONCATENATE(B42,C42,I42) -> Saturday11:30-01:00(L1T3)E | L42: =COUNTIFS($J$11:$J$442,J42) -> 1 | M42: =IFERROR(MID(I42,2,4),I42) -> L1T3 | O42: =CONCATENATE(G42,CHAR(10),F42," --- ",H42) -> STA131(L1T3)E 301P --- SRD | P42: PT-3 | R42: (L3T3)D
A43: 33 | B43: Saturday | C43: =LOOKUP(D43,$L$1:$L$6,$K$1:$K$6) -> 11:30-01:00 | D43: G | E43: =E42+1 -> 14 | F43: =INDIRECT(CONCATENATE("Sheet1!",CHAR(CODE(D43)),E43),1) -> 304P | G43: =INDIRECT(CONCATENATE("Sheet1!",CHAR(CODE(D43)+1),E43),1) -> ENG111(L1T1)D | H43: =INDIRECT(CONCATENATE("Sheet1!",CHAR(CODE(D43)+2),E43),1) -> SKB | I43: =IFERROR(MID(G43,SEARCH("(",G43,1),12),G43) -> (L1T1)D | J43: =CONCATENATE(B43,C43,H43) -> Saturday11:30-01:00SKB | K43: =CONCATENATE(B43,C43,I43) -> Saturday11:30-01:00(L1T1)D | L43: =COUNTIFS($J$11:$J$442,J43) -> 1 | M43: =IFERROR(MID(I43,2,4),I43) -> L1T1 | O43: =CONCATENATE(G43,CHAR(10),F43," --- ",H43) -> ENG111(L1T1)D 304P --- SKB | P43: RIK | R43: (L3T3)C
A44: 34 | B44: Saturday | C44: =LOOKUP(D44,$L$1:$L$6,$K$1:$K$6) -> 11:30-01:00 | D44: G | E44: =E43+1 -> 15 | F44: =INDIRECT(CONCATENATE("Sheet1!",CHAR(CODE(D44)),E44),1) -> 711 | G44: =INDIRECT(CONCATENATE("Sheet1!",CHAR(CODE(D44)+1),E44),1) -> 0 | H44: =INDIRECT(CONCATENATE("Sheet1!",CHAR(CODE(D44)+2),E44),1) -> 0 | I44: =IFERROR(MID(G44,SEARCH("(",G44,1),12),G44) -> 0 | J44: =CONCATENATE(B44,C44,H44) -> Saturday11:30-01:000 | K44: =CONCATENATE(B44,C44,I44) -> Saturday11:30-01:000 | L44: =COUNTIFS($J$11:$J$442,J44) -> 3 | M44: =IFERROR(MID(I44,2,4),I44) | O44: =CONCATENATE(G44,CHAR(10),F44," --- ",H44) -> 0 711 --- 0 | P44: SF1 | R44: (L1T3)F
A45: 35 | B45: Saturday | C45: =LOOKUP(D45,$L$1:$L$6,$K$1:$K$6) -> 11:30-01:00 | D45: G | E45: =E44+1 -> 16 | F45: =INDIRECT(CONCATENATE("Sheet1!",CHAR(CODE(D45)),E45),1) -> 712 | G45: =INDIRECT(CONCATENATE("Sheet1!",CHAR(CODE(D45)+1),E45),1) -> 0 | H45: =INDIRECT(CONCATENATE("Sheet1!",CHAR(CODE(D45)+2),E45),1) -> 0 | I45: =IFERROR(MID(G45,SEARCH("(",G45,1),12),G45) -> 0 | J45: =CONCATENATE(B45,C45,H45) -> Saturday11:30-01:000 | K45: =CONCATENATE(B45,C45,I45) -> Saturday11:30-01:000 | L45: =COUNTIFS($J$11:$J$442,J45) -> 3 | M45: =IFERROR(MID(I45,2,4),I45) | O45: =CONCATENATE(G45,CHAR(10),F45," --- ",H45) -> 0 712 --- 0 | P45: SH | R45: (L2T3)C
A46: 36 | B46: Saturday | C46: =LOOKUP(D46,$L$1:$L$6,$K$1:$K$6) -> 11:30-01:00 | D46: G | E46: =E45+1 -> 17 | F46: =INDIRECT(CONCATENATE("Sheet1!",CHAR(CODE(D46)),E46),1) -> 509 | G46: =INDIRECT(CONCATENATE("Sheet1!",CHAR(CODE(D46)+1),E46),1) -> 0 | H46: =INDIRECT(CONCATENATE("Sheet1!",CHAR(CODE(D46)+2),E46),1) -> 0 | I46: =IFERROR(MID(G46,SEARCH("(",G46,1),12),G46) -> 0 | J46: =CONCATENATE(B46,C46,H46) -> Saturday11:30-01:000 | K46: =CONCATENATE(B46,C46,I46) -> Saturday11:30-01:000 | L46: =COUNTIFS($J$11:$J$442,J46) -> 3 | M46: =IFERROR(MID(I46,2,4),I46) | O46: =CONCATENATE(G46,CHAR(10),F46," --- ",H46) -> 0 509 --- 0 | P46: SM | R46: (L1T3)E
A47: 37 | B47: Saturday | C47: =LOOKUP(D47,$L$1:$L$6,$K$1:$K$6) -> 01:00-02:30 | D47: J | E47: =E35 -> 6 | F47: =INDIRECT(CONCATENATE("Sheet1!",CHAR(CODE(D47)),E47),1) -> 701 | G47: =INDIRECT(CONCATENATE("Sheet1!",CHAR(CODE(D47)+1),E47),1) -> BDS211(L2T3)D | H47: =INDIRECT(CONCATENATE("Sheet1!",CHAR(CODE(D47)+2),E47),1) -> MI | I47: =IFERROR(MID(G47,SEARCH("(",G47,1),12),G47) -> (L2T3)D | J47: =CONCATENATE(B47,C47,H47) -> Saturday01:00-02:30MI | K47: =CONCATENATE(B47,C47,I47) -> Saturday01:00-02:30(L2T3)D | L47: =COUNTIFS($J$11:$J$442,J47) -> 1 | M47: =IFERROR(MID(I47,2,4),I47) -> L2T3 | O47: =CONCATENATE(G47,CHAR(10),F47," --- ",H47) -> BDS211(L2T3)D 701 --- MI | P47: SM1 | R47: (L2T3)D
A48: 38 | B48: Saturday | C48: =LOOKUP(D48,$L$1:$L$6,$K$1:$K$6) -> 01:00-02:30 | D48: J | E48: =E47+1 -> 7 | F48: =INDIRECT(CONCATENATE("Sheet1!",CHAR(CODE(D48)),E48),1) -> 702 | G48: =INDIRECT(CONCATENATE("Sheet1!",CHAR(CODE(D48)+1),E48),1) -> BUS208(L2T2)C | H48: =INDIRECT(CONCATENATE("Sheet1!",CHAR(CODE(D48)+2),E48),1) -> RA | I48: =IFERROR(MID(G48,SEARCH("(",G48,1),12),G48) -> (L2T2)C | J48: =CONCATENATE(B48,C48,H48) -> Saturday01:00-02:30RA | K48: =CONCATENATE(B48,C48,I48) -> Saturday01:00-02:30(L2T2)C | L48: =COUNTIFS($J$11:$J$442,J48) -> 1 | M48: =IFERROR(MID(I48,2,4),I48) -> L2T2 | O48: =CONCATENATE(G48,CHAR(10),F48," --- ",H48) -> BUS208(L2T2)C 702 --- RA | P48: SRD | R48: (L2T3)F
A49: 39 | B49: Saturday | C49: =LOOKUP(D49,$L$1:$L$6,$K$1:$K$6) -> 01:00-02:30 | D49: J | E49: =E48+1 -> 8 | F49: =INDIRECT(CONCATENATE("Sheet1!",CHAR(CODE(D49)),E49),1) -> 703 | G49: =INDIRECT(CONCATENATE("Sheet1!",CHAR(CODE(D49)+1),E49),1) -> TE408(L4T2)A(Ap) | H49: =INDIRECT(CONCATENATE("Sheet1!",CHAR(CODE(D49)+2),E49),1) -> AAM | I49: =IFERROR(MID(G49,SEARCH("(",G49,1),12),G49) -> (L4T2)A(Ap) | J49: =CONCATENATE(B49,C49,H49) -> Saturday01:00-02:30AAM | K49: =CONCATENATE(B49,C49,I49) -> Saturday01:00-02:30(L4T2)A(Ap) | L49: =COUNTIFS($J$11:$J$442,J49) -> 1 | M49: =IFERROR(MID(I49,2,4),I49) -> L4T2 | O49: =CONCATENATE(G49,CHAR(10),F49," --- ",H49) -> TE408(L4T2)A(Ap) 703 --- AAM | P49: SS | R49: (L2T3)E
A50: 40 | B50: Saturday | C50: =LOOKUP(D50,$L$1:$L$6,$K$1:$K$6) -> 01:00-02:30 | D50: J | E50: =E49+1 -> 9 | F50: =INDIRECT(CONCATENATE("Sheet1!",CHAR(CODE(D50)),E50),1) -> 704 | G50: =INDIRECT(CONCATENATE("Sheet1!",CHAR(CODE(D50)+1),E50),1) -> MAT133(L1T3)E | H50: =INDIRECT(CONCATENATE("Sheet1!",CHAR(CODE(D50)+2),E50),1) -> BCD | I50: =IFERROR(MID(G50,SEARCH("(",G50,1),12),G50) -> (L1T3)E | J50: =CONCATENATE(B50,C50,H50) -> Saturday01:00-02:30BCD | K50: =CONCATENATE(B50,C50,I50) -> Saturday01:00-02:30(L1T3)E | L50: =COUNTIFS($J$11:$J$442,J50) -> 1 | M50: =IFERROR(MID(I50,2,4),I50) -> L1T3 | O50: =CONCATENATE(G50,CHAR(10),F50," --- ",H50) -> MAT133(L1T3)E 704 --- BCD | P50: SS1 | R50: (L1T3)D
A51: 41 | B51: Saturday | C51: =LOOKUP(D51,$L$1:$L$6,$K$1:$K$6) -> 01:00-02:30 | D51: J | E51: =E50+1 -> 10 | F51: =INDIRECT(CONCATENATE("Sheet1!",CHAR(CODE(D51)),E51),1) -> 705 | G51: =INDIRECT(CONCATENATE("Sheet1!",CHAR(CODE(D51)+1),E51),1) -> TE133(L1T3)F | H51: =INDIRECT(CONCATENATE("Sheet1!",CHAR(CODE(D51)+2),E51),1) -> KSS | I51: =IFERROR(MID(G51,SEARCH("(",G51,1),12),G51) -> (L1T3)F | J51: =CONCATENATE(B51,C51,H51) -> Saturday01:00-02:30KSS | K51: =CONCATENATE(B51,C51,I51) -> Saturday01:00-02:30(L1T3)F | L51: =COUNTIFS($J$11:$J$442,J51) -> 1 | M51: =IFERROR(MID(I51,2,4),I51) -> L1T3 | O51: =CONCATENATE(G51,CHAR(10),F51," --- ",H51) -> TE133(L1T3)F 705 --- KSS | P51: SSS | R51: xxxxxxx
A52: 42 | B52: Saturday | C52: =LOOKUP(D52,$L$1:$L$6,$K$1:$K$6) -> 01:00-02:30 | D52: J | E52: =E51+1 -> 11 | F52: =INDIRECT(CONCATENATE("Sheet1!",CHAR(CODE(D52)),E52),1) -> 706 | G52: =INDIRECT(CONCATENATE("Sheet1!",CHAR(CODE(D52)+1),E52),1) -> PHY122(L1T2)A | H52: =INDIRECT(CONCATENATE("Sheet1!",CHAR(CODE(D52)+2),E52),1) -> FN | I52: =IFERROR(MID(G52,SEARCH("(",G52,1),12),G52) -> (L1T2)A | J52: =CONCATENATE(B52,C52,H52) -> Saturday01:00-02:30FN | K52: =CONCATENATE(B52,C52,I52) -> Saturday01:00-02:30(L1T2)A | L52: =COUNTIFS($J$11:$J$442,J52) -> 1 | M52: =IFERROR(MID(I52,2,4),I52) -> L1T2 | O52: =CONCATENATE(G52,CHAR(10),F52," --- ",H52) -> PHY122(L1T2)A 706 --- FN | P52: TAC | R52: (L4T1)FAB
A53: 43 | B53: Saturday | C53: =LOOKUP(D53,$L$1:$L$6,$K$1:$K$6) -> 01:00-02:30 | D53: J | E53: =E52+1 -> 12 | F53: =INDIRECT(CONCATENATE("Sheet1!",CHAR(CODE(D53)),E53),1) -> 707 | G53: =INDIRECT(CONCATENATE("Sheet1!",CHAR(CODE(D53)+1),E53),1) -> TE401(L4T1)A(Ap) | H53: =INDIRECT(CONCATENATE("Sheet1!",CHAR(CODE(D53)+2),E53),1) -> MMR | I53: =IFERROR(MID(G53,SEARCH("(",G53,1),12),G53) -> (L4T1)A(Ap) | J53: =CONCATENATE(B53,C53,H53) -> Saturday01:00-02:30MMR | K53: =CONCATENATE(B53,C53,I53) -> Saturday01:00-02:30(L4T1)A(Ap) | L53: =COUNTIFS($J$11:$J$442,J53) -> 1 | M53: =IFERROR(MID(I53,2,4),I53) -> L4T1 | O53: =CONCATENATE(G53,CHAR(10),F53," --- ",H53) -> TE401(L4T1)A(Ap) 707 --- MMR | P53: TM | R53: xxxxxx
A54: 44 | B54: Saturday | C54: =LOOKUP(D54,$L$1:$L$6,$K$1:$K$6) -> 01:00-02:30 | D54: J | E54: =E53+1 -> 13 | F54: =INDIRECT(CONCATENATE("Sheet1!",CHAR(CODE(D54)),E54),1) -> 301P | G54: =INDIRECT(CONCATENATE("Sheet1!",CHAR(CODE(D54)+1),E54),1) -> STA131(L1T3)B | H54: =INDIRECT(CONCATENATE("Sheet1!",CHAR(CODE(D54)+2),E54),1) -> SRD | I54: =IFERROR(MID(G54,SEARCH("(",G54,1),12),G54) -> (L1T3)B | J54: =CONCATENATE(B54,C54,H54) -> Saturday01:00-02:30SRD | K54: =CONCATENATE(B54,C54,I54) -> Saturday01:00-02:30(L1T3)B | L54: =COUNTIFS($J$11:$J$442,J54) -> 1 | M54: =IFERROR(MID(I54,2,4),I54) -> L1T3 | O54: =CONCATENATE(G54,CHAR(10),F54," --- ",H54) -> STA131(L1T3)B 301P --- SRD | P54: TM [C] | R54: (L4T1)B
A55: 45 | B55: Saturday | C55: =LOOKUP(D55,$L$1:$L$6,$K$1:$K$6) -> 01:00-02:30 | D55: J | E55: =E54+1 -> 14 | F55: =INDIRECT(CONCATENATE("Sheet1!",CHAR(CODE(D55)),E55),1) -> 304P | G55: =INDIRECT(CONCATENATE("Sheet1!",CHAR(CODE(D55)+1),E55),1) -> MAT111(L1T1)A | H55: =INDIRECT(CONCATENATE("Sheet1!",CHAR(CODE(D55)+2),E55),1) -> SF1 | I55: =IFERROR(MID(G55,SEARCH("(",G55,1),12),G55) -> (L1T1)A | J55: =CONCATENATE(B55,C55,H55) -> Saturday01:00-02:30SF1 | K55: =CONCATENATE(B55,C55,I55) -> Saturday01:00-02:30(L1T1)A | L55: =COUNTIFS($J$11:$J$442,J55) -> 1 | M55: =IFERROR(MID(I55,2,4),I55) -> L1T1 | O55: =CONCATENATE(G55,CHAR(10),F55," --- ",H55) -> MAT111(L1T1)A 304P --- SF1 | P55: WAB | R55: (L4T2)(SPF)
A56: 46 | B56: Saturday | C56: =LOOKUP(D56,$L$1:$L$6,$K$1:$K$6) -> 01:00-02:30 | D56: J | E56: =E55+1 -> 15 | F56: =INDIRECT(CONCATENATE("Sheet1!",CHAR(CODE(D56)),E56),1) -> 711 | G56: =INDIRECT(CONCATENATE("Sheet1!",CHAR(CODE(D56)+1),E56),1) -> BDS211(L2T3)C | H56: =INDIRECT(CONCATENATE("Sheet1!",CHAR(CODE(D56)+2),E56),1) -> AM | I56: =IFERROR(MID(G56,SEARCH("(",G56,1),12),G56) -> (L2T3)C | J56: =CONCATENATE(B56,C56,H56) -> Saturday01:00-02:30AM | K56: =CONCATENATE(B56,C56,I56) -> Saturday01:00-02:30(L2T3)C | L56: =COUNTIFS($J$11:$J$442,J56) -> 1 | M56: =IFERROR(MID(I56,2,4),I56) -> L2T3 | O56: =CONCATENATE(G56,CHAR(10),F56," --- ",H56) -> BDS211(L2T3)C 711 --- AM | P56: xxx | R56: (L4T2)(SWP)
A57: 47 | B57: Saturday | C57: =LOOKUP(D57,$L$1:$L$6,$K$1:$K$6) -> 01:00-02:30 | D57: J | E57: =E56+1 -> 16 | F57: =INDIRECT(CONCATENATE("Sheet1!",CHAR(CODE(D57)),E57),1) -> 712 | G57: =INDIRECT(CONCATENATE("Sheet1!",CHAR(CODE(D57)+1),E57),1) -> 0 | H57: =INDIRECT(CONCATENATE("Sheet1!",CHAR(CODE(D57)+2),E57),1) -> 0 | I57: =IFERROR(MID(G57,SEARCH("(",G57,1),12),G57) -> 0 | J57: =CONCATENATE(B57,C57,H57) -> Saturday01:00-02:300 | K57: =CONCATENATE(B57,C57,I57) -> Saturday01:00-02:300 | L57: =COUNTIFS($J$11:$J$442,J57) -> 2 | M57: =IFERROR(MID(I57,2,4),I57) | O57: =CONCATENATE(G57,CHAR(10),F57," --- ",H57) -> 0 712 --- 0 | P57: xxxx | R57: xxxx
A58: 48 | B58: Saturday | C58: =LOOKUP(D58,$L$1:$L$6,$K$1:$K$6) -> 01:00-02:30 | D58: J | E58: =E57+1 -> 17 | F58: =INDIRECT(CONCATENATE("Sheet1!",CHAR(CODE(D58)),E58),1) -> 509 | G58: =INDIRECT(CONCATENATE("Sheet1!",CHAR(CODE(D58)+1),E58),1) -> 0 | H58: =INDIRECT(CONCATENATE("Sheet1!",CHAR(CODE(D58)+2),E58),1) -> 0 | I58: =IFERROR(MID(G58,SEARCH("(",G58,1),12),G58) -> 0 | J58: =CONCATENATE(B58,C58,H58) -> Saturday01:00-02:300 | K58: =CONCATENATE(B58,C58,I58) -> Saturday01:00-02:300 | L58: =COUNTIFS($J$11:$J$442,J58) -> 2 | M58: =IFERROR(MID(I58,2,4),I58) | O58: =CONCATENATE(G58,CHAR(10),F58," --- ",H58) -> 0 509 --- 0 | P58: ZR | R58: TE405L4T1)E
A59: 49 | B59: Saturday | C59: =LOOKUP(D59,$L$1:$L$6,$K$1:$K$6) -> 2:30-04:00 | D59: M | E59: =E47 -> 6 | F59: =INDIRECT(CONCATENATE("Sheet1!",CHAR(CODE(D59)),E59),1) -> 701 | G59: =INDIRECT(CONCATENATE("Sheet1!",CHAR(CODE(D59)+1),E59),1) -> PHY111(L1T1)C | H59: =INDIRECT(CONCATENATE("Sheet1!",CHAR(CODE(D59)+2),E59),1) -> AKA | I59: =IFERROR(MID(G59,SEARCH("(",G59,1),12),G59) -> (L1T1)C | J59: =CONCATENATE(B59,C59,H59) -> Saturday2:30-04:00AKA | K59: =CONCATENATE(B59,C59,I59) -> Saturday2:30-04:00(L1T1)C | L59: =COUNTIFS($J$11:$J$442,J59) -> 1 | M59: =IFERROR(MID(I59,2,4),I59) -> L1T1 | O59: =CONCATENATE(G59,CHAR(10),F59," --- ",H59) -> PHY111(L1T1)C 701 --- AKA | P59: ZU | R59: (L3T3A
A60: 50 | B60: Saturday | C60: =LOOKUP(D60,$L$1:$L$6,$K$1:$K$6) -> 2:30-04:00 | D60: M | E60: =E59+1 -> 7 | F60: =INDIRECT(CONCATENATE("Sheet1!",CHAR(CODE(D60)),E60),1) -> 702 | G60: =INDIRECT(CONCATENATE("Sheet1!",CHAR(CODE(D60)+1),E60),1) -> TE203(L2T2)C | H60: =INDIRECT(CONCATENATE("Sheet1!",CHAR(CODE(D60)+2),E60),1) -> RIK | I60: =IFERROR(MID(G60,SEARCH("(",G60,1),12),G60) -> (L2T2)C | J60: =CONCATENATE(B60,C60,H60) -> Saturday2:30-04:00RIK | K60: =CONCATENATE(B60,C60,I60) -> Saturday2:30-04:00(L2T2)C | L60: =COUNTIFS($J$11:$J$442,J60) -> 1 | M60: =IFERROR(MID(I60,2,4),I60) -> L2T2 | O60: =CONCATENATE(G60,CHAR(10),F60," --- ",H60) -> TE203(L2T2)C 702 --- RIK | P60: Grand Total | R60: (L4T2)(SPF)
A61: 51 | B61: Saturday | C61: =LOOKUP(D61,$L$1:$L$6,$K$1:$K$6) -> 2:30-04:00 | D61: M | E61: =E60+1 -> 8 | F61: =INDIRECT(CONCATENATE("Sheet1!",CHAR(CODE(D61)),E61),1) -> 703 | G61: =INDIRECT(CONCATENATE("Sheet1!",CHAR(CODE(D61)+1),E61),1) -> A&M209(L2T3)F | H61: =INDIRECT(CONCATENATE("Sheet1!",CHAR(CODE(D61)+2),E61),1) -> BBA | I61: =IFERROR(MID(G61,SEARCH("(",G61,1),12),G61) -> (L2T3)F | J61: =CONCATENATE(B61,C61,H61) -> Saturday2:30-04:00BBA | K61: =CONCATENATE(B61,C61,I61) -> Saturday2:30-04:00(L2T3)F | L61: =COUNTIFS($J$11:$J$442,J61) -> 1 | M61: =IFERROR(MID(I61,2,4),I61) -> L2T3 | O61: =CONCATENATE(G61,CHAR(10),F61," --- ",H61) -> A&M209(L2T3)F 703 --- BBA | R61: (L3T3B
A62: 52 | B62: Saturday | C62: =LOOKUP(D62,$L$1:$L$6,$K$1:$K$6) -> 2:30-04:00 | D62: M | E62: =E61+1 -> 9 | F62: =INDIRECT(CONCATENATE("Sheet1!",CHAR(CODE(D62)),E62),1) -> 704 | G62: =INDIRECT(CONCATENATE("Sheet1!",CHAR(CODE(D62)+1),E62),1) -> MAT133(L1T3)B | H62: =INDIRECT(CONCATENATE("Sheet1!",CHAR(CODE(D62)+2),E62),1) -> BCD | I62: =IFERROR(MID(G62,SEARCH("(",G62,1),12),G62) -> (L1T3)B | J62: =CONCATENATE(B62,C62,H62) -> Saturday2:30-04:00BCD | K62: =CONCATENATE(B62,C62,I62) -> Saturday2:30-04:00(L1T3)B | L62: =COUNTIFS($J$11:$J$442,J62) -> 1 | M62: =IFERROR(MID(I62,2,4),I62) -> L1T3 | O62: =CONCATENATE(G62,CHAR(10),F62," --- ",H62) -> MAT133(L1T3)B 704 --- BCD | R62: Grand Total
A63: 53 | B63: Saturday | C63: =LOOKUP(D63,$L$1:$L$6,$K$1:$K$6) -> 2:30-04:00 | D63: M | E63: =E62+1 -> 10 | F63: =INDIRECT(CONCATENATE("Sheet1!",CHAR(CODE(D63)),E63),1) -> 705 | G63: =INDIRECT(CONCATENATE("Sheet1!",CHAR(CODE(D63)+1),E63),1) -> TE133(L1T3)C | H63: =INDIRECT(CONCATENATE("Sheet1!",CHAR(CODE(D63)+2),E63),1) -> MMI | I63: =IFERROR(MID(G63,SEARCH("(",G63,1),12),G63) -> (L1T3)C | J63: =CONCATENATE(B63,C63,H63) -> Saturday2:30-04:00MMI | K63: =CONCATENATE(B63,C63,I63) -> Saturday2:30-04:00(L1T3)C | L63: =COUNTIFS($J$11:$J$442,J63) -> 1 | M63: =IFERROR(MID(I63,2,4),I63) -> L1T3 | O63: =CONCATENATE(G63,CHAR(10),F63," --- ",H63) -> TE133(L1T3)C 705 --- MMI
A64: 54 | B64: Saturday | C64: =LOOKUP(D64,$L$1:$L$6,$K$1:$K$6) -> 2:30-04:00 | D64: M | E64: =E63+1 -> 11 | F64: =INDIRECT(CONCATENATE("Sheet1!",CHAR(CODE(D64)),E64),1) -> 706 | G64: =INDIRECT(CONCATENATE("Sheet1!",CHAR(CODE(D64)+1),E64),1) -> BDS211(L2T3)E | H64: =INDIRECT(CONCATENATE("Sheet1!",CHAR(CODE(D64)+2),E64),1) -> FE | I64: =IFERROR(MID(G64,SEARCH("(",G64,1),12),G64) -> (L2T3)E | J64: =CONCATENATE(B64,C64,H64) -> Saturday2:30-04:00FE | K64: =CONCATENATE(B64,C64,I64) -> Saturday2:30-04:00(L2T3)E | L64: =COUNTIFS($J$11:$J$442,J64) -> 1 | M64: =IFERROR(MID(I64,2,4),I64) -> L2T3 | O64: =CONCATENATE(G64,CHAR(10),F64," --- ",H64) -> BDS211(L2T3)E 706 --- FE
A65: 55 | B65: Saturday | C65: =LOOKUP(D65,$L$1:$L$6,$K$1:$K$6) -> 2:30-04:00 | D65: M | E65: =E64+1 -> 12 | F65: =INDIRECT(CONCATENATE("Sheet1!",CHAR(CODE(D65)),E65),1) -> 707 | G65: =INDIRECT(CONCATENATE("Sheet1!",CHAR(CODE(D65)+1),E65),1) -> TE210(L2T3)D | H65: =INDIRECT(CONCATENATE("Sheet1!",CHAR(CODE(D65)+2),E65),1) -> RT | I65: =IFERROR(MID(G65,SEARCH("(",G65,1),12),G65) -> (L2T3)D | J65: =CONCATENATE(B65,C65,H65) -> Saturday2:30-04:00RT | K65: =CONCATENATE(B65,C65,I65) -> Saturday2:30-04:00(L2T3)D | L65: =COUNTIFS($J$11:$J$442,J65) -> 1 | M65: =IFERROR(MID(I65,2,4),I65) -> L2T3 | O65: =CONCATENATE(G65,CHAR(10),F65," --- ",H65) -> TE210(L2T3)D 707 --- RT
A66: 56 | B66: Saturday | C66: =LOOKUP(D66,$L$1:$L$6,$K$1:$K$6) -> 2:30-04:00 | D66: M | E66: =E65+1 -> 13 | F66: =INDIRECT(CONCATENATE("Sheet1!",CHAR(CODE(D66)),E66),1) -> 301P | G66: =INDIRECT(CONCATENATE("Sheet1!",CHAR(CODE(D66)+1),E66),1) -> BUS208(L2T2)A | H66: =INDIRECT(CONCATENATE("Sheet1!",CHAR(CODE(D66)+2),E66),1) -> RA | I66: =IFERROR(MID(G66,SEARCH("(",G66,1),12),G66) -> (L2T2)A | J66: =CONCATENATE(B66,C66,H66) -> Saturday2:30-04:00RA | K66: =CONCATENATE(B66,C66,I66) -> Saturday2:30-04:00(L2T2)A | L66: =COUNTIFS($J$11:$J$442,J66) -> 1 | M66: =IFERROR(MID(I66,2,4),I66) -> L2T2 | O66: =CONCATENATE(G66,CHAR(10),F66," --- ",H66) -> BUS208(L2T2)A 301P --- RA
A67: 57 | B67: Saturday | C67: =LOOKUP(D67,$L$1:$L$6,$K$1:$K$6) -> 2:30-04:00 | D67: M | E67: =E66+1 -> 14 | F67: =INDIRECT(CONCATENATE("Sheet1!",CHAR(CODE(D67)),E67),1) -> 304P | G67: =INDIRECT(CONCATENATE("Sheet1!",CHAR(CODE(D67)+1),E67),1) -> BUC403(L3T3)A | H67: =INDIRECT(CONCATENATE("Sheet1!",CHAR(CODE(D67)+2),E67),1) -> SKM | I67: =IFERROR(MID(G67,SEARCH("(",G67,1),12),G67) -> (L3T3)A | J67: =CONCATENATE(B67,C67,H67) -> Saturday2:30-04:00SKM | K67: =CONCATENATE(B67,C67,I67) -> Saturday2:30-04:00(L3T3)A | L67: =COUNTIFS($J$11:$J$442,J67) -> 1 | M67: =IFERROR(MID(I67,2,4),I67) -> L3T3 | O67: =CONCATENATE(G67,CHAR(10),F67," --- ",H67) -> BUC403(L3T3)A 304P --- SKM
A68: 58 | B68: Saturday | C68: =LOOKUP(D68,$L$1:$L$6,$K$1:$K$6) -> 2:30-04:00 | D68: M | E68: =E67+1 -> 15 | F68: =INDIRECT(CONCATENATE("Sheet1!",CHAR(CODE(D68)),E68),1) -> 711 | G68: =INDIRECT(CONCATENATE("Sheet1!",CHAR(CODE(D68)+1),E68),1) -> 0 | H68: =INDIRECT(CONCATENATE("Sheet1!",CHAR(CODE(D68)+2),E68),1) -> 0 | I68: =IFERROR(MID(G68,SEARCH("(",G68,1),12),G68) -> 0 | J68: =CONCATENATE(B68,C68,H68) -> Saturday2:30-04:000 | K68: =CONCATENATE(B68,C68,I68) -> Saturday2:30-04:000 | L68: =COUNTIFS($J$11:$J$442,J68) -> 2 | M68: =IFERROR(MID(I68,2,4),I68) | O68: =CONCATENATE(G68,CHAR(10),F68," --- ",H68) -> 0 711 --- 0
