Workbook

Sheet EXAM PROG.(Day)
A1: Daffodil International University
A2: ='Course Offer(Day)'!C3 -> Department of Textile Engineering
A3: Faculty of Science & Information Technology
A4: Final Examination Schedule (Day Shift)
A5: ='Course Offer(Day)'!C5 -> Spring- 2016
A6: 21/4/2012 | B6: Group 1 | C6: Day 1 | D6: Level Term | E6: Course code | F6: Course Title | G6: Section # No. of Students (Teacher's Inittial) | J6: Stu. / Course | K6: Total | M6: Level Term | N6: Course code | O6: Course Title | P6: Section # No. of Students (Teacher's Inittial) | S6: Stu. / Course | T6: Total
D7: Slot A : 9.30 am-11.30am | M7: Slot B : 12.30 pm-2.30pm
D8: =VLOOKUP(C6,'Level combination (Day)'!A6:AG9,2) -> L1T3 | E8: =IF(D8<>0,VLOOKUP(D8&"C1",'Course Offer(Day)'!A6:N94,3,0),"") -> CSE-112 | F8: =IF(D8<>0,VLOOKUP(D8&"C1",'Course Offer(Day)'!A6:N94,4,0),"") -> Computer Fundamentals | G8: =IF(D8<>0,VLOOKUP(D8&"C1",'Course Offer(Day)'!A6:W94,24,0),"") -> #REF! | J8: =IF(D8<>0,VLOOKUP(D8&"C1No. Of Students",'Course Offer(Day)'!B6:W94,22,0),"") -> #N/A | K8: =SUM(J8:J9) -> #N/A | M8: =VLOOKUP(C6,'Level combination (Day)'!A6:AG9,13) -> L2T2 | N8: =IF(M8<>0,VLOOKUP(M8&"C1",'Course Offer(Day)'!A6:N94,3,0),"") -> #N/A | O8: =IF(M8<>0,VLOOKUP(M8&"C1",'Course Offer(Day)'!A6:N94,4,0),"") -> #N/A | P8: =IF(M8<>0,VLOOKUP(M8&"C1",'Course Offer(Day)'!A6:W94,24,0),"") -> #N/A | S8: =IF(M8<>0,VLOOKUP(M8&"C1No. Of Students",'Course Offer(Day)'!B6:W94,22,0),"") -> #N/A | T8: =SUM(S8:S9) -> #N/A
D9: =VLOOKUP(C6,'Level combination (Day)'!A6:AG9,7) -> L3T3 | E9: =IF(D9<>0,VLOOKUP(D9&"C1",'Course Offer(Day)'!A6:N94,3,0),"") -> TE-331 | F9: =IF(D9<>0,VLOOKUP(D9&"C1",'Course Offer(Day)'!A6:N94,4,0),"") -> Apparel Manufacturing -II | G9: =IF(D9<>0,VLOOKUP(D9&"C1",'Course Offer(Day)'!A6:W94,24,0),"") -> #REF! | J9: =IF(D9<>0,VLOOKUP(D9&"C1No. Of Students",'Course Offer(Day)'!B6:W94,22,0),"") -> #N/A
D11: Slot C : 3.30 pm --5.30pm
D12: =VLOOKUP(C6,'Level combination (Day)'!A6:AG9,24) -> L1T1 | E12: =IF(D12<>0,VLOOKUP(D12&"C1",'Course Offer(Day)'!A6:N94,3,0),"") -> #N/A | F12: =IF(D12<>0,VLOOKUP(D12&"C1",'Course Offer(Day)'!A6:N94,4,0),"") -> #N/A | G12: =IF(D12<>0,VLOOKUP(D12&"C1",'Course Offer(Day)'!A6:W94,24,0),"") -> #N/A | J12: =IF(D12<>0,VLOOKUP(D12&"C1No. Of Students",'Course Offer(Day)'!B6:W94,22,0),"") -> #N/A | K12: =SUM(J12:J13) -> #N/A
D13: =VLOOKUP(C6,'Level combination (Day)'!A6:AG9,29) -> L3T1 | E13: =IF(D13<>0,VLOOKUP(D13&"C1",'Course Offer(Day)'!A6:N94,3,0),"") -> TE-317 | F13: =IF(D13<>0,VLOOKUP(D13&"C1",'Course Offer(Day)'!A6:N94,4,0),"") -> Textile Physics | G13: =IF(D13<>0,VLOOKUP(D13&"C1",'Course Offer(Day)'!A6:W94,24,0),"") -> #REF! | J13: =IF(D13<>0,VLOOKUP(D13&"C1No. Of Students",'Course Offer(Day)'!B6:W94,22,0),"") -> #N/A
A15: 22/4/2012 | B15: Group 2 | C15: Day 2 | D15: Level Term | E15: Course code | F15: Course Title | G15: Section # No. of Students (Teacher's Inittial) | J15: Stu. / Course | K15: Total | M15: Level Term | N15: Course code | O15: Course Title | P15: Section # No. of Students (Teacher's Inittial) | S15: Stu. / Course | T15: Total
D16: Slot A : 9.30 am-11.30am | M16: Slot B : 12.30 pm-2.30pm
D17: =VLOOKUP(C15,'Level combination (Day)'!A14:AH17,2) -> L2T3 | E17: =IF(D17<>0,VLOOKUP(D17&"C1",'Course Offer(Day)'!A6:N94,3,0),"") -> TE-232 | F17: =IF(D17<>0,VLOOKUP(D17&"C1",'Course Offer(Day)'!A6:N94,4,0),"") -> Apparel Maufacturing I (Lab)) | G17: =IF(D17<>0,VLOOKUP(D17&"C1",'Course Offer(Day)'!A6:W94,24,0),"") -> #REF! | J17: =IF(D17<>0,VLOOKUP(D17&"C1No. Of Students",'Course Offer(Day)'!B6:W94,22,0),"") -> #N/A | K17: =SUM(J17:J18) -> #N/A | M17: =VLOOKUP(C15,'Level combination (Day)'!A14:AH17,13) -> L1T2 | N17: =IF(M17<>0,VLOOKUP(M17&"C1",'Course Offer(Day)'!A6:N94,3,0),"") -> ENG-122 | O17: =IF(M17<>0,VLOOKUP(M17&"C1",'Course Offer(Day)'!A6:N94,4,0),"") -> English Language II | P17: =IF(M17<>0,VLOOKUP(M17&"C1",'Course Offer(Day)'!A6:W94,24,0),"") -> #REF! | S17: 268 | T17: =SUM(S17:S18) -> #N/A
D18: L1T1 | E18: TE101 | F18: Introduction to Textile Engineering | G18: A(retake)#10(AMK) | J18: 10 | M18: =VLOOKUP(C15,'Level combination (Day)'!A14:AH17,18) -> L3T2 | N18: =IF(M18<>0,VLOOKUP(M18&"C1",'Course Offer(Day)'!A6:N94,3,0),"") -> TE321 | O18: =IF(M18<>0,VLOOKUP(M18&"C1",'Course Offer(Day)'!A6:N94,4,0),"") -> Textile Wet Processing-II | P18: =IF(M18<>0,VLOOKUP(M18&"C1",'Course Offer(Day)'!A6:W94,24,0),"") -> #REF! | S18: =IF(M18<>0,VLOOKUP(M18&"C1No. Of Students",'Course Offer(Day)'!B6:W94,22,0),"") -> #N/A
D20: Slot C : 3.30 pm --5.30pm
D21: =VLOOKUP(C15,'Level combination (Day)'!A14:AH17,24) -> L2T1 | E21: =IF(D21<>0,VLOOKUP(D21&"C1",'Course Offer(Day)'!A6:N94,3,0),"") -> TE-211 | F21: =IF(D21<>0,VLOOKUP(D21&"C1",'Course Offer(Day)'!A6:N94,4,0),"") -> Yarn Manufacturing I | G21: =IF(D21<>0,VLOOKUP(D21&"C1",'Course Offer(Day)'!A6:W94,24,0),"") -> #REF! | J21: =IF(D21<>0,VLOOKUP(D21&"C1No. Of Students",'Course Offer(Day)'!B6:W94,22,0),"") -> #N/A | K21: =SUM(J21:J22) -> #N/A
D22: =VLOOKUP(C15,'Level combination (Day)'!A14:AH17,29) -> L4T1 | E22: =IF(D22<>0,VLOOKUP(D22&"C1",'Course Offer(Day)'!A6:N94,3,0),"") -> #N/A | F22: =IF(D22<>0,VLOOKUP(D22&"C1",'Course Offer(Day)'!A6:N94,4,0),"") -> #N/A | G22: =IF(D22<>0,VLOOKUP(D22&"C1",'Course Offer(Day)'!A6:W94,24,0),"") -> #N/A | J22: =IF(D22<>0,VLOOKUP(D22&"C1No. Of Students",'Course Offer(Day)'!B6:W94,22,0),"") -> #N/A
A27: 23/4/2012 | B27: Group 1 | C27: Day 3 | D27: Level Term | E27: Course code | F27: Course Title | G27: Section # No. of Students (Teacher's Inittial) | J27: Stu. / Course | K27: Total | M27: Level Term | N27: Course code | O27: Course Title | P27: Section # No. of Students (Teacher's Inittial) | S27: Stu. / Course | T27: Total
D28: Slot A : 9.30 am-11.30am | M28: Slot B : 12.30 pm-2.30pm
D29: =VLOOKUP(C27,'Level combination (Day)'!A6:AG9,2) -> L1T3 | E29: =IF(D29<>0,VLOOKUP(D29&"C2",'Course Offer(Day)'!A6:N94,3,0),"") -> STA-131 | F29: Mathematics III | G29: =IF(D29<>0,VLOOKUP(D29&"C2",'Course Offer(Day)'!A6:W94,24,0),"") -> #REF! | J29: =IF(D29<>0,VLOOKUP(D29&"C2No. Of Students",'Course Offer(Day)'!B6:W94,22,0),"") -> #N/A | K29: =SUM(J29:J30) -> #N/A | M29: =VLOOKUP(C27,'Level combination (Day)'!A6:AG9,13) -> L2T2 | N29: =IF(M29<>0,VLOOKUP(M29&"C2",'Course Offer(Day)'!A6:N94,3,0),"") -> #N/A | O29: =IF(M29<>0,VLOOKUP(M29&"C2",'Course Offer(Day)'!A6:N94,4,0),"") -> #N/A | P29: =IF(M29<>0,VLOOKUP(M29&"C2",'Course Offer(Day)'!A6:W94,24,0),"") -> #N/A | S29: =IF(M29<>0,VLOOKUP(M29&"C2No. Of Students",'Course Offer(Day)'!B6:W94,22,0),"") -> #N/A | T29: =SUM(S29:S30) -> #N/A
D30: =VLOOKUP(C27,'Level combination (Day)'!A6:AG9,7) -> L3T3 | E30: =IF(D30<>0,VLOOKUP(D30&"C2",'Course Offer(Day)'!A6:N94,3,0),"") -> TE-333 | F30: =IF(D30<>0,VLOOKUP(D30&"C2",'Course Offer(Day)'!A6:N94,4,0),"") -> Economics for Textile Engineers | G30: =IF(D30<>0,VLOOKUP(D30&"C2",'Course Offer(Day)'!A6:W94,24,0),"") -> #REF! | J30: =IF(D30<>0,VLOOKUP(D30&"C2No. Of Students",'Course Offer(Day)'!B6:W94,22,0),"") -> #N/A
D32: Slot C : 3.30 pm --5.30pm
D33: =VLOOKUP(C27,'Level combination (Day)'!A6:AG9,24) -> L1T1 | E33: =IF(D33<>0,VLOOKUP(D33&"C2",'Course Offer(Day)'!A6:N94,3,0),"") -> TE-111 | F33: =IF(D33<>0,VLOOKUP(D33&"C2",'Course Offer(Day)'!A6:N94,4,0),"") -> Textile Raw Materials - I | G33: =IF(D33<>0,VLOOKUP(D33&"C2",'Course Offer(Day)'!A6:W94,24,0),"") -> #REF! | J33: =IF(D33<>0,VLOOKUP(D33&"C2No. Of Students",'Course Offer(Day)'!B6:W94,22,0),"") -> #N/A | K33: =SUM(J33:J34) -> #N/A
D34: =VLOOKUP(C27,'Level combination (Day)'!A6:AG9,29) -> L3T1 | E34: =IF(D34<>0,VLOOKUP(D34&"C2",'Course Offer(Day)'!A6:N94,3,0),"") -> TE-311 | F34: =IF(D34<>0,VLOOKUP(D34&"C2",'Course Offer(Day)'!A6:N94,4,0),"") -> Yarn Manufacturing – II | G34: =IF(D34<>0,VLOOKUP(D34&"C2",'Course Offer(Day)'!A6:W94,24,0),"") -> #REF! | J34: =IF(D34<>0,VLOOKUP(D34&"C2No. Of Students",'Course Offer(Day)'!B6:W94,22,0),"") -> #N/A
A36: 24/4/2012 | B36: Group 2 | C36: Day 4 | D36: Level Term | E36: Course code | F36: Course Title | G36: Section # No. of Students (Teacher's Inittial) | J36: Stu. / Course | K36: Total | M36: Level Term | N36: Course code | O36: Course Title | P36: Section # No. of Students (Teacher's Inittial) | S36: Stu. / Course | T36: Total
D37: Slot A : 9.30 am-11.30am | M37: Slot B : 12.30 pm-2.30pm
D38: =VLOOKUP(C36,'Level combination (Day)'!A14:AH17,2) -> L2T3 | E38: =IF(D38<>0,VLOOKUP(D38&"C2",'Course Offer(Day)'!A6:N94,3,0),"") -> MKT-231 | F38: =IF(D38<>0,VLOOKUP(D38&"C2",'Course Offer(Day)'!A6:N94,4,0),"") -> Principle of Marketing | G38: =IF(D38<>0,VLOOKUP(D38&"C2",'Course Offer(Day)'!A6:W94,24,0),"") -> #REF! | J38: =IF(D38<>0,VLOOKUP(D38&"C2No. Of Students",'Course Offer(Day)'!B6:W94,22,0),"") -> #N/A | K38: =SUM(J38:J39) -> #N/A | M38: =VLOOKUP(C36,'Level combination (Day)'!A14:AH17,13) -> L1T2 | N38: =IF(M38<>0,VLOOKUP(M38&"C2",'Course Offer(Day)'!A6:N94,3,0),"") -> MAT- 122 | O38: =IF(M38<>0,VLOOKUP(M38&"C2",'Course Offer(Day)'!A6:N94,4,0),"") -> Mathmatics II | P38: =IF(M38<>0,VLOOKUP(M38&"C2",'Course Offer(Day)'!A6:W94,24,0),"") -> #REF! | S38: =IF(M38<>0,VLOOKUP(M38&"C2No. Of Students",'Course Offer(Day)'!B6:W94,22,0),"") -> #N/A | T38: =SUM(S38:S39) -> #N/A
D39: =VLOOKUP(C36,'Level combination (Day)'!A14:AH17,7) -> L1T1 | E39: =IF(D39<>0,VLOOKUP(D39&"C3",'Course Offer(Day)'!A6:N94,3,0),"") -> MAT-111 | F39: =IF(D39<>0,VLOOKUP(D39&"C3",'Course Offer(Day)'!A6:N94,4,0),"") -> Mathematics I | G39: =IF(D39<>0,VLOOKUP(D39&"C3",'Course Offer(Day)'!A6:W94,24,0),"") -> #REF! | J39: =IF(D39<>0,VLOOKUP(D39&"C3No. Of Students",'Course Offer(Day)'!B6:W94,22,0),"") -> #N/A | M39: =VLOOKUP(C36,'Level combination (Day)'!A14:AH17,18) -> L3T2 | N39: =IF(M39<>0,VLOOKUP(M39&"C2",'Course Offer(Day)'!A6:N94,3,0),"") -> TE-325 | O39: =IF(M39<>0,VLOOKUP(M39&"C2",'Course Offer(Day)'!A6:N94,4,0),"") -> Basic Electrical & Electronic Engineering | P39: =IF(M39<>0,VLOOKUP(M39&"C2",'Course Offer(Day)'!A6:W94,24,0),"") -> #REF! | S39: =IF(M39<>0,VLOOKUP(M39&"C2No. Of Students",'Course Offer(Day)'!B6:W94,22,0),"") -> #N/A
D41: Slot C : 3.30 pm --5.30pm
D42: =VLOOKUP(C36,'Level combination (Day)'!A14:AH17,24) -> L2T1 | E42: =IF(D42<>0,VLOOKUP(D42&"C2",'Course Offer(Day)'!A6:N94,3,0),"") -> TE-212 | F42: =IF(D42<>0,VLOOKUP(D42&"C2",'Course Offer(Day)'!A6:N94,4,0),"") -> Yarn Manufacturing I (lab) | G42: =IF(D42<>0,VLOOKUP(D42&"C2",'Course Offer(Day)'!A6:W94,24,0),"") -> #REF! | J42: =IF(D42<>0,VLOOKUP(D42&"C2No. Of Students",'Course Offer(Day)'!B6:W94,22,0),"") -> #N/A | K42: =SUM(J42:J43) -> #N/A
D43: =VLOOKUP(C36,'Level combination (Day)'!A14:AH17,29) -> L4T1 | E43: =IF(D43<>0,VLOOKUP(D43&"C2",'Course Offer(Day)'!A6:N94,3,0),"") -> #N/A | F43: =IF(D43<>0,VLOOKUP(D43&"C2",'Course Offer(Day)'!A6:N94,4,0),"") -> #N/A | G43: =IF(D43<>0,VLOOKUP(D43&"C2",'Course Offer(Day)'!A6:W94,24,0),"") -> #N/A | J43: 200
A48: 25/4/2012 | B48: Group 1 & 2 | C48: Day 5 | D48: Level Term | E48: Course code | F48: Course Title | G48: Section # No. of Students (Teacher's Inittial) | J48: Stu. / Course | K48: Total | M48: Level Term | N48: Course code | O48: Course Title | P48: Section # No. of Students (Teacher's Inittial) | S48: Stu. / Course | T48: Total
D49: Slot A : 9.30 am-11.30am | M49: Slot B : 12.30 pm-2.30pm
D50: =VLOOKUP(C48,'Level combination (Day)'!A6:AG9,2) -> L1T3 | E50: =IF(D50<>0,VLOOKUP(D50&"C3",'Course Offer(Day)'!A6:N94,3,0),"") -> TE-132 | F50: =IF(D50<>0,VLOOKUP(D50&"C3",'Course Offer(Day)'!A6:N94,4,0),"") -> Engineering Materials | G50: =IF(D50<>0,VLOOKUP(D50&"C3",'Course Offer(Day)'!A6:W94,24,0),"") -> #REF! | J50: =IF(D50<>0,VLOOKUP(D50&"C3No. Of Students",'Course Offer(Day)'!B6:W94,22,0),"") -> #N/A | K50: =SUM(J50:J53) -> #N/A | M50: =VLOOKUP(C48,'Level combination (Day)'!A6:AG9,13) -> L2T2 | N50: =IF(M50<>0,VLOOKUP(M50&"C3",'Course Offer(Day)'!A6:N94,3,0),"") -> TE-221 | O50: =IF(M50<>0,VLOOKUP(M50&"C3",'Course Offer(Day)'!A6:N94,4,0),"") -> Textile wet Processing I | P50: =IF(M50<>0,VLOOKUP(M50&"C3",'Course Offer(Day)'!A6:W94,24,0),"") -> #REF! | S50: =IF(M50<>0,VLOOKUP(M50&"C3No. Of Students",'Course Offer(Day)'!B6:W94,22,0),"") -> #N/A | T50: =SUM(S50:S53) -> #N/A
D51: =VLOOKUP(C48,'Level combination (Day)'!A6:AG9,7) -> L3T3 | E51: =IF(D51<>0,VLOOKUP(D51&"C3",'Course Offer(Day)'!A6:N94,3,0),"") -> TE-335 | F51: =IF(D51<>0,VLOOKUP(D51&"C3",'Course Offer(Day)'!A6:N94,4,0),"") -> Applications of Computer in Textiles | G51: =IF(D51<>0,VLOOKUP(D51&"C3",'Course Offer(Day)'!A6:W94,24,0),"") -> #REF! | J51: =IF(D51<>0,VLOOKUP(D51&"C3No. Of Students",'Course Offer(Day)'!B6:W94,22,0),"") -> #N/A | M51: L4T2 | N51: TE404 | O51: Textile coloration/Apparel manufacturing/Fabric manufacturing Iv with lab | P51: A#35(MMR),B#26(MMR),A#34(ZU),A#27(MMH) | S51: 122
D52: =VLOOKUP(C48,'Level combination (Day)'!A14:AH17,2) -> L2T3 | E52: =IF(D52<>0,VLOOKUP(D52&"C3",'Course Offer(Day)'!A6:N94,3,0),"") -> ACT-231 | F52: =IF(D52<>0,VLOOKUP(D52&"C3",'Course Offer(Day)'!A6:N94,4,0),"") -> Principle of Accounting | G52: =IF(D52<>0,VLOOKUP(D52&"C3",'Course Offer(Day)'!A6:W94,24,0),"") -> #REF! | J52: =IF(D52<>0,VLOOKUP(D52&"C3No. Of Students",'Course Offer(Day)'!B6:W94,22,0),"") -> #N/A | M52: =VLOOKUP(C48,'Level combination (Day)'!A14:AH17,13) -> L1T2 | N52: =IF(M52<>0,VLOOKUP(M52&"C3",'Course Offer(Day)'!A6:N94,3,0),"") -> PHY-122 | O52: =IF(M52<>0,VLOOKUP(M52&"C3",'Course Offer(Day)'!A6:N94,4,0),"") -> Physics II | P52: =IF(M52<>0,VLOOKUP(M52&"C3",'Course Offer(Day)'!A6:W94,24,0),"") -> #REF! | S52: =IF(M52<>0,VLOOKUP(M52&"C3No. Of Students",'Course Offer(Day)'!B6:W94,22,0),"") -> #N/A
D53: =VLOOKUP(C48,'Level combination (Day)'!A14:AH17,7) -> 0 | E53: =IF(D53<>0,VLOOKUP(D53&"C3",'Course Offer(Day)'!A6:N94,3,0),"") | F53: =IF(D53<>0,VLOOKUP(D53&"C3",'Course Offer(Day)'!A6:N94,4,0),"") | G53: =IF(D53<>0,VLOOKUP(D53&"C3",'Course Offer(Day)'!A6:W94,24,0),"") | J53: =IF(D53<>0,VLOOKUP(D53&"C3No. Of Students",'Course Offer(Day)'!B6:W94,22,0),"") | M53: =VLOOKUP(C48,'Level combination (Day)'!A14:AH17,18) -> L3T2 | N53: =IF(M53<>0,VLOOKUP(M53&"C3",'Course Offer(Day)'!A6:N94,3,0),"") -> TE323 | O53: =IF(M53<>0,VLOOKUP(M53&"C3",'Course Offer(Day)'!A6:N94,4,0),"") -> Fabric Design & Analysis | P53: =IF(M53<>0,VLOOKUP(M53&"C3",'Course Offer(Day)'!A6:W94,24,0),"") -> #REF! | S53: =IF(M53<>0,VLOOKUP(M53&"C3No. Of Students",'Course Offer(Day)'!B6:W94,22,0),"") -> #N/A
D55: Slot C : 3.30 pm --5.30pm
...

Sheet Course Offer(Day)
C1: Daffodil International University
C2: 102, Sukrabad, Mirpur Road, Dhanmondi, Dhaka-1207
C3: Department of Textile Engineering
C4: Courses Offered for Day shift
C5: Spring- 2016
C6: For L4-T3 # A, B
C7: Code | D7: Course Title | F7: Assigned Teacher | L7: Cr Hours
C8: TE431 | D8: Industrial attachment | L8: 0+3=3
C9: TE432 | D9: Comprehensive viva | L9: 0+2=2
C11: For L4-T2 # | E11: A, B
C12: Code | D12: Course Title | E12: Section & Assigned Teacher | L12: Cr Hours | M12: Exam Details Mid term & Final | O12: Subject No.
C13: TE423/425/427 | D13: Fabric Manufacturing IV/ Textile Wet Processing IV/ Apparel Manufacturing IV | E13: Section | F13: A | G13: A | H13: A | I13: B | L13: 3+0=3 | M13: DAY 2 | N13: SLOT B
C14: TE424/426/428 | D14: Fabric Manufacturing IV/ Textile Wet Processing IV/ Apparel Manufacturing IV (Lab) | L14: 0+1=1
C15: TE4210/4211/4212 | D15: Special Fabric Production /Special Wet Processing / Special Apparel Manufacturing | L15: 3+0=3 | M15: DAY 4 | N15: SLOT B
C16: TE 4213 | D16: Textile & Environment | L16: 3+0=3 | M16: DAY 6 | N16: SLOT B
C17: TE4214 | D17: Project(Thesis) | L17: 0+3=3
C18: For L4-T1 # | E18: A,B,C,D
C19: Code | D19: Course Title | E19: Section & Assigned Teacher | L19: Cr Hours | M19: Exam Details Mid term & Final | O19: Subject No.
C20: TE411/413/415/417 | D20: Yarn/ Fabric / Textile Wet Processing/ Apparel Manufacturing III | L20: 3+0=3 | M20: DAY5 | N20: SLOT A
C21: TE412/414/416/418 | D21: Yarn/ Fabric / Textile Wet Processing/ Apparel Manufacturing III(Lab) | L21: 0+1=1
C22: TE419 | D22: Textile Testing & Quality Control III | E22: Section | F22: A | G22: C | H22: D | I22: E | J22: F | L22: 3+0=3 | M22: DAY3 | N22: SLOT A
C23: TE4110 | D23: Textile Mill Utilities | E23: Section | F23: A | G23: C | H23: D | I23: E | J23: F | L23: 3+0=3 | M23: DAY 7 | N23: SLOT A
C24: TE4111 | D24: Technical Textile | E24: Section | F24: A | G24: C | H24: D | I24: E | J24: F | L24: 3+0=3 | M24: DAY1 | N24: SLOT A
C25: For L3-T3 # | E25: A, B
C26: Code | D26: Course Title | E26: Section & Assigned Teacher | L26: Cr Hours | M26: Exam Details Mid term & Final | O26: Subject No.
A27: ="L3T3"&O27 -> L3T3C1 | B27: =A27&E27 -> L3T3C1Section | C27: TE-331 | D27: Apparel Manufacturing -II | E27: Section | F27: A | G27: B | L27: 3+0=3 | M27: DAY2 | N27: SLOT C | O27: C1 | P27: =IF(AND(F27<>"",#REF!<>"",#REF!<>""),F27&"#"&#REF!&"("&#REF!&")","") -> #REF! | Q27: =IF(AND(G27<>"",#REF!<>"",#REF!<>""),", "&G27&"#"&#REF!&"("&#REF!&")","") -> #REF! | R27: =IF(AND(H27<>"",#REF!<>"",#REF!<>""),", "&H27&"#"&#REF!&"("&#REF!&")","") -> #REF! | S27: =IF(AND(I27<>"",#REF!<>"",#REF!<>""),", "&I27&"#"&#REF!&"("&#REF!&")","") -> #REF! | T27: =IF(AND(J27<>"",#REF!<>"",#REF!<>""),", "&J27&"#"&#REF!&"("&#REF!&")","") -> #REF! | U27: =IF(AND(K27<>"",#REF!<>"",#REF!<>""),", "&K27&"#"&#REF!&"("&#REF!&")","") -> #REF! | W27: =P27&Q27&R27&S27&T27&U27 -> #REF!
C28: TE-332 | D28: Apparel Manufacturing -II (Lab) | L28: 0+1=1
A29: ="L3T3"&O29 -> L3T3C2 | B29: =A29&E29 -> L3T3C2Section | C29: TE-333 | D29: Economics for Textile Engineers | E29: Section | F29: A | G29: B | L29: 3+0=3 | M29: DAY6 | N29: SLOT A | O29: C2 | P29: =IF(AND(F29<>"",#REF!<>"",#REF!<>""),F29&"#"&#REF!&"("&#REF!&")","") -> #REF! | Q29: =IF(AND(G29<>"",#REF!<>"",#REF!<>""),", "&G29&"#"&#REF!&"("&#REF!&")","") -> #REF! | R29: =IF(AND(H29<>"",#REF!<>"",#REF!<>""),", "&H29&"#"&#REF!&"("&#REF!&")","") -> #REF! | S29: =IF(AND(I29<>"",#REF!<>"",#REF!<>""),", "&I29&"#"&#REF!&"("&#REF!&")","") -> #REF! | T29: =IF(AND(J29<>"",#REF!<>"",#REF!<>""),", "&J29&"#"&#REF!&"("&#REF!&")","") -> #REF! | U29: =IF(AND(K29<>"",#REF!<>"",#REF!<>""),", "&K29&"#"&#REF!&"("&#REF!&")","") -> #REF! | W29: =P29&Q29&R29&S29&T29&U29 -> #REF!
A30: ="L3T3"&O30 -> L3T3C4 | B30: =A30&E30 -> L3T3C4Section | C30: TE-334 | D30: Elements of Machine Dynamics & Design | E30: Section | F30: A | G30: B | L30: 3+0=3 | M30: DAY 7 | N30: SLOT C | O30: C4 | P30: =IF(AND(F30<>"",#REF!<>"",#REF!<>""),F30&"#"&#REF!&"("&#REF!&")","") -> #REF! | Q30: =IF(AND(G30<>"",#REF!<>"",#REF!<>""),", "&G30&"#"&#REF!&"("&#REF!&")","") -> #REF! | R30: =IF(AND(H30<>"",#REF!<>"",#REF!<>""),", "&H30&"#"&#REF!&"("&#REF!&")","") -> #REF! | S30: =IF(AND(I30<>"",#REF!<>"",#REF!<>""),", "&I30&"#"&#REF!&"("&#REF!&")","") -> #REF! | T30: =IF(AND(J30<>"",#REF!<>"",#REF!<>""),", "&J30&"#"&#REF!&"("&#REF!&")","") -> #REF! | U30: =IF(AND(K30<>"",#REF!<>"",#REF!<>""),", "&K30&"#"&#REF!&"("&#REF!&")","") -> #REF! | W30: =P30&Q30&R30&S30&T30&U30 -> #REF!
A31: ="L3T3"&O31 -> L3T3C3 | B31: =A31&E31 -> L3T3C3Section | C31: TE-335 | D31: Applications of Computer in Textiles | E31: Section | F31: A | G31: B | L31: 3+0=3 | M31: DAY 4 | N31: SLOT C | O31: C3 | P31: =IF(AND(F31<>"",#REF!<>"",#REF!<>""),F31&"#"&#REF!&"("&#REF!&")","") -> #REF! | Q31: =IF(AND(G31<>"",#REF!<>"",#REF!<>""),", "&G31&"#"&#REF!&"("&#REF!&")","") -> #REF! | R31: =IF(AND(H31<>"",#REF!<>"",#REF!<>""),", "&H31&"#"&#REF!&"("&#REF!&")","") -> #REF! | S31: =IF(AND(I31<>"",#REF!<>"",#REF!<>""),", "&I31&"#"&#REF!&"("&#REF!&")","") -> #REF! | T31: =IF(AND(J31<>"",#REF!<>"",#REF!<>""),", "&J31&"#"&#REF!&"("&#REF!&")","") -> #REF! | U31: =IF(AND(K31<>"",#REF!<>"",#REF!<>""),", "&K31&"#"&#REF!&"("&#REF!&")","") -> #REF! | W31: =P31&Q31&R31&S31&T31&U31 -> #REF!
C32: For L3-T2 # | E32: A, B
C33: Code | D33: Course Title | E33: Section & Assigned Teacher | L33: Cr Hours | M33: Exam Details Mid term & Final | O33: Subject No.
A34: ="L3T2"&O34 -> L3T2C1 | B34: =A34&E34 -> L3T2C1Section | C34: TE321 | D34: Textile Wet Processing-II | E34: Section | F34: A | G34: B | H34: C | I34: E | L34: 3+0=3 | M34: DAY 1 | N34: SLOT B | O34: C1 | P34: =IF(AND(F34<>"",#REF!<>"",#REF!<>""),F34&"#"&#REF!&"("&#REF!&")","") -> #REF! | Q34: =IF(AND(G34<>"",#REF!<>"",#REF!<>""),", "&G34&"#"&#REF!&"("&#REF!&")","") -> #REF! | R34: =IF(AND(H34<>"",#REF!<>"",#REF!<>""),", "&H34&"#"&#REF!&"("&#REF!&")","") -> #REF! | S34: =IF(AND(I34<>"",#REF!<>"",#REF!<>""),", "&I34&"#"&#REF!&"("&#REF!&")","") -> #REF! | T34: =IF(AND(J34<>"",#REF!<>"",#REF!<>""),", "&J34&"#"&#REF!&"("&#REF!&")","") -> #REF! | U34: =IF(AND(K34<>"",#REF!<>"",#REF!<>""),", "&K34&"#"&#REF!&"("&#REF!&")","") -> #REF! | W34: =P34&Q34&R34&S34&T34&U34 -> #REF!
C35: TE 322 | D35: Textile Wet Processing-II (Lab) | L35: 0+1=1
A36: ="L3T2"&O36 -> L3T2C2 | B36: =A36&E36 -> L3T2C2Section | C36: TE-325 | D36: Basic Electrical & Electronic Engineering | E36: Section | F36: A | G36: B | H36: C | I36: E | L36: 2+0=2 | M36: DAY 5 | N36: SLOT B | O36: C2 | P36: =IF(AND(F36<>"",#REF!<>"",#REF!<>""),F36&"#"&#REF!&"("&#REF!&")","") -> #REF! | Q36: =IF(AND(G36<>"",#REF!<>"",#REF!<>""),", "&G36&"#"&#REF!&"("&#REF!&")","") -> #REF! | R36: =IF(AND(H36<>"",#REF!<>"",#REF!<>""),", "&H36&"#"&#REF!&"("&#REF!&")","") -> #REF! | S36: =IF(AND(I36<>"",#REF!<>"",#REF!<>""),", "&I36&"#"&#REF!&"("&#REF!&")","") -> #REF! | T36: =IF(AND(J36<>"",#REF!<>"",#REF!<>""),", "&J36&"#"&#REF!&"("&#REF!&")","") -> #REF! | U36: =IF(AND(K36<>"",#REF!<>"",#REF!<>""),", "&K36&"#"&#REF!&"("&#REF!&")","") -> #REF! | W36: =P36&Q36&R36&S36&T36&U36 -> #REF!
C37: TE 326 | D37: Basic Electrical & Electronic Engineering(Lab) | L37: 0+1=1
A38: ="L3T2"&O38 -> L3T2C3 | B38: =A38&E38 -> L3T2C3Section | C38: TE323 | D38: Fabric Design & Analysis | E38: Section | F38: A | G38: B | H38: C | I38: E | L38: 3+0=3 | M38: DAY 7 | N38: SLOT B | O38: C3 | P38: =IF(AND(F38<>"",#REF!<>"",#REF!<>""),F38&"#"&#REF!&"("&#REF!&")","") -> #REF! | Q38: =IF(AND(G38<>"",#REF!<>"",#REF!<>""),", "&G38&"#"&#REF!&"("&#REF!&")","") -> #REF! | R38: =IF(AND(H38<>"",#REF!<>"",#REF!<>""),", "&H38&"#"&#REF!&"("&#REF!&")","") -> #REF! | S38: =IF(AND(I38<>"",#REF!<>"",#REF!<>""),", "&I38&"#"&#REF!&"("&#REF!&")","") -> #REF! | T38: =IF(AND(J38<>"",#REF!<>"",#REF!<>""),", "&J38&"#"&#REF!&"("&#REF!&")","") -> #REF! | U38: =IF(AND(K38<>"",#REF!<>"",#REF!<>""),", "&K38&"#"&#REF!&"("&#REF!&")","") -> #REF! | W38: =P38&Q38&R38&S38&T38&U38 -> #REF!
C39: TE 324 | D39: Fabric Design & Analysis(Lab) | L39: 0+1=1
A40: ="L3T2"&O40 -> L3T2C4 | B40: =A40&E40 -> L3T2C4Section | C40: TE327 | D40: Textile Production Management | E40: Section | F40: A | G40: B | H40: C | I40: E | L40: 3+0=3 | M40: DAY 3 | N40: SLOT B | O40: C4 | P40: =IF(AND(F40<>"",#REF!<>"",#REF!<>""),F40&"#"&#REF!&"("&#REF!&")","") -> #REF! | Q40: =IF(AND(G40<>"",#REF!<>"",#REF!<>""),", "&G40&"#"&#REF!&"("&#REF!&")","") -> #REF! | R40: =IF(AND(H40<>"",#REF!<>"",#REF!<>""),", "&H40&"#"&#REF!&"("&#REF!&")","") -> #REF! | S40: =IF(AND(I40<>"",#REF!<>"",#REF!<>""),", "&I40&"#"&#REF!&"("&#REF!&")","") -> #REF! | T40: =IF(AND(J40<>"",#REF!<>"",#REF!<>""),", "&J40&"#"&#REF!&"("&#REF!&")","") -> #REF! | U40: =IF(AND(K40<>"",#REF!<>"",#REF!<>""),", "&K40&"#"&#REF!&"("&#REF!&")","") -> #REF! | W40: =P40&Q40&R40&S40&T40&U40 -> #REF!
C41: For L3-T1 # | E41: A, B
...

Sheet Exam (EVE)
A2: Daffodil International University
A3: Department of Textile Engineering
A4: Midterm Examination Schedule (Evening), Summer ’ 2011
A5: =IF('[1]Course offer(EVE)'!C143="",'[1]Course offer(EVE)'!B143,"Slot D: "&'[1]Course offer(EVE)'!C143) -> Slot D
A6: DAY | B6: Date | C6: Level Term | D6: Course code | E6: Course Title | F6: No. of Students | G6: Course Teacher | J6: Day
A7: DAY 1 | B7: 09.7.11 | C7: L1T1 | D7: =VLOOKUP(C7&"C1",'[1]Course offer(EVE)'!A8:C137,2,0) -> MATH111 | E7: =VLOOKUP(C7&"C1",'[1]Course offer(EVE)'!A8:D137,3,0) -> Mathematics I | F7: 15 | G7: AK | J7: Day 1
C8: L1T3 | D8: =VLOOKUP(C8&"C1",'[1]Course offer(EVE)'!A8:C137,2,0) -> TE201 | E8: =VLOOKUP(C8&"C1",'[1]Course offer(EVE)'!A8:C137,3,0) -> Textile Chemistry | F8: 42 | G8: MSZ | J8: Day 1
C9: L2T2 | D9: =VLOOKUP(C9&"C1",'[1]Course offer(EVE)'!A8:C137,2,0) -> BUS209 | E9: =VLOOKUP(C9&"C1",'[1]Course offer(EVE)'!A8:C137,3,0) -> Business statistics | F9: 20 | G9: RA | J9: Day 1
C10: L2T3 | D10: TE308 | E10: Apparel Manufacturing II with lab | F10: 44 | G10: MRR
D11: TE404 | E11: Apparel Manufacturing IV with lab | F11: 18 | G11: MMR
C12: L1T3 | D12: TE201 | E12: Textile Chemistry | F12: 42 | G12: MSZ
A13: DAY 2 | B13: 10.7.11 | C13: L1T2 | D13: =VLOOKUP(C13&"C1",'[1]Course offer(EVE)'!A8:C137,2,0) -> TE107 | E13: =VLOOKUP(C13&"C1",'[1]Course offer(EVE)'!A8:C137,3,0) -> Polymer Science | F13: 25 | G13: MSZ | J13: Day 2
C14: L2T3 | D14: =VLOOKUP(C14&"C1",'[1]Course offer(EVE)'!A8:C137,2,0) -> CSE210 | E14: =VLOOKUP(C14&"C1",'[1]Course offer(EVE)'!A8:C137,3,0) -> Computer Programming & Graphics with lab | F14: 44 | G14: MS | J14: Day 2
C15: L3T2 | D15: =VLOOKUP(C15&"C1",'[1]Course offer(EVE)'!A8:C137,2,0) -> TE404 | E15: =VLOOKUP(C15&"C1",'[1]Course offer(EVE)'!A8:C137,3,0) -> Textile Coloration IV with lab | F15: 10 | G15: TAC | J15: Day 2
A16: DAY 3 | B16: 11.7.11 | C16: L1T1 | D16: =VLOOKUP(C16&"C2",'[1]Course offer(EVE)'!A8:C137,2,0) -> TE109 | E16: =VLOOKUP(C16&"C2",'[1]Course offer(EVE)'!A8:C137,3,0) -> Textile Raw Materials | F16: 16 | G16: SS1 | J16: Day 3
C17: L1T3 | D17: =VLOOKUP(C17&"C2",'[1]Course offer(EVE)'!A8:C137,2,0) -> MATH131 | E17: =VLOOKUP(C17&"C2",'[1]Course offer(EVE)'!A8:C137,3,0) -> Mathematics III | F17: 53 | G17: AK | J17: Day 3
C18: L2T2 | D18: =VLOOKUP(C18&"C2",'[1]Course offer(EVE)'!A8:C137,2,0) -> TE207 | E18: =VLOOKUP(C18&"C2",'[1]Course offer(EVE)'!A8:C137,3,0) -> Fabric Design & Analysis with lab | F18: 25 | G18: AI | J18: Day 3
C19: L1T3 | D19: =VLOOKUP(C19&"C2",'[1]Course offer(EVE)'!A8:C137,2,0) -> MATH131 | E19: =VLOOKUP(C19&"C2",'[1]Course offer(EVE)'!A8:C137,3,0) -> Mathematics III | F19: 53 | G19: AK | J19: Day 3
A20: DAY 4 | B20: 12.7.11 | C20: L1T2 | D20: =VLOOKUP(C20&"C2",'[1]Course offer(EVE)'!A8:C137,2,0) -> PHY108 | E20: =VLOOKUP(C20&"C2",'[1]Course offer(EVE)'!A8:C137,3,0) -> Physics II with | F20: 23 | G20: AT | J20: Day 4
C21: L2T1 | D21: =VLOOKUP(C21&"C2",'[1]Course offer(EVE)'!A8:C137,2,0) -> TE302 | E21: =VLOOKUP(C21&"C2",'[1]Course offer(EVE)'!A8:C137,3,0) -> Fabric Manufacturing II with lab | F21: 16 | G21: MMZ | J21: Day 4
C22: L2T3 | D22: =VLOOKUP(C22&"C2",'[1]Course offer(EVE)'!A8:C137,2,0) -> TE306 | E22: =VLOOKUP(C22&"C2",'[1]Course offer(EVE)'!A8:C137,3,0) -> Elements of Machine Dynamics & Design | F22: 42 | G22: SA | J22: Day 4
C23: L3T2 | D23: =VLOOKUP(C23&"C2",'[1]Course offer(EVE)'!A8:C137,2,0) -> TE405 | E23: =VLOOKUP(C23&"C2",'[1]Course offer(EVE)'!A8:C137,3,0) -> Textile Product evaluation II with lab | F23: 21 | G23: RIK | J23: Day 4
A24: DAY 5 | B24: 13.7.11 | C24: L1T1 | D24: =VLOOKUP(C24&"C3",'[1]Course offer(EVE)'!A8:C137,2,0) -> CHEM105 | E24: =VLOOKUP(C24&"C3",'[1]Course offer(EVE)'!A8:C137,3,0) -> Chemistry with lab | F24: 13 | G24: MAZ(PT) | J24: Day 5
C25: L1T3 | D25: =VLOOKUP(C25&"C3",'[1]Course offer(EVE)'!A8:C137,2,0) -> CSE206 | E25: =VLOOKUP(C25&"C3",'[1]Course offer(EVE)'!A8:C137,3,0) -> Basic Electrical and Electronic Engineering with lab | F25: 40 | G25: NAS | J25: Day 5
C26: L2T2 | D26: =VLOOKUP(C26&"C3",'[1]Course offer(EVE)'!A8:C137,2,0) -> TE303 | E26: =VLOOKUP(C26&"C3",'[1]Course offer(EVE)'!A8:C137,3,0) -> Manufacturing Engineering with lab | F26: 23 | G26: MAB1 | J26: Day 5
C27: L1T3 | D27: CSE206 | E27: Basic Electrical and Electronic Engineering with lab | F27: 40 | G27: NAS
C28: L3T1 | D28: =VLOOKUP(C28&"C3",'[1]Course offer(EVE)'!A8:C137,2,0) -> TE401 | E28: =VLOOKUP(C28&"C3",'[1]Course offer(EVE)'!A8:C137,3,0) -> Yarn/ Fabric / Textile Coloration/ Apparel Manufacturing III with lab | F28: WPT-1+AT-1 | G28: FHA+ | J28: Day 5
A29: DAY 6 | B29: 14.7.11 | C29: L1T1 | D29: =VLOOKUP(C29&"C4",'[1]Course offer(EVE)'!A8:C137,2,0) -> ENG102 | E29: =VLOOKUP(C29&"C4",'[1]Course offer(EVE)'!A8:C137,3,0) -> English Language | F29: 14 | G29: MRS | J29: Day 6
C30: L1T3 | D30: =VLOOKUP(C30&"C4",'[1]Course offer(EVE)'!A8:C137,2,0) -> TE301 | E30: =VLOOKUP(C30&"C4",'[1]Course offer(EVE)'!A8:C137,3,0) -> Yarn Manufacturing II with lab | F30: 44 | G30: AHM | J30: Day 6
C31: L2T2 | D31: =VLOOKUP(C31&"C4",'[1]Course offer(EVE)'!A8:C137,2,0) -> TE304 | E31: =VLOOKUP(C31&"C4",'[1]Course offer(EVE)'!A8:C137,3,0) -> Textile Coloration II with lab | F31: 23 | G31: RIK | J31: Day 6
C32: L1T2 | D32: =VLOOKUP(C32&"C3",'[1]Course offer(EVE)'!A8:C137,2,0) -> MATH121 | E32: =VLOOKUP(C32&"C3",'[1]Course offer(EVE)'!A8:C137,3,0) -> Mathematics II | F32: 20 | G32: MPL | J32: Day 6
C33: L2T3 | D33: =VLOOKUP(C33&"C3",'[1]Course offer(EVE)'!A8:C137,2,0) -> TE308 | E33: =VLOOKUP(C33&"C3",'[1]Course offer(EVE)'!A8:C137,3,0) -> Apparel Manufacturing II with lab | F33: 44 | G33: MRR | J33: Day 6
C34: L3T2 | D34: =VLOOKUP(C34&"C3",'[1]Course offer(EVE)'!A8:C137,2,0) -> TE406 | E34: =VLOOKUP(C34&"C3",'[1]Course offer(EVE)'!A8:C137,3,0) -> Textile Production Management | F34: 30 | G34: MMZ | J34: Day 6
B35: 16.7.11 | C35: L2T3 | D35: =VLOOKUP(C35&"C4",'[1]Course offer(EVE)'!A8:C137,2,0) -> TE309 | E35: =VLOOKUP(C35&"C4",'[1]Course offer(EVE)'!A8:C137,3,0) -> Engineering Economics | F35: 45 | G35: MSB | J35: Day 7
C36: L3T2 | D36: =VLOOKUP(C36&"C4",'[1]Course offer(EVE)'!A8:C137,2,0) -> TE409 | E36: =VLOOKUP(C36&"C4",'[1]Course offer(EVE)'!A8:C137,3,0) -> Textile & Environment | F36: 21 | G36: SM | J36: Day 7
B40: Dr. Md. Ismail Jabiullah
B41: Chairman, Examination Committee, FSIT, DIU

Sheet Sheet1

Sheet Course offer(EVE)
B3: Daffodil International University
B4: 102, Sukrabad, Mirpur Road, Dhanmondi, Dhaka-1207
B5: Department of Textile Engineering
B6: Courses Offered for Evening shift
B7: Summer - 2012
B8: For L3-T3 #
B9: Course Code | C9: Course Title | D9: Credit Hours | E9: Exam Details
B10: TE410 | C10: Industrial attachment
B11: TE411 | C11: Comprehensive viva
B13: For L3-T2 #
B14: Course Code | C14: Course Title | D14: Credit Hours | E14: Exam Details
A15: ="L3T2"&H15 -> L3T2C1 | B15: TE404 | C15: Coloration/Apparel-IV | D15: 3+0=3 | E15: =VLOOKUP(B15,'Exam (EVE)'!D7:J36,7,0) -> 0 | F15: Slot D | H15: C1
A18: ="L3T2"&H18 -> L3T2C2 | B18: TE405 | C18: Textile Product evaluation II with lab | D18: 3+0=3 | E18: =VLOOKUP(B18,'Exam (EVE)'!D7:J36,7,0) -> Day 4 | F18: Slot D | H18: C2
A21: ="L3T2"&H21 -> L3T2C3 | B21: TE406 | C21: Textile Production Management | D21: 3+1=4 | E21: =VLOOKUP(B21,'Exam (EVE)'!D7:J36,7,0) -> Day 6 | F21: Slot D | H21: C3
A24: ="L3T2"&H24 -> L3T2C5 | B24: TE407 | C24: Preject / Thesis | D24: 3+0=3 | E24: =VLOOKUP(B24,'Exam (EVE)'!D4:J34,7,0) -> #N/A | F24: Slot D | H24: C5
A27: ="L3T2"&H27 -> L3T2C4 | B27: TE409 | C27: Textile & Environment | D27: 3+0=3 | E27: =VLOOKUP(B27,'Exam (EVE)'!D7:J36,7,0) -> Day 7 | F27: Slot D | H27: C4
B31: For L3-T1 #
B32: Course Code | C32: Course Title | D32: Credit Hours | E32: Exam Details
A33: ="L3T1"&H33 -> L3T1C1 | B33: TE310 | C33: Textile Mill Utilities | D33: 3+0=3 | E33: =VLOOKUP(B33,'Exam (EVE)'!D7:J36,7,0) -> #N/A | F33: Slot D | H33: C1
A36: ="L3T1"&H36 -> L3T1C2 | B36: TE311 | C36: Quality Control in Textile with lab | D36: 2+1=3 | E36: =VLOOKUP(B36,'Exam (EVE)'!D7:J36,7,0) -> #N/A | F36: Slot D | H36: C2
A39: ="L3T1"&H39 -> L3T1C3 | B39: TE401 | C39: Yarn/ Fabric / Textile Coloration/ Apparel Manufacturing III with lab | D39: 3+1=4 | E39: =VLOOKUP(B39,'Exam (EVE)'!D7:J36,7,0) -> Day 5 | F39: Slot D | H39: C3
A42: ="L3T1"&H42 -> L3T1C4 | B42: TE402 | C42: Hi-tech Textiles | D42: 3+0=3 | E42: =VLOOKUP(B42,'Exam (EVE)'!D7:J36,7,0) -> #N/A | F42: Slot D | H42: C4
A45: ="L3T1"&H45 -> L3T1C5 | B45: TE408 | C45: specialized Yarn production/fabric production/ Wet processing/Apparel manufacturin | D45: 3+1=4 | E45: =VLOOKUP(B45,'Exam (EVE)'!D7:J36,7,0) -> #N/A | F45: Slot D | H45: C5
B49: For L2-T3 #
B50: Course Code | C50: Course Title | D50: Credit Hours | E50: Exam Details
A51: ="L2T3"&H51 -> L2T3C1 | B51: CSE210 | C51: Computer Programming & Graphics with lab | D51: 2+1=3 | E51: =VLOOKUP(B51,'Exam (EVE)'!D7:J36,7,0) -> Day 2 | F51: Slot D | H51: C1
A54: ="L2T3"&H54 -> L2T3C2 | B54: TE306 | C54: Elements of Machine Dynamics & Design | D54: 3+0=3 | E54: =VLOOKUP(B54,'Exam (EVE)'!D7:J36,7,0) -> Day 4 | F54: Slot D | H54: C2
A57: ="L2T3"&H57 -> L2T3C3 | B57: TE308 | C57: Apparel Manufacturing II with lab | D57: 3+1=4 | E57: =VLOOKUP(B57,'Exam (EVE)'!D7:J36,7,0) -> 0 | F57: Slot D | H57: C3
A60: ="L2T3"&H60 -> L2T3C4 | B60: TE309 | C60: Engineering Economics | D60: 3+0=3 | E60: =VLOOKUP(B60,'Exam (EVE)'!D7:J36,7,0) -> Day 7 | F60: Slot D | H60: C4
B64: For L2-T2 #
B65: Course Code | C65: Course Title | D65: Credit Hours | E65: Exam Details
A66: ="L2T2"&H66 -> L2T2C1 | B66: BUS209 | C66: Business statistics | D66: 3+0=3 | E66: =VLOOKUP(B66,'Exam (EVE)'!D7:J36,7,0) -> Day 1 | F66: Slot D | H66: C1
A69: ="L2T2"&H69 -> L2T2C2 | B69: TE207 | C69: Fabric Design & Analysis with lab | D69: 3+1=4 | E69: =VLOOKUP(B69,'Exam (EVE)'!D7:J36,7,0) -> Day 3 | F69: Slot D | H69: C2
A72: ="L2T2"&H72 -> L2T2C3 | B72: TE303 | C72: Manufacturing Engineering with lab | D72: 2+1=3 | E72: =VLOOKUP(B72,'Exam (EVE)'!D7:J36,7,0) -> Day 5 | F72: Slot D | H72: C3
A75: ="L2T2"&H75 -> L2T2C4 | B75: TE304 | C75: Textile Coloration II with lab | D75: 3+1=4 | E75: =VLOOKUP(B75,'Exam (EVE)'!D7:J36,7,0) -> Day 6 | F75: Slot D | H75: C4
B79: For L2-T1 #
B80: Course Code | C80: Course Title | D80: Credit Hours | E80: Exam Details
A81: ="L2T1"&H81 -> L2T1C1 | B81: TE110 | C81: Engineering Materials & Practice | D81: 3+1=4 | E81: =VLOOKUP(B81,'Exam (EVE)'!D7:J36,7,0) -> #N/A | F81: Slot D | H81: C1
A84: ="L2T1"&H84 -> L2T1C2 | B84: TE302 | C84: Fabric Manufacturing II with lab | D84: 3+1=4 | E84: =VLOOKUP(B84,'Exam (EVE)'!D7:J36,7,0) -> Day 4 | F84: Slot D | H84: C2
A87: ="L2T1"&H87 -> L2T1C3 | B87: TE305 | C87: Textile Physics | D87: 3+0=3 | E87: =VLOOKUP(B87,'Exam (EVE)'!D7:J36,7,0) -> #N/A | F87: Slot D | H87: C3
...

Sheet Level combination (Day)
A1: Level Combination (Day)
A3: Group One
B4: Slot A | M4: Slot B | X4: Slot C
A5: Day | B5: Level Term | C5: Level Term+ Course N0. | D5: Level Term+ Course N0.+Section | E5: Level Term+ Course N0.+No. of Students | F5: Course No. | G5: Level Term | H5: Level Term+ Course N0. | I5: Level Term+ Course N0.+Section | J5: Level Term+ Course N0.+No. of Students | K5: Course No. | L5: Slot | M5: Level Term | N5: Level Term+ Course N0. | O5: Level Term+ Course N0.+Section | P5: Level Term+ Course N0.+No. of Students | Q5: Course No. | R5: Level Term | S5: Level Term+ Course N0. | T5: Level Term+ Course N0.+Section | U5: Level Term+ Course N0.+No. of Students | V5: Course No. | W5: Slot B | X5: Level Term | Y5: Level Term+ Course N0. | Z5: Level Term+ Course N0.+Section | AA5: Level Term+ Course N0.+No. of Students | AB5: Course No. | AC5: Level Term | AD5: Level Term+ Course N0. | AE5: Level Term+ Course N0.+Section | AF5: Level Term+ Course N0.+No. of Students | AG5: Course No. | AH5: Slot C | AI5: Day | AK5: Slot & Day program
A6: Day 1 | B6: L1T3 | C6: =B6&F6 -> L1T3C1 | D6: =C6&"Section" -> L1T3C1Section | E6: =C6&"No. of Students" -> L1T3C1No. of Students | F6: C1 | G6: L3T3 | H6: =G6&K6 -> L3T3C1 | I6: =H6&"Section" -> L3T3C1Section | J6: =H6&"No. of Students" -> L3T3C1No. of Students | K6: C1 | L6: Slot A | M6: L2T2 | N6: =M6&Q6 -> L2T2C1 | O6: =N6&"Section" -> L2T2C1Section | P6: =N6&"No. of Students" -> L2T2C1No. of Students | Q6: C1 | R6: L4T2 | S6: =R6&V6 -> L4T2C1 | T6: =S6&"Section" -> L4T2C1Section | U6: =S6&"No. of Students" -> L4T2C1No. of Students | V6: C1 | W6: Slot B | X6: L1T1 | Y6: =X6&AB6 -> L1T1C1 | Z6: =Y6&"Section" -> L1T1C1Section | AA6: =Y6&"No. of Students" -> L1T1C1No. of Students | AB6: C1 | AC6: L3T1 | AD6: =AC6&AG6 -> L3T1C1 | AE6: =AD6&"Section" -> L3T1C1Section | AF6: =AD6&"No. of Students" -> L3T1C1No. of Students | AG6: C1 | AH6: Slot C | AI6: =A6 -> Day 1 | AK6: =C6 -> L1T3C1 | AL6: =VLOOKUP(AK6,C6:AI9,33) -> Day 1 | AM6: =VLOOKUP(AK6,C6:AI9,10) -> Slot A
A7: Day 3 | B7: L1T3 | C7: =B7&F7 -> L1T3C2 | D7: =C7&"Section" -> L1T3C2Section | E7: =C7&"No. of Students" -> L1T3C2No. of Students | F7: C2 | G7: L3T3 | H7: =G7&K7 -> L3T3C2 | I7: =H7&"Section" -> L3T3C2Section | J7: =H7&"No. of Students" -> L3T3C2No. of Students | K7: C2 | L7: Slot A | M7: L2T2 | N7: =M7&Q7 -> L2T2C2 | O7: =N7&"Section" -> L2T2C2Section | P7: =N7&"No. of Students" -> L2T2C2No. of Students | Q7: C2 | S7: =R7&V7 | T7: =S7&"Section" -> Section | U7: =S7&"No. of Students" -> No. of Students | W7: Slot B | X7: L1T1 | Y7: =X7&AB7 -> L1T1C2 | Z7: =Y7&"Section" -> L1T1C2Section | AA7: =Y7&"No. of Students" -> L1T1C2No. of Students | AB7: C2 | AC7: L3T1 | AD7: =AC7&AG7 -> L3T1C2 | AE7: =AD7&"Section" -> L3T1C2Section | AF7: =AD7&"No. of Students" -> L3T1C2No. of Students | AG7: C2 | AH7: Slot C | AI7: =A7 -> Day 3 | AK7: =C7 -> L1T3C2 | AL7: =VLOOKUP(AK7,C6:AI9,33) -> Day 3 | AM7: =VLOOKUP(AK7,C6:AI9,10) -> Slot A
A8: Day 5 | B8: L1T3 | C8: =B8&F8 -> L1T3C3 | D8: =C8&"Section" -> L1T3C3Section | E8: =C8&"No. of Students" -> L1T3C3No. of Students | F8: C3 | G8: L3T3 | H8: =G8&K8 -> L3T3C3 | I8: =H8&"Section" -> L3T3C3Section | J8: =H8&"No. of Students" -> L3T3C3No. of Students | K8: C3 | L8: Slot A | M8: L2T2 | N8: =M8&Q8 -> L2T2C3 | O8: =N8&"Section" -> L2T2C3Section | P8: =N8&"No. of Students" -> L2T2C3No. of Students | Q8: C3 | S8: =R8&V8 | T8: =S8&"Section" -> Section | U8: =S8&"No. of Students" -> No. of Students | W8: Slot B | Y8: =X8&AB8 | Z8: =Y8&"Section" -> Section | AA8: =Y8&"No. of Students" -> No. of Students | AC8: L3T1 | AD8: =AC8&AG8 -> L3T1C3 | AE8: =AD8&"Section" -> L3T1C3Section | AF8: =AD8&"No. of Students" -> L3T1C3No. of Students | AG8: C3 | AH8: Slot C | AI8: =A8 -> Day 5 | AK8: =C8 -> L1T3C3 | AL8: =VLOOKUP(AK8,C6:AI9,33) -> Day 5 | AM8: =VLOOKUP(AK8,C6:AI9,10) -> Slot A
A9: Day 6 | B9: L1T3 | C9: =B9&F9 -> L1T3C4 | D9: =C9&"Section" -> L1T3C4Section | E9: =C9&"No. of Students" -> L1T3C4No. of Students | F9: C4 | G9: L3T3 | H9: =G9&K9 -> L3T3C4 | I9: =H9&"Section" -> L3T3C4Section | J9: =H9&"No. of Students" -> L3T3C4No. of Students | K9: C4 | L9: Slot A | M9: L2T2 | N9: =M9&Q9 -> L2T2C4 | O9: =N9&"Section" -> L2T2C4Section | P9: =N9&"No. of Students" -> L2T2C4No. of Students | Q9: C4 | R9: L4T2 | S9: =R9&V9 -> L4T2C2 | T9: =S9&"Section" -> L4T2C2Section | U9: =S9&"No. of Students" -> L4T2C2No. of Students | V9: C2 | W9: Slot B | X9: L1T1 | Y9: =X9&AB9 -> L1T1C4 | Z9: =Y9&"Section" -> L1T1C4Section | AA9: =Y9&"No. of Students" -> L1T1C4No. of Students | AB9: C4 | AC9: L3T1 | AD9: =AC9&AG9 -> L3T1C4 | AE9: =AD9&"Section" -> L3T1C4Section | AF9: =AD9&"No. of Students" -> L3T1C4No. of Students | AG9: C4 | AH9: Slot C | AI9: =A9 -> Day 6 | AK9: =C9 -> L1T3C4 | AL9: =VLOOKUP(AK9,C6:AI9,33) -> Day 6 | AM9: =VLOOKUP(AK9,C6:AI9,10) -> Slot A
AK10: =H6 -> L3T3C1 | AL10: =VLOOKUP(AK10,H6:AI9,28) -> Day 1 | AM10: =VLOOKUP(AK10,H6:AI9,5) -> Slot A
A11: Group Two | AK11: =H7 -> L3T3C2 | AL11: =VLOOKUP(AK11,H6:AI9,28) -> Day 3 | AM11: =VLOOKUP(AK11,H6:AI9,5) -> Slot A
B12: Slot A | M12: Slot B | X12: Slot C | AK12: =H8 -> L3T3C3 | AL12: =VLOOKUP(AK12,H6:AI9,28) -> Day 5 | AM12: =VLOOKUP(AK12,H6:AI9,5) -> Slot A
A13: Day | B13: Level Term | C13: Level Term+ Course N0. | D13: Level Term+ Course N0.+Section | E13: Level Term+ Course N0.+No. of Students | F13: Course No. | G13: Level Term | H13: Level Term+ Course N0. | I13: Level Term+ Course N0.+Section | J13: Level Term+ Course N0.+No. of Students | K13: Course No. | M13: Level Term | N13: Level Term+ Course N0. | O13: Level Term+ Course N0.+Section | P13: Level Term+ Course N0.+No. of Students | Q13: Course No. | R13: Level Term | S13: Level Term+ Course N0. | T13: Level Term+ Course N0.+Section | U13: Level Term+ Course N0.+No. of Students | V13: Course No. | X13: Level Term | Y13: Level Term+ Course N0. | Z13: Level Term+ Course N0.+Section | AA13: Level Term+ Course N0.+No. of Students | AB13: Course No. | AC13: Level Term | AD13: Level Term+ Course N0. | AE13: Level Term+ Course N0.+Section | AF13: Level Term+ Course N0.+No. of Students | AG13: Course No. | AH13: Slot C | AI13: Day | AK13: =H9 -> L3T3C4 | AL13: =VLOOKUP(AK13,H6:AI9,28) -> Day 6 | AM13: =VLOOKUP(AK13,H6:AI9,5) -> Slot A
A14: Day 2 | B14: L2T3 | C14: =B14&F14 -> L2T3C1 | D14: =C14&"Section" -> L2T3C1Section | E14: =C14&"No. of Students" -> L2T3C1No. of Students | F14: C1 | G14: Retake | H14: =G14&K14 -> RetakeC1 | I14: =H14&"Section" -> RetakeC1Section | J14: =H14&"No. of Students" -> RetakeC1No. of Students | K14: C1 | L14: Slot A | M14: L1T2 | N14: =M14&Q14 -> L1T2C1 | O14: =N14&"Section" -> L1T2C1Section | P14: =N14&"No. of Students" -> L1T2C1No. of Students | Q14: C1 | R14: L3T2 | S14: =R14&V14 -> L3T2C1 | T14: =S14&"Section" -> L3T2C1Section | U14: =S14&"No. of Students" -> L3T2C1No. of Students | V14: C1 | W14: Slot B | X14: L2T1 | Y14: =X14&AB14 -> L2T1C1 | Z14: =Y14&"Section" -> L2T1C1Section | AA14: =Y14&"No. of Students" -> L2T1C1No. of Students | AB14: C1 | AC14: L4T1 | AD14: =AC14&AG14 -> L4T1C1 | AE14: =AD14&"Section" -> L4T1C1Section | AF14: =AD14&"No. of Students" -> L4T1C1No. of Students | AG14: C1 | AH14: Slot C | AI14: =A14 -> Day 2 | AK14: =N6 -> L2T2C1 | AL14: =VLOOKUP(AK14,N6:AI9,22) -> Day 1 | AM14: =VLOOKUP(AK14,N6:AI9,10) -> Slot B
A15: Day 4 | B15: L2T3 | C15: =B15&F15 -> L2T3C2 | D15: =C15&"Section" -> L2T3C2Section | E15: =C15&"No. of Students" -> L2T3C2No. of Students | F15: C2 | G15: L1T1 | H15: =G15&K15 -> L1T1C3 | I15: =H15&"Section" -> L1T1C3Section | J15: =H15&"No. of Students" -> L1T1C3No. of Students | K15: C3 | L15: Slot A | M15: L1T2 | N15: =M15&Q15 -> L1T2C2 | O15: =N15&"Section" -> L1T2C2Section | P15: =N15&"No. of Students" -> L1T2C2No. of Students | Q15: C2 | R15: L3T2 | S15: =R15&V15 -> L3T2C2 | T15: =S15&"Section" -> L3T2C2Section | U15: =S15&"No. of Students" -> L3T2C2No. of Students | V15: C2 | W15: Slot B | X15: L2T1 | Y15: =X15&AB15 -> L2T1C2 | Z15: =Y15&"Section" -> L2T1C2Section | AA15: =Y15&"No. of Students" -> L2T1C2No. of Students | AB15: C2 | AC15: L4T1 | AD15: =AC15&AG15 -> L4T1C2 | AE15: =AD15&"Section" -> L4T1C2Section | AF15: =AD15&"No. of Students" -> L4T1C2No. of Students | AG15: C2 | AH15: Slot C | AI15: =A15 -> Day 4 | AK15: =N7 -> L2T2C2 | AL15: =VLOOKUP(AK15,N7:AI10,22) -> Day 3 | AM15: =VLOOKUP(AK15,N6:AI9,10) -> Slot B
A16: Day 5 | B16: L2T3 | C16: =B16&F16 -> L2T3C3 | D16: =C16&"Section" -> L2T3C3Section | E16: =C16&"No. of Students" -> L2T3C3No. of Students | F16: C3 | H16: =G16&K16 | I16: =H16&"Section" -> Section | J16: =H16&"No. of Students" -> No. of Students | L16: Slot A | M16: L1T2 | N16: =M16&Q16 -> L1T2C3 | O16: =N16&"Section" -> L1T2C3Section | P16: =N16&"No. of Students" -> L1T2C3No. of Students | Q16: C3 | R16: L3T2 | S16: =R16&V16 -> L3T2C3 | T16: =S16&"Section" -> L3T2C3Section | U16: =S16&"No. of Students" -> L3T2C3No. of Students | V16: C3 | W16: Slot B | X16: L2T1 | Y16: =X16&AB16 -> L2T1C3 | Z16: =Y16&"Section" -> L2T1C3Section | AA16: =Y16&"No. of Students" -> L2T1C3No. of Students | AB16: C3 | AC16: L4T1 | AD16: =AC16&AG16 -> L4T1C3 | AE16: =AD16&"Section" -> L4T1C3Section | AF16: =AD16&"No. of Students" -> L4T1C3No. of Students | AG16: C3 | AH16: Slot C | AI16: =A16 -> Day 5 | AK16: =N8 -> L2T2C3 | AL16: =VLOOKUP(AK16,N6:AI9,22) -> Day 5 | AM16: =VLOOKUP(AK16,N6:AI9,10) -> Slot B
A17: Day 7 | B17: L2T3 | C17: =B17&F17 -> L2T3C4 | D17: =C17&"Section" -> L2T3C4Section | E17: =C17&"No. of Students" -> L2T3C4No. of Students | F17: C4 | H17: =G17&K17 | I17: =H17&"Section" -> Section | J17: =H17&"No. of Students" -> No. of Students | L17: Slot A | M17: L1T2 | N17: =M17&Q17 -> L1T2C4 | O17: =N17&"Section" -> L1T2C4Section | P17: =N17&"No. of Students" -> L1T2C4No. of Students | Q17: C4 | R17: L3T2 | S17: =R17&V17 -> L3T2C4 | T17: =S17&"Section" -> L3T2C4Section | U17: =S17&"No. of Students" -> L3T2C4No. of Students | V17: C4 | W17: Slot B | X17: L2T1 | Y17: =X17&AB17 -> L2T1C4 | Z17: =Y17&"Section" -> L2T1C4Section | AA17: =Y17&"No. of Students" -> L2T1C4No. of Students | AB17: C4 | AC17: L4T1 | AD17: =AC17&AG17 -> L4T1C4 | AE17: =AD17&"Section" -> L4T1C4Section | AF17: =AD17&"No. of Students" -> L4T1C4No. of Students | AG17: C4 | AH17: Slot C | AI17: =A17 -> Day 7 | AK17: =N9 -> L2T2C4 | AL17: =VLOOKUP(AK17,N6:AI9,22) -> Day 6 | AM17: =VLOOKUP(AK17,N6:AI9,10) -> Slot B
AK18: =S6 -> L4T2C1 | AL18: =VLOOKUP(AK18,S6:AI9,17) -> Day 5 | AM18: =VLOOKUP(AK18,S6:AI9,5) -> Slot B
AK19: =S7 | AL19: =VLOOKUP(AK19,S6:AI9,17) -> Day 5 | AM19: =VLOOKUP(AK19,S6:AI9,5) -> Slot B
AK20: =S8 | AL20: =VLOOKUP(AK20,S6:AI9,17) -> Day 5 | AM20: =VLOOKUP(AK20,S6:AI9,5) -> Slot B
AK21: =S9 -> L4T2C2 | AL21: =VLOOKUP(AK21,S6:AI9,17) -> Day 6 | AM21: =VLOOKUP(AK21,S6:AI9,5) -> Slot B
AK22: =Y6 -> L1T1C1 | AL22: =VLOOKUP(AK22,Y6:AI9,11) -> Day 1 | AM22: =VLOOKUP(AK22,Y6:AI9,10) -> Slot C
AK23: =Y7 -> L1T1C2 | AL23: =VLOOKUP(AK23,Y6:AI9,11) -> Day 3 | AM23: =VLOOKUP(AK23,Y6:AI9,10) -> Slot C
AK24: =Y8 | AL24: =VLOOKUP(AK24,Y7:AI9,11) -> Day 5 | AM24: =VLOOKUP(AK24,Y7:AI9,10) -> Slot C
AK25: =Y9 -> L1T1C4 | AL25: =VLOOKUP(AK25,Y6:AI9,11) -> Day 6 | AM25: =VLOOKUP(AK25,Y6:AI9,10) -> Slot C
AK26: =AD6 -> L3T1C1 | AL26: =VLOOKUP(AK26,AD6:AI9,6) -> Day 1 | AM26: =VLOOKUP(AK26,AD6:AI9,5) -> Slot C
AK27: =AD7 -> L3T1C2 | AL27: =VLOOKUP(AK27,AD6:AI9,6) -> Day 3 | AM27: =VLOOKUP(AK27,AD6:AI9,5) -> Slot C
AK28: =AD8 -> L3T1C3 | AL28: =VLOOKUP(AK28,AD6:AI9,6) -> Day 5 | AM28: =VLOOKUP(AK28,AD6:AI9,5) -> Slot C
AK29: =AD9 -> L3T1C4 | AL29: =VLOOKUP(AK29,AD6:AI9,6) -> Day 6 | AM29: =VLOOKUP(AK29,AD6:AI9,5) -> Slot C
AK30: =C14 -> L2T3C1 | AL30: =VLOOKUP(AK30,C14:AI17,33) -> Day 2 | AM30: =VLOOKUP(AK30,C14:AI17,10) -> Slot A
AK31: =C15 -> L2T3C2 | AL31: =VLOOKUP(AK31,C14:AI17,33) -> Day 4 | AM31: =VLOOKUP(AK31,C14:AI17,10) -> Slot A
AK32: =C16 -> L2T3C3 | AL32: =VLOOKUP(AK32,C14:AI17,33) -> Day 5 | AM32: =VLOOKUP(AK32,C14:AI17,10) -> Slot A
AK33: =C17 -> L2T3C4 | AL33: =VLOOKUP(AK33,C14:AI17,33) -> Day 7 | AM33: =VLOOKUP(AK33,C14:AI17,10) -> Slot A
AK34: =H14 -> RetakeC1 | AL34: =VLOOKUP(AK34,H14:AI17,28) -> Day 7 | AM34: =VLOOKUP(AK34,H14:AI17,5) -> Slot A
AK35: =H15 -> L1T1C3 | AL35: =VLOOKUP(AK35,H14:AI17,28) -> Day 4 | AM35: =VLOOKUP(AK35,H14:AI17,5) -> Slot A
AK36: =H16 | AL36: =VLOOKUP(AK36,H14:AI17,28) -> #N/A | AM36: =VLOOKUP(AK36,H14:AI17,5) -> #N/A
AK37: =H17 | AL37: =VLOOKUP(AK37,H14:AI17,28) -> #N/A | AM37: =VLOOKUP(AK37,H14:AI17,5) -> #N/A
AK38: =N14 -> L1T2C1 | AL38: =VLOOKUP(AK38,N14:AI17,22) -> Day 2 | AM38: =VLOOKUP(AK38,N14:AI17,10) -> Slot B
AK39: =N15 -> L1T2C2 | AL39: =VLOOKUP(AK39,N14:AI17,22) -> Day 4 | AM39: =VLOOKUP(AK39,N14:AI17,10) -> Slot B
AK40: =N16 -> L1T2C3 | AL40: =VLOOKUP(AK40,N14:AI17,22) -> Day 5 | AM40: =VLOOKUP(AK40,N14:AI17,10) -> Slot B
AK41: =N17 -> L1T2C4 | AL41: =VLOOKUP(AK41,N14:AI17,22) -> Day 7 | AM41: =VLOOKUP(AK41,N14:AI17,10) -> Slot B
...

Sheet 2.05.11 Slot C
A1: Seat Plan,Final Examination, Spring'2011
A2: Slot: C TIME:03:30PM-5:30PM DATE:02-05-2011
A3: Room # 701 (AAM, KB)
A4: Col - 1 | D4: Col - 2 | G4: Col - 3 | J4: Col - 4
A5: MAT 103 | D5: TE305 | G5: MAT 103 | J5: TE305
A6: Mathematics-I | D6: Textile Physics | G6: Mathematics-I | J6: Textile Physics
A7: MJU/MPL | D7: SM/MRR/AH/AI | G7: MJU/MPL | J7: SM/MRR/AH/AI
A8: 11 | D8: 11 | G8: 11 | J8: 11
A10: Room # 702 (BCD, MIH)
A11: Col - 1 | D11: Col - 2 | G11: Col - 3 | J11: Col - 4
A12: MAT 103 | D12: TE305 | G12: MAT 103 | J12: TE305
A13: Mathematics-I | D13: Textile Physics | G13: Mathematics-I | J13: Textile Physics
A14: MJU/MPL | D14: SM/MRR/AH/AI | G14: MJU/MPL | J14: SM/MRR/AH/AI
A15: 11 | D15: 11 | G15: 11 | J15: 11
A17: Room # 703 (MUP, MJU)
A18: Col - 1 | D18: Col - 2 | G18: Col - 3 | J18: Col - 4
A19: MAT 103 | D19: TE305 | G19: MAT 103 | J19: TE305
A20: Mathematics-I | D20: Textile Physics | G20: Mathematics-I | J20: Textile Physics
A21: MJU/MPL | D21: SM/MRR/AH/AI | G21: MJU/MPL | J21: SM/MRR/AH/AI
A22: 11 | D22: 11 | G22: 11 | J22: 11
A24: Room # 704 (TNA, MT)
A25: Col - 1 | D25: Col - 2 | G25: Col - 3 | J25: Col - 4
A26: MAT 103 | D26: TE305 | G26: MAT 103 | J26: TE305
A27: Mathematics-I | D27: Textile Physics | G27: Mathematics-I | J27: Textile Physics
A28: MJU/MPL | D28: SM/MRR/AH/AI | G28: MJU/MPL | J28: SM/MRR/AH/AI
A29: 10 | D29: 10 | G29: 10 | J29: 10
A31: Room # 705 ( SS, AK)
A32: Col - 1 | D32: Col - 2 | G32: Col - 3 | J32: Col - 4
A33: MAT 103 | D33: TE305 | G33: MAT 103 | J33: TE305
A34: Mathematics-I | D34: Textile Physics | G34: Mathematics-I | J34: Textile Physics
A35: MJU/MPL | D35: SM/MRR/AH/AI | G35: MJU/MPL | J35: SM/MRR/AH/AI
A36: 10 | D36: 10 | G36: 10 | J36: 10
A38: Room # 706 ( )
A39: Col - 1 | C39: Col - 2 | E39: Col - 3 | G39: Col - 4 | I39: Col - 5 | K39: Col - 6
A43: 5 | C43: 5 | E43: 5 | G43: 5 | I43: 5 | K43: 5
A45: Room # 707 ( )
A46: Col - 1 | C46: Col - 2 | E46: Col - 3 | G46: Col - 4 | I46: Col - 5 | K46: Col - 6
A50: 5 | C50: 5 | E50: 5 | G50: 5 | I50: 5 | K50: 5
A51: Room # 706 (RR, SM)
A52: Col - 1 | C52: Col - 2 | E52: Col - 3 | G52: Col - 4 | I52: Col - 5 | K52: Col - 6
...

Sheet 2.05.11 SLOT B
A1: Seat Plan,Final Examination, Spring'2011
A2: Slot:B TIME:12:30PM-2:00PM DATE:02-05-2011
A3: Room # 701 (SL, RRR)
A4: Col - 1 | D4: Col - 2 | G4: Col - 3 | J4: Col - 4
A5: BUS209 | D5: TE404 | G5: BUS209 | J5: TE404
A6: Business Statistics | D6: Textile Coloration IV | G6: Business Statistics | J6: Textile Coloration IV
A7: RA | D7: ZU | G7: RA | J7: ZU
A8: 11 | D8: 10 | G8: 11 | J8: 10
A10: Room # 702 (HM, NA)
A11: Col - 1 | D11: Col - 2 | G11: Col - 3 | J11: Col - 4
A12: BUS209 | D12: TE404 | G12: BUS209 | J12: TE404
A13: Business Statistics | D13: Textile Coloration IV | G13: Business Statistics | J13: Textile Coloration IV
A14: RA | D14: ZU | G14: RA | J14: ZU
A15: 11 | D15: 10 | G15: 11 | J15: 10
A17: Room # 703 (SKB, MHR)
A18: Col - 1 | D18: Col - 2 | G18: Col - 3 | J18: Col - 4
A19: BUS209 | D19: ETE337 | G19: BUS209 | J19: ETE337
A20: Business Statistics | D20: Optical Fibre Communication | G20: Business Statistics | J20: Optical Fibre Communication
A21: RA | D21: SHA | G21: RA | J21: SHA
A22: 11 | D22: 10 | G22: 11 | J22: 10
A24: Room # 704 (FK, MSI)
A25: Col - 1 | D25: Col - 2 | G25: Col - 3 | J25: Col - 4
A26: BUS209 | D26: TE404 | G26: BUS209 | J26: TE404
A27: Business Statistics | D27: Apparel Manuf. IV with lab | G27: Business Statistics | J27: Apparel Manuf. IV with lab
A28: RA | D28: MMR | G28: RA | J28: MMR
A29: 10 | D29: 10 | G29: 10 | J29: 10
A31: Room # 705 (MSU, MSB )
A32: Col - 1 | D32: Col - 2 | G32: Col - 3 | J32: Col - 4
A33: BUS209 | D33: TE404 | G33: BUS209 | J33: TE404
A34: Business Statistics | D34: Apparel Manuf. IV with lab | G34: Business Statistics | J34: Apparel Manuf. IV with lab
A35: RA | D35: MMR | G35: RA | J35: MMR
A36: 10 | D36: 10 | G36: 10 | J36: 10
A38: Room # 706 ( )
A39: Col - 1 | C39: Col - 2 | E39: Col - 3 | G39: Col - 4 | I39: Col - 5 | K39: Col - 6
A43: 5 | C43: 5 | E43: 5 | G43: 5 | I43: 5 | K43: 5
A45: Room # 707 ( )
A46: Col - 1 | C46: Col - 2 | E46: Col - 3 | G46: Col - 4 | I46: Col - 5 | K46: Col - 6
A50: 5 | C50: 5 | E50: 5 | G50: 5 | I50: 5 | K50: 5
A51: Room # 706 (RA, KAC)
A52: Col - 1 | C52: Col - 2 | E52: Col - 3 | G52: Col - 4 | I52: Col - 5 | K52: Col - 6
...

Sheet slot a
A1: Seat Plan,Final Examination, Spring'2011
A2: Slot: A TIME: 9:30 AM-11:30AM DATE: 02-05-2011
A3: Room # 701 (NRC, MSB)
A4: Col - 1 | D4: Col - 2 | G4: Col - 3 | J4: Col - 4
A5: TE109 | D5: TE310 | G5: TE109 | J5: TE310
A6: Textile Raw Materials | D6: Textile Mill Utilities | G6: Textile Raw Materials | J6: Textile Mill Utilities
A7: AHM | D7: AA | G7: AHM | J7: AA
A8: 11 | D8: 11 | G8: 11 | J8: 11
A10: Room # 702 (AKA, MT)
A11: Col - 1 | D11: Col - 2 | G11: Col - 3 | J11: Col - 4
A12: TE109 | D12: TE310 | G12: TE109 | J12: TE310
A13: Textile Raw Materials | D13: Textile Mill Utilities | G13: Textile Raw Materials | J13: Textile Mill Utilities
A14: AHM | D14: AA | G14: AHM | J14: AA
A15: 11 | D15: 11 | G15: 11 | J15: 11
A17: Room # 703 (AAA, FHA)
A18: Col - 1 | D18: Col - 2 | G18: Col - 3 | J18: Col - 4
A19: TE109 | D19: TE310 | G19: TE109 | J19: TE310
A20: Textile Raw Materials | D20: Textile Mill Utilities | G20: Textile Raw Materials | J20: Textile Mill Utilities
A21: AHM | D21: AA | G21: AHM | J21: AA
A22: 11 | D22: 11 | G22: 11 | J22: 11
A24: Room # 704 (SM, PS)
A25: Col - 1 | D25: Col - 2 | G25: Col - 3 | J25: Col - 4
A26: TE310 | D26: PHY123 | G26: TE310 | J26: PHY123
A27: Textile Mill Utilities | D27: Physics II | G27: Textile Mill Utilities | J27: Physics II
A28: AA | D28: AKA | G28: AA | J28: AKA
A29: 10 | D29: 10 | G29: 10 | J29: 10
A31: Room # 705 (MRI, MPL)
A32: Col - 1 | D32: Col - 2 | G32: Col - 3 | J32: Col - 4
A33: TE310 | D33: PHY123 | G33: TE310 | J33: PHY123
A34: Textile Mill Utilities | D34: Physics II | G34: Textile Mill Utilities | J34: Physics II
A35: AA | D35: AKA | G35: AA | J35: AKA
A36: 10 | D36: 10 | G36: 10 | J36: 10
A38: Room # 706 ( )
A39: Col - 1 | C39: Col - 2 | E39: Col - 3 | G39: Col - 4 | I39: Col - 5 | K39: Col - 6
A43: 5 | C43: 5 | E43: 5 | G43: 5 | I43: 5 | K43: 5
A45: Room # 707 ( )
A46: Col - 1 | C46: Col - 2 | E46: Col - 3 | G46: Col - 4 | I46: Col - 5 | K46: Col - 6
A50: 5 | C50: 5 | E50: 5 | G50: 5 | I50: 5 | K50: 5
A51: Room # 706 (FN, MRC)
A52: Col - 1 | C52: Col - 2 | E52: Col - 3 | G52: Col - 4 | I52: Col - 5 | K52: Col - 6
...

Sheet Slot D
A1: Seat Plan,Final Examination, SPRING'2011
A2: Slot:D TIME:06:30PM-8:30PM DATE:02-05-2011
A3: Room # 701 (SKB, NA)
A4: Col - 1 | D4: Col - 2 | G4: Col - 3 | J4: Col - 4
A5: MATH111 | D5: TE301 | G5: MATH111 | J5: CSE413
A6: Mathematics I | D6: Yarn Manufacturing II with Lab | G6: Mathematics I | J6: Simulation & Modeling (5th+6th)
A7: MPL | D7: MSR | G7: MPL | J7: MZK
A8: 11 | D8: 11 | G8: 11 | J8: 10
A10: Room # 702 (RRR, MHR)
A11: Col - 1 | D11: Col - 2 | G11: Col - 3 | J11: Col - 4
A12: BUS209 | D12: TE310 | G12: BUS209 | J12: TE310
A13: Business Statistics | D13: Textile Mill Utilities | G13: Business Statistics | J13: Textile Mill Utilities
A14: KC | D14: RRR | G14: KC | J14: RRR
A15: 11 | D15: 10 | G15: 11 | J15: 10
A17: Room # 703 (MSI, MPL)
A18: Col - 1 | D18: Col - 2 | G18: Col - 3 | J18: Col - 4
A19: BUS209 | D19: TE310 | G19: BUS209 | J19: ENG108
A20: Business Statistics | D20: Textile Mill Utilities | G20: Business Statistics | J20: English
A21: KC | D21: RRR | G21: KC | J21: MR
A22: 11 | D22: 10 | G22: 11 | J22: 10
A24: Room # 704 (KAC, MSZ)
A25: Col - 1 | D25: Col - 2 | G25: Col - 3 | J25: Col - 4
A26: ENG108 | D26: MAT134 | G26: ENG108 | J26: MAT134
A27: English | D27: Mathematics III (12th) | G27: English | J27: Mathematics III (12th)
A28: MR | D28: MAM | G28: MR | J28: MAM
A29: 10 | D29: 10 | G29: 10 | J29: 10
A31: Room # 705 (AA, DMA )
A32: Col - 1 | D32: Col - 2 | G32: Col - 3 | J32: Col - 4
A33: MAT134 | D33: CSE413 | G33: CSE111 | J33: CSE413
A34: Mathematics III (12th) | D34: Simulation & Modeling (5th+6th) | G34: Structural Programming | J34: Simulation & Modeling (5th+6th)
A35: MAM | D35: MZK | G35: KU | J35: MZK
A36: CSE222 | G36: MATH111
A37: OOP (11th) | G37: Mathematics I
A38: MOI | G38: MPL
A39: 2+6 | D39: 10 | G39: 4+4 | J39: 10
A41: Room # 706 (RIK, TAC )
A42: Col - 1 | C42: Col - 2 | E42: Col - 3 | G42: Col - 4 | I42: Col - 5 | K42: Col - 6
A43: DFT205 | C43: DFT108 | E43: DFT205 | G43: DFT108 | I43: DFT205 | K43: DFT108
A44: Food Bio Technology | C44: Food Safety | E44: Food Bio Technology | G44: Food Safety | I44: Food Bio Technology | K44: Food Safety
A45: DBH | C45: DFH | E45: DBH | G45: DFH | I45: DBH | K45: DFH
...
