Workbook

Sheet Teacher's routine
B1: ANF | D1: 08:30-10:00 | E1: 10:00-11:30 | F1: 11:30-01:00 | G1: 01:00-02:30 | H1: 2:30-04:00 | I1: 04:00-05:30
B2: =B1 -> ANF | C2: Saturday | D2: =IFERROR(INDEX(Data!$A$10:$O$1069,MATCH(CONCATENATE($C2,D$8,$B2),Data!$J$10:$J$1069,0),15),"") | E2: =IFERROR(INDEX(Data!$A$10:$O$1069,MATCH(CONCATENATE($C2,E$8,$B2),Data!$J$10:$J$1069,0),15),"") | F2: =IFERROR(INDEX(Data!$A$10:$O$1069,MATCH(CONCATENATE($C2,F$8,$B2),Data!$J$10:$J$1069,0),15),"") | G2: =IFERROR(INDEX(Data!$A$10:$O$1069,MATCH(CONCATENATE($C2,G$8,$B2),Data!$J$10:$J$1069,0),15),"") | H2: =IFERROR(INDEX(Data!$A$10:$O$1069,MATCH(CONCATENATE($C2,H$8,$B2),Data!$J$10:$J$1069,0),15),"") | I2: =IFERROR(INDEX(Data!$A$10:$O$1069,MATCH(CONCATENATE($C2,I$8,$B2),Data!$J$10:$J$1069,0),15),"")
B3: =B2 -> ANF | C3: Sunday | D3: =IFERROR(INDEX(Data!$A$10:$O$1069,MATCH(CONCATENATE($C3,D$8,$B3),Data!$J$10:$J$1069,0),15),"") | E3: =IFERROR(INDEX(Data!$A$10:$O$1069,MATCH(CONCATENATE($C3,E$8,$B3),Data!$J$10:$J$1069,0),15),"") | F3: =IFERROR(INDEX(Data!$A$10:$O$1069,MATCH(CONCATENATE($C3,F$8,$B3),Data!$J$10:$J$1069,0),15),"") | G3: =IFERROR(INDEX(Data!$A$10:$O$1069,MATCH(CONCATENATE($C3,G$8,$B3),Data!$J$10:$J$1069,0),15),"") | H3: =IFERROR(INDEX(Data!$A$10:$O$1069,MATCH(CONCATENATE($C3,H$8,$B3),Data!$J$10:$J$1069,0),15),"") | I3: =IFERROR(INDEX(Data!$A$10:$O$1069,MATCH(CONCATENATE($C3,I$8,$B3),Data!$J$10:$J$1069,0),15),"")
B4: =B3 -> ANF | C4: Monday | D4: =IFERROR(INDEX(Data!$A$10:$O$1069,MATCH(CONCATENATE($C4,D$8,$B4),Data!$J$10:$J$1069,0),15),"") | E4: =IFERROR(INDEX(Data!$A$10:$O$1069,MATCH(CONCATENATE($C4,E$8,$B4),Data!$J$10:$J$1069,0),15),"") | F4: =IFERROR(INDEX(Data!$A$10:$O$1069,MATCH(CONCATENATE($C4,F$8,$B4),Data!$J$10:$J$1069,0),15),"") | G4: =IFERROR(INDEX(Data!$A$10:$O$1069,MATCH(CONCATENATE($C4,G$8,$B4),Data!$J$10:$J$1069,0),15),"") | H4: =IFERROR(INDEX(Data!$A$10:$O$1069,MATCH(CONCATENATE($C4,H$8,$B4),Data!$J$10:$J$1069,0),15),"") | I4: =IFERROR(INDEX(Data!$A$10:$O$1069,MATCH(CONCATENATE($C4,I$8,$B4),Data!$J$10:$J$1069,0),15),"")
B5: =B4 -> ANF | C5: Tuesday | D5: =IFERROR(INDEX(Data!$A$10:$O$1069,MATCH(CONCATENATE($C5,D$8,$B5),Data!$J$10:$J$1069,0),15),"") | E5: =IFERROR(INDEX(Data!$A$10:$O$1069,MATCH(CONCATENATE($C5,E$8,$B5),Data!$J$10:$J$1069,0),15),"") | F5: =IFERROR(INDEX(Data!$A$10:$O$1069,MATCH(CONCATENATE($C5,F$8,$B5),Data!$J$10:$J$1069,0),15),"") | G5: =IFERROR(INDEX(Data!$A$10:$O$1069,MATCH(CONCATENATE($C5,G$8,$B5),Data!$J$10:$J$1069,0),15),"") | H5: =IFERROR(INDEX(Data!$A$10:$O$1069,MATCH(CONCATENATE($C5,H$8,$B5),Data!$J$10:$J$1069,0),15),"") | I5: =IFERROR(INDEX(Data!$A$10:$O$1069,MATCH(CONCATENATE($C5,I$8,$B5),Data!$J$10:$J$1069,0),15),"")
B6: =B5 -> ANF | C6: Wednesday | D6: =IFERROR(INDEX(Data!$A$10:$O$1069,MATCH(CONCATENATE($C6,D$8,$B6),Data!$J$10:$J$1069,0),15),"") | E6: =IFERROR(INDEX(Data!$A$10:$O$1069,MATCH(CONCATENATE($C6,E$8,$B6),Data!$J$10:$J$1069,0),15),"") | F6: =IFERROR(INDEX(Data!$A$10:$O$1069,MATCH(CONCATENATE($C6,F$8,$B6),Data!$J$10:$J$1069,0),15),"") | G6: =IFERROR(INDEX(Data!$A$10:$O$1069,MATCH(CONCATENATE($C6,G$8,$B6),Data!$J$10:$J$1069,0),15),"") | H6: =IFERROR(INDEX(Data!$A$10:$O$1069,MATCH(CONCATENATE($C6,H$8,$B6),Data!$J$10:$J$1069,0),15),"") | I6: =IFERROR(INDEX(Data!$A$10:$O$1069,MATCH(CONCATENATE($C6,I$8,$B6),Data!$J$10:$J$1069,0),15),"")
B7: =B6 -> ANF | C7: Thursday | D7: =IFERROR(INDEX(Data!$A$10:$O$1069,MATCH(CONCATENATE($C7,D$8,$B7),Data!$J$10:$J$1069,0),15),"") | E7: =IFERROR(INDEX(Data!$A$10:$O$1069,MATCH(CONCATENATE($C7,E$8,$B7),Data!$J$10:$J$1069,0),15),"") | F7: =IFERROR(INDEX(Data!$A$10:$O$1069,MATCH(CONCATENATE($C7,F$8,$B7),Data!$J$10:$J$1069,0),15),"") | G7: =IFERROR(INDEX(Data!$A$10:$O$1069,MATCH(CONCATENATE($C7,G$8,$B7),Data!$J$10:$J$1069,0),15),"") | H7: =IFERROR(INDEX(Data!$A$10:$O$1069,MATCH(CONCATENATE($C7,H$8,$B7),Data!$J$10:$J$1069,0),15),"") | I7: =IFERROR(INDEX(Data!$A$10:$O$1069,MATCH(CONCATENATE($C7,I$8,$B7),Data!$J$10:$J$1069,0),15),"")
D8: 08:30-10:00 | E8: 10:00-11:30 | F8: 11:30-01:00 | G8: 01:00-02:30 | H8: 2:30-04:00 | I8: 04:00-05:30 | L8: Faculty List
A9: =COUNTIF($C$8:C9,C9)+1 -> 2 | B9: =VLOOKUP(A9,$K$11:$L$80,2,FALSE) -> AAA | C9: Saturday | D9: =IFERROR(INDEX(Data!$A$10:$O$1069,MATCH(CONCATENATE($C9,D$8,$B9),Data!$J$10:$J$1069,0),15),"") -> TE223(L2T2)B 402 --- AAA | E9: =IFERROR(INDEX(Data!$A$10:$O$1069,MATCH(CONCATENATE($C9,E$8,$B9),Data!$J$10:$J$1069,0),15),"") | F9: =IFERROR(INDEX(Data!$A$10:$O$1069,MATCH(CONCATENATE($C9,F$8,$B9),Data!$J$10:$J$1069,0),15),"") -> TE223(L2T2)A 402 --- AAA | G9: =IFERROR(INDEX(Data!$A$10:$O$1069,MATCH(CONCATENATE($C9,G$8,$B9),Data!$J$10:$J$1069,0),15),"") | H9: =IFERROR(INDEX(Data!$A$10:$O$1069,MATCH(CONCATENATE($C9,H$8,$B9),Data!$J$10:$J$1069,0),15),"") | I9: =IFERROR(INDEX(Data!$A$10:$O$1069,MATCH(CONCATENATE($C9,I$8,$B9),Data!$J$10:$J$1069,0),15),"")
A10: =COUNTIF($C$8:C10,C10)+1 -> 2 | B10: =VLOOKUP(A10,$K$11:$L$80,2,FALSE) -> AAA | C10: Sunday | D10: =IFERROR(INDEX(Data!$A$10:$O$1069,MATCH(CONCATENATE($C10,D$8,$B10),Data!$J$10:$J$1069,0),15),"") -> TE224(L2T2)A L-QC1 709 --- AAA | E10: =IFERROR(INDEX(Data!$A$10:$O$1069,MATCH(CONCATENATE($C10,E$8,$B10),Data!$J$10:$J$1069,0),15),"") -> TE224(L2T2)A L-QC1 709 --- AAA | F10: =IFERROR(INDEX(Data!$A$10:$O$1069,MATCH(CONCATENATE($C10,F$8,$B10),Data!$J$10:$J$1069,0),15),"") | G10: =IFERROR(INDEX(Data!$A$10:$O$1069,MATCH(CONCATENATE($C10,G$8,$B10),Data!$J$10:$J$1069,0),15),"") | H10: =IFERROR(INDEX(Data!$A$10:$O$1069,MATCH(CONCATENATE($C10,H$8,$B10),Data!$J$10:$J$1069,0),15),"") -> TE224(L2T2)B L-QC1 709 --- AAA | I10: =IFERROR(INDEX(Data!$A$10:$O$1069,MATCH(CONCATENATE($C10,I$8,$B10),Data!$J$10:$J$1069,0),15),"") -> TE224(L2T2)B L-QC1 709 --- AAA | K10: Sl | L10: Teacher
A11: =COUNTIF($C$8:C11,C11)+1 -> 2 | B11: =VLOOKUP(A11,$K$11:$L$80,2,FALSE) -> AAA | C11: Monday | D11: =IFERROR(INDEX(Data!$A$10:$O$1069,MATCH(CONCATENATE($C11,D$8,$B11),Data!$J$10:$J$1069,0),15),"") -> TE223(L2T2)B 402 --- AAA | E11: =IFERROR(INDEX(Data!$A$10:$O$1069,MATCH(CONCATENATE($C11,E$8,$B11),Data!$J$10:$J$1069,0),15),"") | F11: =IFERROR(INDEX(Data!$A$10:$O$1069,MATCH(CONCATENATE($C11,F$8,$B11),Data!$J$10:$J$1069,0),15),"") -> TE223(L2T2)A 402 --- AAA | G11: =IFERROR(INDEX(Data!$A$10:$O$1069,MATCH(CONCATENATE($C11,G$8,$B11),Data!$J$10:$J$1069,0),15),"") | H11: =IFERROR(INDEX(Data!$A$10:$O$1069,MATCH(CONCATENATE($C11,H$8,$B11),Data!$J$10:$J$1069,0),15),"") | I11: =IFERROR(INDEX(Data!$A$10:$O$1069,MATCH(CONCATENATE($C11,I$8,$B11),Data!$J$10:$J$1069,0),15),"") | K11: 1 | L11: 0
A12: =COUNTIF($C$8:C12,C12)+1 -> 2 | B12: =VLOOKUP(A12,$K$11:$L$80,2,FALSE) -> AAA | C12: Tuesday | D12: =IFERROR(INDEX(Data!$A$10:$O$1069,MATCH(CONCATENATE($C12,D$8,$B12),Data!$J$10:$J$1069,0),15),"") | E12: =IFERROR(INDEX(Data!$A$10:$O$1069,MATCH(CONCATENATE($C12,E$8,$B12),Data!$J$10:$J$1069,0),15),"") | F12: =IFERROR(INDEX(Data!$A$10:$O$1069,MATCH(CONCATENATE($C12,F$8,$B12),Data!$J$10:$J$1069,0),15),"") | G12: =IFERROR(INDEX(Data!$A$10:$O$1069,MATCH(CONCATENATE($C12,G$8,$B12),Data!$J$10:$J$1069,0),15),"") | H12: =IFERROR(INDEX(Data!$A$10:$O$1069,MATCH(CONCATENATE($C12,H$8,$B12),Data!$J$10:$J$1069,0),15),"") | I12: =IFERROR(INDEX(Data!$A$10:$O$1069,MATCH(CONCATENATE($C12,I$8,$B12),Data!$J$10:$J$1069,0),15),"") | K12: 2 | L12: AAA
A13: =COUNTIF($C$8:C13,C13)+1 -> 2 | B13: =VLOOKUP(A13,$K$11:$L$80,2,FALSE) -> AAA | C13: Wednesday | D13: =IFERROR(INDEX(Data!$A$10:$O$1069,MATCH(CONCATENATE($C13,D$8,$B13),Data!$J$10:$J$1069,0),15),"") | E13: =IFERROR(INDEX(Data!$A$10:$O$1069,MATCH(CONCATENATE($C13,E$8,$B13),Data!$J$10:$J$1069,0),15),"") | F13: =IFERROR(INDEX(Data!$A$10:$O$1069,MATCH(CONCATENATE($C13,F$8,$B13),Data!$J$10:$J$1069,0),15),"") | G13: =IFERROR(INDEX(Data!$A$10:$O$1069,MATCH(CONCATENATE($C13,G$8,$B13),Data!$J$10:$J$1069,0),15),"") | H13: =IFERROR(INDEX(Data!$A$10:$O$1069,MATCH(CONCATENATE($C13,H$8,$B13),Data!$J$10:$J$1069,0),15),"") | I13: =IFERROR(INDEX(Data!$A$10:$O$1069,MATCH(CONCATENATE($C13,I$8,$B13),Data!$J$10:$J$1069,0),15),"") | K13: 3 | L13: AAM
A14: =COUNTIF($C$8:C14,C14)+1 -> 2 | B14: =VLOOKUP(A14,$K$11:$L$80,2,FALSE) -> AAA | C14: Thursday | D14: =IFERROR(INDEX(Data!$A$10:$O$1069,MATCH(CONCATENATE($C14,D$8,$B14),Data!$J$10:$J$1069,0),15),"") | E14: =IFERROR(INDEX(Data!$A$10:$O$1069,MATCH(CONCATENATE($C14,E$8,$B14),Data!$J$10:$J$1069,0),15),"") | F14: =IFERROR(INDEX(Data!$A$10:$O$1069,MATCH(CONCATENATE($C14,F$8,$B14),Data!$J$10:$J$1069,0),15),"") | G14: =IFERROR(INDEX(Data!$A$10:$O$1069,MATCH(CONCATENATE($C14,G$8,$B14),Data!$J$10:$J$1069,0),15),"") | H14: =IFERROR(INDEX(Data!$A$10:$O$1069,MATCH(CONCATENATE($C14,H$8,$B14),Data!$J$10:$J$1069,0),15),"") | I14: =IFERROR(INDEX(Data!$A$10:$O$1069,MATCH(CONCATENATE($C14,I$8,$B14),Data!$J$10:$J$1069,0),15),"") | K14: 4 | L14: AAT
D15: 08:30-10:00 | E15: 10:00-11:30 | F15: 11:30-01:00 | G15: 01:00-02:30 | H15: 2:30-04:00 | I15: 04:00-05:30 | K15: 5 | L15: AG
A16: =COUNTIF($C$8:C16,C16)+1 -> 3 | B16: =VLOOKUP(A16,$K$11:$L$80,2,FALSE) -> AAM | C16: Saturday | D16: =IFERROR(INDEX(Data!$A$10:$O$1069,MATCH(CONCATENATE($C16,D$8,$B16),Data!$J$10:$J$1069,0),15),"") | E16: =IFERROR(INDEX(Data!$A$10:$O$1069,MATCH(CONCATENATE($C16,E$8,$B16),Data!$J$10:$J$1069,0),15),"") | F16: =IFERROR(INDEX(Data!$A$10:$O$1069,MATCH(CONCATENATE($C16,F$8,$B16),Data!$J$10:$J$1069,0),15),"") -> TE428(L4T2)PC 701 --- AAM | G16: =IFERROR(INDEX(Data!$A$10:$O$1069,MATCH(CONCATENATE($C16,G$8,$B16),Data!$J$10:$J$1069,0),15),"") | H16: =IFERROR(INDEX(Data!$A$10:$O$1069,MATCH(CONCATENATE($C16,H$8,$B16),Data!$J$10:$J$1069,0),15),"") | I16: =IFERROR(INDEX(Data!$A$10:$O$1069,MATCH(CONCATENATE($C16,I$8,$B16),Data!$J$10:$J$1069,0),15),"") | K16: 6 | L16: AHM
A17: =COUNTIF($C$8:C17,C17)+1 -> 3 | B17: =VLOOKUP(A17,$K$11:$L$80,2,FALSE) -> AAM | C17: Sunday | D17: =IFERROR(INDEX(Data!$A$10:$O$1069,MATCH(CONCATENATE($C17,D$8,$B17),Data!$J$10:$J$1069,0),15),"") | E17: =IFERROR(INDEX(Data!$A$10:$O$1069,MATCH(CONCATENATE($C17,E$8,$B17),Data!$J$10:$J$1069,0),15),"") | F17: =IFERROR(INDEX(Data!$A$10:$O$1069,MATCH(CONCATENATE($C17,F$8,$B17),Data!$J$10:$J$1069,0),15),"") -> TE427(L4T2)A 703 --- AAM | G17: =IFERROR(INDEX(Data!$A$10:$O$1069,MATCH(CONCATENATE($C17,G$8,$B17),Data!$J$10:$J$1069,0),15),"") | H17: =IFERROR(INDEX(Data!$A$10:$O$1069,MATCH(CONCATENATE($C17,H$8,$B17),Data!$J$10:$J$1069,0),15),"") | I17: =IFERROR(INDEX(Data!$A$10:$O$1069,MATCH(CONCATENATE($C17,I$8,$B17),Data!$J$10:$J$1069,0),15),"") -> TE428(L4T2)A 701 --- AAM | K17: 7 | L17: AHR
A18: =COUNTIF($C$8:C18,C18)+1 -> 3 | B18: =VLOOKUP(A18,$K$11:$L$80,2,FALSE) -> AAM | C18: Monday | D18: =IFERROR(INDEX(Data!$A$10:$O$1069,MATCH(CONCATENATE($C18,D$8,$B18),Data!$J$10:$J$1069,0),15),"") | E18: =IFERROR(INDEX(Data!$A$10:$O$1069,MATCH(CONCATENATE($C18,E$8,$B18),Data!$J$10:$J$1069,0),15),"") | F18: =IFERROR(INDEX(Data!$A$10:$O$1069,MATCH(CONCATENATE($C18,F$8,$B18),Data!$J$10:$J$1069,0),15),"") -> TE427(L4T2)A 703 --- AAM | G18: =IFERROR(INDEX(Data!$A$10:$O$1069,MATCH(CONCATENATE($C18,G$8,$B18),Data!$J$10:$J$1069,0),15),"") | H18: =IFERROR(INDEX(Data!$A$10:$O$1069,MATCH(CONCATENATE($C18,H$8,$B18),Data!$J$10:$J$1069,0),15),"") | I18: =IFERROR(INDEX(Data!$A$10:$O$1069,MATCH(CONCATENATE($C18,I$8,$B18),Data!$J$10:$J$1069,0),15),"") -> TE428(L4T2)B 701 --- AAM | K18: 8 | L18: AI
A19: =COUNTIF($C$8:C19,C19)+1 -> 3 | B19: =VLOOKUP(A19,$K$11:$L$80,2,FALSE) -> AAM | C19: Tuesday | D19: =IFERROR(INDEX(Data!$A$10:$O$1069,MATCH(CONCATENATE($C19,D$8,$B19),Data!$J$10:$J$1069,0),15),"") | E19: =IFERROR(INDEX(Data!$A$10:$O$1069,MATCH(CONCATENATE($C19,E$8,$B19),Data!$J$10:$J$1069,0),15),"") | F19: =IFERROR(INDEX(Data!$A$10:$O$1069,MATCH(CONCATENATE($C19,F$8,$B19),Data!$J$10:$J$1069,0),15),"") -> UC 701 --- AAM | G19: =IFERROR(INDEX(Data!$A$10:$O$1069,MATCH(CONCATENATE($C19,G$8,$B19),Data!$J$10:$J$1069,0),15),"") | H19: =IFERROR(INDEX(Data!$A$10:$O$1069,MATCH(CONCATENATE($C19,H$8,$B19),Data!$J$10:$J$1069,0),15),"") | I19: =IFERROR(INDEX(Data!$A$10:$O$1069,MATCH(CONCATENATE($C19,I$8,$B19),Data!$J$10:$J$1069,0),15),"") -> TE427(L4T2)B 703 --- AAM | K19: 9 | L19: AN
A20: =COUNTIF($C$8:C20,C20)+1 -> 3 | B20: =VLOOKUP(A20,$K$11:$L$80,2,FALSE) -> AAM | C20: Wednesday | D20: =IFERROR(INDEX(Data!$A$10:$O$1069,MATCH(CONCATENATE($C20,D$8,$B20),Data!$J$10:$J$1069,0),15),"") | E20: =IFERROR(INDEX(Data!$A$10:$O$1069,MATCH(CONCATENATE($C20,E$8,$B20),Data!$J$10:$J$1069,0),15),"") | F20: =IFERROR(INDEX(Data!$A$10:$O$1069,MATCH(CONCATENATE($C20,F$8,$B20),Data!$J$10:$J$1069,0),15),"") -> TE427(L4T2)B 703 --- AAM | G20: =IFERROR(INDEX(Data!$A$10:$O$1069,MATCH(CONCATENATE($C20,G$8,$B20),Data!$J$10:$J$1069,0),15),"") | H20: =IFERROR(INDEX(Data!$A$10:$O$1069,MATCH(CONCATENATE($C20,H$8,$B20),Data!$J$10:$J$1069,0),15),"") | I20: =IFERROR(INDEX(Data!$A$10:$O$1069,MATCH(CONCATENATE($C20,I$8,$B20),Data!$J$10:$J$1069,0),15),"") | K20: 10 | L20: FBS
A21: =COUNTIF($C$8:C21,C21)+1 -> 3 | B21: =VLOOKUP(A21,$K$11:$L$80,2,FALSE) -> AAM | C21: Thursday | D21: =IFERROR(INDEX(Data!$A$10:$O$1069,MATCH(CONCATENATE($C21,D$8,$B21),Data!$J$10:$J$1069,0),15),"") | E21: =IFERROR(INDEX(Data!$A$10:$O$1069,MATCH(CONCATENATE($C21,E$8,$B21),Data!$J$10:$J$1069,0),15),"") | F21: =IFERROR(INDEX(Data!$A$10:$O$1069,MATCH(CONCATENATE($C21,F$8,$B21),Data!$J$10:$J$1069,0),15),"") | G21: =IFERROR(INDEX(Data!$A$10:$O$1069,MATCH(CONCATENATE($C21,G$8,$B21),Data!$J$10:$J$1069,0),15),"") | H21: =IFERROR(INDEX(Data!$A$10:$O$1069,MATCH(CONCATENATE($C21,H$8,$B21),Data!$J$10:$J$1069,0),15),"") | I21: =IFERROR(INDEX(Data!$A$10:$O$1069,MATCH(CONCATENATE($C21,I$8,$B21),Data!$J$10:$J$1069,0),15),"") | K21: 11 | L21: FHA
D22: 08:30-10:00 | E22: 10:00-11:30 | F22: 11:30-01:00 | G22: 01:00-02:30 | H22: 2:30-04:00 | I22: 04:00-05:30 | K22: 12 | L22: FHS
A23: =COUNTIF($C$8:C23,C23)+1 -> 4 | B23: =VLOOKUP(A23,$K$11:$L$80,2,FALSE) -> AAT | C23: Saturday | D23: =IFERROR(INDEX(Data!$A$10:$O$1069,MATCH(CONCATENATE($C23,D$8,$B23),Data!$J$10:$J$1069,0),15),"") | E23: =IFERROR(INDEX(Data!$A$10:$O$1069,MATCH(CONCATENATE($C23,E$8,$B23),Data!$J$10:$J$1069,0),15),"") | F23: =IFERROR(INDEX(Data!$A$10:$O$1069,MATCH(CONCATENATE($C23,F$8,$B23),Data!$J$10:$J$1069,0),15),"") | G23: =IFERROR(INDEX(Data!$A$10:$O$1069,MATCH(CONCATENATE($C23,G$8,$B23),Data!$J$10:$J$1069,0),15),"") | H23: =IFERROR(INDEX(Data!$A$10:$O$1069,MATCH(CONCATENATE($C23,H$8,$B23),Data!$J$10:$J$1069,0),15),"") | I23: =IFERROR(INDEX(Data!$A$10:$O$1069,MATCH(CONCATENATE($C23,I$8,$B23),Data!$J$10:$J$1069,0),15),"") | K23: 13 | L23: FS
A24: =COUNTIF($C$8:C24,C24)+1 -> 4 | B24: =VLOOKUP(A24,$K$11:$L$80,2,FALSE) -> AAT | C24: Sunday | D24: =IFERROR(INDEX(Data!$A$10:$O$1069,MATCH(CONCATENATE($C24,D$8,$B24),Data!$J$10:$J$1069,0),15),"") | E24: =IFERROR(INDEX(Data!$A$10:$O$1069,MATCH(CONCATENATE($C24,E$8,$B24),Data!$J$10:$J$1069,0),15),"") | F24: =IFERROR(INDEX(Data!$A$10:$O$1069,MATCH(CONCATENATE($C24,F$8,$B24),Data!$J$10:$J$1069,0),15),"") | G24: =IFERROR(INDEX(Data!$A$10:$O$1069,MATCH(CONCATENATE($C24,G$8,$B24),Data!$J$10:$J$1069,0),15),"") | H24: =IFERROR(INDEX(Data!$A$10:$O$1069,MATCH(CONCATENATE($C24,H$8,$B24),Data!$J$10:$J$1069,0),15),"") | I24: =IFERROR(INDEX(Data!$A$10:$O$1069,MATCH(CONCATENATE($C24,I$8,$B24),Data!$J$10:$J$1069,0),15),"") | K24: 14 | L24: GC
A25: =COUNTIF($C$8:C25,C25)+1 -> 4 | B25: =VLOOKUP(A25,$K$11:$L$80,2,FALSE) -> AAT | C25: Monday | D25: =IFERROR(INDEX(Data!$A$10:$O$1069,MATCH(CONCATENATE($C25,D$8,$B25),Data!$J$10:$J$1069,0),15),"") | E25: =IFERROR(INDEX(Data!$A$10:$O$1069,MATCH(CONCATENATE($C25,E$8,$B25),Data!$J$10:$J$1069,0),15),"") | F25: =IFERROR(INDEX(Data!$A$10:$O$1069,MATCH(CONCATENATE($C25,F$8,$B25),Data!$J$10:$J$1069,0),15),"") | G25: =IFERROR(INDEX(Data!$A$10:$O$1069,MATCH(CONCATENATE($C25,G$8,$B25),Data!$J$10:$J$1069,0),15),"") | H25: =IFERROR(INDEX(Data!$A$10:$O$1069,MATCH(CONCATENATE($C25,H$8,$B25),Data!$J$10:$J$1069,0),15),"") | I25: =IFERROR(INDEX(Data!$A$10:$O$1069,MATCH(CONCATENATE($C25,I$8,$B25),Data!$J$10:$J$1069,0),15),"") | K25: 15 | L25: IUZ
A26: =COUNTIF($C$8:C26,C26)+1 -> 4 | B26: =VLOOKUP(A26,$K$11:$L$80,2,FALSE) -> AAT | C26: Tuesday | D26: =IFERROR(INDEX(Data!$A$10:$O$1069,MATCH(CONCATENATE($C26,D$8,$B26),Data!$J$10:$J$1069,0),15),"") | E26: =IFERROR(INDEX(Data!$A$10:$O$1069,MATCH(CONCATENATE($C26,E$8,$B26),Data!$J$10:$J$1069,0),15),"") | F26: =IFERROR(INDEX(Data!$A$10:$O$1069,MATCH(CONCATENATE($C26,F$8,$B26),Data!$J$10:$J$1069,0),15),"") | G26: =IFERROR(INDEX(Data!$A$10:$O$1069,MATCH(CONCATENATE($C26,G$8,$B26),Data!$J$10:$J$1069,0),15),"") | H26: =IFERROR(INDEX(Data!$A$10:$O$1069,MATCH(CONCATENATE($C26,H$8,$B26),Data!$J$10:$J$1069,0),15),"") | I26: =IFERROR(INDEX(Data!$A$10:$O$1069,MATCH(CONCATENATE($C26,I$8,$B26),Data!$J$10:$J$1069,0),15),"") | K26: 16 | L26: JH
A27: =COUNTIF($C$8:C27,C27)+1 -> 4 | B27: =VLOOKUP(A27,$K$11:$L$80,2,FALSE) -> AAT | C27: Wednesday | D27: =IFERROR(INDEX(Data!$A$10:$O$1069,MATCH(CONCATENATE($C27,D$8,$B27),Data!$J$10:$J$1069,0),15),"") | E27: =IFERROR(INDEX(Data!$A$10:$O$1069,MATCH(CONCATENATE($C27,E$8,$B27),Data!$J$10:$J$1069,0),15),"") | F27: =IFERROR(INDEX(Data!$A$10:$O$1069,MATCH(CONCATENATE($C27,F$8,$B27),Data!$J$10:$J$1069,0),15),"") | G27: =IFERROR(INDEX(Data!$A$10:$O$1069,MATCH(CONCATENATE($C27,G$8,$B27),Data!$J$10:$J$1069,0),15),"") | H27: =IFERROR(INDEX(Data!$A$10:$O$1069,MATCH(CONCATENATE($C27,H$8,$B27),Data!$J$10:$J$1069,0),15),"") | I27: =IFERROR(INDEX(Data!$A$10:$O$1069,MATCH(CONCATENATE($C27,I$8,$B27),Data!$J$10:$J$1069,0),15),"") | K27: 17 | L27: KZ
A28: =COUNTIF($C$8:C28,C28)+1 -> 4 | B28: =VLOOKUP(A28,$K$11:$L$80,2,FALSE) -> AAT | C28: Thursday | D28: =IFERROR(INDEX(Data!$A$10:$O$1069,MATCH(CONCATENATE($C28,D$8,$B28),Data!$J$10:$J$1069,0),15),"") | E28: =IFERROR(INDEX(Data!$A$10:$O$1069,MATCH(CONCATENATE($C28,E$8,$B28),Data!$J$10:$J$1069,0),15),"") | F28: =IFERROR(INDEX(Data!$A$10:$O$1069,MATCH(CONCATENATE($C28,F$8,$B28),Data!$J$10:$J$1069,0),15),"") | G28: =IFERROR(INDEX(Data!$A$10:$O$1069,MATCH(CONCATENATE($C28,G$8,$B28),Data!$J$10:$J$1069,0),15),"") | H28: =IFERROR(INDEX(Data!$A$10:$O$1069,MATCH(CONCATENATE($C28,H$8,$B28),Data!$J$10:$J$1069,0),15),"") | I28: =IFERROR(INDEX(Data!$A$10:$O$1069,MATCH(CONCATENATE($C28,I$8,$B28),Data!$J$10:$J$1069,0),15),"") | K28: 18 | L28: MAB
K29: 19 | L29: MDN
A30: =COUNTIF($C$8:C30,C30)+1 -> 5 | B30: =VLOOKUP(A30,$K$11:$L$80,2,FALSE) -> AG | C30: Saturday | D30: =IFERROR(INDEX(Data!$A$10:$O$1069,MATCH(CONCATENATE($C30,D$8,$B30),Data!$J$10:$J$1069,0),15),"") -> TE214(L2T1)C L-Fab --- AG | E30: =IFERROR(INDEX(Data!$A$10:$O$1069,MATCH(CONCATENATE($C30,E$8,$B30),Data!$J$10:$J$1069,0),15),"") -> TE214(L2T1)C L-Fab --- AG | F30: =IFERROR(INDEX(Data!$A$10:$O$1069,MATCH(CONCATENATE($C30,F$8,$B30),Data!$J$10:$J$1069,0),15),"") | G30: =IFERROR(INDEX(Data!$A$10:$O$1069,MATCH(CONCATENATE($C30,G$8,$B30),Data!$J$10:$J$1069,0),15),"") -> TE313(L3T1)B 802 --- AG | H30: =IFERROR(INDEX(Data!$A$10:$O$1069,MATCH(CONCATENATE($C30,H$8,$B30),Data!$J$10:$J$1069,0),15),"") | I30: =IFERROR(INDEX(Data!$A$10:$O$1069,MATCH(CONCATENATE($C30,I$8,$B30),Data!$J$10:$J$1069,0),15),"") | K30: 20 | L30: MH
A31: =COUNTIF($C$8:C31,C31)+1 -> 5 | B31: =VLOOKUP(A31,$K$11:$L$80,2,FALSE) -> AG | C31: Sunday | D31: =IFERROR(INDEX(Data!$A$10:$O$1069,MATCH(CONCATENATE($C31,D$8,$B31),Data!$J$10:$J$1069,0),15),"") -> TE213(L2T1)C 802 --- AG | E31: =IFERROR(INDEX(Data!$A$10:$O$1069,MATCH(CONCATENATE($C31,E$8,$B31),Data!$J$10:$J$1069,0),15),"") | F31: =IFERROR(INDEX(Data!$A$10:$O$1069,MATCH(CONCATENATE($C31,F$8,$B31),Data!$J$10:$J$1069,0),15),"") -> TE314(L3T1)A L-Fab --- AG | G31: =IFERROR(INDEX(Data!$A$10:$O$1069,MATCH(CONCATENATE($C31,G$8,$B31),Data!$J$10:$J$1069,0),15),"") -> TE314(L3T1)A L-Fab --- AG | H31: =IFERROR(INDEX(Data!$A$10:$O$1069,MATCH(CONCATENATE($C31,H$8,$B31),Data!$J$10:$J$1069,0),15),"") | I31: =IFERROR(INDEX(Data!$A$10:$O$1069,MATCH(CONCATENATE($C31,I$8,$B31),Data!$J$10:$J$1069,0),15),"") | K31: 21 | L31: MHR
A32: =COUNTIF($C$8:C32,C32)+1 -> 5 | B32: =VLOOKUP(A32,$K$11:$L$80,2,FALSE) -> AG | C32: Monday | D32: =IFERROR(INDEX(Data!$A$10:$O$1069,MATCH(CONCATENATE($C32,D$8,$B32),Data!$J$10:$J$1069,0),15),"") | E32: =IFERROR(INDEX(Data!$A$10:$O$1069,MATCH(CONCATENATE($C32,E$8,$B32),Data!$J$10:$J$1069,0),15),"") -> TE313(L3T1)A 704 --- AG | F32: =IFERROR(INDEX(Data!$A$10:$O$1069,MATCH(CONCATENATE($C32,F$8,$B32),Data!$J$10:$J$1069,0),15),"") | G32: =IFERROR(INDEX(Data!$A$10:$O$1069,MATCH(CONCATENATE($C32,G$8,$B32),Data!$J$10:$J$1069,0),15),"") | H32: =IFERROR(INDEX(Data!$A$10:$O$1069,MATCH(CONCATENATE($C32,H$8,$B32),Data!$J$10:$J$1069,0),15),"") -> TE314(L3T1)B L-Fab --- AG | I32: =IFERROR(INDEX(Data!$A$10:$O$1069,MATCH(CONCATENATE($C32,I$8,$B32),Data!$J$10:$J$1069,0),15),"") -> TE314(L3T1)B L-Fab --- AG | K32: 22 | L32: MK
A33: =COUNTIF($C$8:C33,C33)+1 -> 5 | B33: =VLOOKUP(A33,$K$11:$L$80,2,FALSE) -> AG | C33: Tuesday | D33: =IFERROR(INDEX(Data!$A$10:$O$1069,MATCH(CONCATENATE($C33,D$8,$B33),Data!$J$10:$J$1069,0),15),"") | E33: =IFERROR(INDEX(Data!$A$10:$O$1069,MATCH(CONCATENATE($C33,E$8,$B33),Data!$J$10:$J$1069,0),15),"") -> TE313(L3T1)B 801 --- AG | F33: =IFERROR(INDEX(Data!$A$10:$O$1069,MATCH(CONCATENATE($C33,F$8,$B33),Data!$J$10:$J$1069,0),15),"") | G33: =IFERROR(INDEX(Data!$A$10:$O$1069,MATCH(CONCATENATE($C33,G$8,$B33),Data!$J$10:$J$1069,0),15),"") -> TE313(L3T1)A 803 --- AG | H33: =IFERROR(INDEX(Data!$A$10:$O$1069,MATCH(CONCATENATE($C33,H$8,$B33),Data!$J$10:$J$1069,0),15),"") | I33: =IFERROR(INDEX(Data!$A$10:$O$1069,MATCH(CONCATENATE($C33,I$8,$B33),Data!$J$10:$J$1069,0),15),"") | K33: 23 | L33: MMH
A34: =COUNTIF($C$8:C34,C34)+1 -> 5 | B34: =VLOOKUP(A34,$K$11:$L$80,2,FALSE) -> AG | C34: Wednesday | D34: =IFERROR(INDEX(Data!$A$10:$O$1069,MATCH(CONCATENATE($C34,D$8,$B34),Data!$J$10:$J$1069,0),15),"") | E34: =IFERROR(INDEX(Data!$A$10:$O$1069,MATCH(CONCATENATE($C34,E$8,$B34),Data!$J$10:$J$1069,0),15),"") -> TE213(L2T1)C 802 --- AG | F34: =IFERROR(INDEX(Data!$A$10:$O$1069,MATCH(CONCATENATE($C34,F$8,$B34),Data!$J$10:$J$1069,0),15),"") | G34: =IFERROR(INDEX(Data!$A$10:$O$1069,MATCH(CONCATENATE($C34,G$8,$B34),Data!$J$10:$J$1069,0),15),"") | H34: =IFERROR(INDEX(Data!$A$10:$O$1069,MATCH(CONCATENATE($C34,H$8,$B34),Data!$J$10:$J$1069,0),15),"") | I34: =IFERROR(INDEX(Data!$A$10:$O$1069,MATCH(CONCATENATE($C34,I$8,$B34),Data!$J$10:$J$1069,0),15),"") | K34: 24 | L34: MML2
A35: =COUNTIF($C$8:C35,C35)+1 -> 5 | B35: =VLOOKUP(A35,$K$11:$L$80,2,FALSE) -> AG | C35: Thursday | D35: =IFERROR(INDEX(Data!$A$10:$O$1069,MATCH(CONCATENATE($C35,D$8,$B35),Data!$J$10:$J$1069,0),15),"") | E35: =IFERROR(INDEX(Data!$A$10:$O$1069,MATCH(CONCATENATE($C35,E$8,$B35),Data!$J$10:$J$1069,0),15),"") | F35: =IFERROR(INDEX(Data!$A$10:$O$1069,MATCH(CONCATENATE($C35,F$8,$B35),Data!$J$10:$J$1069,0),15),"") | G35: =IFERROR(INDEX(Data!$A$10:$O$1069,MATCH(CONCATENATE($C35,G$8,$B35),Data!$J$10:$J$1069,0),15),"") | H35: =IFERROR(INDEX(Data!$A$10:$O$1069,MATCH(CONCATENATE($C35,H$8,$B35),Data!$J$10:$J$1069,0),15),"") | I35: =IFERROR(INDEX(Data!$A$10:$O$1069,MATCH(CONCATENATE($C35,I$8,$B35),Data!$J$10:$J$1069,0),15),"") | K35: 25 | L35: MNH
K36: 26 | L36: MR
A37: =COUNTIF($C$8:C37,C37)+1 -> 6 | B37: =VLOOKUP(A37,$K$11:$L$80,2,FALSE) -> AHM | C37: Saturday | D37: =IFERROR(INDEX(Data!$A$10:$O$1069,MATCH(CONCATENATE($C37,D$8,$B37),Data!$J$10:$J$1069,0),15),"") | E37: =IFERROR(INDEX(Data!$A$10:$O$1069,MATCH(CONCATENATE($C37,E$8,$B37),Data!$J$10:$J$1069,0),15),"") | F37: =IFERROR(INDEX(Data!$A$10:$O$1069,MATCH(CONCATENATE($C37,F$8,$B37),Data!$J$10:$J$1069,0),15),"") -> TE212(L2T1)B L-Yarn1 --- AHM | G37: =IFERROR(INDEX(Data!$A$10:$O$1069,MATCH(CONCATENATE($C37,G$8,$B37),Data!$J$10:$J$1069,0),15),"") -> TE212(L2T1)B L-Yarn1 --- AHM | H37: =IFERROR(INDEX(Data!$A$10:$O$1069,MATCH(CONCATENATE($C37,H$8,$B37),Data!$J$10:$J$1069,0),15),"") | I37: =IFERROR(INDEX(Data!$A$10:$O$1069,MATCH(CONCATENATE($C37,I$8,$B37),Data!$J$10:$J$1069,0),15),"") | K37: 27 | L37: MR1
A38: =COUNTIF($C$8:C38,C38)+1 -> 6 | B38: =VLOOKUP(A38,$K$11:$L$80,2,FALSE) -> AHM | C38: Sunday | D38: =IFERROR(INDEX(Data!$A$10:$O$1069,MATCH(CONCATENATE($C38,D$8,$B38),Data!$J$10:$J$1069,0),15),"") | E38: =IFERROR(INDEX(Data!$A$10:$O$1069,MATCH(CONCATENATE($C38,E$8,$B38),Data!$J$10:$J$1069,0),15),"") -> TE211(L2T1)B 702 --- AHM | F38: =IFERROR(INDEX(Data!$A$10:$O$1069,MATCH(CONCATENATE($C38,F$8,$B38),Data!$J$10:$J$1069,0),15),"") | G38: =IFERROR(INDEX(Data!$A$10:$O$1069,MATCH(CONCATENATE($C38,G$8,$B38),Data!$J$10:$J$1069,0),15),"") -> TE211(L2T1)A 803 --- AHM | H38: =IFERROR(INDEX(Data!$A$10:$O$1069,MATCH(CONCATENATE($C38,H$8,$B38),Data!$J$10:$J$1069,0),15),"") | I38: =IFERROR(INDEX(Data!$A$10:$O$1069,MATCH(CONCATENATE($C38,I$8,$B38),Data!$J$10:$J$1069,0),15),"") | K38: 28 | L38: MRH
A39: =COUNTIF($C$8:C39,C39)+1 -> 6 | B39: =VLOOKUP(A39,$K$11:$L$80,2,FALSE) -> AHM | C39: Monday | D39: =IFERROR(INDEX(Data!$A$10:$O$1069,MATCH(CONCATENATE($C39,D$8,$B39),Data!$J$10:$J$1069,0),15),"") | E39: =IFERROR(INDEX(Data!$A$10:$O$1069,MATCH(CONCATENATE($C39,E$8,$B39),Data!$J$10:$J$1069,0),15),"") | F39: =IFERROR(INDEX(Data!$A$10:$O$1069,MATCH(CONCATENATE($C39,F$8,$B39),Data!$J$10:$J$1069,0),15),"") | G39: =IFERROR(INDEX(Data!$A$10:$O$1069,MATCH(CONCATENATE($C39,G$8,$B39),Data!$J$10:$J$1069,0),15),"") | H39: =IFERROR(INDEX(Data!$A$10:$O$1069,MATCH(CONCATENATE($C39,H$8,$B39),Data!$J$10:$J$1069,0),15),"") | I39: =IFERROR(INDEX(Data!$A$10:$O$1069,MATCH(CONCATENATE($C39,I$8,$B39),Data!$J$10:$J$1069,0),15),"") | K39: 29 | L39: MRK
A40: =COUNTIF($C$8:C40,C40)+1 -> 6 | B40: =VLOOKUP(A40,$K$11:$L$80,2,FALSE) -> AHM | C40: Tuesday | D40: =IFERROR(INDEX(Data!$A$10:$O$1069,MATCH(CONCATENATE($C40,D$8,$B40),Data!$J$10:$J$1069,0),15),"") | E40: =IFERROR(INDEX(Data!$A$10:$O$1069,MATCH(CONCATENATE($C40,E$8,$B40),Data!$J$10:$J$1069,0),15),"") -> TE211(L2T1)B 402 --- AHM | F40: =IFERROR(INDEX(Data!$A$10:$O$1069,MATCH(CONCATENATE($C40,F$8,$B40),Data!$J$10:$J$1069,0),15),"") | G40: =IFERROR(INDEX(Data!$A$10:$O$1069,MATCH(CONCATENATE($C40,G$8,$B40),Data!$J$10:$J$1069,0),15),"") | H40: =IFERROR(INDEX(Data!$A$10:$O$1069,MATCH(CONCATENATE($C40,H$8,$B40),Data!$J$10:$J$1069,0),15),"") | I40: =IFERROR(INDEX(Data!$A$10:$O$1069,MATCH(CONCATENATE($C40,I$8,$B40),Data!$J$10:$J$1069,0),15),"") | K40: 30 | L40: MRR
A41: =COUNTIF($C$8:C41,C41)+1 -> 6 | B41: =VLOOKUP(A41,$K$11:$L$80,2,FALSE) -> AHM | C41: Wednesday | D41: =IFERROR(INDEX(Data!$A$10:$O$1069,MATCH(CONCATENATE($C41,D$8,$B41),Data!$J$10:$J$1069,0),15),"") | E41: =IFERROR(INDEX(Data!$A$10:$O$1069,MATCH(CONCATENATE($C41,E$8,$B41),Data!$J$10:$J$1069,0),15),"") | F41: =IFERROR(INDEX(Data!$A$10:$O$1069,MATCH(CONCATENATE($C41,F$8,$B41),Data!$J$10:$J$1069,0),15),"") | G41: =IFERROR(INDEX(Data!$A$10:$O$1069,MATCH(CONCATENATE($C41,G$8,$B41),Data!$J$10:$J$1069,0),15),"") -> TE212(L2T1)A L-Yarn1 --- AHM | H41: =IFERROR(INDEX(Data!$A$10:$O$1069,MATCH(CONCATENATE($C41,H$8,$B41),Data!$J$10:$J$1069,0),15),"") | I41: =IFERROR(INDEX(Data!$A$10:$O$1069,MATCH(CONCATENATE($C41,I$8,$B41),Data!$J$10:$J$1069,0),15),"") -> TE211(L2T1)A 802 --- AHM | K41: 31 | L41: NF
A42: =COUNTIF($C$8:C42,C42)+1 -> 6 | B42: =VLOOKUP(A42,$K$11:$L$80,2,FALSE) -> AHM | C42: Thursday | D42: =IFERROR(INDEX(Data!$A$10:$O$1069,MATCH(CONCATENATE($C42,D$8,$B42),Data!$J$10:$J$1069,0),15),"") | E42: =IFERROR(INDEX(Data!$A$10:$O$1069,MATCH(CONCATENATE($C42,E$8,$B42),Data!$J$10:$J$1069,0),15),"") | F42: =IFERROR(INDEX(Data!$A$10:$O$1069,MATCH(CONCATENATE($C42,F$8,$B42),Data!$J$10:$J$1069,0),15),"") | G42: =IFERROR(INDEX(Data!$A$10:$O$1069,MATCH(CONCATENATE($C42,G$8,$B42),Data!$J$10:$J$1069,0),15),"") | H42: =IFERROR(INDEX(Data!$A$10:$O$1069,MATCH(CONCATENATE($C42,H$8,$B42),Data!$J$10:$J$1069,0),15),"") | I42: =IFERROR(INDEX(Data!$A$10:$O$1069,MATCH(CONCATENATE($C42,I$8,$B42),Data!$J$10:$J$1069,0),15),"") | K42: 32 | L42: NHM
K43: 33 | L43: NL1
A44: =COUNTIF($C$8:C44,C44)+1 -> 7 | B44: =VLOOKUP(A44,$K$11:$L$80,2,FALSE) -> AHR | C44: Saturday | D44: =IFERROR(INDEX(Data!$A$10:$O$1069,MATCH(CONCATENATE($C44,D$8,$B44),Data!$J$10:$J$1069,0),15),"") | E44: =IFERROR(INDEX(Data!$A$10:$O$1069,MATCH(CONCATENATE($C44,E$8,$B44),Data!$J$10:$J$1069,0),15),"") | F44: =IFERROR(INDEX(Data!$A$10:$O$1069,MATCH(CONCATENATE($C44,F$8,$B44),Data!$J$10:$J$1069,0),15),"") | G44: =IFERROR(INDEX(Data!$A$10:$O$1069,MATCH(CONCATENATE($C44,G$8,$B44),Data!$J$10:$J$1069,0),15),"") | H44: =IFERROR(INDEX(Data!$A$10:$O$1069,MATCH(CONCATENATE($C44,H$8,$B44),Data!$J$10:$J$1069,0),15),"") | I44: =IFERROR(INDEX(Data!$A$10:$O$1069,MATCH(CONCATENATE($C44,I$8,$B44),Data!$J$10:$J$1069,0),15),"") | K44: 34 | L44: NL3
A45: =COUNTIF($C$8:C45,C45)+1 -> 7 | B45: =VLOOKUP(A45,$K$11:$L$80,2,FALSE) -> AHR | C45: Sunday | D45: =IFERROR(INDEX(Data!$A$10:$O$1069,MATCH(CONCATENATE($C45,D$8,$B45),Data!$J$10:$J$1069,0),15),"") | E45: =IFERROR(INDEX(Data!$A$10:$O$1069,MATCH(CONCATENATE($C45,E$8,$B45),Data!$J$10:$J$1069,0),15),"") | F45: =IFERROR(INDEX(Data!$A$10:$O$1069,MATCH(CONCATENATE($C45,F$8,$B45),Data!$J$10:$J$1069,0),15),"") | G45: =IFERROR(INDEX(Data!$A$10:$O$1069,MATCH(CONCATENATE($C45,G$8,$B45),Data!$J$10:$J$1069,0),15),"") | H45: =IFERROR(INDEX(Data!$A$10:$O$1069,MATCH(CONCATENATE($C45,H$8,$B45),Data!$J$10:$J$1069,0),15),"") | I45: =IFERROR(INDEX(Data!$A$10:$O$1069,MATCH(CONCATENATE($C45,I$8,$B45),Data!$J$10:$J$1069,0),15),"") | K45: 35 | L45: NRD
A46: =COUNTIF($C$8:C46,C46)+1 -> 7 | B46: =VLOOKUP(A46,$K$11:$L$80,2,FALSE) -> AHR | C46: Monday | D46: =IFERROR(INDEX(Data!$A$10:$O$1069,MATCH(CONCATENATE($C46,D$8,$B46),Data!$J$10:$J$1069,0),15),"") | E46: =IFERROR(INDEX(Data!$A$10:$O$1069,MATCH(CONCATENATE($C46,E$8,$B46),Data!$J$10:$J$1069,0),15),"") | F46: =IFERROR(INDEX(Data!$A$10:$O$1069,MATCH(CONCATENATE($C46,F$8,$B46),Data!$J$10:$J$1069,0),15),"") | G46: =IFERROR(INDEX(Data!$A$10:$O$1069,MATCH(CONCATENATE($C46,G$8,$B46),Data!$J$10:$J$1069,0),15),"") | H46: =IFERROR(INDEX(Data!$A$10:$O$1069,MATCH(CONCATENATE($C46,H$8,$B46),Data!$J$10:$J$1069,0),15),"") | I46: =IFERROR(INDEX(Data!$A$10:$O$1069,MATCH(CONCATENATE($C46,I$8,$B46),Data!$J$10:$J$1069,0),15),"") | K46: 36 | L46: PT
A47: =COUNTIF($C$8:C47,C47)+1 -> 7 | B47: =VLOOKUP(A47,$K$11:$L$80,2,FALSE) -> AHR | C47: Tuesday | D47: =IFERROR(INDEX(Data!$A$10:$O$1069,MATCH(CONCATENATE($C47,D$8,$B47),Data!$J$10:$J$1069,0),15),"") | E47: =IFERROR(INDEX(Data!$A$10:$O$1069,MATCH(CONCATENATE($C47,E$8,$B47),Data!$J$10:$J$1069,0),15),"") | F47: =IFERROR(INDEX(Data!$A$10:$O$1069,MATCH(CONCATENATE($C47,F$8,$B47),Data!$J$10:$J$1069,0),15),"") | G47: =IFERROR(INDEX(Data!$A$10:$O$1069,MATCH(CONCATENATE($C47,G$8,$B47),Data!$J$10:$J$1069,0),15),"") | H47: =IFERROR(INDEX(Data!$A$10:$O$1069,MATCH(CONCATENATE($C47,H$8,$B47),Data!$J$10:$J$1069,0),15),"") | I47: =IFERROR(INDEX(Data!$A$10:$O$1069,MATCH(CONCATENATE($C47,I$8,$B47),Data!$J$10:$J$1069,0),15),"") | K47: 37 | L47: RA
A48: =COUNTIF($C$8:C48,C48)+1 -> 7 | B48: =VLOOKUP(A48,$K$11:$L$80,2,FALSE) -> AHR | C48: Wednesday | D48: =IFERROR(INDEX(Data!$A$10:$O$1069,MATCH(CONCATENATE($C48,D$8,$B48),Data!$J$10:$J$1069,0),15),"") | E48: =IFERROR(INDEX(Data!$A$10:$O$1069,MATCH(CONCATENATE($C48,E$8,$B48),Data!$J$10:$J$1069,0),15),"") | F48: =IFERROR(INDEX(Data!$A$10:$O$1069,MATCH(CONCATENATE($C48,F$8,$B48),Data!$J$10:$J$1069,0),15),"") | G48: =IFERROR(INDEX(Data!$A$10:$O$1069,MATCH(CONCATENATE($C48,G$8,$B48),Data!$J$10:$J$1069,0),15),"") | H48: =IFERROR(INDEX(Data!$A$10:$O$1069,MATCH(CONCATENATE($C48,H$8,$B48),Data!$J$10:$J$1069,0),15),"") | I48: =IFERROR(INDEX(Data!$A$10:$O$1069,MATCH(CONCATENATE($C48,I$8,$B48),Data!$J$10:$J$1069,0),15),"") | K48: 38 | L48: RHK
A49: =COUNTIF($C$8:C49,C49)+1 -> 7 | B49: =VLOOKUP(A49,$K$11:$L$80,2,FALSE) -> AHR | C49: Thursday | D49: =IFERROR(INDEX(Data!$A$10:$O$1069,MATCH(CONCATENATE($C49,D$8,$B49),Data!$J$10:$J$1069,0),15),"") | E49: =IFERROR(INDEX(Data!$A$10:$O$1069,MATCH(CONCATENATE($C49,E$8,$B49),Data!$J$10:$J$1069,0),15),"") | F49: =IFERROR(INDEX(Data!$A$10:$O$1069,MATCH(CONCATENATE($C49,F$8,$B49),Data!$J$10:$J$1069,0),15),"") | G49: =IFERROR(INDEX(Data!$A$10:$O$1069,MATCH(CONCATENATE($C49,G$8,$B49),Data!$J$10:$J$1069,0),15),"") | H49: =IFERROR(INDEX(Data!$A$10:$O$1069,MATCH(CONCATENATE($C49,H$8,$B49),Data!$J$10:$J$1069,0),15),"") | I49: =IFERROR(INDEX(Data!$A$10:$O$1069,MATCH(CONCATENATE($C49,I$8,$B49),Data!$J$10:$J$1069,0),15),"") | K49: 39 | L49: RI
K50: 40 | L50: RKH
A51: =COUNTIF($C$8:C51,C51)+1 -> 8 | B51: =VLOOKUP(A51,$K$11:$L$80,2,FALSE) -> AI | C51: Saturday | D51: =IFERROR(INDEX(Data!$A$10:$O$1069,MATCH(CONCATENATE($C51,D$8,$B51),Data!$J$10:$J$1069,0),15),"") | E51: =IFERROR(INDEX(Data!$A$10:$O$1069,MATCH(CONCATENATE($C51,E$8,$B51),Data!$J$10:$J$1069,0),15),"") | F51: =IFERROR(INDEX(Data!$A$10:$O$1069,MATCH(CONCATENATE($C51,F$8,$B51),Data!$J$10:$J$1069,0),15),"") -> TE423(L4T2)A 704 --- AI | G51: =IFERROR(INDEX(Data!$A$10:$O$1069,MATCH(CONCATENATE($C51,G$8,$B51),Data!$J$10:$J$1069,0),15),"") | H51: =IFERROR(INDEX(Data!$A$10:$O$1069,MATCH(CONCATENATE($C51,H$8,$B51),Data!$J$10:$J$1069,0),15),"") -> TE213(L2T1)D 704 --- AI | I51: =IFERROR(INDEX(Data!$A$10:$O$1069,MATCH(CONCATENATE($C51,I$8,$B51),Data!$J$10:$J$1069,0),15),"") | K51: 41 | L51: RSK
A52: =COUNTIF($C$8:C52,C52)+1 -> 8 | B52: =VLOOKUP(A52,$K$11:$L$80,2,FALSE) -> AI | C52: Sunday | D52: =IFERROR(INDEX(Data!$A$10:$O$1069,MATCH(CONCATENATE($C52,D$8,$B52),Data!$J$10:$J$1069,0),15),"") | E52: =IFERROR(INDEX(Data!$A$10:$O$1069,MATCH(CONCATENATE($C52,E$8,$B52),Data!$J$10:$J$1069,0),15),"") -> TE4111(L4T1)D 704 --- AI | F52: =IFERROR(INDEX(Data!$A$10:$O$1069,MATCH(CONCATENATE($C52,F$8,$B52),Data!$J$10:$J$1069,0),15),"") | G52: =IFERROR(INDEX(Data!$A$10:$O$1069,MATCH(CONCATENATE($C52,G$8,$B52),Data!$J$10:$J$1069,0),15),"") -> TE4111(L4T1)C 704 --- AI | H52: =IFERROR(INDEX(Data!$A$10:$O$1069,MATCH(CONCATENATE($C52,H$8,$B52),Data!$J$10:$J$1069,0),15),"") | I52: =IFERROR(INDEX(Data!$A$10:$O$1069,MATCH(CONCATENATE($C52,I$8,$B52),Data!$J$10:$J$1069,0),15),"") | K52: 42 | L52: RUH
A53: =COUNTIF($C$8:C53,C53)+1 -> 8 | B53: =VLOOKUP(A53,$K$11:$L$80,2,FALSE) -> AI | C53: Monday | D53: =IFERROR(INDEX(Data!$A$10:$O$1069,MATCH(CONCATENATE($C53,D$8,$B53),Data!$J$10:$J$1069,0),15),"") | E53: =IFERROR(INDEX(Data!$A$10:$O$1069,MATCH(CONCATENATE($C53,E$8,$B53),Data!$J$10:$J$1069,0),15),"") | F53: =IFERROR(INDEX(Data!$A$10:$O$1069,MATCH(CONCATENATE($C53,F$8,$B53),Data!$J$10:$J$1069,0),15),"") -> TE4111(L4T1)D 704 --- AI | G53: =IFERROR(INDEX(Data!$A$10:$O$1069,MATCH(CONCATENATE($C53,G$8,$B53),Data!$J$10:$J$1069,0),15),"") | H53: =IFERROR(INDEX(Data!$A$10:$O$1069,MATCH(CONCATENATE($C53,H$8,$B53),Data!$J$10:$J$1069,0),15),"") -> TE213(L2T1)D 801 --- AI | I53: =IFERROR(INDEX(Data!$A$10:$O$1069,MATCH(CONCATENATE($C53,I$8,$B53),Data!$J$10:$J$1069,0),15),"") | K53: 43 | L53: SA
A54: =COUNTIF($C$8:C54,C54)+1 -> 8 | B54: =VLOOKUP(A54,$K$11:$L$80,2,FALSE) -> AI | C54: Tuesday | D54: =IFERROR(INDEX(Data!$A$10:$O$1069,MATCH(CONCATENATE($C54,D$8,$B54),Data!$J$10:$J$1069,0),15),"") | E54: =IFERROR(INDEX(Data!$A$10:$O$1069,MATCH(CONCATENATE($C54,E$8,$B54),Data!$J$10:$J$1069,0),15),"") | F54: =IFERROR(INDEX(Data!$A$10:$O$1069,MATCH(CONCATENATE($C54,F$8,$B54),Data!$J$10:$J$1069,0),15),"") | G54: =IFERROR(INDEX(Data!$A$10:$O$1069,MATCH(CONCATENATE($C54,G$8,$B54),Data!$J$10:$J$1069,0),15),"") -> TE4111(L4T1)C 704 --- AI | H54: =IFERROR(INDEX(Data!$A$10:$O$1069,MATCH(CONCATENATE($C54,H$8,$B54),Data!$J$10:$J$1069,0),15),"") | I54: =IFERROR(INDEX(Data!$A$10:$O$1069,MATCH(CONCATENATE($C54,I$8,$B54),Data!$J$10:$J$1069,0),15),"") | K54: 44 | L54: SAS
A55: =COUNTIF($C$8:C55,C55)+1 -> 8 | B55: =VLOOKUP(A55,$K$11:$L$80,2,FALSE) -> AI | C55: Wednesday | D55: =IFERROR(INDEX(Data!$A$10:$O$1069,MATCH(CONCATENATE($C55,D$8,$B55),Data!$J$10:$J$1069,0),15),"") | E55: =IFERROR(INDEX(Data!$A$10:$O$1069,MATCH(CONCATENATE($C55,E$8,$B55),Data!$J$10:$J$1069,0),15),"") | F55: =IFERROR(INDEX(Data!$A$10:$O$1069,MATCH(CONCATENATE($C55,F$8,$B55),Data!$J$10:$J$1069,0),15),"") -> TE423(L4T2)A 702 --- AI | G55: =IFERROR(INDEX(Data!$A$10:$O$1069,MATCH(CONCATENATE($C55,G$8,$B55),Data!$J$10:$J$1069,0),15),"") | H55: =IFERROR(INDEX(Data!$A$10:$O$1069,MATCH(CONCATENATE($C55,H$8,$B55),Data!$J$10:$J$1069,0),15),"") -> TE214(L2T1)D L-Fab --- AI | I55: =IFERROR(INDEX(Data!$A$10:$O$1069,MATCH(CONCATENATE($C55,I$8,$B55),Data!$J$10:$J$1069,0),15),"") -> TE214(L2T1)D L-Fab --- AI | K55: 45 | L55: Shamim
A56: =COUNTIF($C$8:C56,C56)+1 -> 8 | B56: =VLOOKUP(A56,$K$11:$L$80,2,FALSE) -> AI | C56: Thursday | D56: =IFERROR(INDEX(Data!$A$10:$O$1069,MATCH(CONCATENATE($C56,D$8,$B56),Data!$J$10:$J$1069,0),15),"") | E56: =IFERROR(INDEX(Data!$A$10:$O$1069,MATCH(CONCATENATE($C56,E$8,$B56),Data!$J$10:$J$1069,0),15),"") | F56: =IFERROR(INDEX(Data!$A$10:$O$1069,MATCH(CONCATENATE($C56,F$8,$B56),Data!$J$10:$J$1069,0),15),"") | G56: =IFERROR(INDEX(Data!$A$10:$O$1069,MATCH(CONCATENATE($C56,G$8,$B56),Data!$J$10:$J$1069,0),15),"") | H56: =IFERROR(INDEX(Data!$A$10:$O$1069,MATCH(CONCATENATE($C56,H$8,$B56),Data!$J$10:$J$1069,0),15),"") | I56: =IFERROR(INDEX(Data!$A$10:$O$1069,MATCH(CONCATENATE($C56,I$8,$B56),Data!$J$10:$J$1069,0),15),"") | K56: 46 | L56: SI
K57: 47 | L57: SK
A58: =COUNTIF($C$8:C58,C58)+1 -> 9 | B58: =VLOOKUP(A58,$K$11:$L$80,2,FALSE) -> AN | C58: Saturday | D58: =IFERROR(INDEX(Data!$A$10:$O$1069,MATCH(CONCATENATE($C58,D$8,$B58),Data!$J$10:$J$1069,0),15),"") | E58: =IFERROR(INDEX(Data!$A$10:$O$1069,MATCH(CONCATENATE($C58,E$8,$B58),Data!$J$10:$J$1069,0),15),"") | F58: =IFERROR(INDEX(Data!$A$10:$O$1069,MATCH(CONCATENATE($C58,F$8,$B58),Data!$J$10:$J$1069,0),15),"") | G58: =IFERROR(INDEX(Data!$A$10:$O$1069,MATCH(CONCATENATE($C58,G$8,$B58),Data!$J$10:$J$1069,0),15),"") -> TE419(L4T1)A 702 --- AN | H58: =IFERROR(INDEX(Data!$A$10:$O$1069,MATCH(CONCATENATE($C58,H$8,$B58),Data!$J$10:$J$1069,0),15),"") | I58: =IFERROR(INDEX(Data!$A$10:$O$1069,MATCH(CONCATENATE($C58,I$8,$B58),Data!$J$10:$J$1069,0),15),"") | K58: 48 | L58: SKC
A59: =COUNTIF($C$8:C59,C59)+1 -> 9 | B59: =VLOOKUP(A59,$K$11:$L$80,2,FALSE) -> AN | C59: Sunday | D59: =IFERROR(INDEX(Data!$A$10:$O$1069,MATCH(CONCATENATE($C59,D$8,$B59),Data!$J$10:$J$1069,0),15),"") | E59: =IFERROR(INDEX(Data!$A$10:$O$1069,MATCH(CONCATENATE($C59,E$8,$B59),Data!$J$10:$J$1069,0),15),"") | F59: =IFERROR(INDEX(Data!$A$10:$O$1069,MATCH(CONCATENATE($C59,F$8,$B59),Data!$J$10:$J$1069,0),15),"") | G59: =IFERROR(INDEX(Data!$A$10:$O$1069,MATCH(CONCATENATE($C59,G$8,$B59),Data!$J$10:$J$1069,0),15),"") -> TE419(L4T1)A 703 --- AN | H59: =IFERROR(INDEX(Data!$A$10:$O$1069,MATCH(CONCATENATE($C59,H$8,$B59),Data!$J$10:$J$1069,0),15),"") | I59: =IFERROR(INDEX(Data!$A$10:$O$1069,MATCH(CONCATENATE($C59,I$8,$B59),Data!$J$10:$J$1069,0),15),"") -> TE419(L4T1)C 703 --- AN | K59: 49 | L59: SKR
A60: =COUNTIF($C$8:C60,C60)+1 -> 9 | B60: =VLOOKUP(A60,$K$11:$L$80,2,FALSE) -> AN | C60: Monday | D60: =IFERROR(INDEX(Data!$A$10:$O$1069,MATCH(CONCATENATE($C60,D$8,$B60),Data!$J$10:$J$1069,0),15),"") | E60: =IFERROR(INDEX(Data!$A$10:$O$1069,MATCH(CONCATENATE($C60,E$8,$B60),Data!$J$10:$J$1069,0),15),"") | F60: =IFERROR(INDEX(Data!$A$10:$O$1069,MATCH(CONCATENATE($C60,F$8,$B60),Data!$J$10:$J$1069,0),15),"") -> TE419(L4T1)B 802 --- AN | G60: =IFERROR(INDEX(Data!$A$10:$O$1069,MATCH(CONCATENATE($C60,G$8,$B60),Data!$J$10:$J$1069,0),15),"") | H60: =IFERROR(INDEX(Data!$A$10:$O$1069,MATCH(CONCATENATE($C60,H$8,$B60),Data!$J$10:$J$1069,0),15),"") -> TE419(L4T1)D 802 --- AN | I60: =IFERROR(INDEX(Data!$A$10:$O$1069,MATCH(CONCATENATE($C60,I$8,$B60),Data!$J$10:$J$1069,0),15),"") | K60: 50 | L60: SM
A61: =COUNTIF($C$8:C61,C61)+1 -> 9 | B61: =VLOOKUP(A61,$K$11:$L$80,2,FALSE) -> AN | C61: Tuesday | D61: =IFERROR(INDEX(Data!$A$10:$O$1069,MATCH(CONCATENATE($C61,D$8,$B61),Data!$J$10:$J$1069,0),15),"") | E61: =IFERROR(INDEX(Data!$A$10:$O$1069,MATCH(CONCATENATE($C61,E$8,$B61),Data!$J$10:$J$1069,0),15),"") | F61: =IFERROR(INDEX(Data!$A$10:$O$1069,MATCH(CONCATENATE($C61,F$8,$B61),Data!$J$10:$J$1069,0),15),"") | G61: =IFERROR(INDEX(Data!$A$10:$O$1069,MATCH(CONCATENATE($C61,G$8,$B61),Data!$J$10:$J$1069,0),15),"") -> TE419(L4T1)B 703 --- AN | H61: =IFERROR(INDEX(Data!$A$10:$O$1069,MATCH(CONCATENATE($C61,H$8,$B61),Data!$J$10:$J$1069,0),15),"") | I61: =IFERROR(INDEX(Data!$A$10:$O$1069,MATCH(CONCATENATE($C61,I$8,$B61),Data!$J$10:$J$1069,0),15),"") | K61: 51 | L61: SR
A62: =COUNTIF($C$8:C62,C62)+1 -> 9 | B62: =VLOOKUP(A62,$K$11:$L$80,2,FALSE) -> AN | C62: Wednesday | D62: =IFERROR(INDEX(Data!$A$10:$O$1069,MATCH(CONCATENATE($C62,D$8,$B62),Data!$J$10:$J$1069,0),15),"") | E62: =IFERROR(INDEX(Data!$A$10:$O$1069,MATCH(CONCATENATE($C62,E$8,$B62),Data!$J$10:$J$1069,0),15),"") | F62: =IFERROR(INDEX(Data!$A$10:$O$1069,MATCH(CONCATENATE($C62,F$8,$B62),Data!$J$10:$J$1069,0),15),"") | G62: =IFERROR(INDEX(Data!$A$10:$O$1069,MATCH(CONCATENATE($C62,G$8,$B62),Data!$J$10:$J$1069,0),15),"") -> TE419(L4T1)D 703 --- AN | H62: =IFERROR(INDEX(Data!$A$10:$O$1069,MATCH(CONCATENATE($C62,H$8,$B62),Data!$J$10:$J$1069,0),15),"") | I62: =IFERROR(INDEX(Data!$A$10:$O$1069,MATCH(CONCATENATE($C62,I$8,$B62),Data!$J$10:$J$1069,0),15),"") -> TE419(L4T1)C 703 --- AN | K62: 52 | L62: SS
A63: =COUNTIF($C$8:C63,C63)+1 -> 9 | B63: =VLOOKUP(A63,$K$11:$L$80,2,FALSE) -> AN | C63: Thursday | D63: =IFERROR(INDEX(Data!$A$10:$O$1069,MATCH(CONCATENATE($C63,D$8,$B63),Data!$J$10:$J$1069,0),15),"") | E63: =IFERROR(INDEX(Data!$A$10:$O$1069,MATCH(CONCATENATE($C63,E$8,$B63),Data!$J$10:$J$1069,0),15),"") | F63: =IFERROR(INDEX(Data!$A$10:$O$1069,MATCH(CONCATENATE($C63,F$8,$B63),Data!$J$10:$J$1069,0),15),"") | G63: =IFERROR(INDEX(Data!$A$10:$O$1069,MATCH(CONCATENATE($C63,G$8,$B63),Data!$J$10:$J$1069,0),15),"") | H63: =IFERROR(INDEX(Data!$A$10:$O$1069,MATCH(CONCATENATE($C63,H$8,$B63),Data!$J$10:$J$1069,0),15),"") | I63: =IFERROR(INDEX(Data!$A$10:$O$1069,MATCH(CONCATENATE($C63,I$8,$B63),Data!$J$10:$J$1069,0),15),"") | K63: 53 | L63: SS3
K64: 54 | L64: SSS
A65: =COUNTIF($C$8:C65,C65)+1 -> 10 | B65: =VLOOKUP(A65,$K$11:$L$80,2,FALSE) -> FBS | C65: Saturday | D65: =IFERROR(INDEX(Data!$A$10:$O$1069,MATCH(CONCATENATE($C65,D$8,$B65),Data!$J$10:$J$1069,0),15),"") | E65: =IFERROR(INDEX(Data!$A$10:$O$1069,MATCH(CONCATENATE($C65,E$8,$B65),Data!$J$10:$J$1069,0),15),"") | F65: =IFERROR(INDEX(Data!$A$10:$O$1069,MATCH(CONCATENATE($C65,F$8,$B65),Data!$J$10:$J$1069,0),15),"") | G65: =IFERROR(INDEX(Data!$A$10:$O$1069,MATCH(CONCATENATE($C65,G$8,$B65),Data!$J$10:$J$1069,0),15),"") | H65: =IFERROR(INDEX(Data!$A$10:$O$1069,MATCH(CONCATENATE($C65,H$8,$B65),Data!$J$10:$J$1069,0),15),"") | I65: =IFERROR(INDEX(Data!$A$10:$O$1069,MATCH(CONCATENATE($C65,I$8,$B65),Data!$J$10:$J$1069,0),15),"") | K65: 55 | L65: Syful
A66: =COUNTIF($C$8:C66,C66)+1 -> 10 | B66: =VLOOKUP(A66,$K$11:$L$80,2,FALSE) -> FBS | C66: Sunday | D66: =IFERROR(INDEX(Data!$A$10:$O$1069,MATCH(CONCATENATE($C66,D$8,$B66),Data!$J$10:$J$1069,0),15),"") | E66: =IFERROR(INDEX(Data!$A$10:$O$1069,MATCH(CONCATENATE($C66,E$8,$B66),Data!$J$10:$J$1069,0),15),"") | F66: =IFERROR(INDEX(Data!$A$10:$O$1069,MATCH(CONCATENATE($C66,F$8,$B66),Data!$J$10:$J$1069,0),15),"") | G66: =IFERROR(INDEX(Data!$A$10:$O$1069,MATCH(CONCATENATE($C66,G$8,$B66),Data!$J$10:$J$1069,0),15),"") | H66: =IFERROR(INDEX(Data!$A$10:$O$1069,MATCH(CONCATENATE($C66,H$8,$B66),Data!$J$10:$J$1069,0),15),"") | I66: =IFERROR(INDEX(Data!$A$10:$O$1069,MATCH(CONCATENATE($C66,I$8,$B66),Data!$J$10:$J$1069,0),15),"") | K66: 56 | L66: TA
A67: =COUNTIF($C$8:C67,C67)+1 -> 10 | B67: =VLOOKUP(A67,$K$11:$L$80,2,FALSE) -> FBS | C67: Monday | D67: =IFERROR(INDEX(Data!$A$10:$O$1069,MATCH(CONCATENATE($C67,D$8,$B67),Data!$J$10:$J$1069,0),15),"") | E67: =IFERROR(INDEX(Data!$A$10:$O$1069,MATCH(CONCATENATE($C67,E$8,$B67),Data!$J$10:$J$1069,0),15),"") | F67: =IFERROR(INDEX(Data!$A$10:$O$1069,MATCH(CONCATENATE($C67,F$8,$B67),Data!$J$10:$J$1069,0),15),"") | G67: =IFERROR(INDEX(Data!$A$10:$O$1069,MATCH(CONCATENATE($C67,G$8,$B67),Data!$J$10:$J$1069,0),15),"") | H67: =IFERROR(INDEX(Data!$A$10:$O$1069,MATCH(CONCATENATE($C67,H$8,$B67),Data!$J$10:$J$1069,0),15),"") | I67: =IFERROR(INDEX(Data!$A$10:$O$1069,MATCH(CONCATENATE($C67,I$8,$B67),Data!$J$10:$J$1069,0),15),"") | K67: 57 | L67: TAC
A68: =COUNTIF($C$8:C68,C68)+1 -> 10 | B68: =VLOOKUP(A68,$K$11:$L$80,2,FALSE) -> FBS | C68: Tuesday | D68: =IFERROR(INDEX(Data!$A$10:$O$1069,MATCH(CONCATENATE($C68,D$8,$B68),Data!$J$10:$J$1069,0),15),"") | E68: =IFERROR(INDEX(Data!$A$10:$O$1069,MATCH(CONCATENATE($C68,E$8,$B68),Data!$J$10:$J$1069,0),15),"") | F68: =IFERROR(INDEX(Data!$A$10:$O$1069,MATCH(CONCATENATE($C68,F$8,$B68),Data!$J$10:$J$1069,0),15),"") | G68: =IFERROR(INDEX(Data!$A$10:$O$1069,MATCH(CONCATENATE($C68,G$8,$B68),Data!$J$10:$J$1069,0),15),"") | H68: =IFERROR(INDEX(Data!$A$10:$O$1069,MATCH(CONCATENATE($C68,H$8,$B68),Data!$J$10:$J$1069,0),15),"") | I68: =IFERROR(INDEX(Data!$A$10:$O$1069,MATCH(CONCATENATE($C68,I$8,$B68),Data!$J$10:$J$1069,0),15),"") | K68: 58 | L68: TE 222 (L2T2)C
A69: =COUNTIF($C$8:C69,C69)+1 -> 10 | B69: =VLOOKUP(A69,$K$11:$L$80,2,FALSE) -> FBS | C69: Wednesday | D69: =IFERROR(INDEX(Data!$A$10:$O$1069,MATCH(CONCATENATE($C69,D$8,$B69),Data!$J$10:$J$1069,0),15),"") | E69: =IFERROR(INDEX(Data!$A$10:$O$1069,MATCH(CONCATENATE($C69,E$8,$B69),Data!$J$10:$J$1069,0),15),"") | F69: =IFERROR(INDEX(Data!$A$10:$O$1069,MATCH(CONCATENATE($C69,F$8,$B69),Data!$J$10:$J$1069,0),15),"") | G69: =IFERROR(INDEX(Data!$A$10:$O$1069,MATCH(CONCATENATE($C69,G$8,$B69),Data!$J$10:$J$1069,0),15),"") | H69: =IFERROR(INDEX(Data!$A$10:$O$1069,MATCH(CONCATENATE($C69,H$8,$B69),Data!$J$10:$J$1069,0),15),"") | I69: =IFERROR(INDEX(Data!$A$10:$O$1069,MATCH(CONCATENATE($C69,I$8,$B69),Data!$J$10:$J$1069,0),15),"") | K69: 59 | L69: TM
A70: =COUNTIF($C$8:C70,C70)+1 -> 10 | B70: =VLOOKUP(A70,$K$11:$L$80,2,FALSE) -> FBS | C70: Thursday | D70: =IFERROR(INDEX(Data!$A$10:$O$1069,MATCH(CONCATENATE($C70,D$8,$B70),Data!$J$10:$J$1069,0),15),"") | E70: =IFERROR(INDEX(Data!$A$10:$O$1069,MATCH(CONCATENATE($C70,E$8,$B70),Data!$J$10:$J$1069,0),15),"") | F70: =IFERROR(INDEX(Data!$A$10:$O$1069,MATCH(CONCATENATE($C70,F$8,$B70),Data!$J$10:$J$1069,0),15),"") | G70: =IFERROR(INDEX(Data!$A$10:$O$1069,MATCH(CONCATENATE($C70,G$8,$B70),Data!$J$10:$J$1069,0),15),"") | H70: =IFERROR(INDEX(Data!$A$10:$O$1069,MATCH(CONCATENATE($C70,H$8,$B70),Data!$J$10:$J$1069,0),15),"") | I70: =IFERROR(INDEX(Data!$A$10:$O$1069,MATCH(CONCATENATE($C70,I$8,$B70),Data!$J$10:$J$1069,0),15),"") | K70: 60 | L70: TM(ns)
K71: 61 | L71: TMns
A72: =COUNTIF($C$8:C72,C72)+1 -> 11 | B72: =VLOOKUP(A72,$K$11:$L$80,2,FALSE) -> FHA | C72: Saturday | D72: =IFERROR(INDEX(Data!$A$10:$O$1069,MATCH(CONCATENATE($C72,D$8,$B72),Data!$J$10:$J$1069,0),15),"") -> TE322(L3T2)B L-Col --- FHA | E72: =IFERROR(INDEX(Data!$A$10:$O$1069,MATCH(CONCATENATE($C72,E$8,$B72),Data!$J$10:$J$1069,0),15),"") -> TE322(L3T2)B L-Col --- FHA | F72: =IFERROR(INDEX(Data!$A$10:$O$1069,MATCH(CONCATENATE($C72,F$8,$B72),Data!$J$10:$J$1069,0),15),"") | G72: =IFERROR(INDEX(Data!$A$10:$O$1069,MATCH(CONCATENATE($C72,G$8,$B72),Data!$J$10:$J$1069,0),15),"") -> TE321(L3T2)B 711 --- FHA | H72: =IFERROR(INDEX(Data!$A$10:$O$1069,MATCH(CONCATENATE($C72,H$8,$B72),Data!$J$10:$J$1069,0),15),"") | I72: =IFERROR(INDEX(Data!$A$10:$O$1069,MATCH(CONCATENATE($C72,I$8,$B72),Data!$J$10:$J$1069,0),15),"") | K72: 62 | L72: ZI
A73: =COUNTIF($C$8:C73,C73)+1 -> 11 | B73: =VLOOKUP(A73,$K$11:$L$80,2,FALSE) -> FHA | C73: Sunday | D73: =IFERROR(INDEX(Data!$A$10:$O$1069,MATCH(CONCATENATE($C73,D$8,$B73),Data!$J$10:$J$1069,0),15),"") -> TE322(L3T2)A L-Col --- FHA | E73: =IFERROR(INDEX(Data!$A$10:$O$1069,MATCH(CONCATENATE($C73,E$8,$B73),Data!$J$10:$J$1069,0),15),"") -> TE322(L3T2)A L-Col --- FHA | F73: =IFERROR(INDEX(Data!$A$10:$O$1069,MATCH(CONCATENATE($C73,F$8,$B73),Data!$J$10:$J$1069,0),15),"") | G73: =IFERROR(INDEX(Data!$A$10:$O$1069,MATCH(CONCATENATE($C73,G$8,$B73),Data!$J$10:$J$1069,0),15),"") -> TE321(L3T2)A 711 --- FHA | H73: =IFERROR(INDEX(Data!$A$10:$O$1069,MATCH(CONCATENATE($C73,H$8,$B73),Data!$J$10:$J$1069,0),15),"") | I73: =IFERROR(INDEX(Data!$A$10:$O$1069,MATCH(CONCATENATE($C73,I$8,$B73),Data!$J$10:$J$1069,0),15),"") | K73: 63 | L73: ZU
A74: =COUNTIF($C$8:C74,C74)+1 -> 11 | B74: =VLOOKUP(A74,$K$11:$L$80,2,FALSE) -> FHA | C74: Monday | D74: =IFERROR(INDEX(Data!$A$10:$O$1069,MATCH(CONCATENATE($C74,D$8,$B74),Data!$J$10:$J$1069,0),15),"") | E74: =IFERROR(INDEX(Data!$A$10:$O$1069,MATCH(CONCATENATE($C74,E$8,$B74),Data!$J$10:$J$1069,0),15),"") -> TE321(L3T2)A 703 --- FHA | F74: =IFERROR(INDEX(Data!$A$10:$O$1069,MATCH(CONCATENATE($C74,F$8,$B74),Data!$J$10:$J$1069,0),15),"") | G74: =IFERROR(INDEX(Data!$A$10:$O$1069,MATCH(CONCATENATE($C74,G$8,$B74),Data!$J$10:$J$1069,0),15),"") -> TE321(L3T2)B 703 --- FHA | H74: =IFERROR(INDEX(Data!$A$10:$O$1069,MATCH(CONCATENATE($C74,H$8,$B74),Data!$J$10:$J$1069,0),15),"") | I74: =IFERROR(INDEX(Data!$A$10:$O$1069,MATCH(CONCATENATE($C74,I$8,$B74),Data!$J$10:$J$1069,0),15),"") | K74: 64 | L74: Grand Total
A75: =COUNTIF($C$8:C75,C75)+1 -> 11 | B75: =VLOOKUP(A75,$K$11:$L$80,2,FALSE) -> FHA | C75: Tuesday | D75: =IFERROR(INDEX(Data!$A$10:$O$1069,MATCH(CONCATENATE($C75,D$8,$B75),Data!$J$10:$J$1069,0),15),"") | E75: =IFERROR(INDEX(Data!$A$10:$O$1069,MATCH(CONCATENATE($C75,E$8,$B75),Data!$J$10:$J$1069,0),15),"") | F75: =IFERROR(INDEX(Data!$A$10:$O$1069,MATCH(CONCATENATE($C75,F$8,$B75),Data!$J$10:$J$1069,0),15),"") | G75: =IFERROR(INDEX(Data!$A$10:$O$1069,MATCH(CONCATENATE($C75,G$8,$B75),Data!$J$10:$J$1069,0),15),"") | H75: =IFERROR(INDEX(Data!$A$10:$O$1069,MATCH(CONCATENATE($C75,H$8,$B75),Data!$J$10:$J$1069,0),15),"") | I75: =IFERROR(INDEX(Data!$A$10:$O$1069,MATCH(CONCATENATE($C75,I$8,$B75),Data!$J$10:$J$1069,0),15),"") | K75: 65
A76: =COUNTIF($C$8:C76,C76)+1 -> 11 | B76: =VLOOKUP(A76,$K$11:$L$80,2,FALSE) -> FHA | C76: Wednesday | D76: =IFERROR(INDEX(Data!$A$10:$O$1069,MATCH(CONCATENATE($C76,D$8,$B76),Data!$J$10:$J$1069,0),15),"") | E76: =IFERROR(INDEX(Data!$A$10:$O$1069,MATCH(CONCATENATE($C76,E$8,$B76),Data!$J$10:$J$1069,0),15),"") | F76: =IFERROR(INDEX(Data!$A$10:$O$1069,MATCH(CONCATENATE($C76,F$8,$B76),Data!$J$10:$J$1069,0),15),"") | G76: =IFERROR(INDEX(Data!$A$10:$O$1069,MATCH(CONCATENATE($C76,G$8,$B76),Data!$J$10:$J$1069,0),15),"") | H76: =IFERROR(INDEX(Data!$A$10:$O$1069,MATCH(CONCATENATE($C76,H$8,$B76),Data!$J$10:$J$1069,0),15),"") | I76: =IFERROR(INDEX(Data!$A$10:$O$1069,MATCH(CONCATENATE($C76,I$8,$B76),Data!$J$10:$J$1069,0),15),"") | K76: 66
A77: =COUNTIF($C$8:C77,C77)+1 -> 11 | B77: =VLOOKUP(A77,$K$11:$L$80,2,FALSE) -> FHA | C77: Thursday | D77: =IFERROR(INDEX(Data!$A$10:$O$1069,MATCH(CONCATENATE($C77,D$8,$B77),Data!$J$10:$J$1069,0),15),"") | E77: =IFERROR(INDEX(Data!$A$10:$O$1069,MATCH(CONCATENATE($C77,E$8,$B77),Data!$J$10:$J$1069,0),15),"") | F77: =IFERROR(INDEX(Data!$A$10:$O$1069,MATCH(CONCATENATE($C77,F$8,$B77),Data!$J$10:$J$1069,0),15),"") | G77: =IFERROR(INDEX(Data!$A$10:$O$1069,MATCH(CONCATENATE($C77,G$8,$B77),Data!$J$10:$J$1069,0),15),"") | H77: =IFERROR(INDEX(Data!$A$10:$O$1069,MATCH(CONCATENATE($C77,H$8,$B77),Data!$J$10:$J$1069,0),15),"") | I77: =IFERROR(INDEX(Data!$A$10:$O$1069,MATCH(CONCATENATE($C77,I$8,$B77),Data!$J$10:$J$1069,0),15),"") | K77: 67
K78: 68
A79: =COUNTIF($C$8:C79,C79)+1 -> 12 | B79: =VLOOKUP(A79,$K$11:$L$80,2,FALSE) -> FHS | C79: Saturday | D79: =IFERROR(INDEX(Data!$A$10:$O$1069,MATCH(CONCATENATE($C79,D$8,$B79),Data!$J$10:$J$1069,0),15),"") | E79: =IFERROR(INDEX(Data!$A$10:$O$1069,MATCH(CONCATENATE($C79,E$8,$B79),Data!$J$10:$J$1069,0),15),"") | F79: =IFERROR(INDEX(Data!$A$10:$O$1069,MATCH(CONCATENATE($C79,F$8,$B79),Data!$J$10:$J$1069,0),15),"") | G79: =IFERROR(INDEX(Data!$A$10:$O$1069,MATCH(CONCATENATE($C79,G$8,$B79),Data!$J$10:$J$1069,0),15),"") | H79: =IFERROR(INDEX(Data!$A$10:$O$1069,MATCH(CONCATENATE($C79,H$8,$B79),Data!$J$10:$J$1069,0),15),"") | I79: =IFERROR(INDEX(Data!$A$10:$O$1069,MATCH(CONCATENATE($C79,I$8,$B79),Data!$J$10:$J$1069,0),15),"") -> GED-211(L2T1)A 803 --- FHS | K79: 69
A80: =COUNTIF($C$8:C80,C80)+1 -> 12 | B80: =VLOOKUP(A80,$K$11:$L$80,2,FALSE) -> FHS | C80: Sunday | D80: =IFERROR(INDEX(Data!$A$10:$O$1069,MATCH(CONCATENATE($C80,D$8,$B80),Data!$J$10:$J$1069,0),15),"") | E80: =IFERROR(INDEX(Data!$A$10:$O$1069,MATCH(CONCATENATE($C80,E$8,$B80),Data!$J$10:$J$1069,0),15),"") | F80: =IFERROR(INDEX(Data!$A$10:$O$1069,MATCH(CONCATENATE($C80,F$8,$B80),Data!$J$10:$J$1069,0),15),"") -> GED-211(L2T1)B 803 --- FHS | G80: =IFERROR(INDEX(Data!$A$10:$O$1069,MATCH(CONCATENATE($C80,G$8,$B80),Data!$J$10:$J$1069,0),15),"") | H80: =IFERROR(INDEX(Data!$A$10:$O$1069,MATCH(CONCATENATE($C80,H$8,$B80),Data!$J$10:$J$1069,0),15),"") | I80: =IFERROR(INDEX(Data!$A$10:$O$1069,MATCH(CONCATENATE($C80,I$8,$B80),Data!$J$10:$J$1069,0),15),"") -> GED-211(L2T1)A 802 --- FHS | K80: 70
A81: =COUNTIF($C$8:C81,C81)+1 -> 12 | B81: =VLOOKUP(A81,$K$11:$L$80,2,FALSE) -> FHS | C81: Monday | D81: =IFERROR(INDEX(Data!$A$10:$O$1069,MATCH(CONCATENATE($C81,D$8,$B81),Data!$J$10:$J$1069,0),15),"") | E81: =IFERROR(INDEX(Data!$A$10:$O$1069,MATCH(CONCATENATE($C81,E$8,$B81),Data!$J$10:$J$1069,0),15),"") | F81: =IFERROR(INDEX(Data!$A$10:$O$1069,MATCH(CONCATENATE($C81,F$8,$B81),Data!$J$10:$J$1069,0),15),"") | G81: =IFERROR(INDEX(Data!$A$10:$O$1069,MATCH(CONCATENATE($C81,G$8,$B81),Data!$J$10:$J$1069,0),15),"") | H81: =IFERROR(INDEX(Data!$A$10:$O$1069,MATCH(CONCATENATE($C81,H$8,$B81),Data!$J$10:$J$1069,0),15),"") | I81: =IFERROR(INDEX(Data!$A$10:$O$1069,MATCH(CONCATENATE($C81,I$8,$B81),Data!$J$10:$J$1069,0),15),"") -> GED-211(L2T1)D 803 --- FHS
A82: =COUNTIF($C$8:C82,C82)+1 -> 12 | B82: =VLOOKUP(A82,$K$11:$L$80,2,FALSE) -> FHS | C82: Tuesday | D82: =IFERROR(INDEX(Data!$A$10:$O$1069,MATCH(CONCATENATE($C82,D$8,$B82),Data!$J$10:$J$1069,0),15),"") | E82: =IFERROR(INDEX(Data!$A$10:$O$1069,MATCH(CONCATENATE($C82,E$8,$B82),Data!$J$10:$J$1069,0),15),"") | F82: =IFERROR(INDEX(Data!$A$10:$O$1069,MATCH(CONCATENATE($C82,F$8,$B82),Data!$J$10:$J$1069,0),15),"") | G82: =IFERROR(INDEX(Data!$A$10:$O$1069,MATCH(CONCATENATE($C82,G$8,$B82),Data!$J$10:$J$1069,0),15),"") -> GED-211(L2T1)B 802 --- FHS | H82: =IFERROR(INDEX(Data!$A$10:$O$1069,MATCH(CONCATENATE($C82,H$8,$B82),Data!$J$10:$J$1069,0),15),"") | I82: =IFERROR(INDEX(Data!$A$10:$O$1069,MATCH(CONCATENATE($C82,I$8,$B82),Data!$J$10:$J$1069,0),15),"") -> GED-211(L2T1)C 705 --- FHS
A83: =COUNTIF($C$8:C83,C83)+1 -> 12 | B83: =VLOOKUP(A83,$K$11:$L$80,2,FALSE) -> FHS | C83: Wednesday | D83: =IFERROR(INDEX(Data!$A$10:$O$1069,MATCH(CONCATENATE($C83,D$8,$B83),Data!$J$10:$J$1069,0),15),"") | E83: =IFERROR(INDEX(Data!$A$10:$O$1069,MATCH(CONCATENATE($C83,E$8,$B83),Data!$J$10:$J$1069,0),15),"") -> GED-211(L2T1)C 702 --- FHS | F83: =IFERROR(INDEX(Data!$A$10:$O$1069,MATCH(CONCATENATE($C83,F$8,$B83),Data!$J$10:$J$1069,0),15),"") | G83: =IFERROR(INDEX(Data!$A$10:$O$1069,MATCH(CONCATENATE($C83,G$8,$B83),Data!$J$10:$J$1069,0),15),"") -> GED-211(L2T1)D 801 --- FHS | H83: =IFERROR(INDEX(Data!$A$10:$O$1069,MATCH(CONCATENATE($C83,H$8,$B83),Data!$J$10:$J$1069,0),15),"") | I83: =IFERROR(INDEX(Data!$A$10:$O$1069,MATCH(CONCATENATE($C83,I$8,$B83),Data!$J$10:$J$1069,0),15),"")
A84: =COUNTIF($C$8:C84,C84)+1 -> 12 | B84: =VLOOKUP(A84,$K$11:$L$80,2,FALSE) -> FHS | C84: Thursday | D84: =IFERROR(INDEX(Data!$A$10:$O$1069,MATCH(CONCATENATE($C84,D$8,$B84),Data!$J$10:$J$1069,0),15),"") | E84: =IFERROR(INDEX(Data!$A$10:$O$1069,MATCH(CONCATENATE($C84,E$8,$B84),Data!$J$10:$J$1069,0),15),"") | F84: =IFERROR(INDEX(Data!$A$10:$O$1069,MATCH(CONCATENATE($C84,F$8,$B84),Data!$J$10:$J$1069,0),15),"") | G84: =IFERROR(INDEX(Data!$A$10:$O$1069,MATCH(CONCATENATE($C84,G$8,$B84),Data!$J$10:$J$1069,0),15),"") | H84: =IFERROR(INDEX(Data!$A$10:$O$1069,MATCH(CONCATENATE($C84,H$8,$B84),Data!$J$10:$J$1069,0),15),"") | I84: =IFERROR(INDEX(Data!$A$10:$O$1069,MATCH(CONCATENATE($C84,I$8,$B84),Data!$J$10:$J$1069,0),15),"")
A86: =COUNTIF($C$8:C86,C86)+1 -> 13 | B86: =VLOOKUP(A86,$K$11:$L$80,2,FALSE) -> FS | C86: Saturday | D86: =IFERROR(INDEX(Data!$A$10:$O$1069,MATCH(CONCATENATE($C86,D$8,$B86),Data!$J$10:$J$1069,0),15),"") -> TE324(L3T2)A L-QC1 709 --- FS | E86: =IFERROR(INDEX(Data!$A$10:$O$1069,MATCH(CONCATENATE($C86,E$8,$B86),Data!$J$10:$J$1069,0),15),"") -> TE324(L3T2)A L-QC1 709 --- FS | F86: =IFERROR(INDEX(Data!$A$10:$O$1069,MATCH(CONCATENATE($C86,F$8,$B86),Data!$J$10:$J$1069,0),15),"") | G86: =IFERROR(INDEX(Data!$A$10:$O$1069,MATCH(CONCATENATE($C86,G$8,$B86),Data!$J$10:$J$1069,0),15),"") -> TE335(L3T3)A 803 --- FS | H86: =IFERROR(INDEX(Data!$A$10:$O$1069,MATCH(CONCATENATE($C86,H$8,$B86),Data!$J$10:$J$1069,0),15),"") | I86: =IFERROR(INDEX(Data!$A$10:$O$1069,MATCH(CONCATENATE($C86,I$8,$B86),Data!$J$10:$J$1069,0),15),"")
A87: =COUNTIF($C$8:C87,C87)+1 -> 13 | B87: =VLOOKUP(A87,$K$11:$L$80,2,FALSE) -> FS | C87: Sunday | D87: =IFERROR(INDEX(Data!$A$10:$O$1069,MATCH(CONCATENATE($C87,D$8,$B87),Data!$J$10:$J$1069,0),15),"") | E87: =IFERROR(INDEX(Data!$A$10:$O$1069,MATCH(CONCATENATE($C87,E$8,$B87),Data!$J$10:$J$1069,0),15),"") | F87: =IFERROR(INDEX(Data!$A$10:$O$1069,MATCH(CONCATENATE($C87,F$8,$B87),Data!$J$10:$J$1069,0),15),"") -> TE335(L3T3)B 705 --- FS | G87: =IFERROR(INDEX(Data!$A$10:$O$1069,MATCH(CONCATENATE($C87,G$8,$B87),Data!$J$10:$J$1069,0),15),"") | H87: =IFERROR(INDEX(Data!$A$10:$O$1069,MATCH(CONCATENATE($C87,H$8,$B87),Data!$J$10:$J$1069,0),15),"") -> TE323(L3T2)A 705 --- FS | I87: =IFERROR(INDEX(Data!$A$10:$O$1069,MATCH(CONCATENATE($C87,I$8,$B87),Data!$J$10:$J$1069,0),15),"")
A88: =COUNTIF($C$8:C88,C88)+1 -> 13 | B88: =VLOOKUP(A88,$K$11:$L$80,2,FALSE) -> FS | C88: Monday | D88: =IFERROR(INDEX(Data!$A$10:$O$1069,MATCH(CONCATENATE($C88,D$8,$B88),Data!$J$10:$J$1069,0),15),"") -> TE335(L3T3)A 705 --- FS | E88: =IFERROR(INDEX(Data!$A$10:$O$1069,MATCH(CONCATENATE($C88,E$8,$B88),Data!$J$10:$J$1069,0),15),"") | F88: =IFERROR(INDEX(Data!$A$10:$O$1069,MATCH(CONCATENATE($C88,F$8,$B88),Data!$J$10:$J$1069,0),15),"") | G88: =IFERROR(INDEX(Data!$A$10:$O$1069,MATCH(CONCATENATE($C88,G$8,$B88),Data!$J$10:$J$1069,0),15),"") | H88: =IFERROR(INDEX(Data!$A$10:$O$1069,MATCH(CONCATENATE($C88,H$8,$B88),Data!$J$10:$J$1069,0),15),"") -> TE324(L3T2)B L-QC1 709 --- FS | I88: =IFERROR(INDEX(Data!$A$10:$O$1069,MATCH(CONCATENATE($C88,I$8,$B88),Data!$J$10:$J$1069,0),15),"") -> TE324(L3T2)B L-QC1 709 --- FS
A89: =COUNTIF($C$8:C89,C89)+1 -> 13 | B89: =VLOOKUP(A89,$K$11:$L$80,2,FALSE) -> FS | C89: Tuesday | D89: =IFERROR(INDEX(Data!$A$10:$O$1069,MATCH(CONCATENATE($C89,D$8,$B89),Data!$J$10:$J$1069,0),15),"") | E89: =IFERROR(INDEX(Data!$A$10:$O$1069,MATCH(CONCATENATE($C89,E$8,$B89),Data!$J$10:$J$1069,0),15),"") -> TE323(L3T2)A 705 --- FS | F89: =IFERROR(INDEX(Data!$A$10:$O$1069,MATCH(CONCATENATE($C89,F$8,$B89),Data!$J$10:$J$1069,0),15),"") | G89: =IFERROR(INDEX(Data!$A$10:$O$1069,MATCH(CONCATENATE($C89,G$8,$B89),Data!$J$10:$J$1069,0),15),"") -> TE323(L3T2)B 705 --- FS | H89: =IFERROR(INDEX(Data!$A$10:$O$1069,MATCH(CONCATENATE($C89,H$8,$B89),Data!$J$10:$J$1069,0),15),"") | I89: =IFERROR(INDEX(Data!$A$10:$O$1069,MATCH(CONCATENATE($C89,I$8,$B89),Data!$J$10:$J$1069,0),15),"")
A90: =COUNTIF($C$8:C90,C90)+1 -> 13 | B90: =VLOOKUP(A90,$K$11:$L$80,2,FALSE) -> FS | C90: Wednesday | D90: =IFERROR(INDEX(Data!$A$10:$O$1069,MATCH(CONCATENATE($C90,D$8,$B90),Data!$J$10:$J$1069,0),15),"") | E90: =IFERROR(INDEX(Data!$A$10:$O$1069,MATCH(CONCATENATE($C90,E$8,$B90),Data!$J$10:$J$1069,0),15),"") | F90: =IFERROR(INDEX(Data!$A$10:$O$1069,MATCH(CONCATENATE($C90,F$8,$B90),Data!$J$10:$J$1069,0),15),"") -> TE335(L3T3)B 704 --- FS | G90: =IFERROR(INDEX(Data!$A$10:$O$1069,MATCH(CONCATENATE($C90,G$8,$B90),Data!$J$10:$J$1069,0),15),"") | H90: =IFERROR(INDEX(Data!$A$10:$O$1069,MATCH(CONCATENATE($C90,H$8,$B90),Data!$J$10:$J$1069,0),15),"") -> TE323(L3T2)B 704 --- FS | I90: =IFERROR(INDEX(Data!$A$10:$O$1069,MATCH(CONCATENATE($C90,I$8,$B90),Data!$J$10:$J$1069,0),15),"")
A91: =COUNTIF($C$8:C91,C91)+1 -> 13 | B91: =VLOOKUP(A91,$K$11:$L$80,2,FALSE) -> FS | C91: Thursday | D91: =IFERROR(INDEX(Data!$A$10:$O$1069,MATCH(CONCATENATE($C91,D$8,$B91),Data!$J$10:$J$1069,0),15),"") | E91: =IFERROR(INDEX(Data!$A$10:$O$1069,MATCH(CONCATENATE($C91,E$8,$B91),Data!$J$10:$J$1069,0),15),"") | F91: =IFERROR(INDEX(Data!$A$10:$O$1069,MATCH(CONCATENATE($C91,F$8,$B91),Data!$J$10:$J$1069,0),15),"") | G91: =IFERROR(INDEX(Data!$A$10:$O$1069,MATCH(CONCATENATE($C91,G$8,$B91),Data!$J$10:$J$1069,0),15),"") | H91: =IFERROR(INDEX(Data!$A$10:$O$1069,MATCH(CONCATENATE($C91,H$8,$B91),Data!$J$10:$J$1069,0),15),"") | I91: =IFERROR(INDEX(Data!$A$10:$O$1069,MATCH(CONCATENATE($C91,I$8,$B91),Data!$J$10:$J$1069,0),15),"")
A93: =COUNTIF($C$8:C93,C93)+1 -> 14 | B93: =VLOOKUP(A93,$K$11:$L$80,2,FALSE) -> GC | C93: Saturday | D93: =IFERROR(INDEX(Data!$A$10:$O$1069,MATCH(CONCATENATE($C93,D$8,$B93),Data!$J$10:$J$1069,0),15),"") | E93: =IFERROR(INDEX(Data!$A$10:$O$1069,MATCH(CONCATENATE($C93,E$8,$B93),Data!$J$10:$J$1069,0),15),"") | F93: =IFERROR(INDEX(Data!$A$10:$O$1069,MATCH(CONCATENATE($C93,F$8,$B93),Data!$J$10:$J$1069,0),15),"") | G93: =IFERROR(INDEX(Data!$A$10:$O$1069,MATCH(CONCATENATE($C93,G$8,$B93),Data!$J$10:$J$1069,0),15),"") | H93: =IFERROR(INDEX(Data!$A$10:$O$1069,MATCH(CONCATENATE($C93,H$8,$B93),Data!$J$10:$J$1069,0),15),"") | I93: =IFERROR(INDEX(Data!$A$10:$O$1069,MATCH(CONCATENATE($C93,I$8,$B93),Data!$J$10:$J$1069,0),15),"")
A94: =COUNTIF($C$8:C94,C94)+1 -> 14 | B94: =VLOOKUP(A94,$K$11:$L$80,2,FALSE) -> GC | C94: Sunday | D94: =IFERROR(INDEX(Data!$A$10:$O$1069,MATCH(CONCATENATE($C94,D$8,$B94),Data!$J$10:$J$1069,0),15),"") | E94: =IFERROR(INDEX(Data!$A$10:$O$1069,MATCH(CONCATENATE($C94,E$8,$B94),Data!$J$10:$J$1069,0),15),"") | F94: =IFERROR(INDEX(Data!$A$10:$O$1069,MATCH(CONCATENATE($C94,F$8,$B94),Data!$J$10:$J$1069,0),15),"") | G94: =IFERROR(INDEX(Data!$A$10:$O$1069,MATCH(CONCATENATE($C94,G$8,$B94),Data!$J$10:$J$1069,0),15),"") | H94: =IFERROR(INDEX(Data!$A$10:$O$1069,MATCH(CONCATENATE($C94,H$8,$B94),Data!$J$10:$J$1069,0),15),"") | I94: =IFERROR(INDEX(Data!$A$10:$O$1069,MATCH(CONCATENATE($C94,I$8,$B94),Data!$J$10:$J$1069,0),15),"")
... A199: =COUNTIF($C$8:C199,C199)+1 -> 29 | B199: =VLOOKUP(A199,$K$11:$L$80,2,FALSE) -> MRK | C199: Sunday | D199: =IFERROR(INDEX(Data!$A$10:$O$1069,MATCH(CONCATENATE($C199,D$8,$B199),Data!$J$10:$J$1069,0),15),"") | E199: =IFERROR(INDEX(Data!$A$10:$O$1069,MATCH(CONCATENATE($C199,E$8,$B199),Data!$J$10:$J$1069,0),15),"") | F199: =IFERROR(INDEX(Data!$A$10:$O$1069,MATCH(CONCATENATE($C199,F$8,$B199),Data!$J$10:$J$1069,0),15),"") | G199: =IFERROR(INDEX(Data!$A$10:$O$1069,MATCH(CONCATENATE($C199,G$8,$B199),Data!$J$10:$J$1069,0),15),"") | H199: =IFERROR(INDEX(Data!$A$10:$O$1069,MATCH(CONCATENATE($C199,H$8,$B199),Data!$J$10:$J$1069,0),15),"") | I199: =IFERROR(INDEX(Data!$A$10:$O$1069,MATCH(CONCATENATE($C199,I$8,$B199),Data!$J$10:$J$1069,0),15),"")
A200: =COUNTIF($C$8:C200,C200)+1 -> 29 | B200: =VLOOKUP(A200,$K$11:$L$80,2,FALSE) -> MRK | C200: Monday | D200: =IFERROR(INDEX(Data!$A$10:$O$1069,MATCH(CONCATENATE($C200,D$8,$B200),Data!$J$10:$J$1069,0),15),"") | E200: =IFERROR(INDEX(Data!$A$10:$O$1069,MATCH(CONCATENATE($C200,E$8,$B200),Data!$J$10:$J$1069,0),15),"") | G200: =IFERROR(INDEX(Data!$A$10:$O$1069,MATCH(CONCATENATE($C200,G$8,$B200),Data!$J$10:$J$1069,0),15),"") | H200: =IFERROR(INDEX(Data!$A$10:$O$1069,MATCH(CONCATENATE($C200,H$8,$B200),Data!$J$10:$J$1069,0),15),"") | I200: =IFERROR(INDEX(Data!$A$10:$O$1069,MATCH(CONCATENATE($C200,I$8,$B200),Data!$J$10:$J$1069,0),15),"") -> TE417(L4T1)A 402 --- MRK
A201: =COUNTIF($C$8:C201,C201)+1 -> 29 | B201: =VLOOKUP(A201,$K$11:$L$80,2,FALSE) -> MRK | C201: Tuesday | D201: =IFERROR(INDEX(Data!$A$10:$O$1069,MATCH(CONCATENATE($C201,D$8,$B201),Data!$J$10:$J$1069,0),15),"") | E201: =IFERROR(INDEX(Data!$A$10:$O$1069,MATCH(CONCATENATE($C201,E$8,$B201),Data!$J$10:$J$1069,0),15),"") | F201: =IFERROR(INDEX(Data!$A$10:$O$1069,MATCH(CONCATENATE($C201,F$8,$B201),Data!$J$10:$J$1069,0),15),"") | G201: =IFERROR(INDEX(Data!$A$10:$O$1069,MATCH(CONCATENATE($C201,G$8,$B201),Data!$J$10:$J$1069,0),15),"") | H201: =IFERROR(INDEX(Data!$A$10:$O$1069,MATCH(CONCATENATE($C201,H$8,$B201),Data!$J$10:$J$1069,0),15),"") | I201: =IFERROR(INDEX(Data!$A$10:$O$1069,MATCH(CONCATENATE($C201,I$8,$B201),Data!$J$10:$J$1069,0),15),"") -> TE417(L4T1)B 402 --- MRK
A202: =COUNTIF($C$8:C202,C202)+1 -> 29 | B202: =VLOOKUP(A202,$K$11:$L$80,2,FALSE) -> MRK | C202: Wednesday | D202: =IFERROR(INDEX(Data!$A$10:$O$1069,MATCH(CONCATENATE($C202,D$8,$B202),Data!$J$10:$J$1069,0),15),"") | E202: =IFERROR(INDEX(Data!$A$10:$O$1069,MATCH(CONCATENATE($C202,E$8,$B202),Data!$J$10:$J$1069,0),15),"") | F202: =IFERROR(INDEX(Data!$A$10:$O$1069,MATCH(CONCATENATE($C202,F$8,$B202),Data!$J$10:$J$1069,0),15),"") | G202: =IFERROR(INDEX(Data!$A$10:$O$1069,MATCH(CONCATENATE($C202,G$8,$B202),Data!$J$10:$J$1069,0),15),"") | H202: =IFERROR(INDEX(Data!$A$10:$O$1069,MATCH(CONCATENATE($C202,H$8,$B202),Data!$J$10:$J$1069,0),15),"") | I202: =IFERROR(INDEX(Data!$A$10:$O$1069,MATCH(CONCATENATE($C202,I$8,$B202),Data!$J$10:$J$1069,0),15),"")
A203: =COUNTIF($C$8:C203,C203)+1 -> 29 | B203: =VLOOKUP(A203,$K$11:$L$80,2,FALSE) -> MRK | C203: Thursday | D203: =IFERROR(INDEX(Data!$A$10:$O$1069,MATCH(CONCATENATE($C203,D$8,$B203),Data!$J$10:$J$1069,0),15),"") | E203: =IFERROR(INDEX(Data!$A$10:$O$1069,MATCH(CONCATENATE($C203,E$8,$B203),Data!$J$10:$J$1069,0),15),"") | F203: =IFERROR(INDEX(Data!$A$10:$O$1069,MATCH(CONCATENATE($C203,F$8,$B203),Data!$J$10:$J$1069,0),15),"") | G203: =IFERROR(INDEX(Data!$A$10:$O$1069,MATCH(CONCATENATE($C203,G$8,$B203),Data!$J$10:$J$1069,0),15),"") | H203: =IFERROR(INDEX(Data!$A$10:$O$1069,MATCH(CONCATENATE($C203,H$8,$B203),Data!$J$10:$J$1069,0),15),"") | I203: =IFERROR(INDEX(Data!$A$10:$O$1069,MATCH(CONCATENATE($C203,I$8,$B203),Data!$J$10:$J$1069,0),15),"")
A205: =COUNTIF($C$8:C205,C205)+1 -> 30 | B205: =VLOOKUP(A205,$K$11:$L$80,2,FALSE) -> MRR | C205: Saturday | D205: =IFERROR(INDEX(Data!$A$10:$O$1069,MATCH(CONCATENATE($C205,D$8,$B205),Data!$J$10:$J$1069,0),15),"") | E205: =IFERROR(INDEX(Data!$A$10:$O$1069,MATCH(CONCATENATE($C205,E$8,$B205),Data!$J$10:$J$1069,0),15),"") | F205: =IFERROR(INDEX(Data!$A$10:$O$1069,MATCH(CONCATENATE($C205,F$8,$B205),Data!$J$10:$J$1069,0),15),"") -> TE-232(L2T3)A L-App --- MRR | G205: =IFERROR(INDEX(Data!$A$10:$O$1069,MATCH(CONCATENATE($C205,G$8,$B205),Data!$J$10:$J$1069,0),15),"") -> TE-232(L2T3)A L-App --- MRR | H205: =IFERROR(INDEX(Data!$A$10:$O$1069,MATCH(CONCATENATE($C205,H$8,$B205),Data!$J$10:$J$1069,0),15),"") -> TE231(L2T3)A 801 --- MRR | I205: =IFERROR(INDEX(Data!$A$10:$O$1069,MATCH(CONCATENATE($C205,I$8,$B205),Data!$J$10:$J$1069,0),15),"")
A206: =COUNTIF($C$8:C206,C206)+1 -> 30 | B206: =VLOOKUP(A206,$K$11:$L$80,2,FALSE) -> MRR | C206: Sunday | D206: =IFERROR(INDEX(Data!$A$10:$O$1069,MATCH(CONCATENATE($C206,D$8,$B206),Data!$J$10:$J$1069,0),15),"") | E206: =IFERROR(INDEX(Data!$A$10:$O$1069,MATCH(CONCATENATE($C206,E$8,$B206),Data!$J$10:$J$1069,0),15),"") -> TE4212(L4T2)B 705 --- MRR | F206: =IFERROR(INDEX(Data!$A$10:$O$1069,MATCH(CONCATENATE($C206,F$8,$B206),Data!$J$10:$J$1069,0),15),"") | G206: =IFERROR(INDEX(Data!$A$10:$O$1069,MATCH(CONCATENATE($C206,G$8,$B206),Data!$J$10:$J$1069,0),15),"") -> TE4212(L4T2)A 705 --- MRR | H206: =IFERROR(INDEX(Data!$A$10:$O$1069,MATCH(CONCATENATE($C206,H$8,$B206),Data!$J$10:$J$1069,0),15),"") | I206: =IFERROR(INDEX(Data!$A$10:$O$1069,MATCH(CONCATENATE($C206,I$8,$B206),Data!$J$10:$J$1069,0),15),"")
A207: =COUNTIF($C$8:C207,C207)+1 -> 30 | B207: =VLOOKUP(A207,$K$11:$L$80,2,FALSE) -> MRR | C207: Monday | D207: =IFERROR(INDEX(Data!$A$10:$O$1069,MATCH(CONCATENATE($C207,D$8,$B207),Data!$J$10:$J$1069,0),15),"") | E207: =IFERROR(INDEX(Data!$A$10:$O$1069,MATCH(CONCATENATE($C207,E$8,$B207),Data!$J$10:$J$1069,0),15),"") | F207: =IFERROR(INDEX(Data!$A$10:$O$1069,MATCH(CONCATENATE($C207,F$8,$B207),Data!$J$10:$J$1069,0),15),"") | G207: =IFERROR(INDEX(Data!$A$10:$O$1069,MATCH(CONCATENATE($C207,G$8,$B207),Data!$J$10:$J$1069,0),15),"") | H207: =IFERROR(INDEX(Data!$A$10:$O$1069,MATCH(CONCATENATE($C207,H$8,$B207),Data!$J$10:$J$1069,0),15),"") | I207: =IFERROR(INDEX(Data!$A$10:$O$1069,MATCH(CONCATENATE($C207,I$8,$B207),Data!$J$10:$J$1069,0),15),"")
...

Sheet Sheet1
A1: Faculty of Engineering
A2: Class Routine Textile Engineering Department Semester: Spring 2016
A3: Saturday
A4: 08:30-10:00 | D4: 10:00-11:30 | G4: 11:30-01:00 | J4: 01:00-02:30 | M4: 2:30-04:00 | P4: 04:00-05:30
A5: Class | B5: Course | D5: Class | E5: Course | G5: Class | H5: Course | J5: Class | K5: Course | M5: Class | N5: Course | P5: Class | Q5: Course
A6: 701 | D6: 701 | G6: 701 | H6: TE428(L4T2)PC | I6: AAM | J6: 701 | M6: 701 | P6: 701
A7: 702 | D7: 702 | E7: TE132(L1T3)A | F7: NL1 | G7: 702 | J7: 702 | K7: TE419(L4T1)A | L7: AN | M7: 702 | N7: TE132(L1T3)B | O7: NL1 | P7: 702
A8: 703 | B8: CHE-124(L1T2)A | D8: 703 | E8: TE334(L3T3)B | F8: MSI | G8: 703 | H8: TE333(L3T3)B | I8: TAC | J8: 703 | K8: TE312(L3T1)A | L8: MR1 | M8: 703 | P8: 703
A9: 704 | B9: MAT-111(L1T1)B | D9: 704 | E9: TE226(L2T2)B | F9: SR | G9: 704 | H9: TE423(L4T2)A | I9: AI | J9: 704 | K9: TE235(L2T3)B | L9: MSI | M9: 704 | N9: TE213(L2T1)D | O9: AI | P9: 704
A10: 705 | D10: 705 | G10: 705 | J10: 705 | K10: TE226(L2T2)A | L10: SR | M10: 705 | N10: TE211(L2T1)C | O10: NHM | P10: 705
A11: 402 | B11: TE223(L2T2)B | C11: AAA | D11: 402 | E11: MAT-111(L1T1)A | G11: 402 | H11: TE223(L2T2)A | I11: AAA | J11: 402 | K11: TE327(L3T2)A | M11: 402 | N11: TE417(L4T1)A | O11: MRK | P11: 402 | Q11: TE417(L4T1)B | R11: MRK
A12: 801 | B12: TE221(L2T2)A | C12: SM | D12: 801 | E12: TE231(L2T3)B | F12: MRH | G12: 801 | H12: TE211(L2T1)D | I12: NHM | J12: 801 | M12: 801 | N12: TE231(L2T3)A | O12: MRR | P12: 801
A13: 802 | B13: TE425(L4T2)A | C13: ZU | D13: 802 | E13: TE415(L4T1)A | F13: ZU | G13: 802 | J13: 802 | K13: TE313(L3T1)B | L13: AG | M13: 802 | P13: 802
A14: 803 | B14: TE233(L2T3)B | C14: NRD | D14: 803 | E14: TE233(L2T3)A | F14: NRD | G14: 803 | J14: 803 | K14: TE335(L3T3)A | L14: FS | M14: 803 | P14: 803 | Q14: GED-211(L2T1)A | R14: FHS
A15: 807 | B15: civil | D15: 807 | E15: civil | G15: 807 | H15: civil | J15: 807 | K15: civil | M15: 807 | N15: civil | P15: 807 | Q15: civil
A16: 808 | B16: civil | E16: civil | G16: 808 | H16: civil | J16: 808 | K16: civil | M16: 808 | N16: civil | P16: 808 | Q16: civil
A17: 711 | D17: 711 | G17: 711 | J17: 711 | K17: TE321(L3T2)B | L17: FHA | M17: 711 | P17: 711
A18: 601 | D18: 601 | G18: 601 | H18: MAT-122(L1T2)A | J18: 601 | K18: TE225(L2T2)B | L18: RI | M18: 601 | P18: 601
A19: 602 | D19: 602 | G19: 602 | H19: STA-131(L1T3)A | J19: 602 | K19: STA-131(L1T3)B | M19: 602 | P19: 602
A20: 603 | D20: 603 | G20: 603 | J20: 603 | K20: ENG-122(L1T2)A | M20: 603 | P20: 603
A21: 403 | B21: MRC | D21: 403 | G21: 403 | H21: MRC | J21: 403 | M21: 403 | P21: 403
A22: 405 | D22: 405 | G22: 405 | J22: 405 | M22: 405 | P22: 405
A23: 712 | B23: DIC | D23: 712 | E23: DIC | G23: 712 | H23: DIC | J23: 712 | K23: DIC | M23: 712 | P23: 712
A24: 506 | D24: E-LAB | E24: ENG-111(L1T1)B | G24: 509 | J24: 509 | M24: 509 | P24: 509
A25: 303 | G25: SAC-1 | J25: 303 | M25: 303 | P25: 303
A26: L-Yarn1 | B26: TE311(L3T1)A | F26: MR1 | G26: L-Yarn1 | H26: TE212(L2T1)B | L26: AHM | M26: L-Yarn1
A27: L-Yarn2 | G27: L-Yarn2 | M27: L-Yarn2
A28: L-Fab | B28: TE214(L2T1)C | F28: AG | G28: L-Fab | H28: TE214(L2T1)A | L28: SAS | M28: L-Fab | N28: TE424(L4T2) | R28: SAS
A29: L-Col | B29: TE322(L3T2)B | F29: FHA | G29: L-Col | H29: PC | L29: SM | M29: L-Col
A30: L-App | G30: L-App | H30: TE-232(L2T3)A | L30: MRR | M30: L-App | N30: TE332 (L3T3) A | R30: MAB
A31: L-QC1 709 | B31: TE324(L3T2)A | F31: FS | G31: L-QC1 709 | M31: L-QC1 709 | N31: PC
A32: L-Drw | G32: L-Drw | M32: L-Drw
A33: L-QC2 708 | G33: L-QC2 708 | M33: L-QC2 708 | N33: TE316(L3T1)B | R33: NF
A34: E-LAB | B34: ENG-111(L1T1)A | D34: E-LAB | G34: E-LAB | M34: E-LAB
A35: 501
A36: L-Elec 505 | G36: L-Elec 505
A37: L-mec | G37: L-mec | M37: L-Mec
A38: 502 | J38: 502
A39: L-Chem | G39: L-Chem | M39: L-Chem
A46: Sunday
A47: 08:30-10:00 | D47: 10:00-11:30 | G47: 11:30-01:00 | J47: 01:00-02:30 | M47: 2:30-04:00 | P47: 04:00-05:30
A48: Class | B48: Course | D48: Class | E48: Course | G48: Class | H48: Course | J48: Class | K48: Course | M48: Class | N48: Course | P48: Class | Q48: Course
A49: 701 | D49: 701 | G49: 701 | H49: CSE112(L1T3)A | M49: 701 | N49: TE428(L4T2)A | R49: AAM
A50: 702 | D50: 702 | E50: TE211(L2T1)B | F50: AHM | G50: 702 | H50: TE4111(L4T1)A | I50: MMH | J50: 702 | K50: TE235(L2T3)B | L50: MSI | M50: 702 | P50: 702
A51: 703 | B51: TE4111(L4T1)B | C51: MMH | D51: 703 | E51: TE4110(L4T1)B | F51: RI | G51: 703 | H51: TE427(L4T2)A | I51: AAM | J51: 703 | K51: TE419(L4T1)A | L51: AN | M51: 703 | P51: 703 | Q51: TE419(L4T1)C | R51: AN
A52: 704 | B52: TE331(L3T3)A | C52: MAB | D52: 704 | E52: TE4111(L4T1)D | F52: AI | G52: 704 | H52: TE333(L3T3)A | I52: TAC | J52: 704 | K52: TE4111(L4T1)C | L52: AI | M52: 704 | N52: TE133(L1T3)A | O52: KZ | P52: 704 | Q52: STA-131(L1T3)A
A53: 705 | B53: TE331(L3T3)B | C53: TAC | D53: 705 | E53: TE4212(L4T2)B | F53: MRR | G53: 705 | H53: TE335(L3T3)B | I53: FS | J53: 705 | K53: TE4212(L4T2)A | L53: MRR | M53: 705 | N53: TE323(L3T2)A | O53: FS | P53: 705
A54: 402 | D54: 402 | E54: TE215(L2T1)D | F54: KZ | G54: 402 | H54: MKT-231(L2T3)B | I54: MAB | J54: 402 | K54: TE4110(L4T1)D | L54: NL1 | M54: 402 | N54: TE312(L3T1)B | O54: MR1 | P54: 402
A55: 801 | B55: TE132(L1T3)B | C55: NL1 | D55: 801 | E55: TE317(L3T1)A | F55: SM | G55: 801 | H55: TE315(L3T1)B | I55: NF | J55: 801 | K55: TE4211(L4T2) | L55: SM | M55: 801 | P55: 801 | Q55: TE317(L3T1)B | R55: SM
A56: 802 | B56: TE213(L2T1)C | C56: AG | D56: 802 | E56: TE235(L2T3)A | F56: MSI | G56: 802 | H56: TE213(L2T1)A | I56: SAS | J56: 802 | K56: TE225(L2T2)B | L56: RI | M56: 802 | N56: TE413(L4T1) | O56: SAS | P56: 802 | Q56: GED-211(L2T1)A | R56: FHS
A57: 803 | D57: 803 | E57: TE111(L1T1)B | F57: SR | G57: 803 | H57: GED-211(L2T1)B | I57: FHS | J57: 803 | K57: TE211(L2T1)A | L57: AHM | M57: 803 | P57: 803
A58: 807 | D58: 807 | E58: civil | F58: NL3 | G58: 807 | H58: civil | J58: 807 | K58: civil | M58: 807 | N58: civil | P58: 807
A59: 711 | D59: 711 | G59: 711 | H59: PHY-122(L1T2)A | J59: 711 | K59: TE321(L3T2)A | L59: FHA | M59: 711 | P59: 711
A60: 712 | B60: DIC | D60: 712 | E60: DIC | G60: 712 | H60: DIC | J60: 712 | K60: DIC | M60: 712 | N60: DIC | P60: 712 | Q60: DIC
A61: 303 | D61: 303 | G61: 303 | J61: 303 | M61: 303
D62: 304 | J62: 304
A63: L-Yarn1 | G63: L-Yarn1 | H63: TE212(L2T1)C | L63: NHM | M63: L-Yarn1
A64: L-Yarn2 | G64: L-Yarn2 | M64: L-Yarn2
A65: L-Fab | G65: L-Fab | H65: TE314(L3T1)A | L65: AG | M65: L-Fab
A66: L-Col | B66: TE322(L3T2)A | F66: FHA | G66: L-Col | M66: L-Col
A67: L-App | G67: L-App | M67: L-App
A68: L-QC1 709 | B68: TE224(L2T2)A | F68: AAA | G68: L-QC1 709 | M68: L-QC1 709 | N68: TE224(L2T2)B | R68: AAA
A69: L-Drw | G69: L-Drw | M69: L-Drw
A70: L-QC2 708 | G70: L-QC2 708 | M70: L-QC2 708
A71: L-ENG | G71: L-ENG | M71: L-ENG | N71: TE234(L2T3)A | R71: NL1
A72: 501 | G72: 501 | M72: 501
A73: L-Elec 505 | G73: L-Elec 505 | M73: L-Elec 505
A74: L-mec | G74: L-mec | M74: L-mec
A75: 502 | B75: PHY-122(L1T2)A | G75: 502 | M75: 502
A76: L-Chem | G76: L-Chem | M76: L-Chem
A88: Monday
A89: 08:30-10:00 | D89: 10:00-11:30 | G89: 11:30-01:00 | J89: 01:00-02:30 | M89: 2:30-04:00 | P89: 04:00-05:30
A90: Class | B90: Course | D90: Class | E90: Course | G90: Class | H90: Course | J90: Class | K90: Course | M90: Class | N90: Course | P90: Class | Q90: Course
A91: 701 | B91: ETE | F91: ZI | G91: 701 | H91: CSE112(L1T3)B | M91: 701 | N91: TE428(L4T2)B | R91: AAM
A92: 702 | D92: 702 | E92: TE4111(L4T1)B | F92: MMH | G92: 702 | H92: TE331(L3T3)A | I92: MAB | J92: 702 | K92: TE315(L3T1)B | L92: NF | M92: 702 | P92: 702
A93: 703 | B93: STA-131(L1T3)A | D93: 703 | E93: TE321(L3T2)A | F93: FHA | G93: 703 | H93: TE427(L4T2)A | I93: AAM | J93: 703 | K93: TE321(L3T2)B | L93: FHA | M93: 703 | N93: TE312(L3T1)A | O93: MR1 | P93: 703 | Q93: TE133(L1T3)B | R93: KZ
A94: 704 | B94: TE331(L3T3)B | C94: TAC | D94: 704 | E94: TE313(L3T1)A | F94: AG | G94: 704 | H94: TE4111(L4T1)D | I94: AI | J94: 704 | K94: TE334(L3T3)A | L94: MSI | M94: 704 | N94: TE226(L2T2)A | O94: SR | P94: 704
A95: 705 | B95: TE335(L3T3)A | C95: FS | D95: 705 | E95: TE235(L2T3)A | F95: MSI | G95: 705 | H95: TE226(L2T2)B | I95: SR | J95: 705 | K95: TE215(L2T1)A | L95: KZ | M95: 705 | P95: 705 | Q95: TE4110(L4T1)D | R95: NL1
A96: 402 | B96: TE223(L2T2)B | C96: AAA | D96: 402 | E96: PHY-111(L1T1)B | G96: 402 | H96: TE223(L2T2)A | I96: AAA | J96: 402 | K96: TE221(L2T2)B | L96: TAC | M96: 402 | P96: 402 | Q96: TE417(L4T1)A | R96: MRK
A97: 801 | B97: MKT-231(L2T3)A | C97: MAB | D97: 801 | E97: TE317(L3T1)(B) | F97: SM | G97: 801 | H97: PHY-111(L1T1)A | J97: 801 | K97: TE317(L3T1)A | L97: SM | M97: 801 | N97: TE213(L2T1)D | O97: AI | P97: 801 | Q97: TE221(L2T2)A | R97: SM
A98: 802 | D98: 802 | E98: TE213(L2T1)A | F98: SAS | G98: 802 | H98: TE419(L4T1)B | I98: AN | J98: 802 | K98: TE213(L2T1)B | L98: SAS | M98: 802 | N98: TE419(L4T1)D | O98: AN | P98: 802 | Q98: TE425(L4T2)A | R98: ZU
A99: 803 | D99: 803 | E99: TE215(L2T1)B | F99: KZ | G99: 803 | H99: TE4110(L4T1)A | I99: RI | J99: 803 | K99: TE327(L3T2)A | M99: 803 | P99: 803 | Q99: GED-211(L2T1)D | R99: FHS
A100: 807 | B100: civil | D100: 807 | E100: civil | G100: 807 | H100: ENG-111(L1T1)B | J100: 807 | K100: xxxxxxxxxx | M100: 807 | N100: civil | P100: 807 | Q100: civil
A101: 711 | D101: 711 | G101: 711 | H101: ACT-231(L2T3)B | J101: 711 | K101: TE4110(L4T1)C | L101: NL1 | M101: 711 | P101: 711
A102: 712 | B102: DIC | D102: 712 | E102: DIC | G102: 712 | H102: DIC | J102: 712 | K102: DIC | M102: 712 | P102: 712
A103: 303 | D103: 304 | E103: TE4213(L4T2)A | F103: MH | G103: 303 | J103: 303 | K103: TE4213(L4T2)B | L103: MH | M103: 303 | P103: 303
A104: L-Yarn1 | G104: L-Yarn1 | K104: PC | L104: MR1 | M104: L-Yarn1
A105: L-Yarn2 | G105: L-Yarn2 | H105: PC | I105: AHM | M105: L-Yarn2
A106: L-Fab | G106: L-Fab | H106: PC | M106: L-Fab | N106: TE314(L3T1)B | R106: AG
A107: L-Col | G107: L-Col | M107: L-Col
A108: L-App | G108: L-App | M108: L-App
A109: L-QC1 709 | G109: L-QC1 709 | M109: L-QC1 709 | N109: TE324(L3T2)B | R109: FS
A110: L-Drw | G110: L-Drw | M110: L-Drw
A111: L-QC2 708 | G111: L-QC2 708 | M111: L-QC2 708
A112: L-ENG | G112: L-ENG | M112: L-ENG
A113: 501 | B113: PHY-112(L1T1)A | G113: 501 | M113: 501 | N113: PHY-112(L1T1)B
A114: L-Elec 505 | G114: L-Elec 505 | M114: L-Elec 505
A115: L-mec | B115: TE234(L2T3)B | F115: NL1 | G115: L-mec | M115: L-mec
A116: 502 | G116: 502 | M116: 502
A117: L-Chem | G117: L-Chem | M117: L-Chem
...

Sheet Student's routine
A1: Sl | D1: =Data!D1 -> 08:30-10:00 | E1: =Data!E1 -> 10:00-11:30 | F1: =Data!F1 -> 11:30-01:00 | G1: =Data!G1 -> 01:00-02:30 | H1: =Data!H1 -> 2:30-04:00 | I1: =Data!I1 -> 04:00-05:30 | L1: Faculty List
A2: =COUNTIF($C$1:C2,C2)+1 -> 2 | B2: =VLOOKUP(A2,$K$4:$L$73,2,FALSE) | C2: Saturday | D2: =IFERROR(INDEX(Data!$A$10:$O$1069,MATCH(CONCATENATE($C2,D$1,$B2),Data!$K$10:$K$1069,0),15),"") | E2: =IFERROR(INDEX(Data!$A$10:$O$1069,MATCH(CONCATENATE($C2,E$1,$B2),Data!$K$10:$K$1069,0),15),"") | F2: =IFERROR(INDEX(Data!$A$10:$O$1069,MATCH(CONCATENATE($C2,F$1,$B2),Data!$K$10:$K$1069,0),15),"") | G2: =IFERROR(INDEX(Data!$A$10:$O$1069,MATCH(CONCATENATE($C2,G$1,$B2),Data!$K$10:$K$1069,0),15),"") | H2: =IFERROR(INDEX(Data!$A$10:$O$1069,MATCH(CONCATENATE($C2,H$1,$B2),Data!$K$10:$K$1069,0),15),"") | I2: =IFERROR(INDEX(Data!$A$10:$O$1069,MATCH(CONCATENATE($C2,I$1,$B2),Data!$K$10:$K$1069,0),15),"")
A3: =COUNTIF($C$1:C3,C3)+1 -> 2 | B3: =VLOOKUP(A3,$K$4:$L$73,2,FALSE) | C3: Sunday | D3: =IFERROR(INDEX(Data!$A$10:$O$1069,MATCH(CONCATENATE($C3,D$1,$B3),Data!$K$10:$K$1069,0),15),"") | E3: =IFERROR(INDEX(Data!$A$10:$O$1069,MATCH(CONCATENATE($C3,E$1,$B3),Data!$K$10:$K$1069,0),15),"") | F3: =IFERROR(INDEX(Data!$A$10:$O$1069,MATCH(CONCATENATE($C3,F$1,$B3),Data!$K$10:$K$1069,0),15),"") | G3: =IFERROR(INDEX(Data!$A$10:$O$1069,MATCH(CONCATENATE($C3,G$1,$B3),Data!$K$10:$K$1069,0),15),"") | H3: =IFERROR(INDEX(Data!$A$10:$O$1069,MATCH(CONCATENATE($C3,H$1,$B3),Data!$K$10:$K$1069,0),15),"") | I3: =IFERROR(INDEX(Data!$A$10:$O$1069,MATCH(CONCATENATE($C3,I$1,$B3),Data!$K$10:$K$1069,0),15),"") | K3: Sl | L3: Section
A4: =COUNTIF($C$1:C4,C4)+1 -> 2 | B4: =VLOOKUP(A4,$K$4:$L$73,2,FALSE) | C4: Monday | D4: =IFERROR(INDEX(Data!$A$10:$O$1069,MATCH(CONCATENATE($C4,D$1,$B4),Data!$K$10:$K$1069,0),15),"") | E4: =IFERROR(INDEX(Data!$A$10:$O$1069,MATCH(CONCATENATE($C4,E$1,$B4),Data!$K$10:$K$1069,0),15),"") | F4: =IFERROR(INDEX(Data!$A$10:$O$1069,MATCH(CONCATENATE($C4,F$1,$B4),Data!$K$10:$K$1069,0),15),"") | G4: =IFERROR(INDEX(Data!$A$10:$O$1069,MATCH(CONCATENATE($C4,G$1,$B4),Data!$K$10:$K$1069,0),15),"") | H4: =IFERROR(INDEX(Data!$A$10:$O$1069,MATCH(CONCATENATE($C4,H$1,$B4),Data!$K$10:$K$1069,0),15),"") | I4: =IFERROR(INDEX(Data!$A$10:$O$1069,MATCH(CONCATENATE($C4,I$1,$B4),Data!$K$10:$K$1069,0),15),"") | K4: 1 | L4: 0
A5: =COUNTIF($C$1:C5,C5)+1 -> 2 | B5: =VLOOKUP(A5,$K$4:$L$73,2,FALSE) | C5: Tuesday | D5: =IFERROR(INDEX(Data!$A$10:$O$1069,MATCH(CONCATENATE($C5,D$1,$B5),Data!$K$10:$K$1069,0),15),"") -> L-ENG --- 0 | E5: =IFERROR(INDEX(Data!$A$10:$O$1069,MATCH(CONCATENATE($C5,E$1,$B5),Data!$K$10:$K$1069,0),15),"") -> L-ENG --- 0 | F5: =IFERROR(INDEX(Data!$A$10:$O$1069,MATCH(CONCATENATE($C5,F$1,$B5),Data!$K$10:$K$1069,0),15),"") | G5: =IFERROR(INDEX(Data!$A$10:$O$1069,MATCH(CONCATENATE($C5,G$1,$B5),Data!$K$10:$K$1069,0),15),"") | H5: =IFERROR(INDEX(Data!$A$10:$O$1069,MATCH(CONCATENATE($C5,H$1,$B5),Data!$K$10:$K$1069,0),15),"") | I5: =IFERROR(INDEX(Data!$A$10:$O$1069,MATCH(CONCATENATE($C5,I$1,$B5),Data!$K$10:$K$1069,0),15),"") | K5: 2
A6: =COUNTIF($C$1:C6,C6)+1 -> 2 | B6: =VLOOKUP(A6,$K$4:$L$73,2,FALSE) | C6: Wednesday | D6: =IFERROR(INDEX(Data!$A$10:$O$1069,MATCH(CONCATENATE($C6,D$1,$B6),Data!$K$10:$K$1069,0),15),"") | E6: =IFERROR(INDEX(Data!$A$10:$O$1069,MATCH(CONCATENATE($C6,E$1,$B6),Data!$K$10:$K$1069,0),15),"") | F6: =IFERROR(INDEX(Data!$A$10:$O$1069,MATCH(CONCATENATE($C6,F$1,$B6),Data!$K$10:$K$1069,0),15),"") | G6: =IFERROR(INDEX(Data!$A$10:$O$1069,MATCH(CONCATENATE($C6,G$1,$B6),Data!$K$10:$K$1069,0),15),"") | H6: =IFERROR(INDEX(Data!$A$10:$O$1069,MATCH(CONCATENATE($C6,H$1,$B6),Data!$K$10:$K$1069,0),15),"") | I6: =IFERROR(INDEX(Data!$A$10:$O$1069,MATCH(CONCATENATE($C6,I$1,$B6),Data!$K$10:$K$1069,0),15),"") | K6: 3
A7: =COUNTIF($C$1:C7,C7)+1 -> 2 | B7: =VLOOKUP(A7,$K$4:$L$73,2,FALSE) | C7: Thursday | D7: =IFERROR(INDEX(Data!$A$10:$O$1069,MATCH(CONCATENATE($C7,D$1,$B7),Data!$K$10:$K$1069,0),15),"") | E7: =IFERROR(INDEX(Data!$A$10:$O$1069,MATCH(CONCATENATE($C7,E$1,$B7),Data!$K$10:$K$1069,0),15),"") | F7: =IFERROR(INDEX(Data!$A$10:$O$1069,MATCH(CONCATENATE($C7,F$1,$B7),Data!$K$10:$K$1069,0),15),"") | G7: =IFERROR(INDEX(Data!$A$10:$O$1069,MATCH(CONCATENATE($C7,G$1,$B7),Data!$K$10:$K$1069,0),15),"") | H7: =IFERROR(INDEX(Data!$A$10:$O$1069,MATCH(CONCATENATE($C7,H$1,$B7),Data!$K$10:$K$1069,0),15),"") | I7: =IFERROR(INDEX(Data!$A$10:$O$1069,MATCH(CONCATENATE($C7,I$1,$B7),Data!$K$10:$K$1069,0),15),"") | K7: 4 | L7: (L1T1)A
K8: 5 | L8: (L1T1)B
A9: =COUNTIF($C$1:C9,C9)+1 -> 3 | B9: =VLOOKUP(A9,$K$4:$L$73,2,FALSE) | C9: Saturday | D9: =IFERROR(INDEX(Data!$A$10:$O$1069,MATCH(CONCATENATE($C9,D$1,$B9),Data!$K$10:$K$1069,0),15),"") | E9: =IFERROR(INDEX(Data!$A$10:$O$1069,MATCH(CONCATENATE($C9,E$1,$B9),Data!$K$10:$K$1069,0),15),"") | F9: =IFERROR(INDEX(Data!$A$10:$O$1069,MATCH(CONCATENATE($C9,F$1,$B9),Data!$K$10:$K$1069,0),15),"") | G9: =IFERROR(INDEX(Data!$A$10:$O$1069,MATCH(CONCATENATE($C9,G$1,$B9),Data!$K$10:$K$1069,0),15),"") | H9: =IFERROR(INDEX(Data!$A$10:$O$1069,MATCH(CONCATENATE($C9,H$1,$B9),Data!$K$10:$K$1069,0),15),"") | I9: =IFERROR(INDEX(Data!$A$10:$O$1069,MATCH(CONCATENATE($C9,I$1,$B9),Data!$K$10:$K$1069,0),15),"") | K9: 6 | L9: (L1T1)C
A10: =COUNTIF($C$1:C10,C10)+1 -> 3 | B10: =VLOOKUP(A10,$K$4:$L$73,2,FALSE) | C10: Sunday | D10: =IFERROR(INDEX(Data!$A$10:$O$1069,MATCH(CONCATENATE($C10,D$1,$B10),Data!$K$10:$K$1069,0),15),"") | E10: =IFERROR(INDEX(Data!$A$10:$O$1069,MATCH(CONCATENATE($C10,E$1,$B10),Data!$K$10:$K$1069,0),15),"") | F10: =IFERROR(INDEX(Data!$A$10:$O$1069,MATCH(CONCATENATE($C10,F$1,$B10),Data!$K$10:$K$1069,0),15),"") | G10: =IFERROR(INDEX(Data!$A$10:$O$1069,MATCH(CONCATENATE($C10,G$1,$B10),Data!$K$10:$K$1069,0),15),"") | H10: =IFERROR(INDEX(Data!$A$10:$O$1069,MATCH(CONCATENATE($C10,H$1,$B10),Data!$K$10:$K$1069,0),15),"") | I10: =IFERROR(INDEX(Data!$A$10:$O$1069,MATCH(CONCATENATE($C10,I$1,$B10),Data!$K$10:$K$1069,0),15),"") | K10: 7 | L10: (L1T1)D
A11: =COUNTIF($C$1:C11,C11)+1 -> 3 | B11: =VLOOKUP(A11,$K$4:$L$73,2,FALSE) | C11: Monday | D11: =IFERROR(INDEX(Data!$A$10:$O$1069,MATCH(CONCATENATE($C11,D$1,$B11),Data!$K$10:$K$1069,0),15),"") | E11: =IFERROR(INDEX(Data!$A$10:$O$1069,MATCH(CONCATENATE($C11,E$1,$B11),Data!$K$10:$K$1069,0),15),"") | F11: =IFERROR(INDEX(Data!$A$10:$O$1069,MATCH(CONCATENATE($C11,F$1,$B11),Data!$K$10:$K$1069,0),15),"") | G11: =IFERROR(INDEX(Data!$A$10:$O$1069,MATCH(CONCATENATE($C11,G$1,$B11),Data!$K$10:$K$1069,0),15),"") | H11: =IFERROR(INDEX(Data!$A$10:$O$1069,MATCH(CONCATENATE($C11,H$1,$B11),Data!$K$10:$K$1069,0),15),"") | I11: =IFERROR(INDEX(Data!$A$10:$O$1069,MATCH(CONCATENATE($C11,I$1,$B11),Data!$K$10:$K$1069,0),15),"") | K11: 8 | L11: (L1T2)A
A12: =COUNTIF($C$1:C12,C12)+1 -> 3 | B12: =VLOOKUP(A12,$K$4:$L$73,2,FALSE) | C12: Tuesday | D12: =IFERROR(INDEX(Data!$A$10:$O$1069,MATCH(CONCATENATE($C12,D$1,$B12),Data!$K$10:$K$1069,0),15),"") | E12: =IFERROR(INDEX(Data!$A$10:$O$1069,MATCH(CONCATENATE($C12,E$1,$B12),Data!$K$10:$K$1069,0),15),"") | F12: =IFERROR(INDEX(Data!$A$10:$O$1069,MATCH(CONCATENATE($C12,F$1,$B12),Data!$K$10:$K$1069,0),15),"") -> L-Drw --- 0 | G12: =IFERROR(INDEX(Data!$A$10:$O$1069,MATCH(CONCATENATE($C12,G$1,$B12),Data!$K$10:$K$1069,0),15),"") -> L-Drw --- 0 | H12: =IFERROR(INDEX(Data!$A$10:$O$1069,MATCH(CONCATENATE($C12,H$1,$B12),Data!$K$10:$K$1069,0),15),"") | I12: =IFERROR(INDEX(Data!$A$10:$O$1069,MATCH(CONCATENATE($C12,I$1,$B12),Data!$K$10:$K$1069,0),15),"") | K12: 9 | L12: (L1T2)B
A13: =COUNTIF($C$1:C13,C13)+1 -> 3 | B13: =VLOOKUP(A13,$K$4:$L$73,2,FALSE) | C13: Wednesday | D13: =IFERROR(INDEX(Data!$A$10:$O$1069,MATCH(CONCATENATE($C13,D$1,$B13),Data!$K$10:$K$1069,0),15),"") | E13: =IFERROR(INDEX(Data!$A$10:$O$1069,MATCH(CONCATENATE($C13,E$1,$B13),Data!$K$10:$K$1069,0),15),"") | F13: =IFERROR(INDEX(Data!$A$10:$O$1069,MATCH(CONCATENATE($C13,F$1,$B13),Data!$K$10:$K$1069,0),15),"") | G13: =IFERROR(INDEX(Data!$A$10:$O$1069,MATCH(CONCATENATE($C13,G$1,$B13),Data!$K$10:$K$1069,0),15),"") | H13: =IFERROR(INDEX(Data!$A$10:$O$1069,MATCH(CONCATENATE($C13,H$1,$B13),Data!$K$10:$K$1069,0),15),"") | I13: =IFERROR(INDEX(Data!$A$10:$O$1069,MATCH(CONCATENATE($C13,I$1,$B13),Data!$K$10:$K$1069,0),15),"") | K13: 10 | L13: (L1T2)C
A14: =COUNTIF($C$1:C14,C14)+1 -> 3 | B14: =VLOOKUP(A14,$K$4:$L$73,2,FALSE) | C14: Thursday | D14: =IFERROR(INDEX(Data!$A$10:$O$1069,MATCH(CONCATENATE($C14,D$1,$B14),Data!$K$10:$K$1069,0),15),"") | E14: =IFERROR(INDEX(Data!$A$10:$O$1069,MATCH(CONCATENATE($C14,E$1,$B14),Data!$K$10:$K$1069,0),15),"") | F14: =IFERROR(INDEX(Data!$A$10:$O$1069,MATCH(CONCATENATE($C14,F$1,$B14),Data!$K$10:$K$1069,0),15),"") | G14: =IFERROR(INDEX(Data!$A$10:$O$1069,MATCH(CONCATENATE($C14,G$1,$B14),Data!$K$10:$K$1069,0),15),"") | H14: =IFERROR(INDEX(Data!$A$10:$O$1069,MATCH(CONCATENATE($C14,H$1,$B14),Data!$K$10:$K$1069,0),15),"") | I14: =IFERROR(INDEX(Data!$A$10:$O$1069,MATCH(CONCATENATE($C14,I$1,$B14),Data!$K$10:$K$1069,0),15),"") | K14: 11 | L14: (L1T2)D
K15: 12 | L15: (L1T2)E
A16: =COUNTIF($C$1:C16,C16)+1 -> 4 | B16: =VLOOKUP(A16,$K$4:$L$73,2,FALSE) -> (L1T1)A | C16: Saturday | D16: =IFERROR(INDEX(Data!$A$10:$O$1069,MATCH(CONCATENATE($C16,D$1,$B16),Data!$K$10:$K$1069,0),15),"") -> ENG-111(L1T1)A E-LAB --- 0 | E16: =IFERROR(INDEX(Data!$A$10:$O$1069,MATCH(CONCATENATE($C16,E$1,$B16),Data!$K$10:$K$1069,0),15),"") -> MAT-111(L1T1)A 402 --- 0 | F16: =IFERROR(INDEX(Data!$A$10:$O$1069,MATCH(CONCATENATE($C16,F$1,$B16),Data!$K$10:$K$1069,0),15),"") | G16: =IFERROR(INDEX(Data!$A$10:$O$1069,MATCH(CONCATENATE($C16,G$1,$B16),Data!$K$10:$K$1069,0),15),"") | H16: =IFERROR(INDEX(Data!$A$10:$O$1069,MATCH(CONCATENATE($C16,H$1,$B16),Data!$K$10:$K$1069,0),15),"") | I16: =IFERROR(INDEX(Data!$A$10:$O$1069,MATCH(CONCATENATE($C16,I$1,$B16),Data!$K$10:$K$1069,0),15),"") | K16: 13 | L16: (L1T3) A
A17: =COUNTIF($C$1:C17,C17)+1 -> 4 | B17: =VLOOKUP(A17,$K$4:$L$73,2,FALSE) -> (L1T1)A | C17: Sunday | D17: =IFERROR(INDEX(Data!$A$10:$O$1069,MATCH(CONCATENATE($C17,D$1,$B17),Data!$K$10:$K$1069,0),15),"") | E17: =IFERROR(INDEX(Data!$A$10:$O$1069,MATCH(CONCATENATE($C17,E$1,$B17),Data!$K$10:$K$1069,0),15),"") | F17: =IFERROR(INDEX(Data!$A$10:$O$1069,MATCH(CONCATENATE($C17,F$1,$B17),Data!$K$10:$K$1069,0),15),"") | G17: =IFERROR(INDEX(Data!$A$10:$O$1069,MATCH(CONCATENATE($C17,G$1,$B17),Data!$K$10:$K$1069,0),15),"") | H17: =IFERROR(INDEX(Data!$A$10:$O$1069,MATCH(CONCATENATE($C17,H$1,$B17),Data!$K$10:$K$1069,0),15),"") | I17: =IFERROR(INDEX(Data!$A$10:$O$1069,MATCH(CONCATENATE($C17,I$1,$B17),Data!$K$10:$K$1069,0),15),"") | K17: 14 | L17: (L1T3) B
A18: =COUNTIF($C$1:C18,C18)+1 -> 4 | B18: =VLOOKUP(A18,$K$4:$L$73,2,FALSE) -> (L1T1)A | C18: Monday | D18: =IFERROR(INDEX(Data!$A$10:$O$1069,MATCH(CONCATENATE($C18,D$1,$B18),Data!$K$10:$K$1069,0),15),"") -> PHY-112(L1T1)A 501 --- 0 | E18: =IFERROR(INDEX(Data!$A$10:$O$1069,MATCH(CONCATENATE($C18,E$1,$B18),Data!$K$10:$K$1069,0),15),"") -> PHY-112(L1T1)A 501 --- 0 | F18: =IFERROR(INDEX(Data!$A$10:$O$1069,MATCH(CONCATENATE($C18,F$1,$B18),Data!$K$10:$K$1069,0),15),"") -> PHY-111(L1T1)A 801 --- 0 | G18: =IFERROR(INDEX(Data!$A$10:$O$1069,MATCH(CONCATENATE($C18,G$1,$B18),Data!$K$10:$K$1069,0),15),"") | H18: =IFERROR(INDEX(Data!$A$10:$O$1069,MATCH(CONCATENATE($C18,H$1,$B18),Data!$K$10:$K$1069,0),15),"") | I18: =IFERROR(INDEX(Data!$A$10:$O$1069,MATCH(CONCATENATE($C18,I$1,$B18),Data!$K$10:$K$1069,0),15),"") | K18: 15 | L18: (L1T3)
A19: =COUNTIF($C$1:C19,C19)+1 -> 4 | B19: =VLOOKUP(A19,$K$4:$L$73,2,FALSE) -> (L1T1)A | C19: Tuesday | D19: =IFERROR(INDEX(Data!$A$10:$O$1069,MATCH(CONCATENATE($C19,D$1,$B19),Data!$K$10:$K$1069,0),15),"") | E19: =IFERROR(INDEX(Data!$A$10:$O$1069,MATCH(CONCATENATE($C19,E$1,$B19),Data!$K$10:$K$1069,0),15),"") | F19: =IFERROR(INDEX(Data!$A$10:$O$1069,MATCH(CONCATENATE($C19,F$1,$B19),Data!$K$10:$K$1069,0),15),"") -> TE111(L1T1)A 704 --- SR | G19: =IFERROR(INDEX(Data!$A$10:$O$1069,MATCH(CONCATENATE($C19,G$1,$B19),Data!$K$10:$K$1069,0),15),"") | H19: =IFERROR(INDEX(Data!$A$10:$O$1069,MATCH(CONCATENATE($C19,H$1,$B19),Data!$K$10:$K$1069,0),15),"") -> MAT-111(L1T1)A 402 --- 0 | I19: =IFERROR(INDEX(Data!$A$10:$O$1069,MATCH(CONCATENATE($C19,I$1,$B19),Data!$K$10:$K$1069,0),15),"") | K19: 16 | L19: (L1T3) D
A20: =COUNTIF($C$1:C20,C20)+1 -> 4 | B20: =VLOOKUP(A20,$K$4:$L$73,2,FALSE) -> (L1T1)A | C20: Wednesday | D20: =IFERROR(INDEX(Data!$A$10:$O$1069,MATCH(CONCATENATE($C20,D$1,$B20),Data!$K$10:$K$1069,0),15),"") -> ENG-111(L1T1)A 402 --- 0 | E20: =IFERROR(INDEX(Data!$A$10:$O$1069,MATCH(CONCATENATE($C20,E$1,$B20),Data!$K$10:$K$1069,0),15),"") -> PHY-111(L1T1)A 402 --- 0 | F20: =IFERROR(INDEX(Data!$A$10:$O$1069,MATCH(CONCATENATE($C20,F$1,$B20),Data!$K$10:$K$1069,0),15),"") | G20: =IFERROR(INDEX(Data!$A$10:$O$1069,MATCH(CONCATENATE($C20,G$1,$B20),Data!$K$10:$K$1069,0),15),"") -> TE111(L1T1)A 803 --- SR | H20: =IFERROR(INDEX(Data!$A$10:$O$1069,MATCH(CONCATENATE($C20,H$1,$B20),Data!$K$10:$K$1069,0),15),"") | I20: =IFERROR(INDEX(Data!$A$10:$O$1069,MATCH(CONCATENATE($C20,I$1,$B20),Data!$K$10:$K$1069,0),15),"") | K20: 17 | L20: (L1T3)A
A21: =COUNTIF($C$1:C21,C21)+1 -> 4 | B21: =VLOOKUP(A21,$K$4:$L$73,2,FALSE) -> (L1T1)A | C21: Thursday | D21: =IFERROR(INDEX(Data!$A$10:$O$1069,MATCH(CONCATENATE($C21,D$1,$B21),Data!$K$10:$K$1069,0),15),"") | E21: =IFERROR(INDEX(Data!$A$10:$O$1069,MATCH(CONCATENATE($C21,E$1,$B21),Data!$K$10:$K$1069,0),15),"") | F21: =IFERROR(INDEX(Data!$A$10:$O$1069,MATCH(CONCATENATE($C21,F$1,$B21),Data!$K$10:$K$1069,0),15),"") | G21: =IFERROR(INDEX(Data!$A$10:$O$1069,MATCH(CONCATENATE($C21,G$1,$B21),Data!$K$10:$K$1069,0),15),"") | H21: =IFERROR(INDEX(Data!$A$10:$O$1069,MATCH(CONCATENATE($C21,H$1,$B21),Data!$K$10:$K$1069,0),15),"") | I21: =IFERROR(INDEX(Data!$A$10:$O$1069,MATCH(CONCATENATE($C21,I$1,$B21),Data!$K$10:$K$1069,0),15),"") | K21: 18 | L21: (L1T3)B
K22: 19 | L22: (L1T3)C
A23: =COUNTIF($C$1:C23,C23)+1 -> 5 | B23: =VLOOKUP(A23,$K$4:$L$73,2,FALSE) -> (L1T1)B | C23: Saturday | D23: =IFERROR(INDEX(Data!$A$10:$O$1069,MATCH(CONCATENATE($C23,D$1,$B23),Data!$K$10:$K$1069,0),15),"") -> MAT-111(L1T1)B 704 --- 0 | E23: =IFERROR(INDEX(Data!$A$10:$O$1069,MATCH(CONCATENATE($C23,E$1,$B23),Data!$K$10:$K$1069,0),15),"") -> ENG-111(L1T1)B E-LAB --- 0 | F23: =IFERROR(INDEX(Data!$A$10:$O$1069,MATCH(CONCATENATE($C23,F$1,$B23),Data!$K$10:$K$1069,0),15),"") | G23: =IFERROR(INDEX(Data!$A$10:$O$1069,MATCH(CONCATENATE($C23,G$1,$B23),Data!$K$10:$K$1069,0),15),"") | H23: =IFERROR(INDEX(Data!$A$10:$O$1069,MATCH(CONCATENATE($C23,H$1,$B23),Data!$K$10:$K$1069,0),15),"") | I23: =IFERROR(INDEX(Data!$A$10:$O$1069,MATCH(CONCATENATE($C23,I$1,$B23),Data!$K$10:$K$1069,0),15),"") | K23: 20 | L23: (L1T3)D
A24: =COUNTIF($C$1:C24,C24)+1 -> 5 | B24: =VLOOKUP(A24,$K$4:$L$73,2,FALSE) -> (L1T1)B | C24: Sunday | D24: =IFERROR(INDEX(Data!$A$10:$O$1069,MATCH(CONCATENATE($C24,D$1,$B24),Data!$K$10:$K$1069,0),15),"") | E24: =IFERROR(INDEX(Data!$A$10:$O$1069,MATCH(CONCATENATE($C24,E$1,$B24),Data!$K$10:$K$1069,0),15),"") -> TE111(L1T1)B 803 --- SR | F24: =IFERROR(INDEX(Data!$A$10:$O$1069,MATCH(CONCATENATE($C24,F$1,$B24),Data!$K$10:$K$1069,0),15),"") | G24: =IFERROR(INDEX(Data!$A$10:$O$1069,MATCH(CONCATENATE($C24,G$1,$B24),Data!$K$10:$K$1069,0),15),"") | H24: =IFERROR(INDEX(Data!$A$10:$O$1069,MATCH(CONCATENATE($C24,H$1,$B24),Data!$K$10:$K$1069,0),15),"") | I24: =IFERROR(INDEX(Data!$A$10:$O$1069,MATCH(CONCATENATE($C24,I$1,$B24),Data!$K$10:$K$1069,0),15),"") | K24: 21 | L24: (L2T1)A
A25: =COUNTIF($C$1:C25,C25)+1 -> 5 | B25: =VLOOKUP(A25,$K$4:$L$73,2,FALSE) -> (L1T1)B | C25: Monday | D25: =IFERROR(INDEX(Data!$A$10:$O$1069,MATCH(CONCATENATE($C25,D$1,$B25),Data!$K$10:$K$1069,0),15),"") | E25: =IFERROR(INDEX(Data!$A$10:$O$1069,MATCH(CONCATENATE($C25,E$1,$B25),Data!$K$10:$K$1069,0),15),"") -> PHY-111(L1T1)B 402 --- 0 | F25: =IFERROR(INDEX(Data!$A$10:$O$1069,MATCH(CONCATENATE($C25,F$1,$B25),Data!$K$10:$K$1069,0),15),"") -> ENG-111(L1T1)B 807 --- 0 | G25: =IFERROR(INDEX(Data!$A$10:$O$1069,MATCH(CONCATENATE($C25,G$1,$B25),Data!$K$10:$K$1069,0),15),"") | H25: =IFERROR(INDEX(Data!$A$10:$O$1069,MATCH(CONCATENATE($C25,H$1,$B25),Data!$K$10:$K$1069,0),15),"") -> PHY-112(L1T1)B 501 --- 0 | I25: =IFERROR(INDEX(Data!$A$10:$O$1069,MATCH(CONCATENATE($C25,I$1,$B25),Data!$K$10:$K$1069,0),15),"") -> PHY-112(L1T1)B 501 --- 0 | K25: 22 | L25: (L2-T1)A
A26: =COUNTIF($C$1:C26,C26)+1 -> 5 | B26: =VLOOKUP(A26,$K$4:$L$73,2,FALSE) -> (L1T1)B | C26: Tuesday | D26: =IFERROR(INDEX(Data!$A$10:$O$1069,MATCH(CONCATENATE($C26,D$1,$B26),Data!$K$10:$K$1069,0),15),"") | E26: =IFERROR(INDEX(Data!$A$10:$O$1069,MATCH(CONCATENATE($C26,E$1,$B26),Data!$K$10:$K$1069,0),15),"") | F26: =IFERROR(INDEX(Data!$A$10:$O$1069,MATCH(CONCATENATE($C26,F$1,$B26),Data!$K$10:$K$1069,0),15),"") | G26: =IFERROR(INDEX(Data!$A$10:$O$1069,MATCH(CONCATENATE($C26,G$1,$B26),Data!$K$10:$K$1069,0),15),"") | H26: =IFERROR(INDEX(Data!$A$10:$O$1069,MATCH(CONCATENATE($C26,H$1,$B26),Data!$K$10:$K$1069,0),15),"") | I26: =IFERROR(INDEX(Data!$A$10:$O$1069,MATCH(CONCATENATE($C26,I$1,$B26),Data!$K$10:$K$1069,0),15),"") | K26: 23 | L26: (L2T1)B
A27: =COUNTIF($C$1:C27,C27)+1 -> 5 | B27: =VLOOKUP(A27,$K$4:$L$73,2,FALSE) -> (L1T1)B | C27: Wednesday | D27: =IFERROR(INDEX(Data!$A$10:$O$1069,MATCH(CONCATENATE($C27,D$1,$B27),Data!$K$10:$K$1069,0),15),"") | E27: =IFERROR(INDEX(Data!$A$10:$O$1069,MATCH(CONCATENATE($C27,E$1,$B27),Data!$K$10:$K$1069,0),15),"") -> TE111(L1T1)B 801 --- SR | F27: =IFERROR(INDEX(Data!$A$10:$O$1069,MATCH(CONCATENATE($C27,F$1,$B27),Data!$K$10:$K$1069,0),15),"") -> PHY-111(L1T1)B 402 --- 0 | G27: =IFERROR(INDEX(Data!$A$10:$O$1069,MATCH(CONCATENATE($C27,G$1,$B27),Data!$K$10:$K$1069,0),15),"") | H27: =IFERROR(INDEX(Data!$A$10:$O$1069,MATCH(CONCATENATE($C27,H$1,$B27),Data!$K$10:$K$1069,0),15),"") -> MAT-111(L1T1)B 803 --- 0 | I27: =IFERROR(INDEX(Data!$A$10:$O$1069,MATCH(CONCATENATE($C27,I$1,$B27),Data!$K$10:$K$1069,0),15),"") | K27: 24 | L27: (L2-T1)B
A28: =COUNTIF($C$1:C28,C28)+1 -> 5 | B28: =VLOOKUP(A28,$K$4:$L$73,2,FALSE) -> (L1T1)B | C28: Thursday | D28: =IFERROR(INDEX(Data!$A$10:$O$1069,MATCH(CONCATENATE($C28,D$1,$B28),Data!$K$10:$K$1069,0),15),"") | E28: =IFERROR(INDEX(Data!$A$10:$O$1069,MATCH(CONCATENATE($C28,E$1,$B28),Data!$K$10:$K$1069,0),15),"") | F28: =IFERROR(INDEX(Data!$A$10:$O$1069,MATCH(CONCATENATE($C28,F$1,$B28),Data!$K$10:$K$1069,0),15),"") | G28: =IFERROR(INDEX(Data!$A$10:$O$1069,MATCH(CONCATENATE($C26,F$1,$B26),Data!$K$10:$K$1069,0),15),"") | H28: =IFERROR(INDEX(Data!$A$10:$O$1069,MATCH(CONCATENATE($C28,H$1,$B28),Data!$K$10:$K$1069,0),15),"") | I28: =IFERROR(INDEX(Data!$A$10:$O$1069,MATCH(CONCATENATE($C28,I$1,$B28),Data!$K$10:$K$1069,0),15),"") | K28: 25 | L28: (L2T1)C
K29: 26 | L29: (L2T1)PC
A30: =COUNTIF($C$1:C30,C30)+1 -> 6 | B30: =VLOOKUP(A30,$K$4:$L$73,2,FALSE) -> (L1T1)C | C30: Saturday | D30: =IFERROR(INDEX(Data!$A$10:$O$1069,MATCH(CONCATENATE($C30,D$1,$B30),Data!$K$10:$K$1069,0),15),"") | E30: =IFERROR(INDEX(Data!$A$10:$O$1069,MATCH(CONCATENATE($C30,E$1,$B30),Data!$K$10:$K$1069,0),15),"") | F30: =IFERROR(INDEX(Data!$A$10:$O$1069,MATCH(CONCATENATE($C30,F$1,$B30),Data!$K$10:$K$1069,0),15),"") | G30: =IFERROR(INDEX(Data!$A$10:$O$1069,MATCH(CONCATENATE($C30,G$1,$B30),Data!$K$10:$K$1069,0),15),"") | H30: =IFERROR(INDEX(Data!$A$10:$O$1069,MATCH(CONCATENATE($C30,H$1,$B30),Data!$K$10:$K$1069,0),15),"") | I30: =IFERROR(INDEX(Data!$A$10:$O$1069,MATCH(CONCATENATE($C30,I$1,$B30),Data!$K$10:$K$1069,0),15),"") | K30: 27 | L30: (L2T2)A
A31: =COUNTIF($C$1:C31,C31)+1 -> 6 | B31: =VLOOKUP(A31,$K$4:$L$73,2,FALSE) -> (L1T1)C | C31: Sunday | D31: =IFERROR(INDEX(Data!$A$10:$O$1069,MATCH(CONCATENATE($C31,D$1,$B31),Data!$K$10:$K$1069,0),15),"") | E31: =IFERROR(INDEX(Data!$A$10:$O$1069,MATCH(CONCATENATE($C31,E$1,$B31),Data!$K$10:$K$1069,0),15),"") | F31: =IFERROR(INDEX(Data!$A$10:$O$1069,MATCH(CONCATENATE($C31,F$1,$B31),Data!$K$10:$K$1069,0),15),"") | G31: =IFERROR(INDEX(Data!$A$10:$O$1069,MATCH(CONCATENATE($C31,G$1,$B31),Data!$K$10:$K$1069,0),15),"") | H31: =IFERROR(INDEX(Data!$A$10:$O$1069,MATCH(CONCATENATE($C31,H$1,$B31),Data!$K$10:$K$1069,0),15),"") | I31: =IFERROR(INDEX(Data!$A$10:$O$1069,MATCH(CONCATENATE($C31,I$1,$B31),Data!$K$10:$K$1069,0),15),"") | K31: 28 | L31: (L2T2)B
A32: =COUNTIF($C$1:C32,C32)+1 -> 6 | B32: =VLOOKUP(A32,$K$4:$L$73,2,FALSE) -> (L1T1)C | C32: Monday | D32: =IFERROR(INDEX(Data!$A$10:$O$1069,MATCH(CONCATENATE($C32,D$1,$B32),Data!$K$10:$K$1069,0),15),"") | E32: =IFERROR(INDEX(Data!$A$10:$O$1069,MATCH(CONCATENATE($C32,E$1,$B32),Data!$K$10:$K$1069,0),15),"") | F32: =IFERROR(INDEX(Data!$A$10:$O$1069,MATCH(CONCATENATE($C32,F$1,$B32),Data!$K$10:$K$1069,0),15),"") | G32: =IFERROR(INDEX(Data!$A$10:$O$1069,MATCH(CONCATENATE($C32,G$1,$B32),Data!$K$10:$K$1069,0),15),"") | H32: =IFERROR(INDEX(Data!$A$10:$O$1069,MATCH(CONCATENATE($C32,H$1,$B32),Data!$K$10:$K$1069,0),15),"") | I32: =IFERROR(INDEX(Data!$A$10:$O$1069,MATCH(CONCATENATE($C32,I$1,$B32),Data!$K$10:$K$1069,0),15),"") | K32: 29 | L32: (L2T2)C
A33: =COUNTIF($C$1:C33,C33)+1 -> 6 | B33: =VLOOKUP(A33,$K$4:$L$73,2,FALSE) -> (L1T1)C | C33: Tuesday | D33: =IFERROR(INDEX(Data!$A$10:$O$1069,MATCH(CONCATENATE($C33,D$1,$B33),Data!$K$10:$K$1069,0),15),"") | E33: =IFERROR(INDEX(Data!$A$10:$O$1069,MATCH(CONCATENATE($C33,E$1,$B33),Data!$K$10:$K$1069,0),15),"") | F33: =IFERROR(INDEX(Data!$A$10:$O$1069,MATCH(CONCATENATE($C33,F$1,$B33),Data!$K$10:$K$1069,0),15),"") | G33: =IFERROR(INDEX(Data!$A$10:$O$1069,MATCH(CONCATENATE($C33,G$1,$B33),Data!$K$10:$K$1069,0),15),"") | H33: =IFERROR(INDEX(Data!$A$10:$O$1069,MATCH(CONCATENATE($C33,H$1,$B33),Data!$K$10:$K$1069,0),15),"") | I33: =IFERROR(INDEX(Data!$A$10:$O$1069,MATCH(CONCATENATE($C33,I$1,$B33),Data!$K$10:$K$1069,0),15),"") | K33: 30 | L33: (L2T3)A
A34: =COUNTIF($C$1:C34,C34)+1 -> 6 | B34: =VLOOKUP(A34,$K$4:$L$73,2,FALSE) -> (L1T1)C | C34: Wednesday | D34: =IFERROR(INDEX(Data!$A$10:$O$1069,MATCH(CONCATENATE($C34,D$1,$B34),Data!$K$10:$K$1069,0),15),"") | E34: =IFERROR(INDEX(Data!$A$10:$O$1069,MATCH(CONCATENATE($C34,E$1,$B34),Data!$K$10:$K$1069,0),15),"") | F34: =IFERROR(INDEX(Data!$A$10:$O$1069,MATCH(CONCATENATE($C34,F$1,$B34),Data!$K$10:$K$1069,0),15),"") | G34: =IFERROR(INDEX(Data!$A$10:$O$1069,MATCH(CONCATENATE($C34,G$1,$B34),Data!$K$10:$K$1069,0),15),"") | H34: =IFERROR(INDEX(Data!$A$10:$O$1069,MATCH(CONCATENATE($C34,H$1,$B34),Data!$K$10:$K$1069,0),15),"") | I34: =IFERROR(INDEX(Data!$A$10:$O$1069,MATCH(CONCATENATE($C34,I$1,$B34),Data!$K$10:$K$1069,0),15),"") | K34: 31 | L34: (L2T3)B
A35: =COUNTIF($C$1:C35,C35)+1 -> 6 | B35: =VLOOKUP(A35,$K$4:$L$73,2,FALSE) -> (L1T1)C | C35: Thursday | D35: =IFERROR(INDEX(Data!$A$10:$O$1069,MATCH(CONCATENATE($C35,D$1,$B35),Data!$K$10:$K$1069,0),15),"") | E35: =IFERROR(INDEX(Data!$A$10:$O$1069,MATCH(CONCATENATE($C35,E$1,$B35),Data!$K$10:$K$1069,0),15),"") | F35: =IFERROR(INDEX(Data!$A$10:$O$1069,MATCH(CONCATENATE($C35,F$1,$B35),Data!$K$10:$K$1069,0),15),"") | G35: =IFERROR(INDEX(Data!$A$10:$O$1069,MATCH(CONCATENATE($C35,G$1,$B35),Data!$K$10:$K$1069,0),15),"") | H35: =IFERROR(INDEX(Data!$A$10:$O$1069,MATCH(CONCATENATE($C35,H$1,$B35),Data!$K$10:$K$1069,0),15),"") | I35: =IFERROR(INDEX(Data!$A$10:$O$1069,MATCH(CONCATENATE($C35,I$1,$B35),Data!$K$10:$K$1069,0),15),"") | K35: 32 | L35: (L3T1) A
K36: 33 | L36: (L3T1) B
A37: =COUNTIF($C$1:C37,C37)+1 -> 7 | B37: =VLOOKUP(A37,$K$4:$L$73,2,FALSE) -> (L1T1)D | C37: Saturday | D37: =IFERROR(INDEX(Data!$A$10:$O$1069,MATCH(CONCATENATE($C37,D$1,$B37),Data!$K$10:$K$1069,0),15),"") | E37: =IFERROR(INDEX(Data!$A$10:$O$1069,MATCH(CONCATENATE($C37,E$1,$B37),Data!$K$10:$K$1069,0),15),"") | F37: =IFERROR(INDEX(Data!$A$10:$O$1069,MATCH(CONCATENATE($C37,F$1,$B37),Data!$K$10:$K$1069,0),15),"") | G37: =IFERROR(INDEX(Data!$A$10:$O$1069,MATCH(CONCATENATE($C37,G$1,$B37),Data!$K$10:$K$1069,0),15),"") | H37: =IFERROR(INDEX(Data!$A$10:$O$1069,MATCH(CONCATENATE($C37,H$1,$B37),Data!$K$10:$K$1069,0),15),"") | I37: =IFERROR(INDEX(Data!$A$10:$O$1069,MATCH(CONCATENATE($C37,I$1,$B37),Data!$K$10:$K$1069,0),15),"") | K37: 34 | L37: (L3T1)(A)
A38: 7 | B38: =VLOOKUP(A38,$K$4:$L$73,2,FALSE) -> (L1T1)D | C38: Sunday | D38: =IFERROR(INDEX(Data!$A$10:$O$1069,MATCH(CONCATENATE($C38,D$1,$B38),Data!$K$10:$K$1069,0),15),"") | E38: =IFERROR(INDEX(Data!$A$10:$O$1069,MATCH(CONCATENATE($C38,E$1,$B38),Data!$K$10:$K$1069,0),15),"") | F38: =IFERROR(INDEX(Data!$A$10:$O$1069,MATCH(CONCATENATE($C38,F$1,$B38),Data!$K$10:$K$1069,0),15),"") | G38: =IFERROR(INDEX(Data!$A$10:$O$1069,MATCH(CONCATENATE($C38,G$1,$B38),Data!$K$10:$K$1069,0),15),"") | H38: =IFERROR(INDEX(Data!$A$10:$O$1069,MATCH(CONCATENATE($C38,H$1,$B38),Data!$K$10:$K$1069,0),15),"") | I38: =IFERROR(INDEX(Data!$A$10:$O$1069,MATCH(CONCATENATE($C38,I$1,$B38),Data!$K$10:$K$1069,0),15),"") | K38: 35 | L38: (L3T1)A
A39: =COUNTIF($C$1:C39,C39)+1 -> 7 | B39: =VLOOKUP(A39,$K$4:$L$73,2,FALSE) -> (L1T1)D | C39: Monday | D39: =IFERROR(INDEX(Data!$A$10:$O$1069,MATCH(CONCATENATE($C39,D$1,$B39),Data!$K$10:$K$1069,0),15),"") | E39: =IFERROR(INDEX(Data!$A$10:$O$1069,MATCH(CONCATENATE($C39,E$1,$B39),Data!$K$10:$K$1069,0),15),"") | F39: =IFERROR(INDEX(Data!$A$10:$O$1069,MATCH(CONCATENATE($C39,F$1,$B39),Data!$K$10:$K$1069,0),15),"") | G39: =IFERROR(INDEX(Data!$A$10:$O$1069,MATCH(CONCATENATE($C39,G$1,$B39),Data!$K$10:$K$1069,0),15),"") | H39: =IFERROR(INDEX(Data!$A$10:$O$1069,MATCH(CONCATENATE($C39,H$1,$B39),Data!$K$10:$K$1069,0),15),"") | I39: =IFERROR(INDEX(Data!$A$10:$O$1069,MATCH(CONCATENATE($C39,I$1,$B39),Data!$K$10:$K$1069,0),15),"") | K39: 36 | L39: (L3T1)B
A40: =COUNTIF($C$1:C40,C40)+1 -> 7 | B40: =VLOOKUP(A40,$K$4:$L$73,2,FALSE) -> (L1T1)D | C40: Tuesday | D40: =IFERROR(INDEX(Data!$A$10:$O$1069,MATCH(CONCATENATE($C40,D$1,$B40),Data!$K$10:$K$1069,0),15),"") | E40: =IFERROR(INDEX(Data!$A$10:$O$1069,MATCH(CONCATENATE($C40,E$1,$B40),Data!$K$10:$K$1069,0),15),"") | F40: =IFERROR(INDEX(Data!$A$10:$O$1069,MATCH(CONCATENATE($C40,F$1,$B40),Data!$K$10:$K$1069,0),15),"") | G40: =IFERROR(INDEX(Data!$A$10:$O$1069,MATCH(CONCATENATE($C40,G$1,$B40),Data!$K$10:$K$1069,0),15),"") | H40: =IFERROR(INDEX(Data!$A$10:$O$1069,MATCH(CONCATENATE($C40,H$1,$B40),Data!$K$10:$K$1069,0),15),"") | I40: =IFERROR(INDEX(Data!$A$10:$O$1069,MATCH(CONCATENATE($C40,I$1,$B40),Data!$K$10:$K$1069,0),15),"") | K40: 37 | L40: (L3T1)PC
A41: =COUNTIF($C$1:C41,C41)+1 -> 7 | B41: =VLOOKUP(A41,$K$4:$L$73,2,FALSE) -> (L1T1)D | C41: Wednesday | D41: =IFERROR(INDEX(Data!$A$10:$O$1069,MATCH(CONCATENATE($C41,D$1,$B41),Data!$K$10:$K$1069,0),15),"") | E41: =IFERROR(INDEX(Data!$A$10:$O$1069,MATCH(CONCATENATE($C41,E$1,$B41),Data!$K$10:$K$1069,0),15),"") | F41: =IFERROR(INDEX(Data!$A$10:$O$1069,MATCH(CONCATENATE($C41,F$1,$B41),Data!$K$10:$K$1069,0),15),"") | G41: =IFERROR(INDEX(Data!$A$10:$O$1069,MATCH(CONCATENATE($C41,G$1,$B41),Data!$K$10:$K$1069,0),15),"") | H41: =IFERROR(INDEX(Data!$A$10:$O$1069,MATCH(CONCATENATE($C41,H$1,$B41),Data!$K$10:$K$1069,0),15),"") | I41: =IFERROR(INDEX(Data!$A$10:$O$1069,MATCH(CONCATENATE($C41,I$1,$B41),Data!$K$10:$K$1069,0),15),"") | K41: 38 | L41: (L3T2(C)
A42: =COUNTIF($C$1:C42,C42)+1 -> 7 | B42: =VLOOKUP(A42,$K$4:$L$73,2,FALSE) -> (L1T1)D | C42: Thursday | D42: =IFERROR(INDEX(Data!$A$10:$O$1069,MATCH(CONCATENATE($C42,D$1,$B42),Data!$K$10:$K$1069,0),15),"") | E42: =IFERROR(INDEX(Data!$A$10:$O$1069,MATCH(CONCATENATE($C42,E$1,$B42),Data!$K$10:$K$1069,0),15),"") | F42: =IFERROR(INDEX(Data!$A$10:$O$1069,MATCH(CONCATENATE($C42,F$1,$B42),Data!$K$10:$K$1069,0),15),"") | G42: =IFERROR(INDEX(Data!$A$10:$O$1069,MATCH(CONCATENATE($C42,G$1,$B42),Data!$K$10:$K$1069,0),15),"") | H42: =IFERROR(INDEX(Data!$A$10:$O$1069,MATCH(CONCATENATE($C42,H$1,$B42),Data!$K$10:$K$1069,0),15),"") | I42: =IFERROR(INDEX(Data!$A$10:$O$1069,MATCH(CONCATENATE($C42,I$1,$B42),Data!$K$10:$K$1069,0),15),"") | K42: 39 | L42: (L3T2) A
K43: 40 | L43: (L3T2) B
A44: =COUNTIF($C$1:C44,C44)+1 -> 8 | B44: =VLOOKUP(A44,$K$4:$L$73,2,FALSE) -> (L1T2)A | C44: Saturday | D44: =IFERROR(INDEX(Data!$A$10:$O$1069,MATCH(CONCATENATE($C44,D$1,$B44),Data!$K$10:$K$1069,0),15),"") -> CHE-124(L1T2)A 703 --- 0 | E44: =IFERROR(INDEX(Data!$A$10:$O$1069,MATCH(CONCATENATE($C44,E$1,$B44),Data!$K$10:$K$1069,0),15),"") | F44: =IFERROR(INDEX(Data!$A$10:$O$1069,MATCH(CONCATENATE($C44,F$1,$B44),Data!$K$10:$K$1069,0),15),"") -> MAT-122(L1T2)A 601 --- 0 | G44: =IFERROR(INDEX(Data!$A$10:$O$1069,MATCH(CONCATENATE($C44,G$1,$B44),Data!$K$10:$K$1069,0),15),"") -> ENG-122(L1T2)A 603 --- 0 | H44: =IFERROR(INDEX(Data!$A$10:$O$1069,MATCH(CONCATENATE($C44,H$1,$B44),Data!$K$10:$K$1069,0),15),"") | I44: =IFERROR(INDEX(Data!$A$10:$O$1069,MATCH(CONCATENATE($C44,I$1,$B44),Data!$K$10:$K$1069,0),15),"") | K44: 41 | L44: (L3T2)A
A45: =COUNTIF($C$1:C45,C45)+1 -> 8 | B45: =VLOOKUP(A45,$K$4:$L$73,2,FALSE) -> (L1T2)A | C45: Sunday | D45: =IFERROR(INDEX(Data!$A$10:$O$1069,MATCH(CONCATENATE($C45,D$1,$B45),Data!$K$10:$K$1069,0),15),"") -> PHY-122(L1T2)A 502 --- 0 | E45: =IFERROR(INDEX(Data!$A$10:$O$1069,MATCH(CONCATENATE($C45,E$1,$B45),Data!$K$10:$K$1069,0),15),"") -> PHY-122(L1T2)A 502 --- 0 | F45: =IFERROR(INDEX(Data!$A$10:$O$1069,MATCH(CONCATENATE($C45,F$1,$B45),Data!$K$10:$K$1069,0),15),"") -> PHY-122(L1T2)A 711 --- 0 | G45: =IFERROR(INDEX(Data!$A$10:$O$1069,MATCH(CONCATENATE($C45,G$1,$B45),Data!$K$10:$K$1069,0),15),"") | H45: =IFERROR(INDEX(Data!$A$10:$O$1069,MATCH(CONCATENATE($C45,H$1,$B45),Data!$K$10:$K$1069,0),15),"") | I45: =IFERROR(INDEX(Data!$A$10:$O$1069,MATCH(CONCATENATE($C45,I$1,$B45),Data!$K$10:$K$1069,0),15),"") | K45: 42 | L45: (L3T2)B
A46: =COUNTIF($C$1:C46,C46)+1 -> 8 | B46: =VLOOKUP(A46,$K$4:$L$73,2,FALSE) -> (L1T2)A | C46: Monday | D46: =IFERROR(INDEX(Data!$A$10:$O$1069,MATCH(CONCATENATE($C46,D$1,$B46),Data!$K$10:$K$1069,0),15),"") | E46: =IFERROR(INDEX(Data!$A$10:$O$1069,MATCH(CONCATENATE($C46,E$1,$B46),Data!$K$10:$K$1069,0),15),"") | F46: =IFERROR(INDEX(Data!$A$10:$O$1069,MATCH(CONCATENATE($C46,F$1,$B46),Data!$K$10:$K$1069,0),15),"") | G46: =IFERROR(INDEX(Data!$A$10:$O$1069,MATCH(CONCATENATE($C46,G$1,$B46),Data!$K$10:$K$1069,0),15),"") | H46: =IFERROR(INDEX(Data!$A$10:$O$1069,MATCH(CONCATENATE($C46,H$1,$B46),Data!$K$10:$K$1069,0),15),"") | I46: =IFERROR(INDEX(Data!$A$10:$O$1069,MATCH(CONCATENATE($C46,I$1,$B46),Data!$K$10:$K$1069,0),15),"") | K46: 43 | L46: (L3T2)C
A47: =COUNTIF($C$1:C47,C47)+1 -> 8 | B47: =VLOOKUP(A47,$K$4:$L$73,2,FALSE) -> (L1T2)A | C47: Tuesday | D47: =IFERROR(INDEX(Data!$A$10:$O$1069,MATCH(CONCATENATE($C47,D$1,$B47),Data!$K$10:$K$1069,0),15),"") -> CHE-125(L1T2)A L-Chem --- 0 | E47: =IFERROR(INDEX(Data!$A$10:$O$1069,MATCH(CONCATENATE($C47,E$1,$B47),Data!$K$10:$K$1069,0),15),"") -> CHE-125(L1T2)A L-Chem --- 0 | F47: =IFERROR(INDEX(Data!$A$10:$O$1069,MATCH(CONCATENATE($C47,F$1,$B47),Data!$K$10:$K$1069,0),15),"") | G47: =IFERROR(INDEX(Data!$A$10:$O$1069,MATCH(CONCATENATE($C47,G$1,$B47),Data!$K$10:$K$1069,0),15),"") -> CHE-124(L1T2)A 801 --- 0 | H47: =IFERROR(INDEX(Data!$A$10:$O$1069,MATCH(CONCATENATE($C47,H$1,$B47),Data!$K$10:$K$1069,0),15),"") | I47: =IFERROR(INDEX(Data!$A$10:$O$1069,MATCH(CONCATENATE($C47,I$1,$B47),Data!$K$10:$K$1069,0),15),"") | K47: 44 | L47: (L3T2)D
A48: =COUNTIF($C$1:C48,C48)+1 -> 8 | B48: =VLOOKUP(A48,$K$4:$L$73,2,FALSE) -> (L1T2)A | C48: Wednesday | D48: =IFERROR(INDEX(Data!$A$10:$O$1069,MATCH(CONCATENATE($C48,D$1,$B48),Data!$K$10:$K$1069,0),15),"") | E48: =IFERROR(INDEX(Data!$A$10:$O$1069,MATCH(CONCATENATE($C48,E$1,$B48),Data!$K$10:$K$1069,0),15),"") | F48: =IFERROR(INDEX(Data!$A$10:$O$1069,MATCH(CONCATENATE($C48,F$1,$B48),Data!$K$10:$K$1069,0),15),"") -> ENG-122(L1T2)A 801 --- 0 | G48: =IFERROR(INDEX(Data!$A$10:$O$1069,MATCH(CONCATENATE($C48,G$1,$B48),Data!$K$10:$K$1069,0),15),"") | H48: =IFERROR(INDEX(Data!$A$10:$O$1069,MATCH(CONCATENATE($C48,H$1,$B48),Data!$K$10:$K$1069,0),15),"") -> PHY-122(L1T2)A 402 --- 0 | I48: =IFERROR(INDEX(Data!$A$10:$O$1069,MATCH(CONCATENATE($C48,I$1,$B48),Data!$K$10:$K$1069,0),15),"") -> MAT-122(L1T2)A 402 --- 0 | K48: 45 | L48: (L3T3)A
A49: =COUNTIF($C$1:C49,C49)+1 -> 8 | B49: =VLOOKUP(A49,$K$4:$L$73,2,FALSE) -> (L1T2)A | C49: Thursday | D49: =IFERROR(INDEX(Data!$A$10:$O$1069,MATCH(CONCATENATE($C49,D$1,$B49),Data!$K$10:$K$1069,0),15),"") | E49: =IFERROR(INDEX(Data!$A$10:$O$1069,MATCH(CONCATENATE($C49,E$1,$B49),Data!$K$10:$K$1069,0),15),"") | F49: =IFERROR(INDEX(Data!$A$10:$O$1069,MATCH(CONCATENATE($C49,F$1,$B49),Data!$K$10:$K$1069,0),15),"") | G49: =IFERROR(INDEX(Data!$A$10:$O$1069,MATCH(CONCATENATE($C49,G$1,$B49),Data!$K$10:$K$1069,0),15),"") | H49: =IFERROR(INDEX(Data!$A$10:$O$1069,MATCH(CONCATENATE($C49,H$1,$B49),Data!$K$10:$K$1069,0),15),"") | I49: =IFERROR(INDEX(Data!$A$10:$O$1069,MATCH(CONCATENATE($C49,I$1,$B49),Data!$K$10:$K$1069,0),15),"") | K49: 46 | L49: (L3T3)B
K50: 47 | L50: (L3T3)C
A51: =COUNTIF($C$1:C51,C51)+1 -> 9 | B51: =VLOOKUP(A51,$K$4:$L$73,2,FALSE) -> (L1T2)B | C51: Saturday | D51: =IFERROR(INDEX(Data!$A$10:$O$1069,MATCH(CONCATENATE($C51,D$1,$B51),Data!$K$10:$K$1069,0),15),"") | E51: =IFERROR(INDEX(Data!$A$10:$O$1069,MATCH(CONCATENATE($C51,E$1,$B51),Data!$K$10:$K$1069,0),15),"") | F51: =IFERROR(INDEX(Data!$A$10:$O$1069,MATCH(CONCATENATE($C51,F$1,$B51),Data!$K$10:$K$1069,0),15),"") | G51: =IFERROR(INDEX(Data!$A$10:$O$1069,MATCH(CONCATENATE($C51,G$1,$B51),Data!$K$10:$K$1069,0),15),"") | H51: =IFERROR(INDEX(Data!$A$10:$O$1069,MATCH(CONCATENATE($C51,H$1,$B51),Data!$K$10:$K$1069,0),15),"") | I51: =IFERROR(INDEX(Data!$A$10:$O$1069,MATCH(CONCATENATE($C51,I$1,$B51),Data!$K$10:$K$1069,0),15),"") | K51: 48 | L51: (L3T3)D
A52: =COUNTIF($C$1:C52,C52)+1 -> 9 | B52: =VLOOKUP(A52,$K$4:$L$73,2,FALSE) -> (L1T2)B | C52: Sunday | D52: =IFERROR(INDEX(Data!$A$10:$O$1069,MATCH(CONCATENATE($C52,D$1,$B52),Data!$K$10:$K$1069,0),15),"") | E52: =IFERROR(INDEX(Data!$A$10:$O$1069,MATCH(CONCATENATE($C52,E$1,$B52),Data!$K$10:$K$1069,0),15),"") | F52: =IFERROR(INDEX(Data!$A$10:$O$1069,MATCH(CONCATENATE($C52,F$1,$B52),Data!$K$10:$K$1069,0),15),"") | G52: =IFERROR(INDEX(Data!$A$10:$O$1069,MATCH(CONCATENATE($C52,G$1,$B52),Data!$K$10:$K$1069,0),15),"") | H52: =IFERROR(INDEX(Data!$A$10:$O$1069,MATCH(CONCATENATE($C52,H$1,$B52),Data!$K$10:$K$1069,0),15),"") | I52: =IFERROR(INDEX(Data!$A$10:$O$1069,MATCH(CONCATENATE($C52,I$1,$B52),Data!$K$10:$K$1069,0),15),"") | K52: 49 | L52: (L4T1)
A53: =COUNTIF($C$1:C53,C53)+1 -> 9 | B53: =VLOOKUP(A53,$K$4:$L$73,2,FALSE) -> (L1T2)B | C53: Monday | D53: =IFERROR(INDEX(Data!$A$10:$O$1069,MATCH(CONCATENATE($C53,D$1,$B53),Data!$K$10:$K$1069,0),15),"") | E53: =IFERROR(INDEX(Data!$A$10:$O$1069,MATCH(CONCATENATE($C53,E$1,$B53),Data!$K$10:$K$1069,0),15),"") | F53: =IFERROR(INDEX(Data!$A$10:$O$1069,MATCH(CONCATENATE($C53,F$1,$B53),Data!$K$10:$K$1069,0),15),"") | G53: =IFERROR(INDEX(Data!$A$10:$O$1069,MATCH(CONCATENATE($C53,G$1,$B53),Data!$K$10:$K$1069,0),15),"") | H53: =IFERROR(INDEX(Data!$A$10:$O$1069,MATCH(CONCATENATE($C53,H$1,$B53),Data!$K$10:$K$1069,0),15),"") | I53: =IFERROR(INDEX(Data!$A$10:$O$1069,MATCH(CONCATENATE($C53,I$1,$B53),Data!$K$10:$K$1069,0),15),"") | K53: 50 | L53: (L4T1)A
A54: =COUNTIF($C$1:C54,C54)+1 -> 9 | B54: =VLOOKUP(A54,$K$4:$L$73,2,FALSE) -> (L1T2)B | C54: Tuesday | D54: =IFERROR(INDEX(Data!$A$10:$O$1069,MATCH(CONCATENATE($C54,D$1,$B54),Data!$K$10:$K$1069,0),15),"") | E54: =IFERROR(INDEX(Data!$A$10:$O$1069,MATCH(CONCATENATE($C54,E$1,$B54),Data!$K$10:$K$1069,0),15),"") | F54: =IFERROR(INDEX(Data!$A$10:$O$1069,MATCH(CONCATENATE($C54,F$1,$B54),Data!$K$10:$K$1069,0),15),"") | G54: =IFERROR(INDEX(Data!$A$10:$O$1069,MATCH(CONCATENATE($C54,G$1,$B54),Data!$K$10:$K$1069,0),15),"") | H54: =IFERROR(INDEX(Data!$A$10:$O$1069,MATCH(CONCATENATE($C54,H$1,$B54),Data!$K$10:$K$1069,0),15),"") | I54: =IFERROR(INDEX(Data!$A$10:$O$1069,MATCH(CONCATENATE($C54,I$1,$B54),Data!$K$10:$K$1069,0),15),"") | K54: 51 | L54: (L4T1)B
A55: =COUNTIF($C$1:C55,C55)+1 -> 9 | B55: =VLOOKUP(A55,$K$4:$L$73,2,FALSE) -> (L1T2)B | C55: Wednesday | D55: =IFERROR(INDEX(Data!$A$10:$O$1069,MATCH(CONCATENATE($C55,D$1,$B55),Data!$K$10:$K$1069,0),15),"") | E55: =IFERROR(INDEX(Data!$A$10:$O$1069,MATCH(CONCATENATE($C55,E$1,$B55),Data!$K$10:$K$1069,0),15),"") | F55: =IFERROR(INDEX(Data!$A$10:$O$1069,MATCH(CONCATENATE($C55,F$1,$B55),Data!$K$10:$K$1069,0),15),"") | G55: =IFERROR(INDEX(Data!$A$10:$O$1069,MATCH(CONCATENATE($C55,G$1,$B55),Data!$K$10:$K$1069,0),15),"") | H55: =IFERROR(INDEX(Data!$A$10:$O$1069,MATCH(CONCATENATE($C55,H$1,$B55),Data!$K$10:$K$1069,0),15),"") | I55: =IFERROR(INDEX(Data!$A$10:$O$1069,MATCH(CONCATENATE($C55,I$1,$B55),Data!$K$10:$K$1069,0),15),"") | K55: 52 | L55: (L4T2)
A56: =COUNTIF($C$1:C56,C56)+1 -> 9 | B56: =VLOOKUP(A56,$K$4:$L$73,2,FALSE) -> (L1T2)B | C56: Thursday | D56: =IFERROR(INDEX(Data!$A$10:$O$1069,MATCH(CONCATENATE($C56,D$1,$B56),Data!$K$10:$K$1069,0),15),"") | E56: =IFERROR(INDEX(Data!$A$10:$O$1069,MATCH(CONCATENATE($C56,E$1,$B56),Data!$K$10:$K$1069,0),15),"") | F56: =IFERROR(INDEX(Data!$A$10:$O$1069,MATCH(CONCATENATE($C56,F$1,$B56),Data!$K$10:$K$1069,0),15),"") | G56: =IFERROR(INDEX(Data!$A$10:$O$1069,MATCH(CONCATENATE($C56,G$1,$B56),Data!$K$10:$K$1069,0),15),"") | H56: =IFERROR(INDEX(Data!$A$10:$O$1069,MATCH(CONCATENATE($C56,H$1,$B56),Data!$K$10:$K$1069,0),15),"") | I56: =IFERROR(INDEX(Data!$A$10:$O$1069,MATCH(CONCATENATE($C56,I$1,$B56),Data!$K$10:$K$1069,0),15),"") | K56: 53 | L56: (L4T2)A
K57: 54 | L57: (L4T2)B
A58: =COUNTIF($C$1:C58,C58)+1 -> 10 | B58: =VLOOKUP(A58,$K$4:$L$73,2,FALSE) -> (L1T2)C | C58: Saturday | D58: =IFERROR(INDEX(Data!$A$10:$O$1069,MATCH(CONCATENATE($C58,D$1,$B58),Data!$K$10:$K$1069,0),15),"") | E58: =IFERROR(INDEX(Data!$A$10:$O$1069,MATCH(CONCATENATE($C58,E$1,$B58),Data!$K$10:$K$1069,0),15),"") | F58: =IFERROR(INDEX(Data!$A$10:$O$1069,MATCH(CONCATENATE($C58,F$1,$B58),Data!$K$10:$K$1069,0),15),"") | G58: =IFERROR(INDEX(Data!$A$10:$O$1069,MATCH(CONCATENATE($C58,G$1,$B58),Data!$K$10:$K$1069,0),15),"") | H58: =IFERROR(INDEX(Data!$A$10:$O$1069,MATCH(CONCATENATE($C58,H$1,$B58),Data!$K$10:$K$1069,0),15),"") | I58: =IFERROR(INDEX(Data!$A$10:$O$1069,MATCH(CONCATENATE($C58,I$1,$B58),Data!$K$10:$K$1069,0),15),"") | K58: 55 | L58: DIC
A59: =COUNTIF($C$1:C59,C59)+1 -> 10 | B59: =VLOOKUP(A59,$K$4:$L$73,2,FALSE) -> (L1T2)C | C59: Sunday | D59: =IFERROR(INDEX(Data!$A$10:$O$1069,MATCH(CONCATENATE($C59,D$1,$B59),Data!$K$10:$K$1069,0),15),"") | E59: =IFERROR(INDEX(Data!$A$10:$O$1069,MATCH(CONCATENATE($C59,E$1,$B59),Data!$K$10:$K$1069,0),15),"") | F59: =IFERROR(INDEX(Data!$A$10:$O$1069,MATCH(CONCATENATE($C59,F$1,$B59),Data!$K$10:$K$1069,0),15),"") | G59: =IFERROR(INDEX(Data!$A$10:$O$1069,MATCH(CONCATENATE($C59,G$1,$B59),Data!$K$10:$K$1069,0),15),"") | H59: =IFERROR(INDEX(Data!$A$10:$O$1069,MATCH(CONCATENATE($C59,H$1,$B59),Data!$K$10:$K$1069,0),15),"") | I59: =IFERROR(INDEX(Data!$A$10:$O$1069,MATCH(CONCATENATE($C59,I$1,$B59),Data!$K$10:$K$1069,0),15),"") | K59: 56 | L59: ETE
A60: =COUNTIF($C$1:C60,C60)+1 -> 10 | B60: =VLOOKUP(A60,$K$4:$L$73,2,FALSE) -> (L1T2)C | C60: Monday | D60: =IFERROR(INDEX(Data!$A$10:$O$1069,MATCH(CONCATENATE($C60,D$1,$B60),Data!$K$10:$K$1069,0),15),"") | E60: =IFERROR(INDEX(Data!$A$10:$O$1069,MATCH(CONCATENATE($C60,E$1,$B60),Data!$K$10:$K$1069,0),15),"") | F60: =IFERROR(INDEX(Data!$A$10:$O$1069,MATCH(CONCATENATE($C60,F$1,$B60),Data!$K$10:$K$1069,0),15),"") | G60: =IFERROR(INDEX(Data!$A$10:$O$1069,MATCH(CONCATENATE($C60,G$1,$B60),Data!$K$10:$K$1069,0),15),"") | H60: =IFERROR(INDEX(Data!$A$10:$O$1069,MATCH(CONCATENATE($C60,H$1,$B60),Data!$K$10:$K$1069,0),15),"") | I60: =IFERROR(INDEX(Data!$A$10:$O$1069,MATCH(CONCATENATE($C60,I$1,$B60),Data!$K$10:$K$1069,0),15),"") | K60: 57 | L60: MRC
A61: =COUNTIF($C$1:C61,C61)+1 -> 10 | B61: =VLOOKUP(A61,$K$4:$L$73,2,FALSE) -> (L1T2)C | C61: Tuesday | D61: =IFERROR(INDEX(Data!$A$10:$O$1069,MATCH(CONCATENATE($C61,D$1,$B61),Data!$K$10:$K$1069,0),15),"") | E61: =IFERROR(INDEX(Data!$A$10:$O$1069,MATCH(CONCATENATE($C61,E$1,$B61),Data!$K$10:$K$1069,0),15),"") | F61: =IFERROR(INDEX(Data!$A$10:$O$1069,MATCH(CONCATENATE($C61,F$1,$B61),Data!$K$10:$K$1069,0),15),"") | G61: =IFERROR(INDEX(Data!$A$10:$O$1069,MATCH(CONCATENATE($C61,G$1,$B61),Data!$K$10:$K$1069,0),15),"") | H61: =IFERROR(INDEX(Data!$A$10:$O$1069,MATCH(CONCATENATE($C61,H$1,$B61),Data!$K$10:$K$1069,0),15),"") | I61: =IFERROR(INDEX(Data!$A$10:$O$1069,MATCH(CONCATENATE($C61,I$1,$B61),Data!$K$10:$K$1069,0),15),"") | K61: 58 | L61: PC
A62: =COUNTIF($C$1:C62,C62)+1 -> 10 | B62: =VLOOKUP(A62,$K$4:$L$73,2,FALSE) -> (L1T2)C | C62: Wednesday | D62: =IFERROR(INDEX(Data!$A$10:$O$1069,MATCH(CONCATENATE($C62,D$1,$B62),Data!$K$10:$K$1069,0),15),"") | E62: =IFERROR(INDEX(Data!$A$10:$O$1069,MATCH(CONCATENATE($C62,E$1,$B62),Data!$K$10:$K$1069,0),15),"") | F62: =IFERROR(INDEX(Data!$A$10:$O$1069,MATCH(CONCATENATE($C62,F$1,$B62),Data!$K$10:$K$1069,0),15),"") | G62: =IFERROR(INDEX(Data!$A$10:$O$1069,MATCH(CONCATENATE($C62,G$1,$B62),Data!$K$10:$K$1069,0),15),"") | H62: =IFERROR(INDEX(Data!$A$10:$O$1069,MATCH(CONCATENATE($C62,H$1,$B62),Data!$K$10:$K$1069,0),15),"") | I62: =IFERROR(INDEX(Data!$A$10:$O$1069,MATCH(CONCATENATE($C62,I$1,$B62),Data!$K$10:$K$1069,0),15),"") | K62: 59 | L62: TE426L4T2)
A63: =COUNTIF($C$1:C63,C63)+1 -> 10 | B63: =VLOOKUP(A63,$K$4:$L$73,2,FALSE) -> (L1T2)C | C63: Thursday | D63: =IFERROR(INDEX(Data!$A$10:$O$1069,MATCH(CONCATENATE($C63,D$1,$B63),Data!$K$10:$K$1069,0),15),"") | E63: =IFERROR(INDEX(Data!$A$10:$O$1069,MATCH(CONCATENATE($C63,E$1,$B63),Data!$K$10:$K$1069,0),15),"") | F63: =IFERROR(INDEX(Data!$A$10:$O$1069,MATCH(CONCATENATE($C63,F$1,$B63),Data!$K$10:$K$1069,0),15),"") | G63: =IFERROR(INDEX(Data!$A$10:$O$1069,MATCH(CONCATENATE($C63,G$1,$B63),Data!$K$10:$K$1069,0),15),"") | H63: =IFERROR(INDEX(Data!$A$10:$O$1069,MATCH(CONCATENATE($C63,H$1,$B63),Data!$K$10:$K$1069,0),15),"") | I63: =IFERROR(INDEX(Data!$A$10:$O$1069,MATCH(CONCATENATE($C63,I$1,$B63),Data!$K$10:$K$1069,0),15),"") | K63: 60 | L63: UC
K64: 61 | L64: xxxxxxxx
A65: =COUNTIF($C$1:C65,C65)+1 -> 11 | B65: =VLOOKUP(A65,$K$4:$L$73,2,FALSE) -> (L1T2)D | C65: Saturday | D65: =IFERROR(INDEX(Data!$A$10:$O$1069,MATCH(CONCATENATE($C65,D$1,$B65),Data!$K$10:$K$1069,0),15),"") | E65: =IFERROR(INDEX(Data!$A$10:$O$1069,MATCH(CONCATENATE($C65,E$1,$B65),Data!$K$10:$K$1069,0),15),"") | F65: =IFERROR(INDEX(Data!$A$10:$O$1069,MATCH(CONCATENATE($C65,F$1,$B65),Data!$K$10:$K$1069,0),15),"") | G65: =IFERROR(INDEX(Data!$A$10:$O$1069,MATCH(CONCATENATE($C65,G$1,$B65),Data!$K$10:$K$1069,0),15),"") | H65: =IFERROR(INDEX(Data!$A$10:$O$1069,MATCH(CONCATENATE($C65,H$1,$B65),Data!$K$10:$K$1069,0),15),"") | I65: =IFERROR(INDEX(Data!$A$10:$O$1069,MATCH(CONCATENATE($C65,I$1,$B65),Data!$K$10:$K$1069,0),15),"") | K65: 62 | L65: (L4T1)C
A66: =COUNTIF($C$1:C66,C66)+1 -> 11 | B66: =VLOOKUP(A66,$K$4:$L$73,2,FALSE) -> (L1T2)D | C66: Sunday | D66: =IFERROR(INDEX(Data!$A$10:$O$1069,MATCH(CONCATENATE($C66,D$1,$B66),Data!$K$10:$K$1069,0),15),"") | E66: =IFERROR(INDEX(Data!$A$10:$O$1069,MATCH(CONCATENATE($C66,E$1,$B66),Data!$K$10:$K$1069,0),15),"") | F66: =IFERROR(INDEX(Data!$A$10:$O$1069,MATCH(CONCATENATE($C66,F$1,$B66),Data!$K$10:$K$1069,0),15),"") | G66: =IFERROR(INDEX(Data!$A$10:$O$1069,MATCH(CONCATENATE($C66,G$1,$B66),Data!$K$10:$K$1069,0),15),"") | H66: =IFERROR(INDEX(Data!$A$10:$O$1069,MATCH(CONCATENATE($C66,H$1,$B66),Data!$K$10:$K$1069,0),15),"") | I66: =IFERROR(INDEX(Data!$A$10:$O$1069,MATCH(CONCATENATE($C66,I$1,$B66),Data!$K$10:$K$1069,0),15),"") | K66: 63 | L66: (L4T1)D
A67: =COUNTIF($C$1:C67,C67)+1 -> 11 | B67: =VLOOKUP(A67,$K$4:$L$73,2,FALSE) -> (L1T2)D | C67: Monday | D67: =IFERROR(INDEX(Data!$A$10:$O$1069,MATCH(CONCATENATE($C67,D$1,$B67),Data!$K$10:$K$1069,0),15),"") | E67: =IFERROR(INDEX(Data!$A$10:$O$1069,MATCH(CONCATENATE($C67,E$1,$B67),Data!$K$10:$K$1069,0),15),"") | F67: =IFERROR(INDEX(Data!$A$10:$O$1069,MATCH(CONCATENATE($C67,F$1,$B67),Data!$K$10:$K$1069,0),15),"") | G67: =IFERROR(INDEX(Data!$A$10:$O$1069,MATCH(CONCATENATE($C67,G$1,$B67),Data!$K$10:$K$1069,0),15),"") | H67: =IFERROR(INDEX(Data!$A$10:$O$1069,MATCH(CONCATENATE($C67,H$1,$B67),Data!$K$10:$K$1069,0),15),"") | I67: =IFERROR(INDEX(Data!$A$10:$O$1069,MATCH(CONCATENATE($C67,I$1,$B67),Data!$K$10:$K$1069,0),15),"") | K67: 64 | L67: YM-1 UC
A68: =COUNTIF($C$1:C68,C68)+1 -> 11 | B68: =VLOOKUP(A68,$K$4:$L$73,2,FALSE) -> (L1T2)D | C68: Tuesday | D68: =IFERROR(INDEX(Data!$A$10:$O$1069,MATCH(CONCATENATE($C68,D$1,$B68),Data!$K$10:$K$1069,0),15),"") | E68: =IFERROR(INDEX(Data!$A$10:$O$1069,MATCH(CONCATENATE($C68,E$1,$B68),Data!$K$10:$K$1069,0),15),"") | F68: =IFERROR(INDEX(Data!$A$10:$O$1069,MATCH(CONCATENATE($C68,F$1,$B68),Data!$K$10:$K$1069,0),15),"") | G68: =IFERROR(INDEX(Data!$A$10:$O$1069,MATCH(CONCATENATE($C68,G$1,$B68),Data!$K$10:$K$1069,0),15),"") | H68: =IFERROR(INDEX(Data!$A$10:$O$1069,MATCH(CONCATENATE($C68,H$1,$B68),Data!$K$10:$K$1069,0),15),"") | I68: =IFERROR(INDEX(Data!$A$10:$O$1069,MATCH(CONCATENATE($C68,I$1,$B68),Data!$K$10:$K$1069,0),15),"") | K68: 65 | L68: Grand Total
A69: =COUNTIF($C$1:C69,C69)+1 -> 11 | B69: =VLOOKUP(A69,$K$4:$L$73,2,FALSE) -> (L1T2)D | C69: Wednesday | D69: =IFERROR(INDEX(Data!$A$10:$O$1069,MATCH(CONCATENATE($C69,D$1,$B69),Data!$K$10:$K$1069,0),15),"") | E69: =IFERROR(INDEX(Data!$A$10:$O$1069,MATCH(CONCATENATE($C69,E$1,$B69),Data!$K$10:$K$1069,0),15),"") | F69: =IFERROR(INDEX(Data!$A$10:$O$1069,MATCH(CONCATENATE($C69,F$1,$B69),Data!$K$10:$K$1069,0),15),"") | G69: =IFERROR(INDEX(Data!$A$10:$O$1069,MATCH(CONCATENATE($C69,G$1,$B69),Data!$K$10:$K$1069,0),15),"") | H69: =IFERROR(INDEX(Data!$A$10:$O$1069,MATCH(CONCATENATE($C69,H$1,$B69),Data!$K$10:$K$1069,0),15),"") | I69: =IFERROR(INDEX(Data!$A$10:$O$1069,MATCH(CONCATENATE($C69,I$1,$B69),Data!$K$10:$K$1069,0),15),"") | K69: 66 | L69: (L2T1)D
A70: =COUNTIF($C$1:C70,C70)+1 -> 11 | B70: =VLOOKUP(A70,$K$4:$L$73,2,FALSE) -> (L1T2)D | C70: Thursday | D70: =IFERROR(INDEX(Data!$A$10:$O$1069,MATCH(CONCATENATE($C70,D$1,$B70),Data!$K$10:$K$1069,0),15),"") | E70: =IFERROR(INDEX(Data!$A$10:$O$1069,MATCH(CONCATENATE($C70,E$1,$B70),Data!$K$10:$K$1069,0),15),"") | F70: =IFERROR(INDEX(Data!$A$10:$O$1069,MATCH(CONCATENATE($C70,F$1,$B70),Data!$K$10:$K$1069,0),15),"") | G70: =IFERROR(INDEX(Data!$A$10:$O$1069,MATCH(CONCATENATE($C70,G$1,$B70),Data!$K$10:$K$1069,0),15),"") | H70: =IFERROR(INDEX(Data!$A$10:$O$1069,MATCH(CONCATENATE($C70,H$1,$B70),Data!$K$10:$K$1069,0),15),"") | I70: =IFERROR(INDEX(Data!$A$10:$O$1069,MATCH(CONCATENATE($C70,I$1,$B70),Data!$K$10:$K$1069,0),15),"") | K70: 67
K71: 68
A72: =COUNTIF($C$1:C72,C72)+1 -> 12 | B72: =VLOOKUP(A72,$K$4:$L$73,2,FALSE) -> (L1T2)E | C72: Saturday | D72: =IFERROR(INDEX(Data!$A$10:$O$1069,MATCH(CONCATENATE($C72,D$1,$B72),Data!$K$10:$K$1069,0),15),"") | E72: =IFERROR(INDEX(Data!$A$10:$O$1069,MATCH(CONCATENATE($C72,E$1,$B72),Data!$K$10:$K$1069,0),15),"") | F72: =IFERROR(INDEX(Data!$A$10:$O$1069,MATCH(CONCATENATE($C72,F$1,$B72),Data!$K$10:$K$1069,0),15),"") | G72: =IFERROR(INDEX(Data!$A$10:$O$1069,MATCH(CONCATENATE($C72,G$1,$B72),Data!$K$10:$K$1069,0),15),"") | H72: =IFERROR(INDEX(Data!$A$10:$O$1069,MATCH(CONCATENATE($C72,H$1,$B72),Data!$K$10:$K$1069,0),15),"") | I72: =IFERROR(INDEX(Data!$A$10:$O$1069,MATCH(CONCATENATE($C72,I$1,$B72),Data!$K$10:$K$1069,0),15),"") | K72: 69
A73: =COUNTIF($C$1:C73,C73)+1 -> 12 | B73: =VLOOKUP(A73,$K$4:$L$73,2,FALSE) -> (L1T2)E | C73: Sunday | D73: =IFERROR(INDEX(Data!$A$10:$O$1069,MATCH(CONCATENATE($C73,D$1,$B73),Data!$K$10:$K$1069,0),15),"") | E73: =IFERROR(INDEX(Data!$A$10:$O$1069,MATCH(CONCATENATE($C73,E$1,$B73),Data!$K$10:$K$1069,0),15),"") | F73: =IFERROR(INDEX(Data!$A$10:$O$1069,MATCH(CONCATENATE($C73,F$1,$B73),Data!$K$10:$K$1069,0),15),"") | G73: =IFERROR(INDEX(Data!$A$10:$O$1069,MATCH(CONCATENATE($C73,G$1,$B73),Data!$K$10:$K$1069,0),15),"") | H73: =IFERROR(INDEX(Data!$A$10:$O$1069,MATCH(CONCATENATE($C73,H$1,$B73),Data!$K$10:$K$1069,0),15),"") | I73: =IFERROR(INDEX(Data!$A$10:$O$1069,MATCH(CONCATENATE($C73,I$1,$B73),Data!$K$10:$K$1069,0),15),"") | K73: 70
A74: =COUNTIF($C$1:C74,C74)+1 -> 12 | B74: =VLOOKUP(A74,$K$4:$L$73,2,FALSE) -> (L1T2)E | C74: Monday | D74: =IFERROR(INDEX(Data!$A$10:$O$1069,MATCH(CONCATENATE($C74,D$1,$B74),Data!$K$10:$K$1069,0),15),"") | E74: =IFERROR(INDEX(Data!$A$10:$O$1069,MATCH(CONCATENATE($C74,E$1,$B74),Data!$K$10:$K$1069,0),15),"") | F74: =IFERROR(INDEX(Data!$A$10:$O$1069,MATCH(CONCATENATE($C74,F$1,$B74),Data!$K$10:$K$1069,0),15),"") | G74: =IFERROR(INDEX(Data!$A$10:$O$1069,MATCH(CONCATENATE($C74,G$1,$B74),Data!$K$10:$K$1069,0),15),"") | H74: =IFERROR(INDEX(Data!$A$10:$O$1069,MATCH(CONCATENATE($C74,H$1,$B74),Data!$K$10:$K$1069,0),15),"") | I74: =IFERROR(INDEX(Data!$A$10:$O$1069,MATCH(CONCATENATE($C74,I$1,$B74),Data!$K$10:$K$1069,0),15),"")
A75: =COUNTIF($C$1:C75,C75)+1 -> 12 | B75: =VLOOKUP(A75,$K$4:$L$73,2,FALSE) -> (L1T2)E | C75: Tuesday | D75: =IFERROR(INDEX(Data!$A$10:$O$1069,MATCH(CONCATENATE($C75,D$1,$B75),Data!$K$10:$K$1069,0),15),"") | E75: =IFERROR(INDEX(Data!$A$10:$O$1069,MATCH(CONCATENATE($C75,E$1,$B75),Data!$K$10:$K$1069,0),15),"") | F75: =IFERROR(INDEX(Data!$A$10:$O$1069,MATCH(CONCATENATE($C75,F$1,$B75),Data!$K$10:$K$1069,0),15),"") | G75: =IFERROR(INDEX(Data!$A$10:$O$1069,MATCH(CONCATENATE($C75,G$1,$B75),Data!$K$10:$K$1069,0),15),"") | H75: =IFERROR(INDEX(Data!$A$10:$O$1069,MATCH(CONCATENATE($C75,H$1,$B75),Data!$K$10:$K$1069,0),15),"") | I75: =IFERROR(INDEX(Data!$A$10:$O$1069,MATCH(CONCATENATE($C75,I$1,$B75),Data!$K$10:$K$1069,0),15),"")
A76: =COUNTIF($C$1:C76,C76)+1 -> 12 | B76: =VLOOKUP(A76,$K$4:$L$73,2,FALSE) -> (L1T2)E | C76: Wednesday | D76: =IFERROR(INDEX(Data!$A$10:$O$1069,MATCH(CONCATENATE($C76,D$1,$B76),Data!$K$10:$K$1069,0),15),"") | E76: =IFERROR(INDEX(Data!$A$10:$O$1069,MATCH(CONCATENATE($C76,E$1,$B76),Data!$K$10:$K$1069,0),15),"") | F76: =IFERROR(INDEX(Data!$A$10:$O$1069,MATCH(CONCATENATE($C76,F$1,$B76),Data!$K$10:$K$1069,0),15),"") | G76: =IFERROR(INDEX(Data!$A$10:$O$1069,MATCH(CONCATENATE($C76,G$1,$B76),Data!$K$10:$K$1069,0),15),"") | H76: =IFERROR(INDEX(Data!$A$10:$O$1069,MATCH(CONCATENATE($C76,H$1,$B76),Data!$K$10:$K$1069,0),15),"") | I76: =IFERROR(INDEX(Data!$A$10:$O$1069,MATCH(CONCATENATE($C76,I$1,$B76),Data!$K$10:$K$1069,0),15),"")
A77: =COUNTIF($C$1:C77,C77)+1 -> 12 | B77: =VLOOKUP(A77,$K$4:$L$73,2,FALSE) -> (L1T2)E | C77: Thursday | D77: =IFERROR(INDEX(Data!$A$10:$O$1069,MATCH(CONCATENATE($C77,D$1,$B77),Data!$K$10:$K$1069,0),15),"") | E77: =IFERROR(INDEX(Data!$A$10:$O$1069,MATCH(CONCATENATE($C77,E$1,$B77),Data!$K$10:$K$1069,0),15),"") | F77: =IFERROR(INDEX(Data!$A$10:$O$1069,MATCH(CONCATENATE($C77,F$1,$B77),Data!$K$10:$K$1069,0),15),"") | G77: =IFERROR(INDEX(Data!$A$10:$O$1069,MATCH(CONCATENATE($C77,G$1,$B77),Data!$K$10:$K$1069,0),15),"") | H77: =IFERROR(INDEX(Data!$A$10:$O$1069,MATCH(CONCATENATE($C77,H$1,$B77),Data!$K$10:$K$1069,0),15),"") | I77: =IFERROR(INDEX(Data!$A$10:$O$1069,MATCH(CONCATENATE($C77,I$1,$B77),Data!$K$10:$K$1069,0),15),"")
A79: =COUNTIF($C$1:C79,C79)+1 -> 13 | B79: =VLOOKUP(A79,$K$4:$L$73,2,FALSE) -> (L1T3) A | C79: Saturday | D79: =IFERROR(INDEX(Data!$A$10:$O$1069,MATCH(CONCATENATE($C79,D$1,$B79),Data!$K$10:$K$1069,0),15),"") | E79: =IFERROR(INDEX(Data!$A$10:$O$1069,MATCH(CONCATENATE($C79,E$1,$B79),Data!$K$10:$K$1069,0),15),"") | F79: =IFERROR(INDEX(Data!$A$10:$O$1069,MATCH(CONCATENATE($C79,F$1,$B79),Data!$K$10:$K$1069,0),15),"") | G79: =IFERROR(INDEX(Data!$A$10:$O$1069,MATCH(CONCATENATE($C79,G$1,$B79),Data!$K$10:$K$1069,0),15),"") | H79: =IFERROR(INDEX(Data!$A$10:$O$1069,MATCH(CONCATENATE($C79,H$1,$B79),Data!$K$10:$K$1069,0),15),"") | I79: =IFERROR(INDEX(Data!$A$10:$O$1069,MATCH(CONCATENATE($C79,I$1,$B79),Data!$K$10:$K$1069,0),15),"")
A80: =COUNTIF($C$1:C80,C80)+1 -> 13 | B80: =VLOOKUP(A80,$K$4:$L$73,2,FALSE) -> (L1T3) A | C80: Sunday | D80: =IFERROR(INDEX(Data!$A$10:$O$1069,MATCH(CONCATENATE($C80,D$1,$B80),Data!$K$10:$K$1069,0),15),"") | E80: =IFERROR(INDEX(Data!$A$10:$O$1069,MATCH(CONCATENATE($C80,E$1,$B80),Data!$K$10:$K$1069,0),15),"") | F80: =IFERROR(INDEX(Data!$A$10:$O$1069,MATCH(CONCATENATE($C80,F$1,$B80),Data!$K$10:$K$1069,0),15),"") | G80: =IFERROR(INDEX(Data!$A$10:$O$1069,MATCH(CONCATENATE($C80,G$1,$B80),Data!$K$10:$K$1069,0),15),"") | H80: =IFERROR(INDEX(Data!$A$10:$O$1069,MATCH(CONCATENATE($C80,H$1,$B80),Data!$K$10:$K$1069,0),15),"") | I80: =IFERROR(INDEX(Data!$A$10:$O$1069,MATCH(CONCATENATE($C80,I$1,$B80),Data!$K$10:$K$1069,0),15),"")
A81: =COUNTIF($C$1:C81,C81)+1 -> 13 | B81: =VLOOKUP(A81,$K$4:$L$73,2,FALSE) -> (L1T3) A | C81: Monday | D81: =IFERROR(INDEX(Data!$A$10:$O$1069,MATCH(CONCATENATE($C81,D$1,$B81),Data!$K$10:$K$1069,0),15),"") | E81: =IFERROR(INDEX(Data!$A$10:$O$1069,MATCH(CONCATENATE($C81,E$1,$B81),Data!$K$10:$K$1069,0),15),"") | F81: =IFERROR(INDEX(Data!$A$10:$O$1069,MATCH(CONCATENATE($C81,F$1,$B81),Data!$K$10:$K$1069,0),15),"") | G81: =IFERROR(INDEX(Data!$A$10:$O$1069,MATCH(CONCATENATE($C81,G$1,$B81),Data!$K$10:$K$1069,0),15),"") | H81: =IFERROR(INDEX(Data!$A$10:$O$1069,MATCH(CONCATENATE($C81,H$1,$B81),Data!$K$10:$K$1069,0),15),"") | I81: =IFERROR(INDEX(Data!$A$10:$O$1069,MATCH(CONCATENATE($C81,I$1,$B81),Data!$K$10:$K$1069,0),15),"")
A82: =COUNTIF($C$1:C82,C82)+1 -> 13 | B82: =VLOOKUP(A82,$K$4:$L$73,2,FALSE) -> (L1T3) A | C82: Tuesday | D82: =IFERROR(INDEX(Data!$A$10:$O$1069,MATCH(CONCATENATE($C82,D$1,$B82),Data!$K$10:$K$1069,0),15),"") | E82: =IFERROR(INDEX(Data!$A$10:$O$1069,MATCH(CONCATENATE($C82,E$1,$B82),Data!$K$10:$K$1069,0),15),"") | F82: =IFERROR(INDEX(Data!$A$10:$O$1069,MATCH(CONCATENATE($C82,F$1,$B82),Data!$K$10:$K$1069,0),15),"") | G82: =IFERROR(INDEX(Data!$A$10:$O$1069,MATCH(CONCATENATE($C82,G$1,$B82),Data!$K$10:$K$1069,0),15),"") | H82: =IFERROR(INDEX(Data!$A$10:$O$1069,MATCH(CONCATENATE($C82,H$1,$B82),Data!$K$10:$K$1069,0),15),"") | I82: =IFERROR(INDEX(Data!$A$10:$O$1069,MATCH(CONCATENATE($C82,I$1,$B82),Data!$K$10:$K$1069,0),15),"")
A83: =COUNTIF($C$1:C83,C83)+1 -> 13 | B83: =VLOOKUP(A83,$K$4:$L$73,2,FALSE) -> (L1T3) A | C83: Wednesday | D83: =IFERROR(INDEX(Data!$A$10:$O$1069,MATCH(CONCATENATE($C83,D$1,$B83),Data!$K$10:$K$1069,0),15),"") | E83: =IFERROR(INDEX(Data!$A$10:$O$1069,MATCH(CONCATENATE($C83,E$1,$B83),Data!$K$10:$K$1069,0),15),"") | F83: =IFERROR(INDEX(Data!$A$10:$O$1069,MATCH(CONCATENATE($C83,F$1,$B83),Data!$K$10:$K$1069,0),15),"") | G83: =IFERROR(INDEX(Data!$A$10:$O$1069,MATCH(CONCATENATE($C83,G$1,$B83),Data!$K$10:$K$1069,0),15),"") | H83: =IFERROR(INDEX(Data!$A$10:$O$1069,MATCH(CONCATENATE($C83,H$1,$B83),Data!$K$10:$K$1069,0),15),"") | I83: =IFERROR(INDEX(Data!$A$10:$O$1069,MATCH(CONCATENATE($C83,I$1,$B83),Data!$K$10:$K$1069,0),15),"")
A84: =COUNTIF($C$1:C84,C84)+1 -> 13 | B84: =VLOOKUP(A84,$K$4:$L$73,2,FALSE) -> (L1T3) A | C84: Thursday | D84: =IFERROR(INDEX(Data!$A$10:$O$1069,MATCH(CONCATENATE($C84,D$1,$B84),Data!$K$10:$K$1069,0),15),"") | E84: =IFERROR(INDEX(Data!$A$10:$O$1069,MATCH(CONCATENATE($C84,E$1,$B84),Data!$K$10:$K$1069,0),15),"") | F84: =IFERROR(INDEX(Data!$A$10:$O$1069,MATCH(CONCATENATE($C84,F$1,$B84),Data!$K$10:$K$1069,0),15),"") | G84: =IFERROR(INDEX(Data!$A$10:$O$1069,MATCH(CONCATENATE($C84,G$1,$B84),Data!$K$10:$K$1069,0),15),"") | H84: =IFERROR(INDEX(Data!$A$10:$O$1069,MATCH(CONCATENATE($C84,H$1,$B84),Data!$K$10:$K$1069,0),15),"") | I84: =IFERROR(INDEX(Data!$A$10:$O$1069,MATCH(CONCATENATE($C84,I$1,$B84),Data!$K$10:$K$1069,0),15),"")
A86: =COUNTIF($C$1:C86,C86)+1 -> 14 | B86: =VLOOKUP(A86,$K$4:$L$73,2,FALSE) -> (L1T3) B | C86: Saturday | D86: =IFERROR(INDEX(Data!$A$10:$O$1069,MATCH(CONCATENATE($C86,D$1,$B86),Data!$K$10:$K$1069,0),15),"") | E86: =IFERROR(INDEX(Data!$A$10:$O$1069,MATCH(CONCATENATE($C86,E$1,$B86),Data!$K$10:$K$1069,0),15),"") | F86: =IFERROR(INDEX(Data!$A$10:$O$1069,MATCH(CONCATENATE($C86,F$1,$B86),Data!$K$10:$K$1069,0),15),"") | G86: =IFERROR(INDEX(Data!$A$10:$O$1069,MATCH(CONCATENATE($C86,G$1,$B86),Data!$K$10:$K$1069,0),15),"") | H86: =IFERROR(INDEX(Data!$A$10:$O$1069,MATCH(CONCATENATE($C86,H$1,$B86),Data!$K$10:$K$1069,0),15),"") | I86: =IFERROR(INDEX(Data!$A$10:$O$1069,MATCH(CONCATENATE($C86,I$1,$B86),Data!$K$10:$K$1069,0),15),"")
A87: =COUNTIF($C$1:C87,C87)+1 -> 14 | B87: =VLOOKUP(A87,$K$4:$L$73,2,FALSE) -> (L1T3) B | C87: Sunday | D87: =IFERROR(INDEX(Data!$A$10:$O$1069,MATCH(CONCATENATE($C87,D$1,$B87),Data!$K$10:$K$1069,0),15),"") | E87: =IFERROR(INDEX(Data!$A$10:$O$1069,MATCH(CONCATENATE($C87,E$1,$B87),Data!$K$10:$K$1069,0),15),"") | F87: =IFERROR(INDEX(Data!$A$10:$O$1069,MATCH(CONCATENATE($C87,F$1,$B87),Data!$K$10:$K$1069,0),15),"") | G87: =IFERROR(INDEX(Data!$A$10:$O$1069,MATCH(CONCATENATE($C87,G$1,$B87),Data!$K$10:$K$1069,0),15),"") | H87: =IFERROR(INDEX(Data!$A$10:$O$1069,MATCH(CONCATENATE($C87,H$1,$B87),Data!$K$10:$K$1069,0),15),"") | I87: =IFERROR(INDEX(Data!$A$10:$O$1069,MATCH(CONCATENATE($C87,I$1,$B87),Data!$K$10:$K$1069,0),15),"")
... A168: =COUNTIF($C$1:C168,C168)+1 -> 25 | B168: =VLOOKUP(A168,$K$4:$L$73,2,FALSE) -> (L2T1)C | C168: Thursday | D168: =IFERROR(INDEX(Data!$A$10:$O$1069,MATCH(CONCATENATE($C168,D$1,$B168),Data!$K$10:$K$1069,0),15),"") | E168: =IFERROR(INDEX(Data!$A$10:$O$1069,MATCH(CONCATENATE($C168,E$1,$B168),Data!$K$10:$K$1069,0),15),"") | F168: =IFERROR(INDEX(Data!$A$10:$O$1069,MATCH(CONCATENATE($C168,F$1,$B168),Data!$K$10:$K$1069,0),15),"") | G168: =IFERROR(INDEX(Data!$A$10:$O$1069,MATCH(CONCATENATE($C168,G$1,$B168),Data!$K$10:$K$1069,0),15),"") | H168: =IFERROR(INDEX(Data!$A$10:$O$1069,MATCH(CONCATENATE($C168,H$1,$B168),Data!$K$10:$K$1069,0),15),"") | I168: =IFERROR(INDEX(Data!$A$10:$O$1069,MATCH(CONCATENATE($C168,I$1,$B168),Data!$K$10:$K$1069,0),15),"")
A170: 66 | B170: =VLOOKUP(A170,$K$4:$L$73,2,FALSE) -> (L2T1)D | C170: Saturday | D170: =IFERROR(INDEX(Data!$A$10:$O$1069,MATCH(CONCATENATE($C170,D$1,$B170),Data!$K$10:$K$1069,0),15),"") | E170: =IFERROR(INDEX(Data!$A$10:$O$1069,MATCH(CONCATENATE($C170,E$1,$B170),Data!$K$10:$K$1069,0),15),"") | F170: =IFERROR(INDEX(Data!$A$10:$O$1069,MATCH(CONCATENATE($C170,F$1,$B170),Data!$K$10:$K$1069,0),15),"") -> TE211(L2T1)D 801 --- NHM | G170: =IFERROR(INDEX(Data!$A$10:$O$1069,MATCH(CONCATENATE($C170,G$1,$B170),Data!$K$10:$K$1069,0),15),"") | H170: =IFERROR(INDEX(Data!$A$10:$O$1069,MATCH(CONCATENATE($C170,H$1,$B170),Data!$K$10:$K$1069,0),15),"") -> TE213(L2T1)D 704 --- AI | I170: =IFERROR(INDEX(Data!$A$10:$O$1069,MATCH(CONCATENATE($C170,I$1,$B170),Data!$K$10:$K$1069,0),15),"")
A171: 66 | B171: =VLOOKUP(A171,$K$4:$L$73,2,FALSE) -> (L2T1)D | C171: Sunday | D171: =IFERROR(INDEX(Data!$A$10:$O$1069,MATCH(CONCATENATE($C171,D$1,$B171),Data!$K$10:$K$1069,0),15),"") | E171: =IFERROR(INDEX(Data!$A$10:$O$1069,MATCH(CONCATENATE($C171,E$1,$B171),Data!$K$10:$K$1069,0),15),"") -> TE215(L2T1)D 402 --- KZ | F171: =IFERROR(INDEX(Data!$A$10:$O$1069,MATCH(CONCATENATE($C171,F$1,$B171),Data!$K$10:$K$1069,0),15),"") | G171: =IFERROR(INDEX(Data!$A$10:$O$1069,MATCH(CONCATENATE($C171,G$1,$B171),Data!$K$10:$K$1069,0),15),"") | H171: =IFERROR(INDEX(Data!$A$10:$O$1069,MATCH(CONCATENATE($C171,H$1,$B171),Data!$K$10:$K$1069,0),15),"") | I171: =IFERROR(INDEX(Data!$A$10:$O$1069,MATCH(CONCATENATE($C171,I$1,$B171),Data!$K$10:$K$1069,0),15),"")
A172: 66 | B172: =VLOOKUP(A172,$K$4:$L$73,2,FALSE) -> (L2T1)D | C172: Monday | D172: =IFERROR(INDEX(Data!$A$10:$O$1069,MATCH(CONCATENATE($C172,D$1,$B172),Data!$K$10:$K$1069,0),15),"") | E172: =IFERROR(INDEX(Data!$A$10:$O$1069,MATCH(CONCATENATE($C172,E$1,$B172),Data!$K$10:$K$1069,0),15),"") | F172: =IFERROR(INDEX(Data!$A$10:$O$1069,MATCH(CONCATENATE($C172,F$1,$B172),Data!$K$10:$K$1069,0),15),"") | G172: =IFERROR(INDEX(Data!$A$10:$O$1069,MATCH(CONCATENATE($C172,G$1,$B172),Data!$K$10:$K$1069,0),15),"") | H172: =IFERROR(INDEX(Data!$A$10:$O$1069,MATCH(CONCATENATE($C172,H$1,$B172),Data!$K$10:$K$1069,0),15),"") -> TE213(L2T1)D 801 --- AI | I172: =IFERROR(INDEX(Data!$A$10:$O$1069,MATCH(CONCATENATE($C172,I$1,$B172),Data!$K$10:$K$1069,0),15),"") -> GED-211(L2T1)D 803 --- FHS
A173: 66 | B173: =VLOOKUP(A173,$K$4:$L$73,2,FALSE) -> (L2T1)D | C173: Tuesday | D173: =IFERROR(INDEX(Data!$A$10:$O$1069,MATCH(CONCATENATE($C173,D$1,$B173),Data!$K$10:$K$1069,0),15),"") -> TE212(L2T1)D L-Yarn1 --- NHM | E173: =IFERROR(INDEX(Data!$A$10:$O$1069,MATCH(CONCATENATE($C173,E$1,$B173),Data!$K$10:$K$1069,0),15),"") -> TE212(L2T1)D L-Yarn1 --- NHM | F173: =IFERROR(INDEX(Data!$A$10:$O$1069,MATCH(CONCATENATE($C173,F$1,$B173),Data!$K$10:$K$1069,0),15),"") | G173: =IFERROR(INDEX(Data!$A$10:$O$1069,MATCH(CONCATENATE($C173,G$1,$B173),Data!$K$10:$K$1069,0),15),"") -> TE211(L2T1)D 402 --- NHM | H173: =IFERROR(INDEX(Data!$A$10:$O$1069,MATCH(CONCATENATE($C173,H$1,$B173),Data!$K$10:$K$1069,0),15),"") | I173: =IFERROR(INDEX(Data!$A$10:$O$1069,MATCH(CONCATENATE($C173,I$1,$B173),Data!$K$10:$K$1069,0),15),"")
A174: 66 | B174: =VLOOKUP(A174,$K$4:$L$73,2,FALSE) -> (L2T1)D | C174: Wednesday | D174: =IFERROR(INDEX(Data!$A$10:$O$1069,MATCH(CONCATENATE($C174,D$1,$B174),Data!$K$10:$K$1069,0),15),"") | E174: =IFERROR(INDEX(Data!$A$10:$O$1069,MATCH(CONCATENATE($C174,E$1,$B174),Data!$K$10:$K$1069,0),15),"") | F174: =IFERROR(INDEX(Data!$A$10:$O$1069,MATCH(CONCATENATE($C174,F$1,$B174),Data!$K$10:$K$1069,0),15),"") | G174: =IFERROR(INDEX(Data!$A$10:$O$1069,MATCH(CONCATENATE($C174,G$1,$B174),Data!$K$10:$K$1069,0),15),"") -> GED-211(L2T1)D 801 --- FHS | H174: =IFERROR(INDEX(Data!$A$10:$O$1069,MATCH(CONCATENATE($C174,H$1,$B174),Data!$K$10:$K$1069,0),15),"") -> TE214(L2T1)D L-Fab --- AI | I174: =IFERROR(INDEX(Data!$A$10:$O$1069,MATCH(CONCATENATE($C174,I$1,$B174),Data!$K$10:$K$1069,0),15),"") -> TE214(L2T1)D L-Fab --- AI
A175: 66 | B175: =VLOOKUP(A175,$K$4:$L$73,2,FALSE) -> (L2T1)D | C175: Thursday | D175: =IFERROR(INDEX(Data!$A$10:$O$1069,MATCH(CONCATENATE($C175,D$1,$B175),Data!$K$10:$K$1069,0),15),"") | E175: =IFERROR(INDEX(Data!$A$10:$O$1069,MATCH(CONCATENATE($C175,E$1,$B175),Data!$K$10:$K$1069,0),15),"") | F175: =IFERROR(INDEX(Data!$A$10:$O$1069,MATCH(CONCATENATE($C175,F$1,$B175),Data!$K$10:$K$1069,0),15),"") | G175: =IFERROR(INDEX(Data!$A$10:$O$1069,MATCH(CONCATENATE($C175,G$1,$B175),Data!$K$10:$K$1069,0),15),"") -> TE215(L2T1)D 704 --- KZ | H175: =IFERROR(INDEX(Data!$A$10:$O$1069,MATCH(CONCATENATE($C175,H$1,$B175),Data!$K$10:$K$1069,0),15),"") | I175: =IFERROR(INDEX(Data!$A$10:$O$1069,MATCH(CONCATENATE($C175,I$1,$B175),Data!$K$10:$K$1069,0),15),"")
A177: =COUNTIF($C$1:C177,C177)+1 -> 27 | B177: =VLOOKUP(A177,$K$4:$L$73,2,FALSE) -> (L2T2)A | C177: Saturday | D177: =IFERROR(INDEX(Data!$A$10:$O$1069,MATCH(CONCATENATE($C177,D$1,$B177),Data!$K$10:$K$1069,0),15),"") -> TE221(L2T2)A 801 --- SM | E177: =IFERROR(INDEX(Data!$A$10:$O$1069,MATCH(CONCATENATE($C177,E$1,$B177),Data!$K$10:$K$1069,0),15),"") | F177: =IFERROR(INDEX(Data!$A$10:$O$1069,MATCH(CONCATENATE($C177,F$1,$B177),Data!$K$10:$K$1069,0),15),"") -> TE223(L2T2)A 402 --- AAA | G177: =IFERROR(INDEX(Data!$A$10:$O$1069,MATCH(CONCATENATE($C177,G$1,$B177),Data!$K$10:$K$1069,0),15),"") -> TE226(L2T2)A 705 --- SR | H177: =IFERROR(INDEX(Data!$A$10:$O$1069,MATCH(CONCATENATE($C177,H$1,$B177),Data!$K$10:$K$1069,0),15),"") | I177: =IFERROR(INDEX(Data!$A$10:$O$1069,MATCH(CONCATENATE($C177,I$1,$B177),Data!$K$10:$K$1069,0),15),"")
A178: =COUNTIF($C$1:C178,C178)+1 -> 27 | B178: =VLOOKUP(A178,$K$4:$L$73,2,FALSE) -> (L2T2)A | C178: Sunday | D178: =IFERROR(INDEX(Data!$A$10:$O$1069,MATCH(CONCATENATE($C178,D$1,$B178),Data!$K$10:$K$1069,0),15),"") -> TE224(L2T2)A L-QC1 709 --- AAA | E178: =IFERROR(INDEX(Data!$A$10:$O$1069,MATCH(CONCATENATE($C178,E$1,$B178),Data!$K$10:$K$1069,0),15),"") -> TE224(L2T2)A L-QC1 709 --- AAA | F178: =IFERROR(INDEX(Data!$A$10:$O$1069,MATCH(CONCATENATE($C178,F$1,$B178),Data!$K$10:$K$1069,0),15),"") | G178: =IFERROR(INDEX(Data!$A$10:$O$1069,MATCH(CONCATENATE($C178,G$1,$B178),Data!$K$10:$K$1069,0),15),"") | H178: =IFERROR(INDEX(Data!$A$10:$O$1069,MATCH(CONCATENATE($C178,H$1,$B178),Data!$K$10:$K$1069,0),15),"") | I178: =IFERROR(INDEX(Data!$A$10:$O$1069,MATCH(CONCATENATE($C178,I$1,$B178),Data!$K$10:$K$1069,0),15),"")
A179: =COUNTIF($C$1:C179,C179)+1 -> 27 | B179: =VLOOKUP(A179,$K$4:$L$73,2,FALSE) -> (L2T2)A | C179: Monday | D179: =IFERROR(INDEX(Data!$A$10:$O$1069,MATCH(CONCATENATE($C179,D$1,$B179),Data!$K$10:$K$1069,0),15),"") | E179: =IFERROR(INDEX(Data!$A$10:$O$1069,MATCH(CONCATENATE($C179,E$1,$B179),Data!$K$10:$K$1069,0),15),"") | F179: =IFERROR(INDEX(Data!$A$10:$O$1069,MATCH(CONCATENATE($C179,F$1,$B179),Data!$K$10:$K$1069,0),15),"") -> TE223(L2T2)A 402 --- AAA | G179: =IFERROR(INDEX(Data!$A$10:$O$1069,MATCH(CONCATENATE($C179,G$1,$B179),Data!$K$10:$K$1069,0),15),"") | H179: =IFERROR(INDEX(Data!$A$10:$O$1069,MATCH(CONCATENATE($C179,H$1,$B179),Data!$K$10:$K$1069,0),15),"") -> TE226(L2T2)A 704 --- SR | I179: =IFERROR(INDEX(Data!$A$10:$O$1069,MATCH(CONCATENATE($C179,I$1,$B179),Data!$K$10:$K$1069,0),15),"") -> TE221(L2T2)A 801 --- SM
A180: =COUNTIF($C$1:C180,C180)+1 -> 27 | B180: =VLOOKUP(A180,$K$4:$L$73,2,FALSE) -> (L2T2)A | C180: Tuesday | D180: =IFERROR(INDEX(Data!$A$10:$O$1069,MATCH(CONCATENATE($C180,D$1,$B180),Data!$K$10:$K$1069,0),15),"") | E180: =IFERROR(INDEX(Data!$A$10:$O$1069,MATCH(CONCATENATE($C180,E$1,$B180),Data!$K$10:$K$1069,0),15),"") | F180: =IFERROR(INDEX(Data!$A$10:$O$1069,MATCH(CONCATENATE($C180,F$1,$B180),Data!$K$10:$K$1069,0),15),"") -> TE222(L2T2)A L-Col --- 0 | G180: =IFERROR(INDEX(Data!$A$10:$O$1069,MATCH(CONCATENATE($C180,G$1,$B180),Data!$K$10:$K$1069,0),15),"") -> TE222(L2T2)A L-Col --- SM | H180: =IFERROR(INDEX(Data!$A$10:$O$1069,MATCH(CONCATENATE($C180,H$1,$B180),Data!$K$10:$K$1069,0),15),"") -> TE225(L2T2)A 704 --- RI | I180: =IFERROR(INDEX(Data!$A$10:$O$1069,MATCH(CONCATENATE($C180,I$1,$B180),Data!$K$10:$K$1069,0),15),"")
A181: =COUNTIF($C$1:C181,C181)+1 -> 27 | B181: =VLOOKUP(A181,$K$4:$L$73,2,FALSE) -> (L2T2)A | C181: Wednesday | D181: =IFERROR(INDEX(Data!$A$10:$O$1069,MATCH(CONCATENATE($C181,D$1,$B181),Data!$K$10:$K$1069,0),15),"") | E181: =IFERROR(INDEX(Data!$A$10:$O$1069,MATCH(CONCATENATE($C181,E$1,$B181),Data!$K$10:$K$1069,0),15),"") | F181: =IFERROR(INDEX(Data!$A$10:$O$1069,MATCH(CONCATENATE($C181,F$1,$B181),Data!$K$10:$K$1069,0),15),"") | G181: =IFERROR(INDEX(Data!$A$10:$O$1069,MATCH(CONCATENATE($C181,G$1,$B181),Data!$K$10:$K$1069,0),15),"") | H181: =IFERROR(INDEX(Data!$A$10:$O$1069,MATCH(CONCATENATE($C181,H$1,$B181),Data!$K$10:$K$1069,0),15),"") -> TE225(L2T2)A 802 --- RI | I181: =IFERROR(INDEX(Data!$A$10:$O$1069,MATCH(CONCATENATE($C181,I$1,$B181),Data!$K$10:$K$1069,0),15),"")
A182: =COUNTIF($C$1:C182,C182)+1 -> 27 | B182: =VLOOKUP(A182,$K$4:$L$73,2,FALSE) -> (L2T2)A | C182: Thursday | D182: =IFERROR(INDEX(Data!$A$10:$O$1069,MATCH(CONCATENATE($C182,D$1,$B182),Data!$K$10:$K$1069,0),15),"") | E182: =IFERROR(INDEX(Data!$A$10:$O$1069,MATCH(CONCATENATE($C182,E$1,$B182),Data!$K$10:$K$1069,0),15),"") | F182: =IFERROR(INDEX(Data!$A$10:$O$1069,MATCH(CONCATENATE($C182,F$1,$B182),Data!$K$10:$K$1069,0),15),"") | G182: =IFERROR(INDEX(Data!$A$10:$O$1069,MATCH(CONCATENATE($C182,G$1,$B182),Data!$K$10:$K$1069,0),15),"") | H182: =IFERROR(INDEX(Data!$A$10:$O$1069,MATCH(CONCATENATE($C182,H$1,$B182),Data!$K$10:$K$1069,0),15),"") | I182: =IFERROR(INDEX(Data!$A$10:$O$1069,MATCH(CONCATENATE($C182,I$1,$B182),Data!$K$10:$K$1069,0),15),"")
A184: =COUNTIF($C$1:C184,C184)+1 -> 28 | B184: =VLOOKUP(A184,$K$4:$L$73,2,FALSE) -> (L2T2)B | C184: Saturday | D184: =IFERROR(INDEX(Data!$A$10:$O$1069,MATCH(CONCATENATE($C184,D$1,$B184),Data!$K$10:$K$1069,0),15),"") -> TE223(L2T2)B 402 --- AAA | E184: =IFERROR(INDEX(Data!$A$10:$O$1069,MATCH(CONCATENATE($C184,E$1,$B184),Data!$K$10:$K$1069,0),15),"") -> TE226(L2T2)B 704 --- SR | F184: =IFERROR(INDEX(Data!$A$10:$O$1069,MATCH(CONCATENATE($C184,F$1,$B184),Data!$K$10:$K$1069,0),15),"") | G184: =IFERROR(INDEX(Data!$A$10:$O$1069,MATCH(CONCATENATE($C184,G$1,$B184),Data!$K$10:$K$1069,0),15),"") -> TE225(L2T2)B 601 --- RI | H184: =IFERROR(INDEX(Data!$A$10:$O$1069,MATCH(CONCATENATE($C184,H$1,$B184),Data!$K$10:$K$1069,0),15),"") | I184: =IFERROR(INDEX(Data!$A$10:$O$1069,MATCH(CONCATENATE($C184,I$1,$B184),Data!$K$10:$K$1069,0),15),"")
A185: =COUNTIF($C$1:C185,C185)+1 -> 28 | B185: =VLOOKUP(A185,$K$4:$L$73,2,FALSE) -> (L2T2)B | C185: Sunday | D185: =IFERROR(INDEX(Data!$A$10:$O$1069,MATCH(CONCATENATE($C185,D$1,$B185),Data!$K$10:$K$1069,0),15),"") | E185: =IFERROR(INDEX(Data!$A$10:$O$1069,MATCH(CONCATENATE($C185,E$1,$B185),Data!$K$10:$K$1069,0),15),"") | F185: =IFERROR(INDEX(Data!$A$10:$O$1069,MATCH(CONCATENATE($C185,F$1,$B185),Data!$K$10:$K$1069,0),15),"") | G185: =IFERROR(INDEX(Data!$A$10:$O$1069,MATCH(CONCATENATE($C185,G$1,$B185),Data!$K$10:$K$1069,0),15),"") -> TE225(L2T2)B 802 --- RI | H185: =IFERROR(INDEX(Data!$A$10:$O$1069,MATCH(CONCATENATE($C185,H$1,$B185),Data!$K$10:$K$1069,0),15),"") -> TE224(L2T2)B L-QC1 709 --- AAA | I185: =IFERROR(INDEX(Data!$A$10:$O$1069,MATCH(CONCATENATE($C185,I$1,$B185),Data!$K$10:$K$1069,0),15),"") -> TE224(L2T2)B L-QC1 709 --- AAA
...

Sheet T's class
A2: LT | B2: (All)
A4: Count of Course | C4: Time
A5: Teacher | B5: Day | C5: 08:30-10:00 | D5: 10:00-11:30 | E5: 11:30-01:00 | F5: 01:00-02:30 | G5: 2:30-04:00 | H5: 04:00-05:30 | I5: Grand Total
A6: 0 | B6: Sunday | C6: 16 | D6: 16 | E6: 16 | F6: 15 | G6: 19 | H6: 13 | I6: 95
B7: Monday | C7: 16 | D7: 11 | E7: 15 | F7: 13 | G7: 14 | H7: 17 | I7: 86
B8: Tuesday | C8: 19 | D8: 15 | E8: 16 | F8: 14 | G8: 20 | H8: 19 | I8: 103
B9: Wednesday | C9: 19 | D9: 15 | E9: 20 | F9: 18 | G9: 20 | H9: 17 | I9: 109
B10: Thursday | C10: 25 | D10: 25 | E10: 25 | F10: 26 | G10: 26 | H10: 26 | I10: 153
B11: Saturday | C11: 24 | D11: 19 | E11: 18 | F11: 18 | G11: 21 | H11: 23 | I11: 123
A12: 0 Total | C12: 119 | D12: 101 | E12: 110 | F12: 104 | G12: 120 | H12: 115 | I12: 669
A13: AAA | B13: Sunday | C13: 1 | G13: 1 | H13: 1 | I13: 3
B14: Monday | C14: 1 | F14: 1 | G14: 1 | H14: 1 | I14: 4
B15: Tuesday | C15: 1 | I15: 1
B16: Wednesday | C16: 1 | E16: 1 | I16: 2
B17: Saturday | C17: 1 | E17: 1 | F17: 1 | I17: 3
A18: AAA Total | C18: 5 | E18: 2 | F18: 2 | G18: 2 | H18: 2 | I18: 13
A19: AAM | B19: Sunday | D19: 1 | F19: 1 | H19: 1 | I19: 3
B20: Monday | E20: 1 | H20: 1 | I20: 2
B21: Tuesday | F21: 1 | H21: 1 | I21: 2
B22: Wednesday | D22: 2 | F22: 1 | H22: 1 | I22: 4
B23: Saturday | D23: 1 | F23: 1 | G23: 1 | H23: 1 | I23: 4
A24: AAM Total | D24: 4 | E24: 1 | F24: 4 | G24: 1 | H24: 5 | I24: 15
A25: AAT | B25: Sunday | C25: 1 | I25: 1
B26: Tuesday | G26: 1 | I26: 1
A27: AAT Total | C27: 1 | G27: 1 | I27: 2
A28: AG | B28: Sunday | C28: 1 | E28: 1 | F28: 1 | I28: 3
B29: Monday | C29: 1 | D29: 1 | E29: 1 | F29: 2 | G29: 1 | I29: 6
B30: Tuesday | E30: 2 | G30: 1 | I30: 3
B31: Wednesday | D31: 1 | F31: 1 | I31: 2
B32: Saturday | D32: 1 | F32: 1 | I32: 2
A33: AG Total | C33: 2 | D33: 3 | E33: 4 | F33: 5 | G33: 2 | I33: 16
A34: AHM | B34: Sunday | D34: 1 | E34: 1 | F34: 1 | G34: 1 | H34: 1 | I34: 5
B35: Monday | E35: 1 | G35: 1 | I35: 2
B36: Tuesday | D36: 1 | E36: 1 | F36: 1 | H36: 1 | I36: 4
B37: Wednesday | D37: 1 | I37: 1
B38: Saturday | D38: 2 | E38: 1 | F38: 2 | G38: 1 | H38: 1 | I38: 7
A39: AHM Total | D39: 5 | E39: 4 | F39: 4 | G39: 3 | H39: 3 | I39: 19
A40: AHR | B40: Monday | C40: 1 | D40: 1 | I40: 2
A41: AHR Total | C41: 1 | D41: 1 | I41: 2
A42: AI | B42: Sunday | E42: 1 | H42: 1 | I42: 2
B43: Monday | C43: 1 | D43: 1 | F43: 1 | I43: 3
B44: Tuesday | C44: 1 | D44: 1 | I44: 2
B45: Wednesday | E45: 1 | G45: 1 | H45: 1 | I45: 3
B46: Saturday | G46: 1 | I46: 1
A47: AI Total | C47: 2 | D47: 2 | E47: 2 | F47: 1 | G47: 2 | H47: 2 | I47: 11
A48: AN | B48: Sunday | F48: 1 | H48: 1 | I48: 2
B49: Monday | F49: 1 | I49: 1
B50: Tuesday | G50: 1 | H50: 1 | I50: 2
B51: Saturday | F51: 1 | H51: 1 | I51: 2
A52: AN Total | F52: 3 | G52: 1 | H52: 3 | I52: 7
A53: FBS | B53: Sunday | H53: 1 | I53: 1
B54: Tuesday | H54: 1 | I54: 1
B55: Saturday | E55: 1 | F55: 1 | G55: 1 | H55: 1 | I55: 4
A56: FBS Total | E56: 1 | F56: 1 | G56: 1 | H56: 3 | I56: 6
A57: FHA | B57: Sunday | C57: 1 | D57: 1 | F57: 1 | I57: 3
B58: Monday | E58: 1 | G58: 1 | I58: 2
B59: Tuesday | C59: 1 | D59: 1 | E59: 1 | F59: 1 | I59: 4
B60: Saturday | C60: 1 | D60: 1 | F60: 1 | I60: 3
A61: FHA Total | C61: 3 | D61: 3 | E61: 2 | F61: 3 | G61: 1 | I61: 12
A62: FHS | B62: Tuesday | C62: 1 | H62: 1 | I62: 2
B63: Wednesday | C63: 1 | H63: 1 | I63: 2
A64: FHS Total | C64: 2 | H64: 2 | I64: 4
A65: FS | B65: Sunday | F65: 1 | H65: 1 | I65: 2
B66: Wednesday | C66: 1 | D66: 2 | I66: 3
B67: Saturday | E67: 1 | F67: 1 | H67: 1 | I67: 3
A68: FS Total | C68: 1 | D68: 2 | E68: 1 | F68: 2 | H68: 2 | I68: 8
A69: GC | B69: Tuesday | E69: 1 | F69: 1 | I69: 2
B70: Wednesday | E70: 1 | I70: 1
A71: GC Total | E71: 2 | F71: 1 | I71: 3
A72: IUZ | B72: Sunday | H72: 1 | I72: 1
B73: Wednesday | H73: 1 | I73: 1
B74: Thursday | C74: 1 | D74: 1 | I74: 2
A75: IUZ Total | C75: 1 | D75: 1 | H75: 2 | I75: 4
A76: JH | B76: Thursday | G76: 1 | H76: 1 | I76: 2
B77: Saturday | C77: 1 | D77: 1 | I77: 2
A78: JH Total | C78: 1 | D78: 1 | G78: 1 | H78: 1 | I78: 4
A79: KZ | B79: Sunday | C79: 1 | E79: 1 | I79: 2
B80: Monday | D80: 1 | F80: 1 | H80: 1 | I80: 3
B81: Tuesday | C81: 1 | D81: 1 | E81: 1 | G81: 2 | I81: 5
B82: Wednesday | D82: 1 | F82: 1 | I82: 2
B83: Saturday | E83: 1 | I83: 1
A84: KZ Total | C84: 2 | D84: 3 | E84: 3 | F84: 2 | G84: 2 | H84: 1 | I84: 13
A85: MAB | B85: Sunday | E85: 1 | G85: 1 | H85: 1 | I85: 3
B86: Monday | E86: 1 | G86: 1 | H86: 1 | I86: 3
B87: Tuesday | E87: 1 | G87: 1 | I87: 2
B88: Wednesday | E88: 1 | G88: 1 | I88: 2
B89: Saturday | E89: 1 | G89: 1 | I89: 2
A90: MAB Total | E90: 5 | G90: 5 | H90: 2 | I90: 12
A91: MDN | B91: Sunday | C91: 1 | I91: 1
A92: MDN Total | C92: 1 | I92: 1
A93: MH | B93: Sunday | C93: 1 | D93: 1 | E93: 1 | F93: 1 | I93: 4
B94: Monday | D94: 1 | F94: 2 | I94: 3
B95: Tuesday | D95: 2 | F95: 2 | I95: 4
A96: MH Total | C96: 1 | D96: 4 | E96: 1 | F96: 5 | I96: 11
A97: MHR | B97: Tuesday | E97: 1 | F97: 1 | G97: 1 | H97: 1 | I97: 4
B98: Wednesday | E98: 1 | I98: 1
B99: Saturday | G99: 1 | H99: 1 | I99: 2
A100: MHR Total | E100: 2 | F100: 1 | G100: 2 | H100: 2 | I100: 7
A101: MK | B101: Sunday | D101: 1 | I101: 1
B102: Monday | C102: 1 | D102: 2 | I102: 3
...

Sheet S's class
A2: LT | B2: (All)
A4: Count of Course | C4: Time
A5: Section | B5: Day | C5: 08:30-10:00 | D5: 10:00-11:30 | E5: 11:30-01:00 | F5: 01:00-02:30 | G5: 2:30-04:00 | H5: 04:00-05:30 | I5: Grand Total
A6: 0 | B6: Sunday | C6: 15 | D6: 15 | E6: 12 | F6: 12 | G6: 13 | H6: 12 | I6: 79
B7: Monday | C7: 10 | D7: 7 | E7: 9 | F7: 9 | G7: 11 | H7: 15 | I7: 61
B8: Tuesday | C8: 12 | D8: 11 | E8: 10 | F8: 9 | G8: 18 | H8: 18 | I8: 78
B9: Wednesday | C9: 15 | D9: 12 | E9: 15 | F9: 15 | G9: 14 | H9: 15 | I9: 86
B10: Thursday | C10: 24 | D10: 24 | E10: 23 | F10: 24 | G10: 26 | H10: 26 | I10: 147
B11: Saturday | C11: 22 | D11: 17 | E11: 14 | F11: 17 | G11: 19 | H11: 23 | I11: 112
A12: 0 Total | C12: 98 | D12: 86 | E12: 83 | F12: 86 | G12: 101 | H12: 109 | I12: 563
B13: Tuesday | E13: 1 | F13: 1 | I13: 2
A14: Total | E14: 1 | F14: 1 | I14: 2
B15: Tuesday | E15: 1 | F15: 1 | I15: 2
A16: Total | E16: 1 | F16: 1 | I16: 2
A17: (L1T1)A | B17: Monday | C17: 1 | D17: 1 | I17: 2
B18: Wednesday | C18: 1 | D18: 1 | F18: 1 | I18: 3
B19: Saturday | F19: 1 | G19: 1 | I19: 2
A20: (L1T1)A Total | C20: 2 | D20: 2 | F20: 2 | G20: 1 | I20: 7
A21: (L1T1)B | B21: Sunday | C21: 1 | I21: 1
B22: Monday | E22: 1 | F22: 1 | G22: 1 | I22: 3
B23: Tuesday | G23: 1 | I23: 1
A24: (L1T1)B Total | C24: 1 | E24: 1 | F24: 1 | G24: 2 | I24: 5
A25: (L1T1)C | B25: Monday | C25: 1 | D25: 1 | G25: 1 | H25: 2 | I25: 5
B26: Wednesday | G26: 1 | H26: 1 | I26: 2
B27: Saturday | H27: 1 | I27: 1
A28: (L1T1)C Total | C28: 1 | D28: 1 | G28: 2 | H28: 4 | I28: 8
A29: (L1T1)D | B29: Tuesday | C29: 1 | D29: 1 | I29: 2
A30: (L1T1)D Total | C30: 1 | D30: 1 | I30: 2
A31: (L1T2)A | B31: Sunday | C31: 1 | D31: 1 | E31: 1 | I31: 3
B32: Tuesday | C32: 2 | D32: 1 | G32: 1 | I32: 4
A33: (L1T2)A Total | C33: 3 | D33: 2 | E33: 1 | G33: 1 | I33: 7
A34: (L1T2)B | B34: Sunday | C34: 1 | G34: 1 | H34: 1 | I34: 3
B35: Monday | C35: 1 | D35: 1 | I35: 2
B36: Tuesday | E36: 1 | I36: 1
B37: Wednesday | F37: 1 | I37: 1
A38: (L1T2)B Total | C38: 2 | D38: 1 | E38: 1 | F38: 1 | G38: 1 | H38: 1 | I38: 7
A39: (L1T2)C | B39: Monday | E39: 1 | F39: 1 | I39: 2
B40: Tuesday | G40: 1 | I40: 1
B41: Wednesday | C41: 1 | D41: 2 | G41: 1 | I41: 4
A42: (L1T2)C Total | C42: 1 | D42: 2 | E42: 1 | F42: 1 | G42: 2 | I42: 7
A43: (L1T2)D | B43: Monday | G43: 1 | H43: 1 | I43: 2
B44: Wednesday | E44: 1 | F44: 1 | G44: 1 | I44: 3
B45: Saturday | E45: 1 | I45: 1
A46: (L1T2)D Total | E46: 2 | F46: 1 | G46: 2 | H46: 1 | I46: 6
A47: (L1T2)E | B47: Tuesday | E47: 1 | F47: 1 | H47: 1 | I47: 3
B48: Wednesday | G48: 1 | H48: 1 | I48: 2
B49: Saturday | H49: 1 | I49: 1
A50: (L1T2)E Total | E50: 1 | F50: 1 | G50: 1 | H50: 3 | I50: 6
A51: (L1T3) A | B51: Thursday | E51: 1 | F51: 1 | I51: 2
A52: (L1T3) A Total | E52: 1 | F52: 1 | I52: 2
A53: (L1T3) B | B53: Tuesday | E53: 1 | F53: 1 | I53: 2
A54: (L1T3) B Total | E54: 1 | F54: 1 | I54: 2
A55: (L1T3) C | B55: Monday | E55: 1 | F55: 1 | I55: 2
A56: (L1T3) C Total | E56: 1 | F56: 1 | I56: 2
A57: (L1T3) D | B57: Sunday | E57: 1 | F57: 1 | I57: 2
A58: (L1T3) D Total | E58: 1 | F58: 1 | I58: 2
A59: (L1T3)A | B59: Sunday | C59: 1 | D59: 1 | H59: 1 | I59: 3
B60: Monday | E60: 1 | F60: 1 | I60: 2
B61: Saturday | C61: 2 | D61: 1 | I61: 3
A62: (L1T3)A Total | C62: 3 | D62: 2 | E62: 1 | F62: 1 | H62: 1 | I62: 8
A63: (L1T3)B | B63: Sunday | D63: 1 | E63: 1 | F63: 1 | G63: 1 | I63: 4
B64: Monday | G64: 1 | I64: 1
B65: Tuesday | F65: 1 | I65: 1
B66: Wednesday | E66: 1 | F66: 1 | I66: 2
B67: Saturday | E67: 1 | G67: 1 | I67: 2
A68: (L1T3)B Total | D68: 1 | E68: 3 | F68: 3 | G68: 3 | I68: 10
A69: (L1T3)C | B69: Sunday | F69: 1 | G69: 2 | I69: 3
B70: Tuesday | D70: 1 | I70: 1
B71: Saturday | D71: 1 | G71: 1 | I71: 2
A72: (L1T3)C Total | D72: 2 | F72: 1 | G72: 3 | I72: 6
A73: (L1T3)D | B73: Sunday | D73: 1 | I73: 1
B74: Monday | C74: 1 | D74: 1 | I74: 2
B75: Tuesday | C75: 1 | I75: 1
B76: Wednesday | D76: 1 | I76: 1
B77: Saturday | G77: 1 | I77: 1
A78: (L1T3)D Total | C78: 2 | D78: 3 | G78: 1 | I78: 6
A79: (L2T1)A | B79: Sunday | D79: 1 | E79: 1 | F79: 1 | G79: 1 | I79: 4
B80: Monday | C80: 1 | D80: 1 | E80: 1 | F80: 1 | H80: 1 | I80: 5
B81: Tuesday | D81: 1 | F81: 1 | H81: 1 | I81: 3
B82: Wednesday | C82: 1 | I82: 1
B83: Saturday | D83: 2 | E83: 1 | F83: 1 | G83: 1 | H83: 2 | I83: 7
A84: (L2T1)A Total | C84: 2 | D84: 5 | E84: 3 | F84: 4 | G84: 2 | H84: 4 | I84: 20
A85: (L2-T1)A | B85: Wednesday | E85: 1 | F85: 1 | I85: 2
A86: (L2-T1)A Total | E86: 1 | F86: 1 | I86: 2
A87: (L2T1)B | B87: Sunday | C87: 1 | D87: 1 | E87: 1 | F87: 1 | G87: 1 | H87: 1 | I87: 6
B88: Monday | D88: 1 | E88: 1 | G88: 1 | I88: 3
B89: Tuesday | C89: 1 | D89: 2 | H89: 1 | I89: 4
B90: Wednesday | D90: 1 | I90: 1
B91: Saturday | D91: 1 | E91: 1 | F91: 1 | I91: 3
A92: (L2T1)B Total | C92: 2 | D92: 6 | E92: 3 | F92: 2 | G92: 2 | H92: 2 | I92: 17
A93: (L2-T1)B | B93: Monday | E93: 1 | F93: 1 | I93: 2
B94: Wednesday | G94: 1 | H94: 1 | I94: 2
A95: (L2-T1)B Total | E95: 1 | F95: 1 | G95: 1 | H95: 1 | I95: 4
A96: (L2T1)C | B96: Monday | G96: 1 | I96: 1
B97: Tuesday | E97: 1 | I97: 1
B98: Wednesday | H98: 1 | I98: 1
B99: Saturday | E99: 1 | I99: 1
A100: (L2T1)C Total | E100: 2 | G100: 1 | H100: 1 | I100: 4
A101: (L2T1)PC | B101: Tuesday | E101: 1 | F101: 1 | I101: 2
A102: (L2T1)PC Total | E102: 1 | F102: 1 | I102: 2
...

Sheet T wise class
A2: LT | B2: (All)
A4: Teacher | B4: Section | C4: Day | D4: Count of Course
A5: 0 | B5: 0 | D5: 550
B6: (L1T3)A | D6: 2
B7: (L1T3)B | D7: 4
B8: (L2T1)A | D8: 2
B9: (L2T1)B | D9: 2
B10: (L2T2)B | D10: 2
B11: (L2T2)C | D11: 1
B12: (L2T3)A | D12: 3
B13: (L2T3)B | D13: 3
B14: (L3T1)A | D14: 1
B15: (L3T2)A | D15: 3
B16: (L3T2)B | D16: 3
B17: (L4T2)A | C17: Monday | D17: 1
B18: (L4T2)B | C18: Tuesday | D18: 1
B19: (L1T2)A | C19: Sunday | D19: 2
C20: Tuesday | D20: 2
B21: (L1T2)B | C21: Sunday | D21: 2
C22: Monday | D22: 2
B23: (L1T2)C | C23: Monday | D23: 2
C24: Wednesday | D24: 2
B25: (L1T2)D | C25: Monday | D25: 2
C26: Wednesday | D26: 2
B27: (L1T1)A | C27: Monday | D27: 2
C28: Wednesday | D28: 2
B29: (L1T1)C | C29: Monday | D29: 4
B30: (L1T1)B | C30: Monday | D30: 2
B31: (L1T3)C | C31: Sunday | D31: 1
C32: Saturday | D32: 1
B33: (L1T3)D | C33: Monday | D33: 1
C34: Tuesday | D34: 1
B35: (L1T2)E | C35: Tuesday | D35: 2
C36: Wednesday | D36: 2
B37: (L1T3) D | C37: Sunday | D37: 2
B38: xxxxxxxx | C38: Sunday | D38: 1
B39: UC | C39: Tuesday | D39: 6
C40: Tuesday | D40: 2
C41: Tuesday | D41: 2
B42: PC | C42: Wednesday | D42: 2
B43: MRC | C43: Saturday | D43: 3
B44: DIC | C44: Sunday | D44: 4
C45: Monday | D45: 4
C46: Tuesday | D46: 4
C47: Wednesday | D47: 4
C48: Thursday | D48: 4
C49: Saturday | D49: 4
B50: ETE | C50: Monday | D50: 1
C51: Tuesday | D51: 1
C52: Wednesday | D52: 1
B53: (L1T3) C | C53: Monday | D53: 2
B54: (L1T3) B | C54: Tuesday | D54: 2
B55: (L4T2)C | C55: Wednesday | D55: 1
B56: xxxxxxxxxx | C56: Monday | D56: 1
B57: (L1T1)D | C57: Tuesday | D57: 2
B58: YM-1 UC | C58: Tuesday | D58: 2
B59: (L1T3) A | C59: Thursday | D59: 2
A60: 0 Total | D60: 669
A61: AAA | B61: (L2T2)A | D61: 4
B62: (L2T2)B | D62: 5
B63: (L2T2)C | D63: 4
A64: AAA Total | D64: 13
A65: AAM | B65: (L2T3)A | D65: 4
B66: (L4T2)A | C66: Sunday | D66: 1
C67: Monday | D67: 2
B68: (L4T2)B | C68: Tuesday | D68: 1
B69: (L3T2) A | C69: Wednesday | D69: 1
C70: Saturday | D70: 1
B71: (L3T2) B | C71: Sunday | D71: 1
C72: Wednesday | D72: 1
C73: Saturday | D73: 1
B74: (L4T2)C | C74: Sunday | D74: 1
C75: Wednesday | D75: 1
A76: AAM Total | D76: 15
A77: AAT | B77: (L1T1)B | C77: Sunday | D77: 1
C78: Tuesday | D78: 1
A79: AAT Total | D79: 2
A80: AG | B80: (L2T1)C | D80: 2
B81: (L3T1)A | D81: 2
B82: (L3T1)B | D82: 2
B83: (L4T1)A | D83: 2
B84: (L4T1)B | C84: Wednesday | D84: 1
C85: Saturday | D85: 1
B86: (L3T1) A | C86: Monday | D86: 1
C87: Tuesday | D87: 1
B88: (L2-T1)B | C88: Monday | D88: 2
B89: (L3T1) B | C89: Sunday | D89: 1
C90: Tuesday | D90: 1
A91: AG Total | D91: 16
A92: AHM | B92: (L2T1)A | D92: 8
B93: (L2T1)B | D93: 9
B94: (L2T1)PC | C94: Tuesday | D94: 2
A95: AHM Total | D95: 19
A96: AHR | B96: (L3T2)C | C96: Monday | D96: 2
A97: AHR Total | D97: 2
A98: AI | B98: (L3T2)A | D98: 2
B99: (L3T2)B | D99: 7
B100: (L2-T1)B | C100: Wednesday | D100: 2
A101: AI Total | D101: 11
A102: AN | B102: 0 | D102: 3
...

Sheet Section wise class
A4: Count of Course | D4: Time
A5: LT | B5: Section | C5: Day | D5: 08:30-10:00 | E5: 10:00-11:30 | F5: 11:30-01:00 | G5: 01:00-02:30 | H5: 2:30-04:00 | I5: 04:00-05:30 | J5: Grand Total
C6: Tuesday | F6: 1 | G6: 1 | J6: 2
C7: Tuesday | F7: 1 | G7: 1 | J7: 2
A8: C | B8: PC | C8: Monday | H8: 1 | I8: 1 | J8: 2
C9: Wednesday | H9: 1 | I9: 1 | J9: 2
B10: UC | C10: Tuesday | D10: 4 | E10: 4 | F10: 2 | G10: 2 | H10: 3 | I10: 3 | J10: 18
A11: E426 | B11: TE426L4T2) | C11: Monday | D11: 1 | E11: 1 | J11: 2
A12: IC | B12: DIC | C12: Sunday | D12: 1 | E12: 1 | F12: 1 | G12: 1 | J12: 4
C13: Monday | D13: 1 | E13: 1 | F13: 1 | G13: 1 | J13: 4
C14: Tuesday | D14: 1 | E14: 1 | F14: 1 | G14: 1 | J14: 4
C15: Wednesday | D15: 1 | E15: 1 | F15: 1 | G15: 1 | J15: 4
C16: Thursday | D16: 1 | E16: 1 | F16: 1 | G16: 1 | J16: 4
C17: Saturday | D17: 1 | E17: 1 | F17: 1 | G17: 1 | J17: 4
A18: L1T1 | B18: (L1T1)A | C18: Monday | D18: 1 | E18: 1 | J18: 2
C19: Wednesday | D19: 1 | E19: 1 | G19: 1 | J19: 3
C20: Saturday | G20: 1 | H20: 1 | J20: 2
B21: (L1T1)B | C21: Sunday | D21: 1 | J21: 1
C22: Monday | F22: 1 | G22: 1 | H22: 1 | J22: 3
C23: Tuesday | H23: 1 | J23: 1
B24: (L1T1)C | C24: Monday | D24: 1 | E24: 1 | H24: 1 | I24: 2 | J24: 5
C25: Wednesday | H25: 1 | I25: 1 | J25: 2
C26: Saturday | I26: 1 | J26: 1
B27: (L1T1)D | C27: Tuesday | D27: 1 | E27: 1 | J27: 2
A28: L1T2 | B28: (L1T2)A | C28: Sunday | D28: 1 | E28: 1 | F28: 1 | J28: 3
C29: Tuesday | D29: 2 | E29: 1 | H29: 1 | J29: 4
B30: (L1T2)B | C30: Sunday | D30: 1 | H30: 1 | I30: 1 | J30: 3
C31: Monday | D31: 1 | E31: 1 | J31: 2
C32: Tuesday | F32: 1 | J32: 1
C33: Wednesday | G33: 1 | J33: 1
B34: (L1T2)C | C34: Monday | F34: 1 | G34: 1 | J34: 2
C35: Tuesday | H35: 1 | J35: 1
C36: Wednesday | D36: 1 | E36: 2 | H36: 1 | J36: 4
B37: (L1T2)D | C37: Monday | H37: 1 | I37: 1 | J37: 2
C38: Wednesday | F38: 1 | G38: 1 | H38: 1 | J38: 3
C39: Saturday | F39: 1 | J39: 1
B40: (L1T2)E | C40: Tuesday | F40: 1 | G40: 1 | I40: 1 | J40: 3
C41: Wednesday | H41: 1 | I41: 1 | J41: 2
C42: Saturday | I42: 1 | J42: 1
A43: L1T3 | B43: (L1T3) A | C43: Thursday | F43: 1 | G43: 1 | J43: 2
B44: (L1T3) B | C44: Tuesday | F44: 1 | G44: 1 | J44: 2
B45: (L1T3) C | C45: Monday | F45: 1 | G45: 1 | J45: 2
B46: (L1T3) D | C46: Sunday | F46: 1 | G46: 1 | J46: 2
B47: (L1T3)A | C47: Sunday | D47: 1 | E47: 1 | I47: 1 | J47: 3
C48: Monday | F48: 1 | G48: 1 | J48: 2
C49: Saturday | D49: 2 | E49: 1 | J49: 3
B50: (L1T3)B | C50: Sunday | E50: 1 | F50: 1 | G50: 1 | H50: 1 | J50: 4
C51: Monday | H51: 1 | J51: 1
C52: Tuesday | G52: 1 | J52: 1
C53: Wednesday | F53: 1 | G53: 1 | J53: 2
C54: Saturday | F54: 1 | H54: 1 | J54: 2
B55: (L1T3)C | C55: Sunday | G55: 1 | H55: 2 | J55: 3
C56: Tuesday | E56: 1 | J56: 1
C57: Saturday | E57: 1 | H57: 1 | J57: 2
B58: (L1T3)D | C58: Sunday | E58: 1 | J58: 1
C59: Monday | D59: 1 | E59: 1 | J59: 2
C60: Tuesday | D60: 1 | J60: 1
C61: Wednesday | E61: 1 | J61: 1
C62: Saturday | H62: 1 | J62: 1
A63: L2-T | B63: (L2-T1)A | C63: Wednesday | F63: 1 | G63: 1 | J63: 2
B64: (L2-T1)B | C64: Monday | F64: 1 | G64: 1 | J64: 2
C65: Wednesday | H65: 1 | I65: 1 | J65: 2
A66: L2T1 | B66: (L2T1)A | C66: Sunday | E66: 1 | F66: 1 | G66: 1 | H66: 1 | J66: 4
C67: Monday | D67: 1 | E67: 1 | F67: 1 | G67: 1 | I67: 1 | J67: 5
C68: Tuesday | E68: 1 | G68: 1 | I68: 1 | J68: 3
C69: Wednesday | D69: 1 | J69: 1
C70: Saturday | E70: 2 | F70: 1 | G70: 1 | H70: 1 | I70: 2 | J70: 7
B71: (L2T1)B | C71: Sunday | D71: 1 | E71: 1 | F71: 1 | G71: 1 | H71: 1 | I71: 1 | J71: 6
C72: Monday | E72: 1 | F72: 1 | H72: 1 | J72: 3
C73: Tuesday | D73: 1 | E73: 2 | I73: 1 | J73: 4
C74: Wednesday | E74: 1 | J74: 1
C75: Saturday | E75: 1 | F75: 1 | G75: 1 | J75: 3
B76: (L2T1)C | C76: Monday | H76: 1 | J76: 1
C77: Tuesday | F77: 1 | J77: 1
C78: Wednesday | I78: 1 | J78: 1
C79: Saturday | F79: 1 | J79: 1
B80: (L2T1)PC | C80: Tuesday | F80: 1 | G80: 1 | J80: 2
A81: L2T2 | B81: (L2T2)A | C81: Sunday | H81: 1 | J81: 1
C82: Monday | D82: 1 | F82: 1 | G82: 1 | H82: 1 | I82: 1 | J82: 5
C83: Tuesday | D83: 1 | J83: 1
C84: Wednesday | F84: 1 | G84: 1 | J84: 2
C85: Saturday | D85: 1 | E85: 1 | F85: 1 | G85: 1 | H85: 1 | J85: 5
B86: (L2T2)B | C86: Sunday | D86: 2 | E86: 1 | G86: 1 | H86: 2 | I86: 2 | J86: 8
C87: Monday | F87: 1 | G87: 1 | H87: 1 | I87: 1 | J87: 4
C88: Wednesday | G88: 1 | J88: 1
C89: Saturday | D89: 1 | E89: 1 | G89: 1 | J89: 3
B90: (L2T2)C | C90: Sunday | I90: 1 | J90: 1
C91: Monday | E91: 1 | J91: 1
C92: Tuesday | E92: 1 | J92: 1
C93: Wednesday | D93: 1 | F93: 1 | H93: 1 | I93: 1 | J93: 4
C94: Saturday | F94: 1 | G94: 1 | I94: 1 | J94: 3
A95: L2T3 | B95: (L2T3)A | C95: Sunday | F95: 1 | H95: 1 | J95: 2
C96: Tuesday | F96: 2 | G96: 2 | J96: 4
C97: Wednesday | E97: 1 | F97: 2 | G97: 1 | H97: 1 | I97: 1 | J97: 6
C98: Thursday | D98: 1 | J98: 1
C99: Saturday | E99: 1 | H99: 1 | I99: 1 | J99: 3
B100: (L2T3)B | C100: Sunday | H100: 1 | I100: 1 | J100: 2
C101: Monday | E101: 1 | F101: 1 | G101: 1 | J101: 3
C102: Tuesday | H102: 1 | J102: 1
C103: Wednesday | H103: 2 | J103: 2
...

Sheet student's movement
A2: LT | B2: L2T3
A4: Count of Course | D4: Class room
A5: Section | B5: Day | C5: Time | D5: 702 | E5: 704 | F5: 705 | G5: 707 | H5: 711 | I5: L-App | J5: L-Draw | K5: L-mec | L5: 801 | M5: 802 | N5: 808 | O5: Grand Total
A6: (L2T3)B | B6: Sunday | C6: 2:30-04:00 | F6: 1 | O6: 1
C7: 04:00-05:30 | H7: 1 | O7: 1
B8: Monday | C8: 10:00-11:30 | L8: 1 | O8: 1
C9: 11:30-01:00 | I9: 1 | O9: 1
C10: 01:00-02:30 | I10: 1 | O10: 1
B11: Tuesday | C11: 2:30-04:00 | L11: 1 | O11: 1
B12: Wednesday | C12: 2:30-04:00 | D12: 1 | N12: 1 | O12: 2
B13: Thursday | C13: 10:00-11:30 | N13: 1 | O13: 1
B14: Saturday | C14: 10:00-11:30 | L14: 1 | O14: 1
C15: 11:30-01:00 | D15: 1 | I15: 1 | M15: 1 | O15: 3
C16: 01:00-02:30 | E16: 1 | I16: 1 | O16: 2
C17: 2:30-04:00 | K17: 1 | O17: 1
C18: 04:00-05:30 | K18: 1 | O18: 1
A19: (L2T3)A | B19: Sunday | C19: 11:30-01:00 | G19: 1 | O19: 1
C20: 2:30-04:00 | H20: 1 | O20: 1
B21: Tuesday | C21: 11:30-01:00 | H21: 1 | L21: 1 | O21: 2
C22: 01:00-02:30 | E22: 1 | H22: 1 | O22: 2
B23: Wednesday | C23: 10:00-11:30 | L23: 1 | O23: 1
C24: 11:30-01:00 | D24: 1 | J24: 1 | O24: 2
C25: 01:00-02:30 | J25: 1 | O25: 1
C26: 2:30-04:00 | E26: 1 | O26: 1
C27: 04:00-05:30 | N27: 1 | O27: 1
B28: Thursday | C28: 08:30-10:00 | N28: 1 | O28: 1
B29: Saturday | C29: 10:00-11:30 | E29: 1 | O29: 1
C30: 2:30-04:00 | I30: 1 | O30: 1
C31: 04:00-05:30 | I31: 1 | O31: 1
A32: Grand Total | D32: 3 | E32: 4 | F32: 1 | G32: 1 | H32: 4 | I32: 6 | J32: 2 | K32: 2 | L32: 5 | M32: 1 | N32: 4 | O32: 33

Sheet Data
A1: ='Teacher''s routine'!B8 -> 0 | B1: No. of Classroom | C1: 12 | D1: 08:30-10:00 | E1: 10:00-11:30 | F1: 11:30-01:00 | G1: 01:00-02:30 | H1: 2:30-04:00 | I1: 04:00-05:30 | K1: 08:30-10:00 | L1: A | P1: Faculty List | R1: Faculty List
B2: Saturday | C2: 6 | D2: =IF($A$1=1,IFERROR(INDEX($A$10:$O$1069,MATCH(CONCATENATE($B2,D$1,$A$3),$J$10:$J$1069,0),15),""),IFERROR(INDEX($A$10:$O$1069,MATCH(CONCATENATE($B2,D$1,$A$5),$K$10:$K$1069,0),15),"")) | E2: =IF($A$1=1,IFERROR(INDEX($A$10:$O$1069,MATCH(CONCATENATE($B2,E$1,$A$3),$J$10:$J$1069,0),15),""),IFERROR(INDEX($A$10:$O$1069,MATCH(CONCATENATE($B2,E$1,$A$5),$K$10:$K$1069,0),15),"")) | F2: =IF($A$1=1,IFERROR(INDEX($A$10:$O$1069,MATCH(CONCATENATE($B2,F$1,$A$3),$J$10:$J$1069,0),15),""),IFERROR(INDEX($A$10:$O$1069,MATCH(CONCATENATE($B2,F$1,$A$5),$K$10:$K$1069,0),15),"")) | G2: =IF($A$1=1,IFERROR(INDEX($A$10:$O$1069,MATCH(CONCATENATE($B2,G$1,$A$3),$J$10:$J$1069,0),15),""),IFERROR(INDEX($A$10:$O$1069,MATCH(CONCATENATE($B2,G$1,$A$5),$K$10:$K$1069,0),15),"")) | H2: =IF($A$1=1,IFERROR(INDEX($A$10:$O$1069,MATCH(CONCATENATE($B2,H$1,$A$3),$J$10:$J$1069,0),15),""),IFERROR(INDEX($A$10:$O$1069,MATCH(CONCATENATE($B2,H$1,$A$5),$K$10:$K$1069,0),15),"")) | I2: =IF($A$1=1,IFERROR(INDEX($A$10:$O$1069,MATCH(CONCATENATE($B2,I$1,$A$3),$J$10:$J$1069,0),15),""),IFERROR(INDEX($A$10:$O$1069,MATCH(CONCATENATE($B2,I$1,$A$5),$K$10:$K$1069,0),15),"")) | K2: 10:00-11:30 | L2: D
A3: AI | B3: Sunday | C3: 39 | D3: =IF($A$1=1,IFERROR(INDEX($A$10:$O$1069,MATCH(CONCATENATE($B3,D$1,$A$3),$J$10:$J$1069,0),15),""),IFERROR(INDEX($A$10:$O$1069,MATCH(CONCATENATE($B3,D$1,$A$5),$K$10:$K$1069,0),15),"")) | E3: =IF($A$1=1,IFERROR(INDEX($A$10:$O$1069,MATCH(CONCATENATE($B3,E$1,$A$3),$J$10:$J$1069,0),15),""),IFERROR(INDEX($A$10:$O$1069,MATCH(CONCATENATE($B3,E$1,$A$5),$K$10:$K$1069,0),15),"")) | F3: =IF($A$1=1,IFERROR(INDEX($A$10:$O$1069,MATCH(CONCATENATE($B3,F$1,$A$3),$J$10:$J$1069,0),15),""),IFERROR(INDEX($A$10:$O$1069,MATCH(CONCATENATE($B3,F$1,$A$5),$K$10:$K$1069,0),15),"")) | G3: =IF($A$1=1,IFERROR(INDEX($A$10:$O$1069,MATCH(CONCATENATE($B3,G$1,$A$3),$J$10:$J$1069,0),15),""),IFERROR(INDEX($A$10:$O$1069,MATCH(CONCATENATE($B3,G$1,$A$5),$K$10:$K$1069,0),15),"")) | H3: =IF($A$1=1,IFERROR(INDEX($A$10:$O$1069,MATCH(CONCATENATE($B3,H$1,$A$3),$J$10:$J$1069,0),15),""),IFERROR(INDEX($A$10:$O$1069,MATCH(CONCATENATE($B3,H$1,$A$5),$K$10:$K$1069,0),15),"")) | I3: =IF($A$1=1,IFERROR(INDEX($A$10:$O$1069,MATCH(CONCATENATE($B3,I$1,$A$3),$J$10:$J$1069,0),15),""),IFERROR(INDEX($A$10:$O$1069,MATCH(CONCATENATE($B3,I$1,$A$5),$K$10:$K$1069,0),15),"")) | K3: 11:30-01:00 | L3: G | P3: Teacher | R3: Section | S3: 125
B4: Monday | C4: 77 | D4: =IF($A$1=1,IFERROR(INDEX($A$10:$O$1069,MATCH(CONCATENATE($B4,D$1,$A$3),$J$10:$J$1069,0),15),""),IFERROR(INDEX($A$10:$O$1069,MATCH(CONCATENATE($B4,D$1,$A$5),$K$10:$K$1069,0),15),"")) | E4: =IF($A$1=1,IFERROR(INDEX($A$10:$O$1069,MATCH(CONCATENATE($B4,E$1,$A$3),$J$10:$J$1069,0),15),""),IFERROR(INDEX($A$10:$O$1069,MATCH(CONCATENATE($B4,E$1,$A$5),$K$10:$K$1069,0),15),"")) | F4: =IF($A$1=1,IFERROR(INDEX($A$10:$O$1069,MATCH(CONCATENATE($B4,F$1,$A$3),$J$10:$J$1069,0),15),""),IFERROR(INDEX($A$10:$O$1069,MATCH(CONCATENATE($B4,F$1,$A$5),$K$10:$K$1069,0),15),"")) | G4: =IF($A$1=1,IFERROR(INDEX($A$10:$O$1069,MATCH(CONCATENATE($B4,G$1,$A$3),$J$10:$J$1069,0),15),""),IFERROR(INDEX($A$10:$O$1069,MATCH(CONCATENATE($B4,G$1,$A$5),$K$10:$K$1069,0),15),"")) | H4: =IF($A$1=1,IFERROR(INDEX($A$10:$O$1069,MATCH(CONCATENATE($B4,H$1,$A$3),$J$10:$J$1069,0),15),""),IFERROR(INDEX($A$10:$O$1069,MATCH(CONCATENATE($B4,H$1,$A$5),$K$10:$K$1069,0),15),"")) | I4: =IF($A$1=1,IFERROR(INDEX($A$10:$O$1069,MATCH(CONCATENATE($B4,I$1,$A$3),$J$10:$J$1069,0),15),""),IFERROR(INDEX($A$10:$O$1069,MATCH(CONCATENATE($B4,I$1,$A$5),$K$10:$K$1069,0),15),"")) | K4: 01:00-02:30 | L4: J | P4: 0 | R4: 0 | S4: 163
A5: (L3T2)C | B5: Tuesday | C5: 113 | D5: =IF($A$1=1,IFERROR(INDEX($A$10:$O$1069,MATCH(CONCATENATE($B5,D$1,$A$3),$J$10:$J$1069,0),15),""),IFERROR(INDEX($A$10:$O$1069,MATCH(CONCATENATE($B5,D$1,$A$5),$K$10:$K$1069,0),15),"")) | E5: =IF($A$1=1,IFERROR(INDEX($A$10:$O$1069,MATCH(CONCATENATE($B5,E$1,$A$3),$J$10:$J$1069,0),15),""),IFERROR(INDEX($A$10:$O$1069,MATCH(CONCATENATE($B5,E$1,$A$5),$K$10:$K$1069,0),15),"")) | F5: =IF($A$1=1,IFERROR(INDEX($A$10:$O$1069,MATCH(CONCATENATE($B5,F$1,$A$3),$J$10:$J$1069,0),15),""),IFERROR(INDEX($A$10:$O$1069,MATCH(CONCATENATE($B5,F$1,$A$5),$K$10:$K$1069,0),15),"")) | G5: =IF($A$1=1,IFERROR(INDEX($A$10:$O$1069,MATCH(CONCATENATE($B5,G$1,$A$3),$J$10:$J$1069,0),15),""),IFERROR(INDEX($A$10:$O$1069,MATCH(CONCATENATE($B5,G$1,$A$5),$K$10:$K$1069,0),15),"")) | H5: =IF($A$1=1,IFERROR(INDEX($A$10:$O$1069,MATCH(CONCATENATE($B5,H$1,$A$3),$J$10:$J$1069,0),15),""),IFERROR(INDEX($A$10:$O$1069,MATCH(CONCATENATE($B5,H$1,$A$5),$K$10:$K$1069,0),15),"")) | I5: =IF($A$1=1,IFERROR(INDEX($A$10:$O$1069,MATCH(CONCATENATE($B5,I$1,$A$3),$J$10:$J$1069,0),15),""),IFERROR(INDEX($A$10:$O$1069,MATCH(CONCATENATE($B5,I$1,$A$5),$K$10:$K$1069,0),15),"")) | K5: 2:30-04:00 | L5: M | P5: AAA | R5: (L4T1)A | S5: 199
B6: Wednesday | C6: 151 | D6: =IF($A$1=1,IFERROR(INDEX($A$10:$O$1069,MATCH(CONCATENATE($B6,D$1,$A$3),$J$10:$J$1069,0),15),""),IFERROR(INDEX($A$10:$O$1069,MATCH(CONCATENATE($B6,D$1,$A$5),$K$10:$K$1069,0),15),"")) | E6: =IF($A$1=1,IFERROR(INDEX($A$10:$O$1069,MATCH(CONCATENATE($B6,E$1,$A$3),$J$10:$J$1069,0),15),""),IFERROR(INDEX($A$10:$O$1069,MATCH(CONCATENATE($B6,E$1,$A$5),$K$10:$K$1069,0),15),"")) | F6: =IF($A$1=1,IFERROR(INDEX($A$10:$O$1069,MATCH(CONCATENATE($B6,F$1,$A$3),$J$10:$J$1069,0),15),""),IFERROR(INDEX($A$10:$O$1069,MATCH(CONCATENATE($B6,F$1,$A$5),$K$10:$K$1069,0),15),"")) | G6: =IF($A$1=1,IFERROR(INDEX($A$10:$O$1069,MATCH(CONCATENATE($B6,G$1,$A$3),$J$10:$J$1069,0),15),""),IFERROR(INDEX($A$10:$O$1069,MATCH(CONCATENATE($B6,G$1,$A$5),$K$10:$K$1069,0),15),"")) | H6: =IF($A$1=1,IFERROR(INDEX($A$10:$O$1069,MATCH(CONCATENATE($B6,H$1,$A$3),$J$10:$J$1069,0),15),""),IFERROR(INDEX($A$10:$O$1069,MATCH(CONCATENATE($B6,H$1,$A$5),$K$10:$K$1069,0),15),"")) | I6: =IF($A$1=1,IFERROR(INDEX($A$10:$O$1069,MATCH(CONCATENATE($B6,I$1,$A$3),$J$10:$J$1069,0),15),""),IFERROR(INDEX($A$10:$O$1069,MATCH(CONCATENATE($B6,I$1,$A$5),$K$10:$K$1069,0),15),"")) | K6: 04:00-05:30 | L6: P | P6: AAM | R6: (L2T2)C
B7: Thursday | C7: 187 | D7: =IF($A$1=1,IFERROR(INDEX($A$10:$O$1069,MATCH(CONCATENATE($B7,D$1,$A$3),$J$10:$J$1069,0),15),""),IFERROR(INDEX($A$10:$O$1069,MATCH(CONCATENATE($B7,D$1,$A$5),$K$10:$K$1069,0),15),"")) | E7: =IF($A$1=1,IFERROR(INDEX($A$10:$O$1069,MATCH(CONCATENATE($B7,E$1,$A$3),$J$10:$J$1069,0),15),""),IFERROR(INDEX($A$10:$O$1069,MATCH(CONCATENATE($B7,E$1,$A$5),$K$10:$K$1069,0),15),"")) | F7: =IF($A$1=1,IFERROR(INDEX($A$10:$O$1069,MATCH(CONCATENATE($B7,F$1,$A$3),$J$10:$J$1069,0),15),""),IFERROR(INDEX($A$10:$O$1069,MATCH(CONCATENATE($B7,F$1,$A$5),$K$10:$K$1069,0),15),"")) | G7: =IF($A$1=1,IFERROR(INDEX($A$10:$O$1069,MATCH(CONCATENATE($B7,G$1,$A$3),$J$10:$J$1069,0),15),""),IFERROR(INDEX($A$10:$O$1069,MATCH(CONCATENATE($B7,G$1,$A$5),$K$10:$K$1069,0),15),"")) | H7: =IF($A$1=1,IFERROR(INDEX($A$10:$O$1069,MATCH(CONCATENATE($B7,H$1,$A$3),$J$10:$J$1069,0),15),""),IFERROR(INDEX($A$10:$O$1069,MATCH(CONCATENATE($B7,H$1,$A$5),$K$10:$K$1069,0),15),"")) | I7: =IF($A$1=1,IFERROR(INDEX($A$10:$O$1069,MATCH(CONCATENATE($B7,I$1,$A$3),$J$10:$J$1069,0),15),""),IFERROR(INDEX($A$10:$O$1069,MATCH(CONCATENATE($B7,I$1,$A$5),$K$10:$K$1069,0),15),"")) | P7: AAT | R7: (L1T3)A
P8: AG | R8: (L1T3)B
P9: AHM | R9: (L3T1)B
A10: Sl | B10: Day | C10: Time | D10: Ref. | E10: Ref | F10: Class room | G10: Course | H10: Teacher | I10: Section | J10: Code 1 | K10: Code 2 | L10: Duplicate | M10: LT | N10: CLASS/LAB | O10: CODE3 | P10: AHR | R10: (L3T3)B
A11: 1 | B11: Saturday | C11: =LOOKUP(D11,$L$1:$L$6,$K$1:$K$6) -> 08:30-10:00 | D11: A | E11: =$C$2 -> 6 | F11: =INDIRECT(CONCATENATE("Sheet1!",CHAR(CODE(D11)),E11),1) -> 701 | G11: =INDIRECT(CONCATENATE("Sheet1!",CHAR(CODE(D11)+1),E11),1) -> 0 | H11: =INDIRECT(CONCATENATE("Sheet1!",CHAR(CODE(D11)+2),E11),1) -> 0 | I11: =IFERROR(MID(G11,SEARCH("(",G11,1),12),G11) -> 0 | J11: =CONCATENATE(B11,C11,H11) -> Saturday08:30-10:000 | K11: =CONCATENATE(B11,C11,I11) -> Saturday08:30-10:000 | L11: =COUNTIFS($J$11:$J$1051,J11) -> 26 | M11: =IFERROR(MID(I11,2,4),I11) | O11: =CONCATENATE(G11,CHAR(10),F11," --- ",H11) -> 0 701 --- 0 | P11: AI | R11: (L3T3)A
A12: 2 | B12: Saturday | C12: =LOOKUP(D12,$L$1:$L$6,$K$1:$K$6) -> 08:30-10:00 | D12: A | E12: =E11+1 -> 7 | F12: =INDIRECT(CONCATENATE("Sheet1!",CHAR(CODE(D12)),E12),1) -> 702 | G12: =INDIRECT(CONCATENATE("Sheet1!",CHAR(CODE(D12)+1),E12),1) -> 0 | H12: =INDIRECT(CONCATENATE("Sheet1!",CHAR(CODE(D12)+2),E12),1) -> 0 | I12: =IFERROR(MID(G12,SEARCH("(",G12,1),12),G12) -> 0 | J12: =CONCATENATE(B12,C12,H12) -> Saturday08:30-10:000 | K12: =CONCATENATE(B12,C12,I12) -> Saturday08:30-10:000 | L12: =COUNTIFS($J$11:$J$1051,J12) -> 26 | M12: =IFERROR(MID(I12,2,4),I12) | O12: =CONCATENATE(G12,CHAR(10),F12," --- ",H12) -> 0 702 --- 0 | P12: AN | R12: (L3T2)A
A13: 3 | B13: Saturday | C13: =LOOKUP(D13,$L$1:$L$6,$K$1:$K$6) -> 08:30-10:00 | D13: A | E13: =E12+1 -> 8 | F13: =INDIRECT(CONCATENATE("Sheet1!",CHAR(CODE(D13)),E13),1) -> 703 | G13: =INDIRECT(CONCATENATE("Sheet1!",CHAR(CODE(D13)+1),E13),1) -> CHE-124(L1T2)A | H13: =INDIRECT(CONCATENATE("Sheet1!",CHAR(CODE(D13)+2),E13),1) -> 0 | I13: =IFERROR(MID(G13,SEARCH("(",G13,1),12),G13) -> (L1T2)A | J13: =CONCATENATE(B13,C13,H13) -> Saturday08:30-10:000 | K13: =CONCATENATE(B13,C13,I13) -> Saturday08:30-10:00(L1T2)A | L13: =COUNTIFS($J$11:$J$1051,J13) -> 26 | M13: =IFERROR(MID(I13,2,4),I13) -> L1T2 | O13: =CONCATENATE(G13,CHAR(10),F13," --- ",H13) -> CHE-124(L1T2)A 703 --- 0 | P13: FBS | R13: (L3T2)B
A14: 4 | B14: Saturday | C14: =LOOKUP(D14,$L$1:$L$6,$K$1:$K$6) -> 08:30-10:00 | D14: A | E14: =E13+1 -> 9 | F14: =INDIRECT(CONCATENATE("Sheet1!",CHAR(CODE(D14)),E14),1) -> 704 | G14: =INDIRECT(CONCATENATE("Sheet1!",CHAR(CODE(D14)+1),E14),1) -> MAT-111(L1T1)B | H14: =INDIRECT(CONCATENATE("Sheet1!",CHAR(CODE(D14)+2),E14),1) -> 0 | I14: =IFERROR(MID(G14,SEARCH("(",G14,1),12),G14) -> (L1T1)B | J14: =CONCATENATE(B14,C14,H14) -> Saturday08:30-10:000 | K14: =CONCATENATE(B14,C14,I14) -> Saturday08:30-10:00(L1T1)B | L14: =COUNTIFS($J$11:$J$1051,J14) -> 26 | M14: =IFERROR(MID(I14,2,4),I14) -> L1T1 | O14: =CONCATENATE(G14,CHAR(10),F14," --- ",H14) -> MAT-111(L1T1)B 704 --- 0 | P14: FHA | R14: (L2T3)B
A15: 5 | B15: Saturday | C15: =LOOKUP(D15,$L$1:$L$6,$K$1:$K$6) -> 08:30-10:00 | D15: A | E15: =E14+1 -> 10 | F15: =INDIRECT(CONCATENATE("Sheet1!",CHAR(CODE(D15)),E15),1) -> 705 | G15: =INDIRECT(CONCATENATE("Sheet1!",CHAR(CODE(D15)+1),E15),1) -> 0 | H15: =INDIRECT(CONCATENATE("Sheet1!",CHAR(CODE(D15)+2),E15),1) -> 0 | I15: =IFERROR(MID(G15,SEARCH("(",G15,1),12),G15) -> 0 | J15: =CONCATENATE(B15,C15,H15) -> Saturday08:30-10:000 | K15: =CONCATENATE(B15,C15,I15) -> Saturday08:30-10:000 | L15: =COUNTIFS($J$11:$J$1051,J15) -> 26 | M15: =IFERROR(MID(I15,2,4),I15) | O15: =CONCATENATE(G15,CHAR(10),F15," --- ",H15) -> 0 705 --- 0 | P15: FHS | R15: (L2T1)A
A16: 6 | B16: Saturday | C16: =LOOKUP(D16,$L$1:$L$6,$K$1:$K$6) -> 08:30-10:00 | D16: A | E16: =E15+1 -> 11 | F16: =INDIRECT(CONCATENATE("Sheet1!",CHAR(CODE(D16)),E16),1) -> 402 | G16: =INDIRECT(CONCATENATE("Sheet1!",CHAR(CODE(D16)+1),E16),1) -> TE223(L2T2)B | H16: =INDIRECT(CONCATENATE("Sheet1!",CHAR(CODE(D16)+2),E16),1) -> AAA | I16: =IFERROR(MID(G16,SEARCH("(",G16,1),12),G16) -> (L2T2)B | J16: =CONCATENATE(B16,C16,H16) -> Saturday08:30-10:00AAA | K16: =CONCATENATE(B16,C16,I16) -> Saturday08:30-10:00(L2T2)B | L16: =COUNTIFS($J$11:$J$1051,J16) -> 1 | M16: =IFERROR(MID(I16,2,4),I16) -> L2T2 | O16: =CONCATENATE(G16,CHAR(10),F16," --- ",H16) -> TE223(L2T2)B 402 --- AAA | P16: FS | R16: (L2T1)B
A17: 7 | B17: Saturday | C17: =LOOKUP(D17,$L$1:$L$6,$K$1:$K$6) -> 08:30-10:00 | D17: A | E17: =E16+1 -> 12 | F17: =INDIRECT(CONCATENATE("Sheet1!",CHAR(CODE(D17)),E17),1) -> 801 | G17: =INDIRECT(CONCATENATE("Sheet1!",CHAR(CODE(D17)+1),E17),1) -> TE221(L2T2)A | H17: =INDIRECT(CONCATENATE("Sheet1!",CHAR(CODE(D17)+2),E17),1) -> SM | I17: =IFERROR(MID(G17,SEARCH("(",G17,1),12),G17) -> (L2T2)A | J17: =CONCATENATE(B17,C17,H17) -> Saturday08:30-10:00SM | K17: =CONCATENATE(B17,C17,I17) -> Saturday08:30-10:00(L2T2)A | L17: =COUNTIFS($J$11:$J$1051,J17) -> 1 | M17: =IFERROR(MID(I17,2,4),I17) -> L2T2 | O17: =CONCATENATE(G17,CHAR(10),F17," --- ",H17) -> TE221(L2T2)A 801 --- SM | P17: GC | R17: (L2T3)A
A18: 8 | B18: Saturday | C18: =LOOKUP(D18,$L$1:$L$6,$K$1:$K$6) -> 08:30-10:00 | D18: A | E18: =E17+1 -> 13 | F18: =INDIRECT(CONCATENATE("Sheet1!",CHAR(CODE(D18)),E18),1) -> 802 | G18: =INDIRECT(CONCATENATE("Sheet1!",CHAR(CODE(D18)+1),E18),1) -> TE425(L4T2)A | H18: =INDIRECT(CONCATENATE("Sheet1!",CHAR(CODE(D18)+2),E18),1) -> ZU | I18: =IFERROR(MID(G18,SEARCH("(",G18,1),12),G18) -> (L4T2)A | J18: =CONCATENATE(B18,C18,H18) -> Saturday08:30-10:00ZU | K18: =CONCATENATE(B18,C18,I18) -> Saturday08:30-10:00(L4T2)A | L18: =COUNTIFS($J$11:$J$1051,J18) -> 1 | M18: =IFERROR(MID(I18,2,4),I18) -> L4T2 | O18: =CONCATENATE(G18,CHAR(10),F18," --- ",H18) -> TE425(L4T2)A 802 --- ZU | P18: IUZ | R18: (L2T2)B
A19: 9 | B19: Saturday | C19: =LOOKUP(D19,$L$1:$L$6,$K$1:$K$6) -> 08:30-10:00 | D19: A | E19: =E18+1 -> 14 | F19: =INDIRECT(CONCATENATE("Sheet1!",CHAR(CODE(D19)),E19),1) -> 803 | G19: =INDIRECT(CONCATENATE("Sheet1!",CHAR(CODE(D19)+1),E19),1) -> TE233(L2T3)B | H19: =INDIRECT(CONCATENATE("Sheet1!",CHAR(CODE(D19)+2),E19),1) -> NRD | I19: =IFERROR(MID(G19,SEARCH("(",G19,1),12),G19) -> (L2T3)B | J19: =CONCATENATE(B19,C19,H19) -> Saturday08:30-10:00NRD | K19: =CONCATENATE(B19,C19,I19) -> Saturday08:30-10:00(L2T3)B | L19: =COUNTIFS($J$11:$J$1051,J19) -> 1 | M19: =IFERROR(MID(I19,2,4),I19) -> L2T3 | O19: =CONCATENATE(G19,CHAR(10),F19," --- ",H19) -> TE233(L2T3)B 803 --- NRD | P19: JH | R19: (L2T2)A
A20: 10 | B20: Saturday | C20: =LOOKUP(D20,$L$1:$L$6,$K$1:$K$6) -> 08:30-10:00 | D20: A | E20: =E19+1 -> 15 | F20: =INDIRECT(CONCATENATE("Sheet1!",CHAR(CODE(D20)),E20),1) -> 807 | G20: =INDIRECT(CONCATENATE("Sheet1!",CHAR(CODE(D20)+1),E20),1) -> civil | H20: =INDIRECT(CONCATENATE("Sheet1!",CHAR(CODE(D20)+2),E20),1) -> 0 | I20: =IFERROR(MID(G20,SEARCH("(",G20,1),12),G20) -> civil | J20: =CONCATENATE(B20,C20,H20) -> Saturday08:30-10:000 | K20: =CONCATENATE(B20,C20,I20) -> Saturday08:30-10:00civil | L20: =COUNTIFS($J$11:$J$1051,J20) -> 26 | M20: =IFERROR(MID(I20,2,4),I20) -> ivil | O20: =CONCATENATE(G20,CHAR(10),F20," --- ",H20) -> civil 807 --- 0 | P20: KZ | R20: (L4T1)B
A21: 11 | B21: Saturday | C21: =LOOKUP(D21,$L$1:$L$6,$K$1:$K$6) -> 08:30-10:00 | D21: A | E21: =E20+1 -> 16 | F21: =INDIRECT(CONCATENATE("Sheet1!",CHAR(CODE(D21)),E21),1) -> 808 | G21: =INDIRECT(CONCATENATE("Sheet1!",CHAR(CODE(D21)+1),E21),1) -> civil | H21: =INDIRECT(CONCATENATE("Sheet1!",CHAR(CODE(D21)+2),E21),1) -> 0 | I21: =IFERROR(MID(G21,SEARCH("(",G21,1),12),G21) -> civil | J21: =CONCATENATE(B21,C21,H21) -> Saturday08:30-10:000 | K21: =CONCATENATE(B21,C21,I21) -> Saturday08:30-10:00civil | L21: =COUNTIFS($J$11:$J$1051,J21) -> 26 | M21: =IFERROR(MID(I21,2,4),I21) -> ivil | O21: =CONCATENATE(G21,CHAR(10),F21," --- ",H21) -> civil 808 --- 0 | P21: MAB | R21: (L3T2)C
A22: 12 | B22: Saturday | C22: =LOOKUP(D22,$L$1:$L$6,$K$1:$K$6) -> 08:30-10:00 | D22: A | E22: =E21+1 -> 17 | F22: =INDIRECT(CONCATENATE("Sheet1!",CHAR(CODE(D22)),E22),1) -> 711 | G22: =INDIRECT(CONCATENATE("Sheet1!",CHAR(CODE(D22)+1),E22),1) -> 0 | H22: =INDIRECT(CONCATENATE("Sheet1!",CHAR(CODE(D22)+2),E22),1) -> 0 | I22: =IFERROR(MID(G22,SEARCH("(",G22,1),12),G22) -> 0 | J22: =CONCATENATE(B22,C22,H22) -> Saturday08:30-10:000 | K22: =CONCATENATE(B22,C22,I22) -> Saturday08:30-10:000 | L22: =COUNTIFS($J$11:$J$1051,J22) -> 26 | M22: =IFERROR(MID(I22,2,4),I22) | O22: =CONCATENATE(G22,CHAR(10),F22," --- ",H22) -> 0 711 --- 0 | P22: MDN | R22: (L1T2)A
A23: 13 | B23: Saturday | C23: =LOOKUP(D23,$L$1:$L$6,$K$1:$K$6) -> 08:30-10:00 | D23: A | E23: =E22+1 -> 18 | F23: =INDIRECT(CONCATENATE("Sheet1!",CHAR(CODE(D23)),E23),1) -> 601 | G23: =INDIRECT(CONCATENATE("Sheet1!",CHAR(CODE(D23)+1),E23),1) -> 0 | H23: =INDIRECT(CONCATENATE("Sheet1!",CHAR(CODE(D23)+2),E23),1) -> 0 | I23: =IFERROR(MID(G23,SEARCH("(",G23,1),12),G23) -> 0 | J23: =CONCATENATE(B23,C23,H23) -> Saturday08:30-10:000 | K23: =CONCATENATE(B23,C23,I23) -> Saturday08:30-10:000 | L23: =COUNTIFS($J$11:$J$1051,J23) -> 26 | M23: =IFERROR(MID(I23,2,4),I23) | O23: =CONCATENATE(G23,CHAR(10),F23," --- ",H23) -> 0 601 --- 0 | P23: MH | R23: (L1T2)B
... A30: 20 | B30: Saturday | C30: =LOOKUP(D30,$L$1:$L$6,$K$1:$K$6) -> 08:30-10:00 | D30: A | E30: =E29+1 -> 25 | F30: =INDIRECT(CONCATENATE("Sheet1!",CHAR(CODE(D30)),E30),1) -> 303 | G30: =INDIRECT(CONCATENATE("Sheet1!",CHAR(CODE(D30)+1),E30),1) -> 0 | H30: =INDIRECT(CONCATENATE("Sheet1!",CHAR(CODE(D30)+2),E30),1) -> 0 | I30: =IFERROR(MID(G30,SEARCH("(",G30,1),12),G30) -> 0 | J30: =CONCATENATE(B30,C30,H30) -> Saturday08:30-10:000 | K30: =CONCATENATE(B30,C30,I30) -> Saturday08:30-10:000 | L30: =COUNTIFS($J$11:$J$1051,J30) -> 26 | M30: =IFERROR(MID(I30,2,4),I30) | O30: =CONCATENATE(G30,CHAR(10),F30," --- ",H30) -> 0 303 --- 0 | P30: MR1 | R30: (L3T2) A
A31: 21 | B31: Saturday | C31: =LOOKUP(D31,$L$1:$L$6,$K$1:$K$6) -> 08:30-10:00 | D31: A | E31: =E30+1 -> 26 | F31: =INDIRECT(CONCATENATE("Sheet1!",CHAR(CODE(D31)),E31),1) -> L-Yarn1 | G31: =INDIRECT(CONCATENATE("Sheet1!",CHAR(CODE(D31)+1),E31),1) -> TE311(L3T1)A | H31: =INDIRECT(CONCATENATE("Sheet1!",CHAR(CODE(D31)+5),E31),1) -> MR1 | I31: =IFERROR(MID(G31,SEARCH("(",G31,1),12),G31) -> (L3T1)A | J31: =CONCATENATE(B31,C31,H31) -> Saturday08:30-10:00MR1 | K31: =CONCATENATE(B31,C31,I31) -> Saturday08:30-10:00(L3T1)A | L31: =COUNTIFS($J$11:$J$1051,J31) -> 1 | M31: =IFERROR(MID(I31,2,4),I31) -> L3T1 | O31: =CONCATENATE(G31,CHAR(10),F31," --- ",H31) -> TE311(L3T1)A L-Yarn1 --- MR1 | P31: MRH | R31: (L1T3)C
A32: 22 | B32: Saturday | C32: =LOOKUP(D32,$L$1:$L$6,$K$1:$K$6) -> 08:30-10:00 | D32: A | E32: =E31+1 -> 27 | F32: =INDIRECT(CONCATENATE("Sheet1!",CHAR(CODE(D32)),E32),1) -> L-Yarn2 | G32: =INDIRECT(CONCATENATE("Sheet1!",CHAR(CODE(D32)+1),E32),1) -> 0 | H32: =INDIRECT(CONCATENATE("Sheet1!",CHAR(CODE(D32)+5),E32),1) -> 0 | I32: =IFERROR(MID(G32,SEARCH("(",G32,1),12),G32) -> 0 | J32: =CONCATENATE(B32,C32,H32) -> Saturday08:30-10:000 | K32: =CONCATENATE(B32,C32,I32) -> Saturday08:30-10:000 | L32: =COUNTIFS($J$11:$J$1051,J32) -> 26 | M32: =IFERROR(MID(I32,2,4),I32) | O32: =CONCATENATE(G32,CHAR(10),F32," --- ",H32) -> 0 L-Yarn2 --- 0 | P32: MRK | R32: (L3T2) B
A33: 23 | B33: Saturday | C33: =LOOKUP(D33,$L$1:$L$6,$K$1:$K$6) -> 08:30-10:00 | D33: A | E33: =E32+1 -> 28 | F33: =INDIRECT(CONCATENATE("Sheet1!",CHAR(CODE(D33)),E33),1) -> L-Fab | G33: =INDIRECT(CONCATENATE("Sheet1!",CHAR(CODE(D33)+1),E33),1) -> TE214(L2T1)C | H33: =INDIRECT(CONCATENATE("Sheet1!",CHAR(CODE(D33)+5),E33),1) -> AG | I33: =IFERROR(MID(G33,SEARCH("(",G33,1),12),G33) -> (L2T1)C | J33: =CONCATENATE(B33,C33,H33) -> Saturday08:30-10:00AG | K33: =CONCATENATE(B33,C33,I33) -> Saturday08:30-10:00(L2T1)C | L33: =COUNTIFS($J$11:$J$1051,J33) -> 1 | M33: =IFERROR(MID(I33,2,4),I33) -> L2T1 | O33: =CONCATENATE(G33,CHAR(10),F33," --- ",H33) -> TE214(L2T1)C L-Fab --- AG | P33: MRR | R33: (L3T1) A
A34: 24 | B34: Saturday | C34: =LOOKUP(D34,$L$1:$L$6,$K$1:$K$6) -> 08:30-10:00 | D34: A | E34: =E33+1 -> 29 | F34: =INDIRECT(CONCATENATE("Sheet1!",CHAR(CODE(D34)),E34),1) -> L-Col | G34: =INDIRECT(CONCATENATE("Sheet1!",CHAR(CODE(D34)+1),E34),1) -> TE322(L3T2)B | H34: =INDIRECT(CONCATENATE("Sheet1!",CHAR(CODE(D34)+5),E34),1) -> FHA | I34: =IFERROR(MID(G34,SEARCH("(",G34,1),12),G34) -> (L3T2)B | J34: =CONCATENATE(B34,C34,H34) -> Saturday08:30-10:00FHA | K34: =CONCATENATE(B34,C34,I34) -> Saturday08:30-10:00(L3T2)B | L34: =COUNTIFS($J$11:$J$1051,J34) -> 1 | M34: =IFERROR(MID(I34,2,4),I34) -> L3T2 | O34: =CONCATENATE(G34,CHAR(10),F34," --- ",H34) -> TE322(L3T2)B L-Col --- FHA | P34: NF | R34: (L3T3)C
A35: 25 | B35: Saturday | C35: =LOOKUP(D35,$L$1:$L$6,$K$1:$K$6) -> 08:30-10:00 | D35: A | E35: =E34+1 -> 30 | F35: =INDIRECT(CONCATENATE("Sheet1!",CHAR(CODE(D35)),E35),1) -> L-App | G35: =INDIRECT(CONCATENATE("Sheet1!",CHAR(CODE(D35)+1),E35),1) -> 0 | H35: =INDIRECT(CONCATENATE("Sheet1!",CHAR(CODE(D35)+5),E35),1) -> 0 | I35: =IFERROR(MID(G35,SEARCH("(",G35,1),12),G35) -> 0 | J35: =CONCATENATE(B35,C35,H35) -> Saturday08:30-10:000 | K35: =CONCATENATE(B35,C35,I35) -> Saturday08:30-10:000 | L35: =COUNTIFS($J$11:$J$1051,J35) -> 26 | M35: =IFERROR(MID(I35,2,4),I35) | O35: =CONCATENATE(G35,CHAR(10),F35," --- ",H35) -> 0 L-App --- 0 | P35: NHM | R35: (L1T3)D
A36: 26 | B36: Saturday | C36: =LOOKUP(D36,$L$1:$L$6,$K$1:$K$6) -> 08:30-10:00 | D36: A | E36: =E35+1 -> 31 | F36: =INDIRECT(CONCATENATE("Sheet1!",CHAR(CODE(D36)),E36),1) -> L-QC1 709 | G36: =INDIRECT(CONCATENATE("Sheet1!",CHAR(CODE(D36)+1),E36),1) -> TE324(L3T2)A | H36: =INDIRECT(CONCATENATE("Sheet1!",CHAR(CODE(D36)+5),E36),1) -> FS | I36: =IFERROR(MID(G36,SEARCH("(",G36,1),12),G36) -> (L3T2)A | J36: =CONCATENATE(B36,C36,H36) -> Saturday08:30-10:00FS | K36: =CONCATENATE(B36,C36,I36) -> Saturday08:30-10:00(L3T2)A | L36: =COUNTIFS($J$11:$J$1051,J36) -> 1 | M36: =IFERROR(MID(I36,2,4),I36) -> L3T2 | O36: =CONCATENATE(G36,CHAR(10),F36," --- ",H36) -> TE324(L3T2)A L-QC1 709 --- FS | P36: NL1 | R36: (L1T2)E
A37: 27 | B37: Saturday | C37: =LOOKUP(D37,$L$1:$L$6,$K$1:$K$6) -> 08:30-10:00 | D37: A | E37: =E36+1 -> 32 | F37: =INDIRECT(CONCATENATE("Sheet1!",CHAR(CODE(D37)),E37),1) -> L-Drw | G37: =INDIRECT(CONCATENATE("Sheet1!",CHAR(CODE(D37)+1),E37),1) -> 0 | H37: =INDIRECT(CONCATENATE("Sheet1!",CHAR(CODE(D37)+5),E37),1) -> 0 | I37: =IFERROR(MID(G37,SEARCH("(",G37,1),12),G37) -> 0 | J37: =CONCATENATE(B37,C37,H37) -> Saturday08:30-10:000 | K37: =CONCATENATE(B37,C37,I37) -> Saturday08:30-10:000 | L37: =COUNTIFS($J$11:$J$1051,J37) -> 26 | M37: =IFERROR(MID(I37,2,4),I37) | O37: =CONCATENATE(G37,CHAR(10),F37," --- ",H37) -> 0 L-Drw --- 0 | P37: NL3 | R37: (L4T1)
A38: 28 | B38: Saturday | C38: =LOOKUP(D38,$L$1:$L$6,$K$1:$K$6) -> 08:30-10:00 | D38: A | E38: =E37+1 -> 33 | F38: =INDIRECT(CONCATENATE("Sheet1!",CHAR(CODE(D38)),E38),1) -> L-QC2 708 | G38: =INDIRECT(CONCATENATE("Sheet1!",CHAR(CODE(D38)+1),E38),1) -> 0 | H38: =INDIRECT(CONCATENATE("Sheet1!",CHAR(CODE(D38)+5),E38),1) -> 0 | I38: =IFERROR(MID(G38,SEARCH("(",G38,1),12),G38) -> 0 | J38: =CONCATENATE(B38,C38,H38) -> Saturday08:30-10:000 | K38: =CONCATENATE(B38,C38,I38) -> Saturday08:30-10:000 | L38: =COUNTIFS($J$11:$J$1051,J38) -> 26 | M38: =IFERROR(MID(I38,2,4),I38) | O38: =CONCATENATE(G38,CHAR(10),F38," --- ",H38) -> 0 L-QC2 708 --- 0 | P38: NRD | R38: (L1T3) D
A39: 29 | B39: Saturday | C39: =LOOKUP(D39,$L$1:$L$6,$K$1:$K$6) -> 08:30-10:00 | D39: A | E39: =E38+1 -> 34 | F39: =INDIRECT(CONCATENATE("Sheet1!",CHAR(CODE(D39)),E39),1) -> E-LAB | G39: =INDIRECT(CONCATENATE("Sheet1!",CHAR(CODE(D39)+1),E39),1) -> ENG-111(L1T1)A | H39: =INDIRECT(CONCATENATE("Sheet1!",CHAR(CODE(D39)+5),E39),1) -> 0 | I39: =IFERROR(MID(G39,SEARCH("(",G39,1),12),G39) -> (L1T1)A | J39: =CONCATENATE(B39,C39,H39) -> Saturday08:30-10:000 | K39: =CONCATENATE(B39,C39,I39) -> Saturday08:30-10:00(L1T1)A | L39: =COUNTIFS($J$11:$J$1051,J39) -> 26 | M39: =IFERROR(MID(I39,2,4),I39) -> L1T1 | O39: =CONCATENATE(G39,CHAR(10),F39," --- ",H39) -> ENG-111(L1T1)A E-LAB --- 0 | P39: PT | R39: xxxxxxxx
A40: 30 | B40: Saturday | C40: =LOOKUP(D40,$L$1:$L$6,$K$1:$K$6) -> 08:30-10:00 | D40: A | E40: =E39+1 -> 35 | F40: =INDIRECT(CONCATENATE("Sheet1!",CHAR(CODE(D40)),E40),1) -> 501 | G40: =INDIRECT(CONCATENATE("Sheet1!",CHAR(CODE(D40)+1),E40),1) -> 0 | H40: =INDIRECT(CONCATENATE("Sheet1!",CHAR(CODE(D40)+5),E40),1) -> 0 | I40: =IFERROR(MID(G40,SEARCH("(",G40,1),12),G40) -> 0 | J40: =CONCATENATE(B40,C40,H40) -> Saturday08:30-10:000 | K40: =CONCATENATE(B40,C40,I40) -> Saturday08:30-10:000 | L40: =COUNTIFS($J$11:$J$1051,J40) -> 26 | M40: =IFERROR(MID(I40,2,4),I40) | O40: =CONCATENATE(G40,CHAR(10),F40," --- ",H40) -> 0 501 --- 0 | P40: RA | R40: UC
A41: 31 | B41: Saturday | C41: =LOOKUP(D41,$L$1:$L$6,$K$1:$K$6) -> 08:30-10:00 | D41: A | E41: =E40+1 -> 36 | F41: =INDIRECT(CONCATENATE("Sheet1!",CHAR(CODE(D41)),E41),1) -> L-Elec 505 | G41: =INDIRECT(CONCATENATE("Sheet1!",CHAR(CODE(D41)+1),E41),1) -> 0 | H41: =INDIRECT(CONCATENATE("Sheet1!",CHAR(CODE(D41)+5),E41),1) -> 0 | I41: =IFERROR(MID(G41,SEARCH("(",G41,1),12),G41) -> 0 | J41: =CONCATENATE(B41,C41,H41) -> Saturday08:30-10:000 | K41: =CONCATENATE(B41,C41,I41) -> Saturday08:30-10:000 | L41: =COUNTIFS($J$11:$J$1051,J41) -> 26 | M41: =IFERROR(MID(I41,2,4),I41) | O41: =CONCATENATE(G41,CHAR(10),F41," --- ",H41) -> 0 L-Elec 505 --- 0 | P41: RHK
A42: 32 | B42: Saturday | C42: =LOOKUP(D42,$L$1:$L$6,$K$1:$K$6) -> 08:30-10:00 | D42: A | E42: =E41+1 -> 37 | F42: =INDIRECT(CONCATENATE("Sheet1!",CHAR(CODE(D42)),E42),1) -> L-mec | G42: =INDIRECT(CONCATENATE("Sheet1!",CHAR(CODE(D42)+1),E42),1) -> 0 | H42: =INDIRECT(CONCATENATE("Sheet1!",CHAR(CODE(D42)+5),E42),1) -> 0 | I42: =IFERROR(MID(G42,SEARCH("(",G42,1),12),G42) -> 0 | J42: =CONCATENATE(B42,C42,H42) -> Saturday08:30-10:000 | K42: =CONCATENATE(B42,C42,I42) -> Saturday08:30-10:000 | L42: =COUNTIFS($J$11:$J$1051,J42) -> 26 | M42: =IFERROR(MID(I42,2,4),I42) | O42: =CONCATENATE(G42,CHAR(10),F42," --- ",H42) -> 0 L-mec --- 0 | P42: RI
A43: 33 | B43: Saturday | C43: =LOOKUP(D43,$L$1:$L$6,$K$1:$K$6) -> 08:30-10:00 | D43: A | E43: =E42+1 -> 38 | F43: =INDIRECT(CONCATENATE("Sheet1!",CHAR(CODE(D43)),E43),1) -> 502 | G43: =INDIRECT(CONCATENATE("Sheet1!",CHAR(CODE(D43)+1),E43),1) -> 0 | H43: =INDIRECT(CONCATENATE("Sheet1!",CHAR(CODE(D43)+5),E43),1) -> 0 | I43: =IFERROR(MID(G43,SEARCH("(",G43,1),12),G43) -> 0 | J43: =CONCATENATE(B43,C43,H43) -> Saturday08:30-10:000 | K43: =CONCATENATE(B43,C43,I43) -> Saturday08:30-10:000 | L43: =COUNTIFS($J$11:$J$1051,J43) -> 26 | M43: =IFERROR(MID(I43,2,4),I43) | O43: =CONCATENATE(G43,CHAR(10),F43," --- ",H43) -> 0 502 --- 0 | P43: RKH | R43: (L3T2)D
A44: 34 | B44: Saturday | C44: =LOOKUP(D44,$L$1:$L$6,$K$1:$K$6) -> 08:30-10:00 | D44: A | E44: =E43+1 -> 39 | F44: =INDIRECT(CONCATENATE("Sheet1!",CHAR(CODE(D44)),E44),1) -> L-Chem | G44: =INDIRECT(CONCATENATE("Sheet1!",CHAR(CODE(D44)+1),E44),1) -> 0 | H44: =INDIRECT(CONCATENATE("Sheet1!",CHAR(CODE(D44)+5),E44),1) -> 0 | I44: =IFERROR(MID(G44,SEARCH("(",G44,1),12),G44) -> 0 | J44: =CONCATENATE(B44,C44,H44) -> Saturday08:30-10:000 | K44: =CONCATENATE(B44,C44,I44) -> Saturday08:30-10:000 | L44: =COUNTIFS($J$11:$J$1051,J44) -> 26 | M44: =IFERROR(MID(I44,2,4),I44) | O44: =CONCATENATE(G44,CHAR(10),F44," --- ",H44) -> 0 L-Chem --- 0 | P44: RSK | R44: (L2-T1)A
A45: 35 | B45: Saturday | C45: =LOOKUP(D45,$L$1:$L$6,$K$1:$K$6) -> 10:00-11:30 | D45: D | E45: =E11 -> 6 | F45: =INDIRECT(CONCATENATE("Sheet1!",CHAR(CODE(D45)),E45),1) -> 701 | G45: =INDIRECT(CONCATENATE("Sheet1!",CHAR(CODE(D45)+1),E45),1) -> 0 | H45: =INDIRECT(CONCATENATE("Sheet1!",CHAR(CODE(D45)+2),E45),1) -> 0 | I45: =IFERROR(MID(G45,SEARCH("(",G45,1),12),G45) -> 0 | J45: =CONCATENATE(B45,C45,H45) -> Saturday10:00-11:300 | K45: =CONCATENATE(B45,C45,I45) -> Saturday10:00-11:300 | L45: =COUNTIFS($J$11:$J$1051,J45) -> 24 | M45: =IFERROR(MID(I45,2,4),I45) | O45: =CONCATENATE(G45,CHAR(10),F45," --- ",H45) -> 0 701 --- 0 | P45: RUH | R45: (L2-T1)B
A46: 36 | B46: Saturday | C46: =LOOKUP(D46,$L$1:$L$6,$K$1:$K$6) -> 10:00-11:30 | D46: D | E46: =E45+1 -> 7 | F46: =INDIRECT(CONCATENATE("Sheet1!",CHAR(CODE(D46)),E46),1) -> 702 | G46: =INDIRECT(CONCATENATE("Sheet1!",CHAR(CODE(D46)+1),E46),1) -> TE132(L1T3)A | H46: =INDIRECT(CONCATENATE("Sheet1!",CHAR(CODE(D46)+2),E46),1) -> NL1 | I46: =IFERROR(MID(G46,SEARCH("(",G46,1),12),G46) -> (L1T3)A | J46: =CONCATENATE(B46,C46,H46) -> Saturday10:00-11:30NL1 | K46: =CONCATENATE(B46,C46,I46) -> Saturday10:00-11:30(L1T3)A | L46: =COUNTIFS($J$11:$J$1051,J46) -> 1 | M46: =IFERROR(MID(I46,2,4),I46) -> L1T3 | O46: =CONCATENATE(G46,CHAR(10),F46," --- ",H46) -> TE132(L1T3)A 702 --- NL1 | P46: SA | R46: PC
A47: 37 | B47: Saturday | C47: =LOOKUP(D47,$L$1:$L$6,$K$1:$K$6) -> 10:00-11:30 | D47: D | E47: =E46+1 -> 8 | F47: =INDIRECT(CONCATENATE("Sheet1!",CHAR(CODE(D47)),E47),1) -> 703 | G47: =INDIRECT(CONCATENATE("Sheet1!",CHAR(CODE(D47)+1),E47),1) -> TE334(L3T3)B | H47: =INDIRECT(CONCATENATE("Sheet1!",CHAR(CODE(D47)+2),E47),1) -> MSI | I47: =IFERROR(MID(G47,SEARCH("(",G47,1),12),G47) -> (L3T3)B | J47: =CONCATENATE(B47,C47,H47) -> Saturday10:00-11:30MSI | K47: =CONCATENATE(B47,C47,I47) -> Saturday10:00-11:30(L3T3)B | L47: =COUNTIFS($J$11:$J$1051,J47) -> 1 | M47: =IFERROR(MID(I47,2,4),I47) -> L3T3 | O47: =CONCATENATE(G47,CHAR(10),F47," --- ",H47) -> TE334(L3T3)B 703 --- MSI | P47: SAS | R47: MRC
A48: 38 | B48: Saturday | C48: =LOOKUP(D48,$L$1:$L$6,$K$1:$K$6) -> 10:00-11:30 | D48: D | E48: =E47+1 -> 9 | F48: =INDIRECT(CONCATENATE("Sheet1!",CHAR(CODE(D48)),E48),1) -> 704 | G48: =INDIRECT(CONCATENATE("Sheet1!",CHAR(CODE(D48)+1),E48),1) -> TE226(L2T2)B | H48: =INDIRECT(CONCATENATE("Sheet1!",CHAR(CODE(D48)+2),E48),1) -> SR | I48: =IFERROR(MID(G48,SEARCH("(",G48,1),12),G48) -> (L2T2)B | J48: =CONCATENATE(B48,C48,H48) -> Saturday10:00-11:30SR | K48: =CONCATENATE(B48,C48,I48) -> Saturday10:00-11:30(L2T2)B | L48: =COUNTIFS($J$11:$J$1051,J48) -> 1 | M48: =IFERROR(MID(I48,2,4),I48) -> L2T2 | O48: =CONCATENATE(G48,CHAR(10),F48," --- ",H48) -> TE226(L2T2)B 704 --- SR | P48: Shamim | R48: DIC
A49: 39 | B49: Saturday | C49: =LOOKUP(D49,$L$1:$L$6,$K$1:$K$6) -> 10:00-11:30 | D49: D | E49: =E48+1 -> 10 | F49: =INDIRECT(CONCATENATE("Sheet1!",CHAR(CODE(D49)),E49),1) -> 705 | G49: =INDIRECT(CONCATENATE("Sheet1!",CHAR(CODE(D49)+1),E49),1) -> 0 | H49: =INDIRECT(CONCATENATE("Sheet1!",CHAR(CODE(D49)+2),E49),1) -> 0 | I49: =IFERROR(MID(G49,SEARCH("(",G49,1),12),G49) -> 0 | J49: =CONCATENATE(B49,C49,H49) -> Saturday10:00-11:300 | K49: =CONCATENATE(B49,C49,I49) -> Saturday10:00-11:300 | L49: =COUNTIFS($J$11:$J$1051,J49) -> 24 | M49: =IFERROR(MID(I49,2,4),I49) | O49: =CONCATENATE(G49,CHAR(10),F49," --- ",H49) -> 0 705 --- 0 | P49: SI | R49: (L2T1)C
A50: 40 | B50: Saturday | C50: =LOOKUP(D50,$L$1:$L$6,$K$1:$K$6) -> 10:00-11:30 | D50: D | E50: =E49+1 -> 11 | F50: =INDIRECT(CONCATENATE("Sheet1!",CHAR(CODE(D50)),E50),1) -> 402 | G50: =INDIRECT(CONCATENATE("Sheet1!",CHAR(CODE(D50)+1),E50),1) -> MAT-111(L1T1)A | H50: =INDIRECT(CONCATENATE("Sheet1!",CHAR(CODE(D50)+2),E50),1) -> 0 | I50: =IFERROR(MID(G50,SEARCH("(",G50,1),12),G50) -> (L1T1)A | J50: =CONCATENATE(B50,C50,H50) -> Saturday10:00-11:300 | K50: =CONCATENATE(B50,C50,I50) -> Saturday10:00-11:30(L1T1)A | L50: =COUNTIFS($J$11:$J$1051,J50) -> 24 | M50: =IFERROR(MID(I50,2,4),I50) -> L1T1 | O50: =CONCATENATE(G50,CHAR(10),F50," --- ",H50) -> MAT-111(L1T1)A 402 --- 0 | P50: SK | R50: (L3T2(C)
A51: 41 | B51: Saturday | C51: =LOOKUP(D51,$L$1:$L$6,$K$1:$K$6) -> 10:00-11:30 | D51: D | E51: =E50+1 -> 12 | F51: =INDIRECT(CONCATENATE("Sheet1!",CHAR(CODE(D51)),E51),1) -> 801 | G51: =INDIRECT(CONCATENATE("Sheet1!",CHAR(CODE(D51)+1),E51),1) -> TE231(L2T3)B | H51: =INDIRECT(CONCATENATE("Sheet1!",CHAR(CODE(D51)+2),E51),1) -> MRH | I51: =IFERROR(MID(G51,SEARCH("(",G51,1),12),G51) -> (L2T3)B | J51: =CONCATENATE(B51,C51,H51) -> Saturday10:00-11:30MRH | K51: =CONCATENATE(B51,C51,I51) -> Saturday10:00-11:30(L2T3)B | L51: =COUNTIFS($J$11:$J$1051,J51) -> 1 | M51: =IFERROR(MID(I51,2,4),I51) -> L2T3 | O51: =CONCATENATE(G51,CHAR(10),F51," --- ",H51) -> TE231(L2T3)B 801 --- MRH | P51: SKC | R51: (L3T1)A
A52: 42 | B52: Saturday | C52: =LOOKUP(D52,$L$1:$L$6,$K$1:$K$6) -> 10:00-11:30 | D52: D | E52: =E51+1 -> 13 | F52: =INDIRECT(CONCATENATE("Sheet1!",CHAR(CODE(D52)),E52),1) -> 802 | G52: =INDIRECT(CONCATENATE("Sheet1!",CHAR(CODE(D52)+1),E52),1) -> TE415(L4T1)A | H52: =INDIRECT(CONCATENATE("Sheet1!",CHAR(CODE(D52)+2),E52),1) -> ZU | I52: =IFERROR(MID(G52,SEARCH("(",G52,1),12),G52) -> (L4T1)A | J52: =CONCATENATE(B52,C52,H52) -> Saturday10:00-11:30ZU | K52: =CONCATENATE(B52,C52,I52) -> Saturday10:00-11:30(L4T1)A | L52: =COUNTIFS($J$11:$J$1051,J52) -> 1 | M52: =IFERROR(MID(I52,2,4),I52) -> L4T1 | O52: =CONCATENATE(G52,CHAR(10),F52," --- ",H52) -> TE415(L4T1)A 802 --- ZU | P52: SKR | R52: (L3T3)D
A53: 43 | B53: Saturday | C53: =LOOKUP(D53,$L$1:$L$6,$K$1:$K$6) -> 10:00-11:30 | D53: D | E53: =E52+1 -> 14 | F53: =INDIRECT(CONCATENATE("Sheet1!",CHAR(CODE(D53)),E53),1) -> 803 | G53: =INDIRECT(CONCATENATE("Sheet1!",CHAR(CODE(D53)+1),E53),1) -> TE233(L2T3)A | H53: =INDIRECT(CONCATENATE("Sheet1!",CHAR(CODE(D53)+2),E53),1) -> NRD | I53: =IFERROR(MID(G53,SEARCH("(",G53,1),12),G53) -> (L2T3)A | J53: =CONCATENATE(B53,C53,H53) -> Saturday10:00-11:30NRD | K53: =CONCATENATE(B53,C53,I53) -> Saturday10:00-11:30(L2T3)A | L53: =COUNTIFS($J$11:$J$1051,J53) -> 1 | M53: =IFERROR(MID(I53,2,4),I53) -> L2T3 | O53: =CONCATENATE(G53,CHAR(10),F53," --- ",H53) -> TE233(L2T3)A 803 --- NRD | P53: SM | R53: (L3T1) B
A54: 44 | B54: Saturday | C54: =LOOKUP(D54,$L$1:$L$6,$K$1:$K$6) -> 10:00-11:30 | D54: D | E54: =E53+1 -> 15 | F54: =INDIRECT(CONCATENATE("Sheet1!",CHAR(CODE(D54)),E54),1) -> 807 | G54: =INDIRECT(CONCATENATE("Sheet1!",CHAR(CODE(D54)+1),E54),1) -> civil | H54: =INDIRECT(CONCATENATE("Sheet1!",CHAR(CODE(D54)+2),E54),1) -> 0 | I54: =IFERROR(MID(G54,SEARCH("(",G54,1),12),G54) -> civil | J54: =CONCATENATE(B54,C54,H54) -> Saturday10:00-11:300 | K54: =CONCATENATE(B54,C54,I54) -> Saturday10:00-11:30civil | L54: =COUNTIFS($J$11:$J$1051,J54) -> 24 | M54: =IFERROR(MID(I54,2,4),I54) -> ivil | O54: =CONCATENATE(G54,CHAR(10),F54," --- ",H54) -> civil 807 --- 0 | P54: SR | R54: (L4T2)A
