Workbook

Sheet Sheet1
A1: Faculty of Engineering
A2: Class Routine Department of Textile Engineering Semester: Summer, 2018
A3: Saturday
A4: 08:30-10:00 | D4: 10:00-11:30 | G4: 11:30-01:00 | J4: 01:00-02:30 | M4: 2:30-04:00 | P4: 04:00-05:30
A5: Class | B5: Course | D5: Class | E5: Course | G5: Class | H5: Course | J5: Class | K5: Course | M5: Class | N5: Course | P5: Class | Q5: Course
A6: 701 | D6: 701 | G6: 701 | M6: 701 | P6: 701
A7: 702 | D7: 702 | G7: 702 | H7: TE311(L3T1)B | I7: NHM | J7: 702 | K7: TE427(L4T2)A | L7: AAM | M7: 702 | N7: TE213(L2T1)A | O7: SAS | P7: 702 | Q7: EVE
A8: 703 | B8: GED | D8: 703 | E8: GED | G8: 703 | H8: GED | J8: 703 | K8: GED | M8: 703 | N8: GED | P8: 703 | Q8: GED
A9: 704 | D9: 704 | G9: 704 | J9: 704 | K9: TE335(L3T3)A | L9: MAB | M9: 704 | P9: 704 | Q9: TE4212(L4T2) B app | R9: MAB
A10: 705 | D10: 705 | G10: 705 | H10: TE4213(L4T2)A | I10: NI | J10: 705 | K10: TE4213(L4T2)B | M10: 705 | P10: 705 | Q10: EVE
A11: 711 | D11: 711 | G11: 711 | H11: TE211(L2T1)A | I11: AHM | J11: 711 | M11: 711 | N11: TE4211(L4T2) wet | O11: SM | P11: 711
A12: 712 | D12: 712 | G12: 712 | J12: 712 | M12: 712 | P12: 712
J13: 402L | M13: 402L | P13: 402L
J14: 403L | M14: 403L | P14: 403L
J15: PC | K15: TE315(L3T1)A | L15: NF
A16: L-Yarn1 | G16: L-Elec | M16: L-Elec
A17: L-Yarn2 | G17: L-Yarn1 | H17: TE212(L2T1)C (1.30-3.30) | L17: AHM | M17: Y-Lab1
A18: L-Fab | E18: TE424(L4T2)A9:30-11:30 | F18: AG | G18: L-Fab | J18: L-Fab | P18: TE214(L2T1)C 3.30-5.30 | R18: MSH
A19: L-Col | G19: L-Col | M19: L-Col
A20: L-App | E20: TE418(L4T1)A 10-12 PM | F20: MRR | G20: L-App | H20: TE418(L4T1)B 12-2.00PM | I20: MRR | J20: L-App | K20: TE418(L4T1)C 2-4.00 PM | L20: MRR | M20: L-App
A21: L-Col | D21: L-Col | E21: TE222(L2T2)A (9-11) | F21: TAC | G21: L-Col | H21: TE222(L2T2)B (11-1) | I21: TAC | J21: L-Col | K21: TE222(L2T2)C (1-3) | L21: TAC | M21: L-Col | N21: TE222(L2T2)D (3-5) | O21: Asif | P21: L-Col | Q21: TE222(L2T2)E (5-7) | R21: Asif
A22: L-Drw | B22: TE225(L2T2)B | F22: MSI | G22: L-Drw | H22: TE225(L2T2)C | L22: MSI | N22: TE225(L2T2)A | R22: MSI
A23: L-QC2 708 | G23: L-QC2 708 | H23: TE 316(L3T1)A 11-1.00 PM | I23: NF | M23: L-QC2 708 | N23: TE316(L3T1)B 3.00-5.00 PM | R23: NF
A24: 501
A25: L-Elec 505
G26: L-mec | M26: L-Mec
A27: 502 | J27: 502
A28: L-Chem | G28: L-Chem | M28: L-Chem
A35: Sunday
A36: 08:30-10:00 | D36: 10:00-11:30 | G36: 11:30-01:00 | J36: 01:00-02:30 | M36: 2:30-04:00 | P36: 04:00-05:30
A37: Class | B37: Course | D37: Class | E37: Course | G37: Class | H37: Course | J37: Class | K37: Course | M37: Class | N37: Course | P37: Class | Q37: Course
A38: 701 | D38: 701 | G38: 701 | H38: BNS 101 (L2T1)A | I38: FHS | J38: 701 | M38: 701 | P38: 701
A39: 702 | B39: TE419(L4T1) A | C39: TAC | D39: 702 | E39: xxxxxxxxxxxxxxxxxxxxxxxxxx | G39: 702 | H39: T427(L4T2)B | I39: AAM | J39: 702 | K39: HUM333(L3T3)B | L39: AHM | M39: 702 | N39: TE111L1T3)C1(GED) | O39: MK | P39: 702 | Q39: MKT231(L2T3) | R39: MAB
A40: 703 | B40: GED | D40: 703 | E40: GED | G40: 703 | H40: GED | J40: 703 | K40: GED | M40: 703 | N40: GED | P40: 703 | Q40: GED
A41: 704 | B41: TE334(L3T3)B | C41: MSI | D41: 704 | E41: TE327(L3T2)A | F41: AAA | G41: 704 | H41: TE4111(L4T1)A | I41: MMH | J41: 704 | K41: TE327(L3T2)B | L41: AAA | M41: 704 | N41: TE4212(L4T2)A app | O41: MAB | P41: 704 | Q41: TE315(L3T1)A | R41: NF
A42: 705 | B42: TE4213(L4T2)C | C42: Faysal | D42: 705 | E42: HUM333(L3T3)A | F42: AG | G42: 705 | J42: 705 | K42: TE 413(L4T1) | L42: AG | M42: 705 | N42: TE325(L3T2)B | O42: SRS | P42: 705 | Q42: TE211(L2T1)B | R42: AHM
A43: 711 | B43: TE213(L2T1)A | C43: SAS | D43: 711 | E43: TE317(L3T1)A | F43: MR1 | G43: 711 | J43: 711 | K43: TE321(L3T2)A | L43: SM | M43: 711 | N43: TE323(L3T2)A | O43: FS | P43: 711 | Q43: TE321(L3T2)B | R43: SM
A44: 712 | D44: 712 | E44: TE323(L3T2)B | F44: FS | G44: 712 | H44: TE335(L3T3)B | I44: MAB | J44: 712 | K44: TE317(L3T1)B | L44: MRR | M44: 712 | N44: AOL101(L2T3) | O44: MSI | P44: 712 | Q44: TE417(L4T1) A | R44: MRR
A45: 402L | D45: 402L | G45: 601DT | H45: ACT231(L2T3) | I45: AH | J45: 402L | M45: 402L | P45: 402L
A46: 303 | B46: TE325(L3T2)A | C46: TNA | D46: 403L | G46: 403L | J46: 403L | M46: 403L | P46: 403L
A48: L-Yarn1 | G48: L-Yarn1 | M48: L-Yarn1
A49: L-Yarn2 | G49: L-Yarn2 | H49: TE312(L3T1)C 11.30-1.30 | I49: MR1 | M49: L-Yarn2 | N49: TE312(L3T1)B 2.30-4.30 | R49: MR1
A50: L-Draw | G50: L-Draw | M50: Com-lab
A51: L-Fab | E51: TE214(L2T1)A 10-12 PM | F51: SAS | G51: L-Fab | M51: L-Fab | N51: TE314(L3T1)C 2.30-4.30 | R51: AG
A52: L-Col | G52: L-Col | K52: TE426(L4T2) 12:30-2:30pm | L52: rashid | M52: L-Col | N52: TE416(L4T1) 2:30-4:30pm | O52: rashid
A53: L-App | G53: L-App | M53: L-App
A54: L-QC1 709 | G54: L-QC1 708 | M54: L-QC1 709
A55: L-QC2 708 | G55: L-QC2 709 | M55: L-QC2 709
A56: 201 | G56: L-QC1 708 | M56: 501
A57: 501 | M57: L-Draw
A58: 502 | G58: 502
A60: L-Chem | G60: L-Chem | M60: L-Chem
A72: Monday
A73: 08:30-10:00 | D73: 10:00-11:30 | G73: 11:30-01:00 | J73: 01:00-02:30 | M73: 2:30-04:00 | P73: 04:00-05:30
A74: Class | B74: Course | D74: Class | E74: Course | G74: Class | H74: Course | J74: Class | K74: Course | M74: Class | N74: Course | P74: Class | Q74: Course
A75: 701 | D75: 701 | E75: TE 428(4T2)B 10-12PM | F75: AAM | G75: 701 | H75: TE 428(L42)A 12-2 PM | L75: AAM | M75: 701 | N75: TE 428(L4T2)C 3-5 PM | O75: AAM | P75: 701 | Q75: xxxxxxxxxxxxxxxxxxxxxxxxxx
A76: 702 | B76: TE419(L4T1)B | C76: TAC | D76: 702 | E76: TE419(L4T1)A | F76: TAC | G76: 702 | H76: TE223(L2T2)A | I76: MRH | J76: 702 | K76: HUM(L3T3)B | L76: AHM | M76: 702 | P76: 702 | Q76: TE213(L2T1)B | R76: MSH
A77: 703 | B77: GED | D77: 703 | E77: GED | G77: 703 | H77: GED | J77: 703 | K77: GED | M77: 703 | N77: GED | P77: 703 | Q77: GED
A78: 704 | B78: TE423(L4T2)A | C78: MMH | D78: 704 | E78: TE4110(L4T1)B | F78: SMR | G78: 704 | H78: TE4111(L4T1) A | I78: MMH | J78: 704 | K78: TE4110(L4T1)A | L78: SMR | M78: 704 | N78: TE4212(L4T2)A app | O78: MAB | P78: 704 | Q78: TE223(L2T2)B | R78: MRH
A79: 705 | B79: TE223(L2T2)C | C79: SAS | D79: 705 | E79: TE226(L2T2)C | F79: MSR | G79: 705 | H79: TE331(L3T3)A | I79: MK | J79: 705 | K79: TE226(L2T2)B | L79: MSR | M79: 705 | N79: BNS 101 (L2T1)B | O79: FHS | P79: 705 | Q79: TE315(L3T1)B | R79: NF
A80: 711 | B80: TE327(L3T2)A | C80: AAA | D80: 711 | E80: TE327(L3T2)B | F80: AAA | G80: 711 | H80: TE335(L3T3)B | I80: MAB | J80: 711 | K80: TE334(L3T3)A | L80: MSI | M80: 711 | P80: 711 | Q80: TE211(L2T1)A | R80: AHM
A81: 712 | B81: TE111L1T3)C1(GED) | C81: MK | D81: 712 | E81: ACT231(L2T3) | F81: ?? | G81: 712 | H81: TE311(L3T1)A | I81: NHM | J81: 712 | K81: TE313(L3T1)A | L81: AG | M81: 712 | N81: TE311 (L3T1)B | O81: NHM | P81: 712 | Q81: HUM333(L3T3)A | R81: AG
A82: 402L | D82: 402L | G82: 402L | J82: 402L | K82: TE231(L2T3) | L82: MRH | M82: 402L | N82: TE415(L4T1) | O82: SC | P82: 402L
A83: 403L | D83: 403L | G83: 403L | J83: 403L | M83: 403L | P83: 403L
A84: 303 | D84: 304 | G84: 303 | J84: 305 | M84: 303 | N84: =++E18TE -> #NAME? | P84: 303
A85: L-Yarn1 | G85: L-Yarn2 | M85: L-Yarn2
A86: L-Fab | B86: TE314(L3T1)A 9.30-11.30 | F86: AG | G86: L-Fab | M86: L-APP
A87: L-ENG
A88: L-Col | D88: L-Col | E88: TE322(3T2)A 11:30-1:30 PM | I88: SM | J88: L-Col | K88: TE322(L3T2)B1:30-3 :30PM | O88: SM | P88: L-Col | Q88: TE322(L3T2)C3:30-5:30 PM | R88: SM
A89: L-Fab | D89: L-App | J89: L-Draw
A90: L-App | D90: L-APP | M90: L-App
G91: 709
A92: L-QC1 709 | G92: L-Col II | M92: L-QC1 709
A93: L-QC2 708 | G93: L-QC1 708 | M93: L-QC2 708
A94: L-Elec 505 | G94: L-Elec 505 | M94: L-Elec 505
A95: 501 | G95: 501 | M95: 501
A96: 502 | G96: 502 | M96: 502
A97: L-Draw | G97: L-Draw | M97: L-Chem
A98: L-Chem | G98: L-Chem | M98: L-Chem
G99: L-QC2 708 | M99: L-QC2 708 | R99: MHR
A109: Tuesday
A110: 08:30-10:00 | D110: 10:00-11:30 | G110: 11:30-01:00 | J110: 01:00-02:30 | M110: 2:30-04:00 | P110: 04:00-05:30
A111: Class | B111: Course | D111: Class | E111: Course | G111: Class | H111: Course | J111: Class | K111: Course | M111: Class | N111: Course | P111: Class | Q111: Course
A112: 701 | D112: 701 | E112: BNS 101 (L2T1)A | F112: FHS | G112: 701 | H112: DE | J112: 701 | M112: 701 | N112: xxxxxxxxxxxxxxxxxxxxxx
A113: 702 | D113: 702 | E113: TE223(L2T2)A | F113: MRH | G113: 702 | H113: TE427(L4T2)A | I113: AAM | J113: 702 | K113: TE417(L4T1)B | L113: MRR | M113: 702 | N113: TE4214(L4T2) B app | O113: MAB | P113: 702 | Q113: TE427(L4T2)B | R113: AAM
A114: 703 | B114: GED | D114: 703 | E114: GED | G114: 703 | H114: GED | J114: 703 | K114: GED | M114: 703 | N114: GED | P114: 703 | Q114: GED
A115: 704 | B115: TE221(L2T2)A | C115: TAC | D115: 704 | E115: TE4210(L4T2)fab | F115: MMH | G115: 704 | H115: TE221(L2T2)B | I115: TAC | J115: 704 | K115: TE313(L3T1)A | L115: AG | M115: 704 | N115: TE4110(L4T1) A | O115: SMR | P115: 704 | Q115: TE417(L4T1)A | R115: MRR
A116: 705 | B116: TE313(L3T1)B | C116: AG | D116: 705 | E116: TE4111(L4T11)B | F116: SAS | G116: 705 | H116: TE226(L2T2)A | I116: MSR | J116: 705 | K116: TE231(L2T3) | L116: MRH | M116: 705 | N116: TE226(L2T2)C | O116: MSR | P116: 705 | Q116: TE 425(L4T2) wet | R116: ZU
A117: 711 | B117: TE 215(L2T1)A | C117: ?? | D117: 711 | E117: TE 215(L2T1)B | F117: NJ | G117: 711 | H117: MKT231(L2T3) | I117: MAB | J117: 711 | K117: TE221(L2T2)C | L117: SC | M117: 711 | N117: TE4211(L4T2) wet | O117: SM | P117: 711 | Q117: TE233(L2T3) | R117: NRD
A118: 712 | B118: TE223(L2T2)B | C118: MRH | D118: 712 | E118: TE 324(L3T2)A 10- 12 PM | F118: FS | G118: 712 | H118: TE223(L2T2)C | I118: SAS | J118: 712 | K118: TE4213(L4T2)A | L118: NI | M118: 712 | N118: AOL101(L2T3) | O118: MSI | P118: 712 | Q118: EVE | R118: SH
A119: 402L | D119: 402L | G119: 402L | J119: 402L | M119: 402L | N119: TE419(L4T1)B | O119: TAC | P119: 402L
A120: 303 | B120: TE325(L3T2)A | C120: TNA | D120: 403L | G120: 403L | J120: 403L | M120: 403L | P120: 403L
A121: L-ENG
A123: L-Yarn1 | G123: L-Yarn1 | H123: TE212(L2T1)A | L123: AHM | M123: L-Yarn1 | N123: TE212(L2T1)B 2.30-4.30 | R123: AHM
A124: L-Yarn2 | G124: L-Col | M124: L-Yarn2
A125: L-Fab2 | F125: AG | G125: L-Fab | H125: TE214(L2T1)B12:30-2:30 | L125: MSH | M125: L-Fab
A126: L-Col | G126: L-Draw | M126: L-Col
A127: L-Fab 1 | J127: L-App
A128: L-App | E128: TE332(L3T3)A 10-12PM | F128: MK | H128: TE332(L3L3)B 12-2.00PM | I128: MK
J129: L-App
...

Sheet Teacher's routine
B1: ANF | D1: 08:30-10:00 | E1: 10:00-11:30 | F1: 11:30-01:00 | G1: 01:00-02:30 | H1: 2:30-04:00 | I1: 04:00-05:30
B2: =B1 -> ANF | C2: Saturday | D2: =IFERROR(INDEX(Data!$A$10:$O$1069,MATCH(CONCATENATE($C2,D$8,$B2),Data!$J$10:$J$1069,0),15),"") | E2: =IFERROR(INDEX(Data!$A$10:$O$1069,MATCH(CONCATENATE($C2,E$8,$B2),Data!$J$10:$J$1069,0),15),"") | F2: =IFERROR(INDEX(Data!$A$10:$O$1069,MATCH(CONCATENATE($C2,F$8,$B2),Data!$J$10:$J$1069,0),15),"") | G2: =IFERROR(INDEX(Data!$A$10:$O$1069,MATCH(CONCATENATE($C2,G$8,$B2),Data!$J$10:$J$1069,0),15),"") | H2: =IFERROR(INDEX(Data!$A$10:$O$1069,MATCH(CONCATENATE($C2,H$8,$B2),Data!$J$10:$J$1069,0),15),"") | I2: =IFERROR(INDEX(Data!$A$10:$O$1069,MATCH(CONCATENATE($C2,I$8,$B2),Data!$J$10:$J$1069,0),15),"")
B3: =B2 -> ANF | C3: Sunday | D3: =IFERROR(INDEX(Data!$A$10:$O$1069,MATCH(CONCATENATE($C3,D$8,$B3),Data!$J$10:$J$1069,0),15),"") | E3: =IFERROR(INDEX(Data!$A$10:$O$1069,MATCH(CONCATENATE($C3,E$8,$B3),Data!$J$10:$J$1069,0),15),"") | F3: =IFERROR(INDEX(Data!$A$10:$O$1069,MATCH(CONCATENATE($C3,F$8,$B3),Data!$J$10:$J$1069,0),15),"") | G3: =IFERROR(INDEX(Data!$A$10:$O$1069,MATCH(CONCATENATE($C3,G$8,$B3),Data!$J$10:$J$1069,0),15),"") | H3: =IFERROR(INDEX(Data!$A$10:$O$1069,MATCH(CONCATENATE($C3,H$8,$B3),Data!$J$10:$J$1069,0),15),"") | I3: =IFERROR(INDEX(Data!$A$10:$O$1069,MATCH(CONCATENATE($C3,I$8,$B3),Data!$J$10:$J$1069,0),15),"")
B4: =B3 -> ANF | C4: Monday | D4: =IFERROR(INDEX(Data!$A$10:$O$1069,MATCH(CONCATENATE($C4,D$8,$B4),Data!$J$10:$J$1069,0),15),"") | E4: =IFERROR(INDEX(Data!$A$10:$O$1069,MATCH(CONCATENATE($C4,E$8,$B4),Data!$J$10:$J$1069,0),15),"") | F4: =IFERROR(INDEX(Data!$A$10:$O$1069,MATCH(CONCATENATE($C4,F$8,$B4),Data!$J$10:$J$1069,0),15),"") | G4: =IFERROR(INDEX(Data!$A$10:$O$1069,MATCH(CONCATENATE($C4,G$8,$B4),Data!$J$10:$J$1069,0),15),"") | H4: =IFERROR(INDEX(Data!$A$10:$O$1069,MATCH(CONCATENATE($C4,H$8,$B4),Data!$J$10:$J$1069,0),15),"") | I4: =IFERROR(INDEX(Data!$A$10:$O$1069,MATCH(CONCATENATE($C4,I$8,$B4),Data!$J$10:$J$1069,0),15),"")
B5: =B4 -> ANF | C5: Tuesday | D5: =IFERROR(INDEX(Data!$A$10:$O$1069,MATCH(CONCATENATE($C5,D$8,$B5),Data!$J$10:$J$1069,0),15),"") | E5: =IFERROR(INDEX(Data!$A$10:$O$1069,MATCH(CONCATENATE($C5,E$8,$B5),Data!$J$10:$J$1069,0),15),"") | F5: =IFERROR(INDEX(Data!$A$10:$O$1069,MATCH(CONCATENATE($C5,F$8,$B5),Data!$J$10:$J$1069,0),15),"") | G5: =IFERROR(INDEX(Data!$A$10:$O$1069,MATCH(CONCATENATE($C5,G$8,$B5),Data!$J$10:$J$1069,0),15),"") | H5: =IFERROR(INDEX(Data!$A$10:$O$1069,MATCH(CONCATENATE($C5,H$8,$B5),Data!$J$10:$J$1069,0),15),"") | I5: =IFERROR(INDEX(Data!$A$10:$O$1069,MATCH(CONCATENATE($C5,I$8,$B5),Data!$J$10:$J$1069,0),15),"")
B6: =B5 -> ANF | C6: Wednesday | D6: =IFERROR(INDEX(Data!$A$10:$O$1069,MATCH(CONCATENATE($C6,D$8,$B6),Data!$J$10:$J$1069,0),15),"") | E6: =IFERROR(INDEX(Data!$A$10:$O$1069,MATCH(CONCATENATE($C6,E$8,$B6),Data!$J$10:$J$1069,0),15),"") | F6: =IFERROR(INDEX(Data!$A$10:$O$1069,MATCH(CONCATENATE($C6,F$8,$B6),Data!$J$10:$J$1069,0),15),"") | G6: =IFERROR(INDEX(Data!$A$10:$O$1069,MATCH(CONCATENATE($C6,G$8,$B6),Data!$J$10:$J$1069,0),15),"") | H6: =IFERROR(INDEX(Data!$A$10:$O$1069,MATCH(CONCATENATE($C6,H$8,$B6),Data!$J$10:$J$1069,0),15),"") | I6: =IFERROR(INDEX(Data!$A$10:$O$1069,MATCH(CONCATENATE($C6,I$8,$B6),Data!$J$10:$J$1069,0),15),"")
B7: =B6 -> ANF | C7: Thursday | D7: =IFERROR(INDEX(Data!$A$10:$O$1069,MATCH(CONCATENATE($C7,D$8,$B7),Data!$J$10:$J$1069,0),15),"") | E7: =IFERROR(INDEX(Data!$A$10:$O$1069,MATCH(CONCATENATE($C7,E$8,$B7),Data!$J$10:$J$1069,0),15),"") | F7: =IFERROR(INDEX(Data!$A$10:$O$1069,MATCH(CONCATENATE($C7,F$8,$B7),Data!$J$10:$J$1069,0),15),"") | G7: =IFERROR(INDEX(Data!$A$10:$O$1069,MATCH(CONCATENATE($C7,G$8,$B7),Data!$J$10:$J$1069,0),15),"") | H7: =IFERROR(INDEX(Data!$A$10:$O$1069,MATCH(CONCATENATE($C7,H$8,$B7),Data!$J$10:$J$1069,0),15),"") | I7: =IFERROR(INDEX(Data!$A$10:$O$1069,MATCH(CONCATENATE($C7,I$8,$B7),Data!$J$10:$J$1069,0),15),"")
D8: 08:30-10:00 | E8: 10:00-11:30 | F8: 11:30-01:00 | G8: 01:00-02:30 | H8: 2:30-04:00 | I8: 04:00-05:30 | L8: Faculty List
A9: =COUNTIF($C$8:C9,C9)+1 -> 2 | B9: =VLOOKUP(A9,$K$11:$L$80,2,FALSE) -> AAA | C9: Saturday | D9: =IFERROR(INDEX(Data!$A$10:$O$1069,MATCH(CONCATENATE($C9,D$8,$B9),Data!$J$10:$J$1069,0),15),"") | E9: =IFERROR(INDEX(Data!$A$10:$O$1069,MATCH(CONCATENATE($C9,E$8,$B9),Data!$J$10:$J$1069,0),15),"") | F9: =IFERROR(INDEX(Data!$A$10:$O$1069,MATCH(CONCATENATE($C9,F$8,$B9),Data!$J$10:$J$1069,0),15),"") | G9: =IFERROR(INDEX(Data!$A$10:$O$1069,MATCH(CONCATENATE($C9,G$8,$B9),Data!$J$10:$J$1069,0),15),"") | H9: =IFERROR(INDEX(Data!$A$10:$O$1069,MATCH(CONCATENATE($C9,H$8,$B9),Data!$J$10:$J$1069,0),15),"") | I9: =IFERROR(INDEX(Data!$A$10:$O$1069,MATCH(CONCATENATE($C9,I$8,$B9),Data!$J$10:$J$1069,0),15),"")
A10: =COUNTIF($C$8:C10,C10)+1 -> 2 | B10: =VLOOKUP(A10,$K$11:$L$80,2,FALSE) -> AAA | C10: Sunday | D10: =IFERROR(INDEX(Data!$A$10:$O$1069,MATCH(CONCATENATE($C10,D$8,$B10),Data!$J$10:$J$1069,0),15),"") | E10: =IFERROR(INDEX(Data!$A$10:$O$1069,MATCH(CONCATENATE($C10,E$8,$B10),Data!$J$10:$J$1069,0),15),"") | F10: =IFERROR(INDEX(Data!$A$10:$O$1069,MATCH(CONCATENATE($C10,F$8,$B10),Data!$J$10:$J$1069,0),15),"") | G10: =IFERROR(INDEX(Data!$A$10:$O$1069,MATCH(CONCATENATE($C10,G$8,$B10),Data!$J$10:$J$1069,0),15),"") | H10: =IFERROR(INDEX(Data!$A$10:$O$1069,MATCH(CONCATENATE($C10,H$8,$B10),Data!$J$10:$J$1069,0),15),"") | I10: =IFERROR(INDEX(Data!$A$10:$O$1069,MATCH(CONCATENATE($C10,I$8,$B10),Data!$J$10:$J$1069,0),15),"") | K10: Sl | L10: Teacher
A11: =COUNTIF($C$8:C11,C11)+1 -> 2 | B11: =VLOOKUP(A11,$K$11:$L$80,2,FALSE) -> AAA | C11: Monday | D11: =IFERROR(INDEX(Data!$A$10:$O$1069,MATCH(CONCATENATE($C11,D$8,$B11),Data!$J$10:$J$1069,0),15),"") | E11: =IFERROR(INDEX(Data!$A$10:$O$1069,MATCH(CONCATENATE($C11,E$8,$B11),Data!$J$10:$J$1069,0),15),"") | F11: =IFERROR(INDEX(Data!$A$10:$O$1069,MATCH(CONCATENATE($C11,F$8,$B11),Data!$J$10:$J$1069,0),15),"") | G11: =IFERROR(INDEX(Data!$A$10:$O$1069,MATCH(CONCATENATE($C11,G$8,$B11),Data!$J$10:$J$1069,0),15),"") | H11: =IFERROR(INDEX(Data!$A$10:$O$1069,MATCH(CONCATENATE($C11,H$8,$B11),Data!$J$10:$J$1069,0),15),"") | I11: =IFERROR(INDEX(Data!$A$10:$O$1069,MATCH(CONCATENATE($C11,I$8,$B11),Data!$J$10:$J$1069,0),15),"") | K11: 1 | L11: 0
A12: =COUNTIF($C$8:C12,C12)+1 -> 2 | B12: =VLOOKUP(A12,$K$11:$L$80,2,FALSE) -> AAA | C12: Tuesday | D12: =IFERROR(INDEX(Data!$A$10:$O$1069,MATCH(CONCATENATE($C12,D$8,$B12),Data!$J$10:$J$1069,0),15),"") | E12: =IFERROR(INDEX(Data!$A$10:$O$1069,MATCH(CONCATENATE($C12,E$8,$B12),Data!$J$10:$J$1069,0),15),"") | F12: =IFERROR(INDEX(Data!$A$10:$O$1069,MATCH(CONCATENATE($C12,F$8,$B12),Data!$J$10:$J$1069,0),15),"") | G12: =IFERROR(INDEX(Data!$A$10:$O$1069,MATCH(CONCATENATE($C12,G$8,$B12),Data!$J$10:$J$1069,0),15),"") | H12: =IFERROR(INDEX(Data!$A$10:$O$1069,MATCH(CONCATENATE($C12,H$8,$B12),Data!$J$10:$J$1069,0),15),"") | I12: =IFERROR(INDEX(Data!$A$10:$O$1069,MATCH(CONCATENATE($C12,I$8,$B12),Data!$J$10:$J$1069,0),15),"") | K12: 2 | L12: AAA
A13: =COUNTIF($C$8:C13,C13)+1 -> 2 | B13: =VLOOKUP(A13,$K$11:$L$80,2,FALSE) -> AAA | C13: Wednesday | D13: =IFERROR(INDEX(Data!$A$10:$O$1069,MATCH(CONCATENATE($C13,D$8,$B13),Data!$J$10:$J$1069,0),15),"") | E13: =IFERROR(INDEX(Data!$A$10:$O$1069,MATCH(CONCATENATE($C13,E$8,$B13),Data!$J$10:$J$1069,0),15),"") | F13: =IFERROR(INDEX(Data!$A$10:$O$1069,MATCH(CONCATENATE($C13,F$8,$B13),Data!$J$10:$J$1069,0),15),"") | G13: =IFERROR(INDEX(Data!$A$10:$O$1069,MATCH(CONCATENATE($C13,G$8,$B13),Data!$J$10:$J$1069,0),15),"") | H13: =IFERROR(INDEX(Data!$A$10:$O$1069,MATCH(CONCATENATE($C13,H$8,$B13),Data!$J$10:$J$1069,0),15),"") | I13: =IFERROR(INDEX(Data!$A$10:$O$1069,MATCH(CONCATENATE($C13,I$8,$B13),Data!$J$10:$J$1069,0),15),"") | K13: 3 | L13: AAM
A14: =COUNTIF($C$8:C14,C14)+1 -> 2 | B14: =VLOOKUP(A14,$K$11:$L$80,2,FALSE) -> AAA | C14: Thursday | D14: =IFERROR(INDEX(Data!$A$10:$O$1069,MATCH(CONCATENATE($C14,D$8,$B14),Data!$J$10:$J$1069,0),15),"") | E14: =IFERROR(INDEX(Data!$A$10:$O$1069,MATCH(CONCATENATE($C14,E$8,$B14),Data!$J$10:$J$1069,0),15),"") | F14: =IFERROR(INDEX(Data!$A$10:$O$1069,MATCH(CONCATENATE($C14,F$8,$B14),Data!$J$10:$J$1069,0),15),"") | G14: =IFERROR(INDEX(Data!$A$10:$O$1069,MATCH(CONCATENATE($C14,G$8,$B14),Data!$J$10:$J$1069,0),15),"") | H14: =IFERROR(INDEX(Data!$A$10:$O$1069,MATCH(CONCATENATE($C14,H$8,$B14),Data!$J$10:$J$1069,0),15),"") | I14: =IFERROR(INDEX(Data!$A$10:$O$1069,MATCH(CONCATENATE($C14,I$8,$B14),Data!$J$10:$J$1069,0),15),"") | K14: 4 | L14: AAT
D15: 08:30-10:00 | E15: 10:00-11:30 | F15: 11:30-01:00 | G15: 01:00-02:30 | H15: 2:30-04:00 | I15: 04:00-05:30 | K15: 5 | L15: AG
A16: =COUNTIF($C$8:C16,C16)+1 -> 3 | B16: =VLOOKUP(A16,$K$11:$L$80,2,FALSE) -> AAM | C16: Saturday | D16: =IFERROR(INDEX(Data!$A$10:$O$1069,MATCH(CONCATENATE($C16,D$8,$B16),Data!$J$10:$J$1069,0),15),"") | E16: =IFERROR(INDEX(Data!$A$10:$O$1069,MATCH(CONCATENATE($C16,E$8,$B16),Data!$J$10:$J$1069,0),15),"") | F16: =IFERROR(INDEX(Data!$A$10:$O$1069,MATCH(CONCATENATE($C16,F$8,$B16),Data!$J$10:$J$1069,0),15),"") | G16: =IFERROR(INDEX(Data!$A$10:$O$1069,MATCH(CONCATENATE($C16,G$8,$B16),Data!$J$10:$J$1069,0),15),"") -> TE427(L4T2)A 702 --- AAM | H16: =IFERROR(INDEX(Data!$A$10:$O$1069,MATCH(CONCATENATE($C16,H$8,$B16),Data!$J$10:$J$1069,0),15),"") | I16: =IFERROR(INDEX(Data!$A$10:$O$1069,MATCH(CONCATENATE($C16,I$8,$B16),Data!$J$10:$J$1069,0),15),"") | K16: 6 | L16: AHM
A17: =COUNTIF($C$8:C17,C17)+1 -> 3 | B17: =VLOOKUP(A17,$K$11:$L$80,2,FALSE) -> AAM | C17: Sunday | D17: =IFERROR(INDEX(Data!$A$10:$O$1069,MATCH(CONCATENATE($C17,D$8,$B17),Data!$J$10:$J$1069,0),15),"") -> 0 701 --- AAM | E17: =IFERROR(INDEX(Data!$A$10:$O$1069,MATCH(CONCATENATE($C17,E$8,$B17),Data!$J$10:$J$1069,0),15),"") -> 0 701 --- AAM | F17: =IFERROR(INDEX(Data!$A$10:$O$1069,MATCH(CONCATENATE($C17,F$8,$B17),Data!$J$10:$J$1069,0),15),"") -> TE 428(L42)A 12-2 PM 701 --- AAM | G17: =IFERROR(INDEX(Data!$A$10:$O$1069,MATCH(CONCATENATE($C17,G$8,$B17),Data!$J$10:$J$1069,0),15),"") -> TE 428(L42)A 12-2 PM 701 --- AAM | H17: =IFERROR(INDEX(Data!$A$10:$O$1069,MATCH(CONCATENATE($C17,H$8,$B17),Data!$J$10:$J$1069,0),15),"") | I17: =IFERROR(INDEX(Data!$A$10:$O$1069,MATCH(CONCATENATE($C17,I$8,$B17),Data!$J$10:$J$1069,0),15),"") | K17: 7 | L17: AHR
A18: =COUNTIF($C$8:C18,C18)+1 -> 3 | B18: =VLOOKUP(A18,$K$11:$L$80,2,FALSE) -> AAM | C18: Monday | D18: =IFERROR(INDEX(Data!$A$10:$O$1069,MATCH(CONCATENATE($C18,D$8,$B18),Data!$J$10:$J$1069,0),15),"") | E18: =IFERROR(INDEX(Data!$A$10:$O$1069,MATCH(CONCATENATE($C18,E$8,$B18),Data!$J$10:$J$1069,0),15),"") | F18: =IFERROR(INDEX(Data!$A$10:$O$1069,MATCH(CONCATENATE($C18,F$8,$B18),Data!$J$10:$J$1069,0),15),"") | G18: =IFERROR(INDEX(Data!$A$10:$O$1069,MATCH(CONCATENATE($C18,G$8,$B18),Data!$J$10:$J$1069,0),15),"") | H18: =IFERROR(INDEX(Data!$A$10:$O$1069,MATCH(CONCATENATE($C18,H$8,$B18),Data!$J$10:$J$1069,0),15),"") -> TE4214(L4T2) B app 702 --- AAM | I18: =IFERROR(INDEX(Data!$A$10:$O$1069,MATCH(CONCATENATE($C18,I$8,$B18),Data!$J$10:$J$1069,0),15),"") -> TE4214(L4T2) B app 702 --- AAM | K18: 8 | L18: AI
A19: =COUNTIF($C$8:C19,C19)+1 -> 3 | B19: =VLOOKUP(A19,$K$11:$L$80,2,FALSE) -> AAM | C19: Tuesday | D19: =IFERROR(INDEX(Data!$A$10:$O$1069,MATCH(CONCATENATE($C19,D$8,$B19),Data!$J$10:$J$1069,0),15),"") | E19: =IFERROR(INDEX(Data!$A$10:$O$1069,MATCH(CONCATENATE($C19,E$8,$B19),Data!$J$10:$J$1069,0),15),"") | F19: =IFERROR(INDEX(Data!$A$10:$O$1069,MATCH(CONCATENATE($C19,F$8,$B19),Data!$J$10:$J$1069,0),15),"") | G19: =IFERROR(INDEX(Data!$A$10:$O$1069,MATCH(CONCATENATE($C19,G$8,$B19),Data!$J$10:$J$1069,0),15),"") | H19: =IFERROR(INDEX(Data!$A$10:$O$1069,MATCH(CONCATENATE($C19,H$8,$B19),Data!$J$10:$J$1069,0),15),"") | I19: =IFERROR(INDEX(Data!$A$10:$O$1069,MATCH(CONCATENATE($C19,I$8,$B19),Data!$J$10:$J$1069,0),15),"") | K19: 9 | L19: AN
A20: =COUNTIF($C$8:C20,C20)+1 -> 3 | B20: =VLOOKUP(A20,$K$11:$L$80,2,FALSE) -> AAM | C20: Wednesday | D20: =IFERROR(INDEX(Data!$A$10:$O$1069,MATCH(CONCATENATE($C20,D$8,$B20),Data!$J$10:$J$1069,0),15),"") | E20: =IFERROR(INDEX(Data!$A$10:$O$1069,MATCH(CONCATENATE($C20,E$8,$B20),Data!$J$10:$J$1069,0),15),"") | F20: =IFERROR(INDEX(Data!$A$10:$O$1069,MATCH(CONCATENATE($C20,F$8,$B20),Data!$J$10:$J$1069,0),15),"") | G20: =IFERROR(INDEX(Data!$A$10:$O$1069,MATCH(CONCATENATE($C20,G$8,$B20),Data!$J$10:$J$1069,0),15),"") | H20: =IFERROR(INDEX(Data!$A$10:$O$1069,MATCH(CONCATENATE($C20,H$8,$B20),Data!$J$10:$J$1069,0),15),"") | I20: =IFERROR(INDEX(Data!$A$10:$O$1069,MATCH(CONCATENATE($C20,I$8,$B20),Data!$J$10:$J$1069,0),15),"") | K20: 10 | L20: FBS
A21: =COUNTIF($C$8:C21,C21)+1 -> 3 | B21: =VLOOKUP(A21,$K$11:$L$80,2,FALSE) -> AAM | C21: Thursday | D21: =IFERROR(INDEX(Data!$A$10:$O$1069,MATCH(CONCATENATE($C21,D$8,$B21),Data!$J$10:$J$1069,0),15),"") | E21: =IFERROR(INDEX(Data!$A$10:$O$1069,MATCH(CONCATENATE($C21,E$8,$B21),Data!$J$10:$J$1069,0),15),"") | F21: =IFERROR(INDEX(Data!$A$10:$O$1069,MATCH(CONCATENATE($C21,F$8,$B21),Data!$J$10:$J$1069,0),15),"") | G21: =IFERROR(INDEX(Data!$A$10:$O$1069,MATCH(CONCATENATE($C21,G$8,$B21),Data!$J$10:$J$1069,0),15),"") | H21: =IFERROR(INDEX(Data!$A$10:$O$1069,MATCH(CONCATENATE($C21,H$8,$B21),Data!$J$10:$J$1069,0),15),"") | I21: =IFERROR(INDEX(Data!$A$10:$O$1069,MATCH(CONCATENATE($C21,I$8,$B21),Data!$J$10:$J$1069,0),15),"") | K21: 11 | L21: FHA
D22: 08:30-10:00 | E22: 10:00-11:30 | F22: 11:30-01:00 | G22: 01:00-02:30 | H22: 2:30-04:00 | I22: 04:00-05:30 | K22: 12 | L22: FHS
A23: =COUNTIF($C$8:C23,C23)+1 -> 4 | B23: =VLOOKUP(A23,$K$11:$L$80,2,FALSE) -> AAT | C23: Saturday | D23: =IFERROR(INDEX(Data!$A$10:$O$1069,MATCH(CONCATENATE($C23,D$8,$B23),Data!$J$10:$J$1069,0),15),"") | E23: =IFERROR(INDEX(Data!$A$10:$O$1069,MATCH(CONCATENATE($C23,E$8,$B23),Data!$J$10:$J$1069,0),15),"") | F23: =IFERROR(INDEX(Data!$A$10:$O$1069,MATCH(CONCATENATE($C23,F$8,$B23),Data!$J$10:$J$1069,0),15),"") | G23: =IFERROR(INDEX(Data!$A$10:$O$1069,MATCH(CONCATENATE($C23,G$8,$B23),Data!$J$10:$J$1069,0),15),"") | H23: =IFERROR(INDEX(Data!$A$10:$O$1069,MATCH(CONCATENATE($C23,H$8,$B23),Data!$J$10:$J$1069,0),15),"") | I23: =IFERROR(INDEX(Data!$A$10:$O$1069,MATCH(CONCATENATE($C23,I$8,$B23),Data!$J$10:$J$1069,0),15),"") | K23: 13 | L23: FS
A24: =COUNTIF($C$8:C24,C24)+1 -> 4 | B24: =VLOOKUP(A24,$K$11:$L$80,2,FALSE) -> AAT | C24: Sunday | D24: =IFERROR(INDEX(Data!$A$10:$O$1069,MATCH(CONCATENATE($C24,D$8,$B24),Data!$J$10:$J$1069,0),15),"") | E24: =IFERROR(INDEX(Data!$A$10:$O$1069,MATCH(CONCATENATE($C24,E$8,$B24),Data!$J$10:$J$1069,0),15),"") | F24: =IFERROR(INDEX(Data!$A$10:$O$1069,MATCH(CONCATENATE($C24,F$8,$B24),Data!$J$10:$J$1069,0),15),"") | G24: =IFERROR(INDEX(Data!$A$10:$O$1069,MATCH(CONCATENATE($C24,G$8,$B24),Data!$J$10:$J$1069,0),15),"") | H24: =IFERROR(INDEX(Data!$A$10:$O$1069,MATCH(CONCATENATE($C24,H$8,$B24),Data!$J$10:$J$1069,0),15),"") | I24: =IFERROR(INDEX(Data!$A$10:$O$1069,MATCH(CONCATENATE($C24,I$8,$B24),Data!$J$10:$J$1069,0),15),"") | K24: 14 | L24: GC
A25: =COUNTIF($C$8:C25,C25)+1 -> 4 | B25: =VLOOKUP(A25,$K$11:$L$80,2,FALSE) -> AAT | C25: Monday | D25: =IFERROR(INDEX(Data!$A$10:$O$1069,MATCH(CONCATENATE($C25,D$8,$B25),Data!$J$10:$J$1069,0),15),"") | E25: =IFERROR(INDEX(Data!$A$10:$O$1069,MATCH(CONCATENATE($C25,E$8,$B25),Data!$J$10:$J$1069,0),15),"") | F25: =IFERROR(INDEX(Data!$A$10:$O$1069,MATCH(CONCATENATE($C25,F$8,$B25),Data!$J$10:$J$1069,0),15),"") | G25: =IFERROR(INDEX(Data!$A$10:$O$1069,MATCH(CONCATENATE($C25,G$8,$B25),Data!$J$10:$J$1069,0),15),"") | H25: =IFERROR(INDEX(Data!$A$10:$O$1069,MATCH(CONCATENATE($C25,H$8,$B25),Data!$J$10:$J$1069,0),15),"") | I25: =IFERROR(INDEX(Data!$A$10:$O$1069,MATCH(CONCATENATE($C25,I$8,$B25),Data!$J$10:$J$1069,0),15),"") | K25: 15 | L25: IUZ
A26: =COUNTIF($C$8:C26,C26)+1 -> 4 | B26: =VLOOKUP(A26,$K$11:$L$80,2,FALSE) -> AAT | C26: Tuesday | D26: =IFERROR(INDEX(Data!$A$10:$O$1069,MATCH(CONCATENATE($C26,D$8,$B26),Data!$J$10:$J$1069,0),15),"") | E26: =IFERROR(INDEX(Data!$A$10:$O$1069,MATCH(CONCATENATE($C26,E$8,$B26),Data!$J$10:$J$1069,0),15),"") | F26: =IFERROR(INDEX(Data!$A$10:$O$1069,MATCH(CONCATENATE($C26,F$8,$B26),Data!$J$10:$J$1069,0),15),"") | G26: =IFERROR(INDEX(Data!$A$10:$O$1069,MATCH(CONCATENATE($C26,G$8,$B26),Data!$J$10:$J$1069,0),15),"") | H26: =IFERROR(INDEX(Data!$A$10:$O$1069,MATCH(CONCATENATE($C26,H$8,$B26),Data!$J$10:$J$1069,0),15),"") | I26: =IFERROR(INDEX(Data!$A$10:$O$1069,MATCH(CONCATENATE($C26,I$8,$B26),Data!$J$10:$J$1069,0),15),"") | K26: 16 | L26: JH
A27: =COUNTIF($C$8:C27,C27)+1 -> 4 | B27: =VLOOKUP(A27,$K$11:$L$80,2,FALSE) -> AAT | C27: Wednesday | D27: =IFERROR(INDEX(Data!$A$10:$O$1069,MATCH(CONCATENATE($C27,D$8,$B27),Data!$J$10:$J$1069,0),15),"") | E27: =IFERROR(INDEX(Data!$A$10:$O$1069,MATCH(CONCATENATE($C27,E$8,$B27),Data!$J$10:$J$1069,0),15),"") | F27: =IFERROR(INDEX(Data!$A$10:$O$1069,MATCH(CONCATENATE($C27,F$8,$B27),Data!$J$10:$J$1069,0),15),"") | G27: =IFERROR(INDEX(Data!$A$10:$O$1069,MATCH(CONCATENATE($C27,G$8,$B27),Data!$J$10:$J$1069,0),15),"") | H27: =IFERROR(INDEX(Data!$A$10:$O$1069,MATCH(CONCATENATE($C27,H$8,$B27),Data!$J$10:$J$1069,0),15),"") | I27: =IFERROR(INDEX(Data!$A$10:$O$1069,MATCH(CONCATENATE($C27,I$8,$B27),Data!$J$10:$J$1069,0),15),"") | K27: 17 | L27: KZ
A28: =COUNTIF($C$8:C28,C28)+1 -> 4 | B28: =VLOOKUP(A28,$K$11:$L$80,2,FALSE) -> AAT | C28: Thursday | D28: =IFERROR(INDEX(Data!$A$10:$O$1069,MATCH(CONCATENATE($C28,D$8,$B28),Data!$J$10:$J$1069,0),15),"") | E28: =IFERROR(INDEX(Data!$A$10:$O$1069,MATCH(CONCATENATE($C28,E$8,$B28),Data!$J$10:$J$1069,0),15),"") | F28: =IFERROR(INDEX(Data!$A$10:$O$1069,MATCH(CONCATENATE($C28,F$8,$B28),Data!$J$10:$J$1069,0),15),"") | G28: =IFERROR(INDEX(Data!$A$10:$O$1069,MATCH(CONCATENATE($C28,G$8,$B28),Data!$J$10:$J$1069,0),15),"") | H28: =IFERROR(INDEX(Data!$A$10:$O$1069,MATCH(CONCATENATE($C28,H$8,$B28),Data!$J$10:$J$1069,0),15),"") | I28: =IFERROR(INDEX(Data!$A$10:$O$1069,MATCH(CONCATENATE($C28,I$8,$B28),Data!$J$10:$J$1069,0),15),"") | K28: 18 | L28: MAB
K29: 19 | L29: MDN
A30: =COUNTIF($C$8:C30,C30)+1 -> 5 | B30: =VLOOKUP(A30,$K$11:$L$80,2,FALSE) -> AG | C30: Saturday | D30: =IFERROR(INDEX(Data!$A$10:$O$1069,MATCH(CONCATENATE($C30,D$8,$B30),Data!$J$10:$J$1069,0),15),"") | E30: =IFERROR(INDEX(Data!$A$10:$O$1069,MATCH(CONCATENATE($C30,E$8,$B30),Data!$J$10:$J$1069,0),15),"") -> TE424(L4T2)A9:30-11:30 0 --- AG | F30: =IFERROR(INDEX(Data!$A$10:$O$1069,MATCH(CONCATENATE($C30,F$8,$B30),Data!$J$10:$J$1069,0),15),"") | G30: =IFERROR(INDEX(Data!$A$10:$O$1069,MATCH(CONCATENATE($C30,G$8,$B30),Data!$J$10:$J$1069,0),15),"") | H30: =IFERROR(INDEX(Data!$A$10:$O$1069,MATCH(CONCATENATE($C30,H$8,$B30),Data!$J$10:$J$1069,0),15),"") | I30: =IFERROR(INDEX(Data!$A$10:$O$1069,MATCH(CONCATENATE($C30,I$8,$B30),Data!$J$10:$J$1069,0),15),"") | K30: 20 | L30: MH
A31: =COUNTIF($C$8:C31,C31)+1 -> 5 | B31: =VLOOKUP(A31,$K$11:$L$80,2,FALSE) -> AG | C31: Sunday | D31: =IFERROR(INDEX(Data!$A$10:$O$1069,MATCH(CONCATENATE($C31,D$8,$B31),Data!$J$10:$J$1069,0),15),"") | E31: =IFERROR(INDEX(Data!$A$10:$O$1069,MATCH(CONCATENATE($C31,E$8,$B31),Data!$J$10:$J$1069,0),15),"") | F31: =IFERROR(INDEX(Data!$A$10:$O$1069,MATCH(CONCATENATE($C31,F$8,$B31),Data!$J$10:$J$1069,0),15),"") | G31: =IFERROR(INDEX(Data!$A$10:$O$1069,MATCH(CONCATENATE($C31,G$8,$B31),Data!$J$10:$J$1069,0),15),"") | H31: =IFERROR(INDEX(Data!$A$10:$O$1069,MATCH(CONCATENATE($C31,H$8,$B31),Data!$J$10:$J$1069,0),15),"") | I31: =IFERROR(INDEX(Data!$A$10:$O$1069,MATCH(CONCATENATE($C31,I$8,$B31),Data!$J$10:$J$1069,0),15),"") -> 0 0 --- AG | K31: 21 | L31: MHR
A32: =COUNTIF($C$8:C32,C32)+1 -> 5 | B32: =VLOOKUP(A32,$K$11:$L$80,2,FALSE) -> AG | C32: Monday | D32: =IFERROR(INDEX(Data!$A$10:$O$1069,MATCH(CONCATENATE($C32,D$8,$B32),Data!$J$10:$J$1069,0),15),"") | E32: =IFERROR(INDEX(Data!$A$10:$O$1069,MATCH(CONCATENATE($C32,E$8,$B32),Data!$J$10:$J$1069,0),15),"") | F32: =IFERROR(INDEX(Data!$A$10:$O$1069,MATCH(CONCATENATE($C32,F$8,$B32),Data!$J$10:$J$1069,0),15),"") | G32: =IFERROR(INDEX(Data!$A$10:$O$1069,MATCH(CONCATENATE($C32,G$8,$B32),Data!$J$10:$J$1069,0),15),"") -> TE221(L2T2)B 704 --- AG | H32: =IFERROR(INDEX(Data!$A$10:$O$1069,MATCH(CONCATENATE($C32,H$8,$B32),Data!$J$10:$J$1069,0),15),"") | I32: =IFERROR(INDEX(Data!$A$10:$O$1069,MATCH(CONCATENATE($C32,I$8,$B32),Data!$J$10:$J$1069,0),15),"") | K32: 22 | L32: MK
A33: =COUNTIF($C$8:C33,C33)+1 -> 5 | B33: =VLOOKUP(A33,$K$11:$L$80,2,FALSE) -> AG | C33: Tuesday | D33: =IFERROR(INDEX(Data!$A$10:$O$1069,MATCH(CONCATENATE($C33,D$8,$B33),Data!$J$10:$J$1069,0),15),"") | E33: =IFERROR(INDEX(Data!$A$10:$O$1069,MATCH(CONCATENATE($C33,E$8,$B33),Data!$J$10:$J$1069,0),15),"") | F33: =IFERROR(INDEX(Data!$A$10:$O$1069,MATCH(CONCATENATE($C33,F$8,$B33),Data!$J$10:$J$1069,0),15),"") -> TE413(L4T1) 711 --- AG | G33: =IFERROR(INDEX(Data!$A$10:$O$1069,MATCH(CONCATENATE($C33,G$8,$B33),Data!$J$10:$J$1069,0),15),"") -> TE317(L3T1)A 712 --- AG | H33: =IFERROR(INDEX(Data!$A$10:$O$1069,MATCH(CONCATENATE($C33,H$8,$B33),Data!$J$10:$J$1069,0),15),"") | I33: =IFERROR(INDEX(Data!$A$10:$O$1069,MATCH(CONCATENATE($C33,I$8,$B33),Data!$J$10:$J$1069,0),15),"") | K33: 23 | L33: MMH
A34: =COUNTIF($C$8:C34,C34)+1 -> 5 | B34: =VLOOKUP(A34,$K$11:$L$80,2,FALSE) -> AG | C34: Wednesday | D34: =IFERROR(INDEX(Data!$A$10:$O$1069,MATCH(CONCATENATE($C34,D$8,$B34),Data!$J$10:$J$1069,0),15),"") | E34: =IFERROR(INDEX(Data!$A$10:$O$1069,MATCH(CONCATENATE($C34,E$8,$B34),Data!$J$10:$J$1069,0),15),"") | F34: =IFERROR(INDEX(Data!$A$10:$O$1069,MATCH(CONCATENATE($C34,F$8,$B34),Data!$J$10:$J$1069,0),15),"") | G34: =IFERROR(INDEX(Data!$A$10:$O$1069,MATCH(CONCATENATE($C34,G$8,$B34),Data!$J$10:$J$1069,0),15),"") | H34: =IFERROR(INDEX(Data!$A$10:$O$1069,MATCH(CONCATENATE($C34,H$8,$B34),Data!$J$10:$J$1069,0),15),"") | I34: =IFERROR(INDEX(Data!$A$10:$O$1069,MATCH(CONCATENATE($C34,I$8,$B34),Data!$J$10:$J$1069,0),15),"") | K34: 24 | L34: MML2
A35: =COUNTIF($C$8:C35,C35)+1 -> 5 | B35: =VLOOKUP(A35,$K$11:$L$80,2,FALSE) -> AG | C35: Thursday | D35: =IFERROR(INDEX(Data!$A$10:$O$1069,MATCH(CONCATENATE($C35,D$8,$B35),Data!$J$10:$J$1069,0),15),"") | E35: =IFERROR(INDEX(Data!$A$10:$O$1069,MATCH(CONCATENATE($C35,E$8,$B35),Data!$J$10:$J$1069,0),15),"") | F35: =IFERROR(INDEX(Data!$A$10:$O$1069,MATCH(CONCATENATE($C35,F$8,$B35),Data!$J$10:$J$1069,0),15),"") | G35: =IFERROR(INDEX(Data!$A$10:$O$1069,MATCH(CONCATENATE($C35,G$8,$B35),Data!$J$10:$J$1069,0),15),"") | H35: =IFERROR(INDEX(Data!$A$10:$O$1069,MATCH(CONCATENATE($C35,H$8,$B35),Data!$J$10:$J$1069,0),15),"") | I35: =IFERROR(INDEX(Data!$A$10:$O$1069,MATCH(CONCATENATE($C35,I$8,$B35),Data!$J$10:$J$1069,0),15),"") | K35: 25 | L35: MNH
K36: 26 | L36: MR
A37: =COUNTIF($C$8:C37,C37)+1 -> 6 | B37: =VLOOKUP(A37,$K$11:$L$80,2,FALSE) -> AHM | C37: Saturday | D37: =IFERROR(INDEX(Data!$A$10:$O$1069,MATCH(CONCATENATE($C37,D$8,$B37),Data!$J$10:$J$1069,0),15),"") | E37: =IFERROR(INDEX(Data!$A$10:$O$1069,MATCH(CONCATENATE($C37,E$8,$B37),Data!$J$10:$J$1069,0),15),"") | F37: =IFERROR(INDEX(Data!$A$10:$O$1069,MATCH(CONCATENATE($C37,F$8,$B37),Data!$J$10:$J$1069,0),15),"") -> TE211(L2T1)A 711 --- AHM | G37: =IFERROR(INDEX(Data!$A$10:$O$1069,MATCH(CONCATENATE($C37,G$8,$B37),Data!$J$10:$J$1069,0),15),"") -> 0 0 --- AHM | H37: =IFERROR(INDEX(Data!$A$10:$O$1069,MATCH(CONCATENATE($C37,H$8,$B37),Data!$J$10:$J$1069,0),15),"") | I37: =IFERROR(INDEX(Data!$A$10:$O$1069,MATCH(CONCATENATE($C37,I$8,$B37),Data!$J$10:$J$1069,0),15),"") | K37: 27 | L37: MR1
A38: =COUNTIF($C$8:C38,C38)+1 -> 6 | B38: =VLOOKUP(A38,$K$11:$L$80,2,FALSE) -> AHM | C38: Sunday | D38: =IFERROR(INDEX(Data!$A$10:$O$1069,MATCH(CONCATENATE($C38,D$8,$B38),Data!$J$10:$J$1069,0),15),"") | E38: =IFERROR(INDEX(Data!$A$10:$O$1069,MATCH(CONCATENATE($C38,E$8,$B38),Data!$J$10:$J$1069,0),15),"") | F38: =IFERROR(INDEX(Data!$A$10:$O$1069,MATCH(CONCATENATE($C38,F$8,$B38),Data!$J$10:$J$1069,0),15),"") -> TE223(L2T2)A 702 --- AHM | G38: =IFERROR(INDEX(Data!$A$10:$O$1069,MATCH(CONCATENATE($C38,G$8,$B38),Data!$J$10:$J$1069,0),15),"") -> TE223(L2T2)A 702 --- AHM | H38: =IFERROR(INDEX(Data!$A$10:$O$1069,MATCH(CONCATENATE($C38,H$8,$B38),Data!$J$10:$J$1069,0),15),"") | I38: =IFERROR(INDEX(Data!$A$10:$O$1069,MATCH(CONCATENATE($C38,I$8,$B38),Data!$J$10:$J$1069,0),15),"") | K38: 28 | L38: MRH
A39: =COUNTIF($C$8:C39,C39)+1 -> 6 | B39: =VLOOKUP(A39,$K$11:$L$80,2,FALSE) -> AHM | C39: Monday | D39: =IFERROR(INDEX(Data!$A$10:$O$1069,MATCH(CONCATENATE($C39,D$8,$B39),Data!$J$10:$J$1069,0),15),"") | E39: =IFERROR(INDEX(Data!$A$10:$O$1069,MATCH(CONCATENATE($C39,E$8,$B39),Data!$J$10:$J$1069,0),15),"") | F39: =IFERROR(INDEX(Data!$A$10:$O$1069,MATCH(CONCATENATE($C39,F$8,$B39),Data!$J$10:$J$1069,0),15),"") | G39: =IFERROR(INDEX(Data!$A$10:$O$1069,MATCH(CONCATENATE($C39,G$8,$B39),Data!$J$10:$J$1069,0),15),"") | H39: =IFERROR(INDEX(Data!$A$10:$O$1069,MATCH(CONCATENATE($C39,H$8,$B39),Data!$J$10:$J$1069,0),15),"") | I39: =IFERROR(INDEX(Data!$A$10:$O$1069,MATCH(CONCATENATE($C39,I$8,$B39),Data!$J$10:$J$1069,0),15),"") | K39: 29 | L39: MRK
A40: =COUNTIF($C$8:C40,C40)+1 -> 6 | B40: =VLOOKUP(A40,$K$11:$L$80,2,FALSE) -> AHM | C40: Tuesday | D40: =IFERROR(INDEX(Data!$A$10:$O$1069,MATCH(CONCATENATE($C40,D$8,$B40),Data!$J$10:$J$1069,0),15),"") | E40: =IFERROR(INDEX(Data!$A$10:$O$1069,MATCH(CONCATENATE($C40,E$8,$B40),Data!$J$10:$J$1069,0),15),"") | F40: =IFERROR(INDEX(Data!$A$10:$O$1069,MATCH(CONCATENATE($C40,F$8,$B40),Data!$J$10:$J$1069,0),15),"") | G40: =IFERROR(INDEX(Data!$A$10:$O$1069,MATCH(CONCATENATE($C40,G$8,$B40),Data!$J$10:$J$1069,0),15),"") | H40: =IFERROR(INDEX(Data!$A$10:$O$1069,MATCH(CONCATENATE($C40,H$8,$B40),Data!$J$10:$J$1069,0),15),"") | I40: =IFERROR(INDEX(Data!$A$10:$O$1069,MATCH(CONCATENATE($C40,I$8,$B40),Data!$J$10:$J$1069,0),15),"") | K40: 30 | L40: MRR
A41: =COUNTIF($C$8:C41,C41)+1 -> 6 | B41: =VLOOKUP(A41,$K$11:$L$80,2,FALSE) -> AHM | C41: Wednesday | D41: =IFERROR(INDEX(Data!$A$10:$O$1069,MATCH(CONCATENATE($C41,D$8,$B41),Data!$J$10:$J$1069,0),15),"") | E41: =IFERROR(INDEX(Data!$A$10:$O$1069,MATCH(CONCATENATE($C41,E$8,$B41),Data!$J$10:$J$1069,0),15),"") | F41: =IFERROR(INDEX(Data!$A$10:$O$1069,MATCH(CONCATENATE($C41,F$8,$B41),Data!$J$10:$J$1069,0),15),"") | G41: =IFERROR(INDEX(Data!$A$10:$O$1069,MATCH(CONCATENATE($C41,G$8,$B41),Data!$J$10:$J$1069,0),15),"") | H41: =IFERROR(INDEX(Data!$A$10:$O$1069,MATCH(CONCATENATE($C41,H$8,$B41),Data!$J$10:$J$1069,0),15),"") | I41: =IFERROR(INDEX(Data!$A$10:$O$1069,MATCH(CONCATENATE($C41,I$8,$B41),Data!$J$10:$J$1069,0),15),"") | K41: 31 | L41: NF
A42: =COUNTIF($C$8:C42,C42)+1 -> 6 | B42: =VLOOKUP(A42,$K$11:$L$80,2,FALSE) -> AHM | C42: Thursday | D42: =IFERROR(INDEX(Data!$A$10:$O$1069,MATCH(CONCATENATE($C42,D$8,$B42),Data!$J$10:$J$1069,0),15),"") | E42: =IFERROR(INDEX(Data!$A$10:$O$1069,MATCH(CONCATENATE($C42,E$8,$B42),Data!$J$10:$J$1069,0),15),"") | F42: =IFERROR(INDEX(Data!$A$10:$O$1069,MATCH(CONCATENATE($C42,F$8,$B42),Data!$J$10:$J$1069,0),15),"") | G42: =IFERROR(INDEX(Data!$A$10:$O$1069,MATCH(CONCATENATE($C42,G$8,$B42),Data!$J$10:$J$1069,0),15),"") | H42: =IFERROR(INDEX(Data!$A$10:$O$1069,MATCH(CONCATENATE($C42,H$8,$B42),Data!$J$10:$J$1069,0),15),"") | I42: =IFERROR(INDEX(Data!$A$10:$O$1069,MATCH(CONCATENATE($C42,I$8,$B42),Data!$J$10:$J$1069,0),15),"") | K42: 32 | L42: NHM
K43: 33 | L43: NL1
A44: =COUNTIF($C$8:C44,C44)+1 -> 7 | B44: =VLOOKUP(A44,$K$11:$L$80,2,FALSE) -> AHR | C44: Saturday | D44: =IFERROR(INDEX(Data!$A$10:$O$1069,MATCH(CONCATENATE($C44,D$8,$B44),Data!$J$10:$J$1069,0),15),"") | E44: =IFERROR(INDEX(Data!$A$10:$O$1069,MATCH(CONCATENATE($C44,E$8,$B44),Data!$J$10:$J$1069,0),15),"") | F44: =IFERROR(INDEX(Data!$A$10:$O$1069,MATCH(CONCATENATE($C44,F$8,$B44),Data!$J$10:$J$1069,0),15),"") | G44: =IFERROR(INDEX(Data!$A$10:$O$1069,MATCH(CONCATENATE($C44,G$8,$B44),Data!$J$10:$J$1069,0),15),"") | H44: =IFERROR(INDEX(Data!$A$10:$O$1069,MATCH(CONCATENATE($C44,H$8,$B44),Data!$J$10:$J$1069,0),15),"") | I44: =IFERROR(INDEX(Data!$A$10:$O$1069,MATCH(CONCATENATE($C44,I$8,$B44),Data!$J$10:$J$1069,0),15),"") | K44: 34 | L44: NL3
A45: =COUNTIF($C$8:C45,C45)+1 -> 7 | B45: =VLOOKUP(A45,$K$11:$L$80,2,FALSE) -> AHR | C45: Sunday | D45: =IFERROR(INDEX(Data!$A$10:$O$1069,MATCH(CONCATENATE($C45,D$8,$B45),Data!$J$10:$J$1069,0),15),"") | E45: =IFERROR(INDEX(Data!$A$10:$O$1069,MATCH(CONCATENATE($C45,E$8,$B45),Data!$J$10:$J$1069,0),15),"") | F45: =IFERROR(INDEX(Data!$A$10:$O$1069,MATCH(CONCATENATE($C45,F$8,$B45),Data!$J$10:$J$1069,0),15),"") | G45: =IFERROR(INDEX(Data!$A$10:$O$1069,MATCH(CONCATENATE($C45,G$8,$B45),Data!$J$10:$J$1069,0),15),"") | H45: =IFERROR(INDEX(Data!$A$10:$O$1069,MATCH(CONCATENATE($C45,H$8,$B45),Data!$J$10:$J$1069,0),15),"") | I45: =IFERROR(INDEX(Data!$A$10:$O$1069,MATCH(CONCATENATE($C45,I$8,$B45),Data!$J$10:$J$1069,0),15),"") | K45: 35 | L45: NRD
A46: =COUNTIF($C$8:C46,C46)+1 -> 7 | B46: =VLOOKUP(A46,$K$11:$L$80,2,FALSE) -> AHR | C46: Monday | D46: =IFERROR(INDEX(Data!$A$10:$O$1069,MATCH(CONCATENATE($C46,D$8,$B46),Data!$J$10:$J$1069,0),15),"") | E46: =IFERROR(INDEX(Data!$A$10:$O$1069,MATCH(CONCATENATE($C46,E$8,$B46),Data!$J$10:$J$1069,0),15),"") | F46: =IFERROR(INDEX(Data!$A$10:$O$1069,MATCH(CONCATENATE($C46,F$8,$B46),Data!$J$10:$J$1069,0),15),"") | G46: =IFERROR(INDEX(Data!$A$10:$O$1069,MATCH(CONCATENATE($C46,G$8,$B46),Data!$J$10:$J$1069,0),15),"") | H46: =IFERROR(INDEX(Data!$A$10:$O$1069,MATCH(CONCATENATE($C46,H$8,$B46),Data!$J$10:$J$1069,0),15),"") | I46: =IFERROR(INDEX(Data!$A$10:$O$1069,MATCH(CONCATENATE($C46,I$8,$B46),Data!$J$10:$J$1069,0),15),"") | K46: 36 | L46: PT
A47: =COUNTIF($C$8:C47,C47)+1 -> 7 | B47: =VLOOKUP(A47,$K$11:$L$80,2,FALSE) -> AHR | C47: Tuesday | D47: =IFERROR(INDEX(Data!$A$10:$O$1069,MATCH(CONCATENATE($C47,D$8,$B47),Data!$J$10:$J$1069,0),15),"") | E47: =IFERROR(INDEX(Data!$A$10:$O$1069,MATCH(CONCATENATE($C47,E$8,$B47),Data!$J$10:$J$1069,0),15),"") | F47: =IFERROR(INDEX(Data!$A$10:$O$1069,MATCH(CONCATENATE($C47,F$8,$B47),Data!$J$10:$J$1069,0),15),"") | G47: =IFERROR(INDEX(Data!$A$10:$O$1069,MATCH(CONCATENATE($C47,G$8,$B47),Data!$J$10:$J$1069,0),15),"") | H47: =IFERROR(INDEX(Data!$A$10:$O$1069,MATCH(CONCATENATE($C47,H$8,$B47),Data!$J$10:$J$1069,0),15),"") | I47: =IFERROR(INDEX(Data!$A$10:$O$1069,MATCH(CONCATENATE($C47,I$8,$B47),Data!$J$10:$J$1069,0),15),"") | K47: 37 | L47: RA
A48: =COUNTIF($C$8:C48,C48)+1 -> 7 | B48: =VLOOKUP(A48,$K$11:$L$80,2,FALSE) -> AHR | C48: Wednesday | D48: =IFERROR(INDEX(Data!$A$10:$O$1069,MATCH(CONCATENATE($C48,D$8,$B48),Data!$J$10:$J$1069,0),15),"") | E48: =IFERROR(INDEX(Data!$A$10:$O$1069,MATCH(CONCATENATE($C48,E$8,$B48),Data!$J$10:$J$1069,0),15),"") | F48: =IFERROR(INDEX(Data!$A$10:$O$1069,MATCH(CONCATENATE($C48,F$8,$B48),Data!$J$10:$J$1069,0),15),"") | G48: =IFERROR(INDEX(Data!$A$10:$O$1069,MATCH(CONCATENATE($C48,G$8,$B48),Data!$J$10:$J$1069,0),15),"") | H48: =IFERROR(INDEX(Data!$A$10:$O$1069,MATCH(CONCATENATE($C48,H$8,$B48),Data!$J$10:$J$1069,0),15),"") | I48: =IFERROR(INDEX(Data!$A$10:$O$1069,MATCH(CONCATENATE($C48,I$8,$B48),Data!$J$10:$J$1069,0),15),"") | K48: 38 | L48: RHK
A49: =COUNTIF($C$8:C49,C49)+1 -> 7 | B49: =VLOOKUP(A49,$K$11:$L$80,2,FALSE) -> AHR | C49: Thursday | D49: =IFERROR(INDEX(Data!$A$10:$O$1069,MATCH(CONCATENATE($C49,D$8,$B49),Data!$J$10:$J$1069,0),15),"") | E49: =IFERROR(INDEX(Data!$A$10:$O$1069,MATCH(CONCATENATE($C49,E$8,$B49),Data!$J$10:$J$1069,0),15),"") | F49: =IFERROR(INDEX(Data!$A$10:$O$1069,MATCH(CONCATENATE($C49,F$8,$B49),Data!$J$10:$J$1069,0),15),"") | G49: =IFERROR(INDEX(Data!$A$10:$O$1069,MATCH(CONCATENATE($C49,G$8,$B49),Data!$J$10:$J$1069,0),15),"") | H49: =IFERROR(INDEX(Data!$A$10:$O$1069,MATCH(CONCATENATE($C49,H$8,$B49),Data!$J$10:$J$1069,0),15),"") | I49: =IFERROR(INDEX(Data!$A$10:$O$1069,MATCH(CONCATENATE($C49,I$8,$B49),Data!$J$10:$J$1069,0),15),"") | K49: 39 | L49: RI
K50: 40 | L50: RKH
A51: =COUNTIF($C$8:C51,C51)+1 -> 8 | B51: =VLOOKUP(A51,$K$11:$L$80,2,FALSE) -> AI | C51: Saturday | D51: =IFERROR(INDEX(Data!$A$10:$O$1069,MATCH(CONCATENATE($C51,D$8,$B51),Data!$J$10:$J$1069,0),15),"") | E51: =IFERROR(INDEX(Data!$A$10:$O$1069,MATCH(CONCATENATE($C51,E$8,$B51),Data!$J$10:$J$1069,0),15),"") | F51: =IFERROR(INDEX(Data!$A$10:$O$1069,MATCH(CONCATENATE($C51,F$8,$B51),Data!$J$10:$J$1069,0),15),"") | G51: =IFERROR(INDEX(Data!$A$10:$O$1069,MATCH(CONCATENATE($C51,G$8,$B51),Data!$J$10:$J$1069,0),15),"") | H51: =IFERROR(INDEX(Data!$A$10:$O$1069,MATCH(CONCATENATE($C51,H$8,$B51),Data!$J$10:$J$1069,0),15),"") | I51: =IFERROR(INDEX(Data!$A$10:$O$1069,MATCH(CONCATENATE($C51,I$8,$B51),Data!$J$10:$J$1069,0),15),"") | K51: 41 | L51: RSK
A52: =COUNTIF($C$8:C52,C52)+1 -> 8 | B52: =VLOOKUP(A52,$K$11:$L$80,2,FALSE) -> AI | C52: Sunday | D52: =IFERROR(INDEX(Data!$A$10:$O$1069,MATCH(CONCATENATE($C52,D$8,$B52),Data!$J$10:$J$1069,0),15),"") | E52: =IFERROR(INDEX(Data!$A$10:$O$1069,MATCH(CONCATENATE($C52,E$8,$B52),Data!$J$10:$J$1069,0),15),"") | F52: =IFERROR(INDEX(Data!$A$10:$O$1069,MATCH(CONCATENATE($C52,F$8,$B52),Data!$J$10:$J$1069,0),15),"") | G52: =IFERROR(INDEX(Data!$A$10:$O$1069,MATCH(CONCATENATE($C52,G$8,$B52),Data!$J$10:$J$1069,0),15),"") | H52: =IFERROR(INDEX(Data!$A$10:$O$1069,MATCH(CONCATENATE($C52,H$8,$B52),Data!$J$10:$J$1069,0),15),"") | I52: =IFERROR(INDEX(Data!$A$10:$O$1069,MATCH(CONCATENATE($C52,I$8,$B52),Data!$J$10:$J$1069,0),15),"") | K52: 42 | L52: RUH
A53: =COUNTIF($C$8:C53,C53)+1 -> 8 | B53: =VLOOKUP(A53,$K$11:$L$80,2,FALSE) -> AI | C53: Monday | D53: =IFERROR(INDEX(Data!$A$10:$O$1069,MATCH(CONCATENATE($C53,D$8,$B53),Data!$J$10:$J$1069,0),15),"") | E53: =IFERROR(INDEX(Data!$A$10:$O$1069,MATCH(CONCATENATE($C53,E$8,$B53),Data!$J$10:$J$1069,0),15),"") | F53: =IFERROR(INDEX(Data!$A$10:$O$1069,MATCH(CONCATENATE($C53,F$8,$B53),Data!$J$10:$J$1069,0),15),"") | G53: =IFERROR(INDEX(Data!$A$10:$O$1069,MATCH(CONCATENATE($C53,G$8,$B53),Data!$J$10:$J$1069,0),15),"") | H53: =IFERROR(INDEX(Data!$A$10:$O$1069,MATCH(CONCATENATE($C53,H$8,$B53),Data!$J$10:$J$1069,0),15),"") | I53: =IFERROR(INDEX(Data!$A$10:$O$1069,MATCH(CONCATENATE($C53,I$8,$B53),Data!$J$10:$J$1069,0),15),"") | K53: 43 | L53: SA
A54: =COUNTIF($C$8:C54,C54)+1 -> 8 | B54: =VLOOKUP(A54,$K$11:$L$80,2,FALSE) -> AI | C54: Tuesday | D54: =IFERROR(INDEX(Data!$A$10:$O$1069,MATCH(CONCATENATE($C54,D$8,$B54),Data!$J$10:$J$1069,0),15),"") | E54: =IFERROR(INDEX(Data!$A$10:$O$1069,MATCH(CONCATENATE($C54,E$8,$B54),Data!$J$10:$J$1069,0),15),"") | F54: =IFERROR(INDEX(Data!$A$10:$O$1069,MATCH(CONCATENATE($C54,F$8,$B54),Data!$J$10:$J$1069,0),15),"") | G54: =IFERROR(INDEX(Data!$A$10:$O$1069,MATCH(CONCATENATE($C54,G$8,$B54),Data!$J$10:$J$1069,0),15),"") | H54: =IFERROR(INDEX(Data!$A$10:$O$1069,MATCH(CONCATENATE($C54,H$8,$B54),Data!$J$10:$J$1069,0),15),"") | I54: =IFERROR(INDEX(Data!$A$10:$O$1069,MATCH(CONCATENATE($C54,I$8,$B54),Data!$J$10:$J$1069,0),15),"") | K54: 44 | L54: SAS
A55: =COUNTIF($C$8:C55,C55)+1 -> 8 | B55: =VLOOKUP(A55,$K$11:$L$80,2,FALSE) -> AI | C55: Wednesday | D55: =IFERROR(INDEX(Data!$A$10:$O$1069,MATCH(CONCATENATE($C55,D$8,$B55),Data!$J$10:$J$1069,0),15),"") | E55: =IFERROR(INDEX(Data!$A$10:$O$1069,MATCH(CONCATENATE($C55,E$8,$B55),Data!$J$10:$J$1069,0),15),"") | F55: =IFERROR(INDEX(Data!$A$10:$O$1069,MATCH(CONCATENATE($C55,F$8,$B55),Data!$J$10:$J$1069,0),15),"") | G55: =IFERROR(INDEX(Data!$A$10:$O$1069,MATCH(CONCATENATE($C55,G$8,$B55),Data!$J$10:$J$1069,0),15),"") | H55: =IFERROR(INDEX(Data!$A$10:$O$1069,MATCH(CONCATENATE($C55,H$8,$B55),Data!$J$10:$J$1069,0),15),"") | I55: =IFERROR(INDEX(Data!$A$10:$O$1069,MATCH(CONCATENATE($C55,I$8,$B55),Data!$J$10:$J$1069,0),15),"") | K55: 45 | L55: Shamim
A56: =COUNTIF($C$8:C56,C56)+1 -> 8 | B56: =VLOOKUP(A56,$K$11:$L$80,2,FALSE) -> AI | C56: Thursday | D56: =IFERROR(INDEX(Data!$A$10:$O$1069,MATCH(CONCATENATE($C56,D$8,$B56),Data!$J$10:$J$1069,0),15),"") | E56: =IFERROR(INDEX(Data!$A$10:$O$1069,MATCH(CONCATENATE($C56,E$8,$B56),Data!$J$10:$J$1069,0),15),"") | F56: =IFERROR(INDEX(Data!$A$10:$O$1069,MATCH(CONCATENATE($C56,F$8,$B56),Data!$J$10:$J$1069,0),15),"") | G56: =IFERROR(INDEX(Data!$A$10:$O$1069,MATCH(CONCATENATE($C56,G$8,$B56),Data!$J$10:$J$1069,0),15),"") | H56: =IFERROR(INDEX(Data!$A$10:$O$1069,MATCH(CONCATENATE($C56,H$8,$B56),Data!$J$10:$J$1069,0),15),"") | I56: =IFERROR(INDEX(Data!$A$10:$O$1069,MATCH(CONCATENATE($C56,I$8,$B56),Data!$J$10:$J$1069,0),15),"") | K56: 46 | L56: SI
K57: 47 | L57: SK
A58: =COUNTIF($C$8:C58,C58)+1 -> 9 | B58: =VLOOKUP(A58,$K$11:$L$80,2,FALSE) -> AN | C58: Saturday | D58: =IFERROR(INDEX(Data!$A$10:$O$1069,MATCH(CONCATENATE($C58,D$8,$B58),Data!$J$10:$J$1069,0),15),"") | E58: =IFERROR(INDEX(Data!$A$10:$O$1069,MATCH(CONCATENATE($C58,E$8,$B58),Data!$J$10:$J$1069,0),15),"") | F58: =IFERROR(INDEX(Data!$A$10:$O$1069,MATCH(CONCATENATE($C58,F$8,$B58),Data!$J$10:$J$1069,0),15),"") | G58: =IFERROR(INDEX(Data!$A$10:$O$1069,MATCH(CONCATENATE($C58,G$8,$B58),Data!$J$10:$J$1069,0),15),"") | H58: =IFERROR(INDEX(Data!$A$10:$O$1069,MATCH(CONCATENATE($C58,H$8,$B58),Data!$J$10:$J$1069,0),15),"") | I58: =IFERROR(INDEX(Data!$A$10:$O$1069,MATCH(CONCATENATE($C58,I$8,$B58),Data!$J$10:$J$1069,0),15),"") | K58: 48 | L58: SKC
A59: =COUNTIF($C$8:C59,C59)+1 -> 9 | B59: =VLOOKUP(A59,$K$11:$L$80,2,FALSE) -> AN | C59: Sunday | D59: =IFERROR(INDEX(Data!$A$10:$O$1069,MATCH(CONCATENATE($C59,D$8,$B59),Data!$J$10:$J$1069,0),15),"") | E59: =IFERROR(INDEX(Data!$A$10:$O$1069,MATCH(CONCATENATE($C59,E$8,$B59),Data!$J$10:$J$1069,0),15),"") | F59: =IFERROR(INDEX(Data!$A$10:$O$1069,MATCH(CONCATENATE($C59,F$8,$B59),Data!$J$10:$J$1069,0),15),"") | G59: =IFERROR(INDEX(Data!$A$10:$O$1069,MATCH(CONCATENATE($C59,G$8,$B59),Data!$J$10:$J$1069,0),15),"") | H59: =IFERROR(INDEX(Data!$A$10:$O$1069,MATCH(CONCATENATE($C59,H$8,$B59),Data!$J$10:$J$1069,0),15),"") | I59: =IFERROR(INDEX(Data!$A$10:$O$1069,MATCH(CONCATENATE($C59,I$8,$B59),Data!$J$10:$J$1069,0),15),"") | K59: 49 | L59: SKR
A60: =COUNTIF($C$8:C60,C60)+1 -> 9 | B60: =VLOOKUP(A60,$K$11:$L$80,2,FALSE) -> AN | C60: Monday | D60: =IFERROR(INDEX(Data!$A$10:$O$1069,MATCH(CONCATENATE($C60,D$8,$B60),Data!$J$10:$J$1069,0),15),"") | E60: =IFERROR(INDEX(Data!$A$10:$O$1069,MATCH(CONCATENATE($C60,E$8,$B60),Data!$J$10:$J$1069,0),15),"") | F60: =IFERROR(INDEX(Data!$A$10:$O$1069,MATCH(CONCATENATE($C60,F$8,$B60),Data!$J$10:$J$1069,0),15),"") | G60: =IFERROR(INDEX(Data!$A$10:$O$1069,MATCH(CONCATENATE($C60,G$8,$B60),Data!$J$10:$J$1069,0),15),"") | H60: =IFERROR(INDEX(Data!$A$10:$O$1069,MATCH(CONCATENATE($C60,H$8,$B60),Data!$J$10:$J$1069,0),15),"") | I60: =IFERROR(INDEX(Data!$A$10:$O$1069,MATCH(CONCATENATE($C60,I$8,$B60),Data!$J$10:$J$1069,0),15),"") | K60: 50 | L60: SM
A61: =COUNTIF($C$8:C61,C61)+1 -> 9 | B61: =VLOOKUP(A61,$K$11:$L$80,2,FALSE) -> AN | C61: Tuesday | D61: =IFERROR(INDEX(Data!$A$10:$O$1069,MATCH(CONCATENATE($C61,D$8,$B61),Data!$J$10:$J$1069,0),15),"") | E61: =IFERROR(INDEX(Data!$A$10:$O$1069,MATCH(CONCATENATE($C61,E$8,$B61),Data!$J$10:$J$1069,0),15),"") | F61: =IFERROR(INDEX(Data!$A$10:$O$1069,MATCH(CONCATENATE($C61,F$8,$B61),Data!$J$10:$J$1069,0),15),"") | G61: =IFERROR(INDEX(Data!$A$10:$O$1069,MATCH(CONCATENATE($C61,G$8,$B61),Data!$J$10:$J$1069,0),15),"") | H61: =IFERROR(INDEX(Data!$A$10:$O$1069,MATCH(CONCATENATE($C61,H$8,$B61),Data!$J$10:$J$1069,0),15),"") | I61: =IFERROR(INDEX(Data!$A$10:$O$1069,MATCH(CONCATENATE($C61,I$8,$B61),Data!$J$10:$J$1069,0),15),"") | K61: 51 | L61: SR
A62: =COUNTIF($C$8:C62,C62)+1 -> 9 | B62: =VLOOKUP(A62,$K$11:$L$80,2,FALSE) -> AN | C62: Wednesday | D62: =IFERROR(INDEX(Data!$A$10:$O$1069,MATCH(CONCATENATE($C62,D$8,$B62),Data!$J$10:$J$1069,0),15),"") | E62: =IFERROR(INDEX(Data!$A$10:$O$1069,MATCH(CONCATENATE($C62,E$8,$B62),Data!$J$10:$J$1069,0),15),"") | F62: =IFERROR(INDEX(Data!$A$10:$O$1069,MATCH(CONCATENATE($C62,F$8,$B62),Data!$J$10:$J$1069,0),15),"") | G62: =IFERROR(INDEX(Data!$A$10:$O$1069,MATCH(CONCATENATE($C62,G$8,$B62),Data!$J$10:$J$1069,0),15),"") | H62: =IFERROR(INDEX(Data!$A$10:$O$1069,MATCH(CONCATENATE($C62,H$8,$B62),Data!$J$10:$J$1069,0),15),"") | I62: =IFERROR(INDEX(Data!$A$10:$O$1069,MATCH(CONCATENATE($C62,I$8,$B62),Data!$J$10:$J$1069,0),15),"") | K62: 52 | L62: SS
A63: =COUNTIF($C$8:C63,C63)+1 -> 9 | B63: =VLOOKUP(A63,$K$11:$L$80,2,FALSE) -> AN | C63: Thursday | D63: =IFERROR(INDEX(Data!$A$10:$O$1069,MATCH(CONCATENATE($C63,D$8,$B63),Data!$J$10:$J$1069,0),15),"") | E63: =IFERROR(INDEX(Data!$A$10:$O$1069,MATCH(CONCATENATE($C63,E$8,$B63),Data!$J$10:$J$1069,0),15),"") | F63: =IFERROR(INDEX(Data!$A$10:$O$1069,MATCH(CONCATENATE($C63,F$8,$B63),Data!$J$10:$J$1069,0),15),"") | G63: =IFERROR(INDEX(Data!$A$10:$O$1069,MATCH(CONCATENATE($C63,G$8,$B63),Data!$J$10:$J$1069,0),15),"") | H63: =IFERROR(INDEX(Data!$A$10:$O$1069,MATCH(CONCATENATE($C63,H$8,$B63),Data!$J$10:$J$1069,0),15),"") | I63: =IFERROR(INDEX(Data!$A$10:$O$1069,MATCH(CONCATENATE($C63,I$8,$B63),Data!$J$10:$J$1069,0),15),"") | K63: 53 | L63: SS3
K64: 54 | L64: SSS
A65: =COUNTIF($C$8:C65,C65)+1 -> 10 | B65: =VLOOKUP(A65,$K$11:$L$80,2,FALSE) -> FBS | C65: Saturday | D65: =IFERROR(INDEX(Data!$A$10:$O$1069,MATCH(CONCATENATE($C65,D$8,$B65),Data!$J$10:$J$1069,0),15),"") | E65: =IFERROR(INDEX(Data!$A$10:$O$1069,MATCH(CONCATENATE($C65,E$8,$B65),Data!$J$10:$J$1069,0),15),"") | F65: =IFERROR(INDEX(Data!$A$10:$O$1069,MATCH(CONCATENATE($C65,F$8,$B65),Data!$J$10:$J$1069,0),15),"") | G65: =IFERROR(INDEX(Data!$A$10:$O$1069,MATCH(CONCATENATE($C65,G$8,$B65),Data!$J$10:$J$1069,0),15),"") | H65: =IFERROR(INDEX(Data!$A$10:$O$1069,MATCH(CONCATENATE($C65,H$8,$B65),Data!$J$10:$J$1069,0),15),"") | I65: =IFERROR(INDEX(Data!$A$10:$O$1069,MATCH(CONCATENATE($C65,I$8,$B65),Data!$J$10:$J$1069,0),15),"") | K65: 55 | L65: Syful
A66: =COUNTIF($C$8:C66,C66)+1 -> 10 | B66: =VLOOKUP(A66,$K$11:$L$80,2,FALSE) -> FBS | C66: Sunday | D66: =IFERROR(INDEX(Data!$A$10:$O$1069,MATCH(CONCATENATE($C66,D$8,$B66),Data!$J$10:$J$1069,0),15),"") | E66: =IFERROR(INDEX(Data!$A$10:$O$1069,MATCH(CONCATENATE($C66,E$8,$B66),Data!$J$10:$J$1069,0),15),"") | F66: =IFERROR(INDEX(Data!$A$10:$O$1069,MATCH(CONCATENATE($C66,F$8,$B66),Data!$J$10:$J$1069,0),15),"") | G66: =IFERROR(INDEX(Data!$A$10:$O$1069,MATCH(CONCATENATE($C66,G$8,$B66),Data!$J$10:$J$1069,0),15),"") | H66: =IFERROR(INDEX(Data!$A$10:$O$1069,MATCH(CONCATENATE($C66,H$8,$B66),Data!$J$10:$J$1069,0),15),"") | I66: =IFERROR(INDEX(Data!$A$10:$O$1069,MATCH(CONCATENATE($C66,I$8,$B66),Data!$J$10:$J$1069,0),15),"") | K66: 56 | L66: TA
A67: =COUNTIF($C$8:C67,C67)+1 -> 10 | B67: =VLOOKUP(A67,$K$11:$L$80,2,FALSE) -> FBS | C67: Monday | D67: =IFERROR(INDEX(Data!$A$10:$O$1069,MATCH(CONCATENATE($C67,D$8,$B67),Data!$J$10:$J$1069,0),15),"") | E67: =IFERROR(INDEX(Data!$A$10:$O$1069,MATCH(CONCATENATE($C67,E$8,$B67),Data!$J$10:$J$1069,0),15),"") | F67: =IFERROR(INDEX(Data!$A$10:$O$1069,MATCH(CONCATENATE($C67,F$8,$B67),Data!$J$10:$J$1069,0),15),"") | G67: =IFERROR(INDEX(Data!$A$10:$O$1069,MATCH(CONCATENATE($C67,G$8,$B67),Data!$J$10:$J$1069,0),15),"") | H67: =IFERROR(INDEX(Data!$A$10:$O$1069,MATCH(CONCATENATE($C67,H$8,$B67),Data!$J$10:$J$1069,0),15),"") | I67: =IFERROR(INDEX(Data!$A$10:$O$1069,MATCH(CONCATENATE($C67,I$8,$B67),Data!$J$10:$J$1069,0),15),"") | K67: 57 | L67: TAC
A68: =COUNTIF($C$8:C68,C68)+1 -> 10 | B68: =VLOOKUP(A68,$K$11:$L$80,2,FALSE) -> FBS | C68: Tuesday | D68: =IFERROR(INDEX(Data!$A$10:$O$1069,MATCH(CONCATENATE($C68,D$8,$B68),Data!$J$10:$J$1069,0),15),"") | E68: =IFERROR(INDEX(Data!$A$10:$O$1069,MATCH(CONCATENATE($C68,E$8,$B68),Data!$J$10:$J$1069,0),15),"") | F68: =IFERROR(INDEX(Data!$A$10:$O$1069,MATCH(CONCATENATE($C68,F$8,$B68),Data!$J$10:$J$1069,0),15),"") | G68: =IFERROR(INDEX(Data!$A$10:$O$1069,MATCH(CONCATENATE($C68,G$8,$B68),Data!$J$10:$J$1069,0),15),"") | H68: =IFERROR(INDEX(Data!$A$10:$O$1069,MATCH(CONCATENATE($C68,H$8,$B68),Data!$J$10:$J$1069,0),15),"") | I68: =IFERROR(INDEX(Data!$A$10:$O$1069,MATCH(CONCATENATE($C68,I$8,$B68),Data!$J$10:$J$1069,0),15),"") | K68: 58 | L68: TE 222 (L2T2)C
A69: =COUNTIF($C$8:C69,C69)+1 -> 10 | B69: =VLOOKUP(A69,$K$11:$L$80,2,FALSE) -> FBS | C69: Wednesday | D69: =IFERROR(INDEX(Data!$A$10:$O$1069,MATCH(CONCATENATE($C69,D$8,$B69),Data!$J$10:$J$1069,0),15),"") | E69: =IFERROR(INDEX(Data!$A$10:$O$1069,MATCH(CONCATENATE($C69,E$8,$B69),Data!$J$10:$J$1069,0),15),"") | F69: =IFERROR(INDEX(Data!$A$10:$O$1069,MATCH(CONCATENATE($C69,F$8,$B69),Data!$J$10:$J$1069,0),15),"") | G69: =IFERROR(INDEX(Data!$A$10:$O$1069,MATCH(CONCATENATE($C69,G$8,$B69),Data!$J$10:$J$1069,0),15),"") | H69: =IFERROR(INDEX(Data!$A$10:$O$1069,MATCH(CONCATENATE($C69,H$8,$B69),Data!$J$10:$J$1069,0),15),"") | I69: =IFERROR(INDEX(Data!$A$10:$O$1069,MATCH(CONCATENATE($C69,I$8,$B69),Data!$J$10:$J$1069,0),15),"") | K69: 59 | L69: TM
A70: =COUNTIF($C$8:C70,C70)+1 -> 10 | B70: =VLOOKUP(A70,$K$11:$L$80,2,FALSE) -> FBS | C70: Thursday | D70: =IFERROR(INDEX(Data!$A$10:$O$1069,MATCH(CONCATENATE($C70,D$8,$B70),Data!$J$10:$J$1069,0),15),"") | E70: =IFERROR(INDEX(Data!$A$10:$O$1069,MATCH(CONCATENATE($C70,E$8,$B70),Data!$J$10:$J$1069,0),15),"") | F70: =IFERROR(INDEX(Data!$A$10:$O$1069,MATCH(CONCATENATE($C70,F$8,$B70),Data!$J$10:$J$1069,0),15),"") | G70: =IFERROR(INDEX(Data!$A$10:$O$1069,MATCH(CONCATENATE($C70,G$8,$B70),Data!$J$10:$J$1069,0),15),"") | H70: =IFERROR(INDEX(Data!$A$10:$O$1069,MATCH(CONCATENATE($C70,H$8,$B70),Data!$J$10:$J$1069,0),15),"") | I70: =IFERROR(INDEX(Data!$A$10:$O$1069,MATCH(CONCATENATE($C70,I$8,$B70),Data!$J$10:$J$1069,0),15),"") | K70: 60 | L70: TM(ns)
K71: 61 | L71: TMns
A72: =COUNTIF($C$8:C72,C72)+1 -> 11 | B72: =VLOOKUP(A72,$K$11:$L$80,2,FALSE) -> FHA | C72: Saturday | D72: =IFERROR(INDEX(Data!$A$10:$O$1069,MATCH(CONCATENATE($C72,D$8,$B72),Data!$J$10:$J$1069,0),15),"") | E72: =IFERROR(INDEX(Data!$A$10:$O$1069,MATCH(CONCATENATE($C72,E$8,$B72),Data!$J$10:$J$1069,0),15),"") | F72: =IFERROR(INDEX(Data!$A$10:$O$1069,MATCH(CONCATENATE($C72,F$8,$B72),Data!$J$10:$J$1069,0),15),"") | G72: =IFERROR(INDEX(Data!$A$10:$O$1069,MATCH(CONCATENATE($C72,G$8,$B72),Data!$J$10:$J$1069,0),15),"") | H72: =IFERROR(INDEX(Data!$A$10:$O$1069,MATCH(CONCATENATE($C72,H$8,$B72),Data!$J$10:$J$1069,0),15),"") | I72: =IFERROR(INDEX(Data!$A$10:$O$1069,MATCH(CONCATENATE($C72,I$8,$B72),Data!$J$10:$J$1069,0),15),"") | K72: 62 | L72: ZI
A73: =COUNTIF($C$8:C73,C73)+1 -> 11 | B73: =VLOOKUP(A73,$K$11:$L$80,2,FALSE) -> FHA | C73: Sunday | D73: =IFERROR(INDEX(Data!$A$10:$O$1069,MATCH(CONCATENATE($C73,D$8,$B73),Data!$J$10:$J$1069,0),15),"") | E73: =IFERROR(INDEX(Data!$A$10:$O$1069,MATCH(CONCATENATE($C73,E$8,$B73),Data!$J$10:$J$1069,0),15),"") | F73: =IFERROR(INDEX(Data!$A$10:$O$1069,MATCH(CONCATENATE($C73,F$8,$B73),Data!$J$10:$J$1069,0),15),"") | G73: =IFERROR(INDEX(Data!$A$10:$O$1069,MATCH(CONCATENATE($C73,G$8,$B73),Data!$J$10:$J$1069,0),15),"") | H73: =IFERROR(INDEX(Data!$A$10:$O$1069,MATCH(CONCATENATE($C73,H$8,$B73),Data!$J$10:$J$1069,0),15),"") | I73: =IFERROR(INDEX(Data!$A$10:$O$1069,MATCH(CONCATENATE($C73,I$8,$B73),Data!$J$10:$J$1069,0),15),"") | K73: 63 | L73: ZU
A74: =COUNTIF($C$8:C74,C74)+1 -> 11 | B74: =VLOOKUP(A74,$K$11:$L$80,2,FALSE) -> FHA | C74: Monday | D74: =IFERROR(INDEX(Data!$A$10:$O$1069,MATCH(CONCATENATE($C74,D$8,$B74),Data!$J$10:$J$1069,0),15),"") | E74: =IFERROR(INDEX(Data!$A$10:$O$1069,MATCH(CONCATENATE($C74,E$8,$B74),Data!$J$10:$J$1069,0),15),"") | F74: =IFERROR(INDEX(Data!$A$10:$O$1069,MATCH(CONCATENATE($C74,F$8,$B74),Data!$J$10:$J$1069,0),15),"") | G74: =IFERROR(INDEX(Data!$A$10:$O$1069,MATCH(CONCATENATE($C74,G$8,$B74),Data!$J$10:$J$1069,0),15),"") | H74: =IFERROR(INDEX(Data!$A$10:$O$1069,MATCH(CONCATENATE($C74,H$8,$B74),Data!$J$10:$J$1069,0),15),"") | I74: =IFERROR(INDEX(Data!$A$10:$O$1069,MATCH(CONCATENATE($C74,I$8,$B74),Data!$J$10:$J$1069,0),15),"") | K74: 64 | L74: Grand Total
A75: =COUNTIF($C$8:C75,C75)+1 -> 11 | B75: =VLOOKUP(A75,$K$11:$L$80,2,FALSE) -> FHA | C75: Tuesday | D75: =IFERROR(INDEX(Data!$A$10:$O$1069,MATCH(CONCATENATE($C75,D$8,$B75),Data!$J$10:$J$1069,0),15),"") | E75: =IFERROR(INDEX(Data!$A$10:$O$1069,MATCH(CONCATENATE($C75,E$8,$B75),Data!$J$10:$J$1069,0),15),"") | F75: =IFERROR(INDEX(Data!$A$10:$O$1069,MATCH(CONCATENATE($C75,F$8,$B75),Data!$J$10:$J$1069,0),15),"") | G75: =IFERROR(INDEX(Data!$A$10:$O$1069,MATCH(CONCATENATE($C75,G$8,$B75),Data!$J$10:$J$1069,0),15),"") | H75: =IFERROR(INDEX(Data!$A$10:$O$1069,MATCH(CONCATENATE($C75,H$8,$B75),Data!$J$10:$J$1069,0),15),"") | I75: =IFERROR(INDEX(Data!$A$10:$O$1069,MATCH(CONCATENATE($C75,I$8,$B75),Data!$J$10:$J$1069,0),15),"") | K75: 65
A76: =COUNTIF($C$8:C76,C76)+1 -> 11 | B76: =VLOOKUP(A76,$K$11:$L$80,2,FALSE) -> FHA | C76: Wednesday | D76: =IFERROR(INDEX(Data!$A$10:$O$1069,MATCH(CONCATENATE($C76,D$8,$B76),Data!$J$10:$J$1069,0),15),"") | E76: =IFERROR(INDEX(Data!$A$10:$O$1069,MATCH(CONCATENATE($C76,E$8,$B76),Data!$J$10:$J$1069,0),15),"") | F76: =IFERROR(INDEX(Data!$A$10:$O$1069,MATCH(CONCATENATE($C76,F$8,$B76),Data!$J$10:$J$1069,0),15),"") | G76: =IFERROR(INDEX(Data!$A$10:$O$1069,MATCH(CONCATENATE($C76,G$8,$B76),Data!$J$10:$J$1069,0),15),"") | H76: =IFERROR(INDEX(Data!$A$10:$O$1069,MATCH(CONCATENATE($C76,H$8,$B76),Data!$J$10:$J$1069,0),15),"") | I76: =IFERROR(INDEX(Data!$A$10:$O$1069,MATCH(CONCATENATE($C76,I$8,$B76),Data!$J$10:$J$1069,0),15),"") | K76: 66
A77: =COUNTIF($C$8:C77,C77)+1 -> 11 | B77: =VLOOKUP(A77,$K$11:$L$80,2,FALSE) -> FHA | C77: Thursday | D77: =IFERROR(INDEX(Data!$A$10:$O$1069,MATCH(CONCATENATE($C77,D$8,$B77),Data!$J$10:$J$1069,0),15),"") | E77: =IFERROR(INDEX(Data!$A$10:$O$1069,MATCH(CONCATENATE($C77,E$8,$B77),Data!$J$10:$J$1069,0),15),"") | F77: =IFERROR(INDEX(Data!$A$10:$O$1069,MATCH(CONCATENATE($C77,F$8,$B77),Data!$J$10:$J$1069,0),15),"") | G77: =IFERROR(INDEX(Data!$A$10:$O$1069,MATCH(CONCATENATE($C77,G$8,$B77),Data!$J$10:$J$1069,0),15),"") | H77: =IFERROR(INDEX(Data!$A$10:$O$1069,MATCH(CONCATENATE($C77,H$8,$B77),Data!$J$10:$J$1069,0),15),"") | I77: =IFERROR(INDEX(Data!$A$10:$O$1069,MATCH(CONCATENATE($C77,I$8,$B77),Data!$J$10:$J$1069,0),15),"") | K77: 67
K78: 68
A79: =COUNTIF($C$8:C79,C79)+1 -> 12 | B79: =VLOOKUP(A79,$K$11:$L$80,2,FALSE) -> FHS | C79: Saturday | D79: =IFERROR(INDEX(Data!$A$10:$O$1069,MATCH(CONCATENATE($C79,D$8,$B79),Data!$J$10:$J$1069,0),15),"") | E79: =IFERROR(INDEX(Data!$A$10:$O$1069,MATCH(CONCATENATE($C79,E$8,$B79),Data!$J$10:$J$1069,0),15),"") | F79: =IFERROR(INDEX(Data!$A$10:$O$1069,MATCH(CONCATENATE($C79,F$8,$B79),Data!$J$10:$J$1069,0),15),"") | G79: =IFERROR(INDEX(Data!$A$10:$O$1069,MATCH(CONCATENATE($C79,G$8,$B79),Data!$J$10:$J$1069,0),15),"") | H79: =IFERROR(INDEX(Data!$A$10:$O$1069,MATCH(CONCATENATE($C79,H$8,$B79),Data!$J$10:$J$1069,0),15),"") | I79: =IFERROR(INDEX(Data!$A$10:$O$1069,MATCH(CONCATENATE($C79,I$8,$B79),Data!$J$10:$J$1069,0),15),"") | K79: 69
A80: =COUNTIF($C$8:C80,C80)+1 -> 12 | B80: =VLOOKUP(A80,$K$11:$L$80,2,FALSE) -> FHS | C80: Sunday | D80: =IFERROR(INDEX(Data!$A$10:$O$1069,MATCH(CONCATENATE($C80,D$8,$B80),Data!$J$10:$J$1069,0),15),"") | E80: =IFERROR(INDEX(Data!$A$10:$O$1069,MATCH(CONCATENATE($C80,E$8,$B80),Data!$J$10:$J$1069,0),15),"") | F80: =IFERROR(INDEX(Data!$A$10:$O$1069,MATCH(CONCATENATE($C80,F$8,$B80),Data!$J$10:$J$1069,0),15),"") | G80: =IFERROR(INDEX(Data!$A$10:$O$1069,MATCH(CONCATENATE($C80,G$8,$B80),Data!$J$10:$J$1069,0),15),"") | H80: =IFERROR(INDEX(Data!$A$10:$O$1069,MATCH(CONCATENATE($C80,H$8,$B80),Data!$J$10:$J$1069,0),15),"") | I80: =IFERROR(INDEX(Data!$A$10:$O$1069,MATCH(CONCATENATE($C80,I$8,$B80),Data!$J$10:$J$1069,0),15),"") | K80: 70
A81: =COUNTIF($C$8:C81,C81)+1 -> 12 | B81: =VLOOKUP(A81,$K$11:$L$80,2,FALSE) -> FHS | C81: Monday | D81: =IFERROR(INDEX(Data!$A$10:$O$1069,MATCH(CONCATENATE($C81,D$8,$B81),Data!$J$10:$J$1069,0),15),"") -> 0 701 --- FHS | E81: =IFERROR(INDEX(Data!$A$10:$O$1069,MATCH(CONCATENATE($C81,E$8,$B81),Data!$J$10:$J$1069,0),15),"") -> 0 701 --- FHS | F81: =IFERROR(INDEX(Data!$A$10:$O$1069,MATCH(CONCATENATE($C81,F$8,$B81),Data!$J$10:$J$1069,0),15),"") | G81: =IFERROR(INDEX(Data!$A$10:$O$1069,MATCH(CONCATENATE($C81,G$8,$B81),Data!$J$10:$J$1069,0),15),"") | H81: =IFERROR(INDEX(Data!$A$10:$O$1069,MATCH(CONCATENATE($C81,H$8,$B81),Data!$J$10:$J$1069,0),15),"") | I81: =IFERROR(INDEX(Data!$A$10:$O$1069,MATCH(CONCATENATE($C81,I$8,$B81),Data!$J$10:$J$1069,0),15),"")
A82: =COUNTIF($C$8:C82,C82)+1 -> 12 | B82: =VLOOKUP(A82,$K$11:$L$80,2,FALSE) -> FHS | C82: Tuesday | D82: =IFERROR(INDEX(Data!$A$10:$O$1069,MATCH(CONCATENATE($C82,D$8,$B82),Data!$J$10:$J$1069,0),15),"") | E82: =IFERROR(INDEX(Data!$A$10:$O$1069,MATCH(CONCATENATE($C82,E$8,$B82),Data!$J$10:$J$1069,0),15),"") | F82: =IFERROR(INDEX(Data!$A$10:$O$1069,MATCH(CONCATENATE($C82,F$8,$B82),Data!$J$10:$J$1069,0),15),"") | G82: =IFERROR(INDEX(Data!$A$10:$O$1069,MATCH(CONCATENATE($C82,G$8,$B82),Data!$J$10:$J$1069,0),15),"") | H82: =IFERROR(INDEX(Data!$A$10:$O$1069,MATCH(CONCATENATE($C82,H$8,$B82),Data!$J$10:$J$1069,0),15),"") | I82: =IFERROR(INDEX(Data!$A$10:$O$1069,MATCH(CONCATENATE($C82,I$8,$B82),Data!$J$10:$J$1069,0),15),"")
A83: =COUNTIF($C$8:C83,C83)+1 -> 12 | B83: =VLOOKUP(A83,$K$11:$L$80,2,FALSE) -> FHS | C83: Wednesday | D83: =IFERROR(INDEX(Data!$A$10:$O$1069,MATCH(CONCATENATE($C83,D$8,$B83),Data!$J$10:$J$1069,0),15),"") | E83: =IFERROR(INDEX(Data!$A$10:$O$1069,MATCH(CONCATENATE($C83,E$8,$B83),Data!$J$10:$J$1069,0),15),"") | F83: =IFERROR(INDEX(Data!$A$10:$O$1069,MATCH(CONCATENATE($C83,F$8,$B83),Data!$J$10:$J$1069,0),15),"") | G83: =IFERROR(INDEX(Data!$A$10:$O$1069,MATCH(CONCATENATE($C83,G$8,$B83),Data!$J$10:$J$1069,0),15),"") | H83: =IFERROR(INDEX(Data!$A$10:$O$1069,MATCH(CONCATENATE($C83,H$8,$B83),Data!$J$10:$J$1069,0),15),"") | I83: =IFERROR(INDEX(Data!$A$10:$O$1069,MATCH(CONCATENATE($C83,I$8,$B83),Data!$J$10:$J$1069,0),15),"")
A84: =COUNTIF($C$8:C84,C84)+1 -> 12 | B84: =VLOOKUP(A84,$K$11:$L$80,2,FALSE) -> FHS | C84: Thursday | D84: =IFERROR(INDEX(Data!$A$10:$O$1069,MATCH(CONCATENATE($C84,D$8,$B84),Data!$J$10:$J$1069,0),15),"") | E84: =IFERROR(INDEX(Data!$A$10:$O$1069,MATCH(CONCATENATE($C84,E$8,$B84),Data!$J$10:$J$1069,0),15),"") | F84: =IFERROR(INDEX(Data!$A$10:$O$1069,MATCH(CONCATENATE($C84,F$8,$B84),Data!$J$10:$J$1069,0),15),"") | G84: =IFERROR(INDEX(Data!$A$10:$O$1069,MATCH(CONCATENATE($C84,G$8,$B84),Data!$J$10:$J$1069,0),15),"") | H84: =IFERROR(INDEX(Data!$A$10:$O$1069,MATCH(CONCATENATE($C84,H$8,$B84),Data!$J$10:$J$1069,0),15),"") | I84: =IFERROR(INDEX(Data!$A$10:$O$1069,MATCH(CONCATENATE($C84,I$8,$B84),Data!$J$10:$J$1069,0),15),"")
A86: =COUNTIF($C$8:C86,C86)+1 -> 13 | B86: =VLOOKUP(A86,$K$11:$L$80,2,FALSE) -> FS | C86: Saturday | D86: =IFERROR(INDEX(Data!$A$10:$O$1069,MATCH(CONCATENATE($C86,D$8,$B86),Data!$J$10:$J$1069,0),15),"") | E86: =IFERROR(INDEX(Data!$A$10:$O$1069,MATCH(CONCATENATE($C86,E$8,$B86),Data!$J$10:$J$1069,0),15),"") | F86: =IFERROR(INDEX(Data!$A$10:$O$1069,MATCH(CONCATENATE($C86,F$8,$B86),Data!$J$10:$J$1069,0),15),"") | G86: =IFERROR(INDEX(Data!$A$10:$O$1069,MATCH(CONCATENATE($C86,G$8,$B86),Data!$J$10:$J$1069,0),15),"") | H86: =IFERROR(INDEX(Data!$A$10:$O$1069,MATCH(CONCATENATE($C86,H$8,$B86),Data!$J$10:$J$1069,0),15),"") | I86: =IFERROR(INDEX(Data!$A$10:$O$1069,MATCH(CONCATENATE($C86,I$8,$B86),Data!$J$10:$J$1069,0),15),"")
A87: =COUNTIF($C$8:C87,C87)+1 -> 13 | B87: =VLOOKUP(A87,$K$11:$L$80,2,FALSE) -> FS | C87: Sunday | D87: =IFERROR(INDEX(Data!$A$10:$O$1069,MATCH(CONCATENATE($C87,D$8,$B87),Data!$J$10:$J$1069,0),15),"") | E87: =IFERROR(INDEX(Data!$A$10:$O$1069,MATCH(CONCATENATE($C87,E$8,$B87),Data!$J$10:$J$1069,0),15),"") | F87: =IFERROR(INDEX(Data!$A$10:$O$1069,MATCH(CONCATENATE($C87,F$8,$B87),Data!$J$10:$J$1069,0),15),"") | G87: =IFERROR(INDEX(Data!$A$10:$O$1069,MATCH(CONCATENATE($C87,G$8,$B87),Data!$J$10:$J$1069,0),15),"") | H87: =IFERROR(INDEX(Data!$A$10:$O$1069,MATCH(CONCATENATE($C87,H$8,$B87),Data!$J$10:$J$1069,0),15),"") | I87: =IFERROR(INDEX(Data!$A$10:$O$1069,MATCH(CONCATENATE($C87,I$8,$B87),Data!$J$10:$J$1069,0),15),"")
A88: =COUNTIF($C$8:C88,C88)+1 -> 13 | B88: =VLOOKUP(A88,$K$11:$L$80,2,FALSE) -> FS | C88: Monday | D88: =IFERROR(INDEX(Data!$A$10:$O$1069,MATCH(CONCATENATE($C88,D$8,$B88),Data!$J$10:$J$1069,0),15),"") -> TE223(L2T2)B 712 --- FS | E88: =IFERROR(INDEX(Data!$A$10:$O$1069,MATCH(CONCATENATE($C88,E$8,$B88),Data!$J$10:$J$1069,0),15),"") -> TE223(L2T2)B 712 --- FS | F88: =IFERROR(INDEX(Data!$A$10:$O$1069,MATCH(CONCATENATE($C88,F$8,$B88),Data!$J$10:$J$1069,0),15),"") | G88: =IFERROR(INDEX(Data!$A$10:$O$1069,MATCH(CONCATENATE($C88,G$8,$B88),Data!$J$10:$J$1069,0),15),"") | H88: =IFERROR(INDEX(Data!$A$10:$O$1069,MATCH(CONCATENATE($C88,H$8,$B88),Data!$J$10:$J$1069,0),15),"") | I88: =IFERROR(INDEX(Data!$A$10:$O$1069,MATCH(CONCATENATE($C88,I$8,$B88),Data!$J$10:$J$1069,0),15),"")
A89: =COUNTIF($C$8:C89,C89)+1 -> 13 | B89: =VLOOKUP(A89,$K$11:$L$80,2,FALSE) -> FS | C89: Tuesday | D89: =IFERROR(INDEX(Data!$A$10:$O$1069,MATCH(CONCATENATE($C89,D$8,$B89),Data!$J$10:$J$1069,0),15),"") -> TE 215(L2T1)B 712 --- FS | E89: =IFERROR(INDEX(Data!$A$10:$O$1069,MATCH(CONCATENATE($C89,E$8,$B89),Data!$J$10:$J$1069,0),15),"") -> TE 215(L2T1)B 712 --- FS | F89: =IFERROR(INDEX(Data!$A$10:$O$1069,MATCH(CONCATENATE($C89,F$8,$B89),Data!$J$10:$J$1069,0),15),"") | G89: =IFERROR(INDEX(Data!$A$10:$O$1069,MATCH(CONCATENATE($C89,G$8,$B89),Data!$J$10:$J$1069,0),15),"") | H89: =IFERROR(INDEX(Data!$A$10:$O$1069,MATCH(CONCATENATE($C89,H$8,$B89),Data!$J$10:$J$1069,0),15),"") | I89: =IFERROR(INDEX(Data!$A$10:$O$1069,MATCH(CONCATENATE($C89,I$8,$B89),Data!$J$10:$J$1069,0),15),"")
A90: =COUNTIF($C$8:C90,C90)+1 -> 13 | B90: =VLOOKUP(A90,$K$11:$L$80,2,FALSE) -> FS | C90: Wednesday | D90: =IFERROR(INDEX(Data!$A$10:$O$1069,MATCH(CONCATENATE($C90,D$8,$B90),Data!$J$10:$J$1069,0),15),"") -> 0 712 --- FS | E90: =IFERROR(INDEX(Data!$A$10:$O$1069,MATCH(CONCATENATE($C90,E$8,$B90),Data!$J$10:$J$1069,0),15),"") -> 0 712 --- FS | F90: =IFERROR(INDEX(Data!$A$10:$O$1069,MATCH(CONCATENATE($C90,F$8,$B90),Data!$J$10:$J$1069,0),15),"") | G90: =IFERROR(INDEX(Data!$A$10:$O$1069,MATCH(CONCATENATE($C90,G$8,$B90),Data!$J$10:$J$1069,0),15),"") | H90: =IFERROR(INDEX(Data!$A$10:$O$1069,MATCH(CONCATENATE($C90,H$8,$B90),Data!$J$10:$J$1069,0),15),"") | I90: =IFERROR(INDEX(Data!$A$10:$O$1069,MATCH(CONCATENATE($C90,I$8,$B90),Data!$J$10:$J$1069,0),15),"")
A91: =COUNTIF($C$8:C91,C91)+1 -> 13 | B91: =VLOOKUP(A91,$K$11:$L$80,2,FALSE) -> FS | C91: Thursday | D91: =IFERROR(INDEX(Data!$A$10:$O$1069,MATCH(CONCATENATE($C91,D$8,$B91),Data!$J$10:$J$1069,0),15),"") | E91: =IFERROR(INDEX(Data!$A$10:$O$1069,MATCH(CONCATENATE($C91,E$8,$B91),Data!$J$10:$J$1069,0),15),"") | F91: =IFERROR(INDEX(Data!$A$10:$O$1069,MATCH(CONCATENATE($C91,F$8,$B91),Data!$J$10:$J$1069,0),15),"") | G91: =IFERROR(INDEX(Data!$A$10:$O$1069,MATCH(CONCATENATE($C91,G$8,$B91),Data!$J$10:$J$1069,0),15),"") | H91: =IFERROR(INDEX(Data!$A$10:$O$1069,MATCH(CONCATENATE($C91,H$8,$B91),Data!$J$10:$J$1069,0),15),"") | I91: =IFERROR(INDEX(Data!$A$10:$O$1069,MATCH(CONCATENATE($C91,I$8,$B91),Data!$J$10:$J$1069,0),15),"")
A93: =COUNTIF($C$8:C93,C93)+1 -> 14 | B93: =VLOOKUP(A93,$K$11:$L$80,2,FALSE) -> GC | C93: Saturday | D93: =IFERROR(INDEX(Data!$A$10:$O$1069,MATCH(CONCATENATE($C93,D$8,$B93),Data!$J$10:$J$1069,0),15),"") | E93: =IFERROR(INDEX(Data!$A$10:$O$1069,MATCH(CONCATENATE($C93,E$8,$B93),Data!$J$10:$J$1069,0),15),"") | F93: =IFERROR(INDEX(Data!$A$10:$O$1069,MATCH(CONCATENATE($C93,F$8,$B93),Data!$J$10:$J$1069,0),15),"") | G93: =IFERROR(INDEX(Data!$A$10:$O$1069,MATCH(CONCATENATE($C93,G$8,$B93),Data!$J$10:$J$1069,0),15),"") | H93: =IFERROR(INDEX(Data!$A$10:$O$1069,MATCH(CONCATENATE($C93,H$8,$B93),Data!$J$10:$J$1069,0),15),"") | I93: =IFERROR(INDEX(Data!$A$10:$O$1069,MATCH(CONCATENATE($C93,I$8,$B93),Data!$J$10:$J$1069,0),15),"")
A94: =COUNTIF($C$8:C94,C94)+1 -> 14 | B94: =VLOOKUP(A94,$K$11:$L$80,2,FALSE) -> GC | C94: Sunday | D94: =IFERROR(INDEX(Data!$A$10:$O$1069,MATCH(CONCATENATE($C94,D$8,$B94),Data!$J$10:$J$1069,0),15),"") | E94: =IFERROR(INDEX(Data!$A$10:$O$1069,MATCH(CONCATENATE($C94,E$8,$B94),Data!$J$10:$J$1069,0),15),"") | F94: =IFERROR(INDEX(Data!$A$10:$O$1069,MATCH(CONCATENATE($C94,F$8,$B94),Data!$J$10:$J$1069,0),15),"") | G94: =IFERROR(INDEX(Data!$A$10:$O$1069,MATCH(CONCATENATE($C94,G$8,$B94),Data!$J$10:$J$1069,0),15),"") | H94: =IFERROR(INDEX(Data!$A$10:$O$1069,MATCH(CONCATENATE($C94,H$8,$B94),Data!$J$10:$J$1069,0),15),"") | I94: =IFERROR(INDEX(Data!$A$10:$O$1069,MATCH(CONCATENATE($C94,I$8,$B94),Data!$J$10:$J$1069,0),15),"")
... A199: =COUNTIF($C$8:C199,C199)+1 -> 29 | B199: =VLOOKUP(A199,$K$11:$L$80,2,FALSE) -> MRK | C199: Sunday | D199: =IFERROR(INDEX(Data!$A$10:$O$1069,MATCH(CONCATENATE($C199,D$8,$B199),Data!$J$10:$J$1069,0),15),"") | E199: =IFERROR(INDEX(Data!$A$10:$O$1069,MATCH(CONCATENATE($C199,E$8,$B199),Data!$J$10:$J$1069,0),15),"") | F199: =IFERROR(INDEX(Data!$A$10:$O$1069,MATCH(CONCATENATE($C199,F$8,$B199),Data!$J$10:$J$1069,0),15),"") | G199: =IFERROR(INDEX(Data!$A$10:$O$1069,MATCH(CONCATENATE($C199,G$8,$B199),Data!$J$10:$J$1069,0),15),"") | H199: =IFERROR(INDEX(Data!$A$10:$O$1069,MATCH(CONCATENATE($C199,H$8,$B199),Data!$J$10:$J$1069,0),15),"") | I199: =IFERROR(INDEX(Data!$A$10:$O$1069,MATCH(CONCATENATE($C199,I$8,$B199),Data!$J$10:$J$1069,0),15),"")
A200: =COUNTIF($C$8:C200,C200)+1 -> 29 | B200: =VLOOKUP(A200,$K$11:$L$80,2,FALSE) -> MRK | C200: Monday | D200: =IFERROR(INDEX(Data!$A$10:$O$1069,MATCH(CONCATENATE($C200,D$8,$B200),Data!$J$10:$J$1069,0),15),"") | E200: =IFERROR(INDEX(Data!$A$10:$O$1069,MATCH(CONCATENATE($C200,E$8,$B200),Data!$J$10:$J$1069,0),15),"") | G200: =IFERROR(INDEX(Data!$A$10:$O$1069,MATCH(CONCATENATE($C200,G$8,$B200),Data!$J$10:$J$1069,0),15),"") | H200: =IFERROR(INDEX(Data!$A$10:$O$1069,MATCH(CONCATENATE($C200,H$8,$B200),Data!$J$10:$J$1069,0),15),"") | I200: =IFERROR(INDEX(Data!$A$10:$O$1069,MATCH(CONCATENATE($C200,I$8,$B200),Data!$J$10:$J$1069,0),15),"")
A201: =COUNTIF($C$8:C201,C201)+1 -> 29 | B201: =VLOOKUP(A201,$K$11:$L$80,2,FALSE) -> MRK | C201: Tuesday | D201: =IFERROR(INDEX(Data!$A$10:$O$1069,MATCH(CONCATENATE($C201,D$8,$B201),Data!$J$10:$J$1069,0),15),"") | E201: =IFERROR(INDEX(Data!$A$10:$O$1069,MATCH(CONCATENATE($C201,E$8,$B201),Data!$J$10:$J$1069,0),15),"") | F201: =IFERROR(INDEX(Data!$A$10:$O$1069,MATCH(CONCATENATE($C201,F$8,$B201),Data!$J$10:$J$1069,0),15),"") | G201: =IFERROR(INDEX(Data!$A$10:$O$1069,MATCH(CONCATENATE($C201,G$8,$B201),Data!$J$10:$J$1069,0),15),"") | H201: =IFERROR(INDEX(Data!$A$10:$O$1069,MATCH(CONCATENATE($C201,H$8,$B201),Data!$J$10:$J$1069,0),15),"") | I201: =IFERROR(INDEX(Data!$A$10:$O$1069,MATCH(CONCATENATE($C201,I$8,$B201),Data!$J$10:$J$1069,0),15),"")
A202: =COUNTIF($C$8:C202,C202)+1 -> 29 | B202: =VLOOKUP(A202,$K$11:$L$80,2,FALSE) -> MRK | C202: Wednesday | D202: =IFERROR(INDEX(Data!$A$10:$O$1069,MATCH(CONCATENATE($C202,D$8,$B202),Data!$J$10:$J$1069,0),15),"") | E202: =IFERROR(INDEX(Data!$A$10:$O$1069,MATCH(CONCATENATE($C202,E$8,$B202),Data!$J$10:$J$1069,0),15),"") | F202: =IFERROR(INDEX(Data!$A$10:$O$1069,MATCH(CONCATENATE($C202,F$8,$B202),Data!$J$10:$J$1069,0),15),"") | G202: =IFERROR(INDEX(Data!$A$10:$O$1069,MATCH(CONCATENATE($C202,G$8,$B202),Data!$J$10:$J$1069,0),15),"") | H202: =IFERROR(INDEX(Data!$A$10:$O$1069,MATCH(CONCATENATE($C202,H$8,$B202),Data!$J$10:$J$1069,0),15),"") | I202: =IFERROR(INDEX(Data!$A$10:$O$1069,MATCH(CONCATENATE($C202,I$8,$B202),Data!$J$10:$J$1069,0),15),"")
A203: =COUNTIF($C$8:C203,C203)+1 -> 29 | B203: =VLOOKUP(A203,$K$11:$L$80,2,FALSE) -> MRK | C203: Thursday | D203: =IFERROR(INDEX(Data!$A$10:$O$1069,MATCH(CONCATENATE($C203,D$8,$B203),Data!$J$10:$J$1069,0),15),"") | E203: =IFERROR(INDEX(Data!$A$10:$O$1069,MATCH(CONCATENATE($C203,E$8,$B203),Data!$J$10:$J$1069,0),15),"") | F203: =IFERROR(INDEX(Data!$A$10:$O$1069,MATCH(CONCATENATE($C203,F$8,$B203),Data!$J$10:$J$1069,0),15),"") | G203: =IFERROR(INDEX(Data!$A$10:$O$1069,MATCH(CONCATENATE($C203,G$8,$B203),Data!$J$10:$J$1069,0),15),"") | H203: =IFERROR(INDEX(Data!$A$10:$O$1069,MATCH(CONCATENATE($C203,H$8,$B203),Data!$J$10:$J$1069,0),15),"") | I203: =IFERROR(INDEX(Data!$A$10:$O$1069,MATCH(CONCATENATE($C203,I$8,$B203),Data!$J$10:$J$1069,0),15),"")
A205: =COUNTIF($C$8:C205,C205)+1 -> 30 | B205: =VLOOKUP(A205,$K$11:$L$80,2,FALSE) -> MRR | C205: Saturday | D205: =IFERROR(INDEX(Data!$A$10:$O$1069,MATCH(CONCATENATE($C205,D$8,$B205),Data!$J$10:$J$1069,0),15),"") | E205: =IFERROR(INDEX(Data!$A$10:$O$1069,MATCH(CONCATENATE($C205,E$8,$B205),Data!$J$10:$J$1069,0),15),"") -> TE418(L4T1)A 10-12 PM 0 --- MRR | F205: =IFERROR(INDEX(Data!$A$10:$O$1069,MATCH(CONCATENATE($C205,F$8,$B205),Data!$J$10:$J$1069,0),15),"") -> TE418(L4T1)B 12-2.00PM L-App --- MRR | G205: =IFERROR(INDEX(Data!$A$10:$O$1069,MATCH(CONCATENATE($C205,G$8,$B205),Data!$J$10:$J$1069,0),15),"") -> TE418(L4T1)C 2-4.00 PM L-App --- MRR | H205: =IFERROR(INDEX(Data!$A$10:$O$1069,MATCH(CONCATENATE($C205,H$8,$B205),Data!$J$10:$J$1069,0),15),"") | I205: =IFERROR(INDEX(Data!$A$10:$O$1069,MATCH(CONCATENATE($C205,I$8,$B205),Data!$J$10:$J$1069,0),15),"")
A206: =COUNTIF($C$8:C206,C206)+1 -> 30 | B206: =VLOOKUP(A206,$K$11:$L$80,2,FALSE) -> MRR | C206: Sunday | D206: =IFERROR(INDEX(Data!$A$10:$O$1069,MATCH(CONCATENATE($C206,D$8,$B206),Data!$J$10:$J$1069,0),15),"") | E206: =IFERROR(INDEX(Data!$A$10:$O$1069,MATCH(CONCATENATE($C206,E$8,$B206),Data!$J$10:$J$1069,0),15),"") | F206: =IFERROR(INDEX(Data!$A$10:$O$1069,MATCH(CONCATENATE($C206,F$8,$B206),Data!$J$10:$J$1069,0),15),"") | G206: =IFERROR(INDEX(Data!$A$10:$O$1069,MATCH(CONCATENATE($C206,G$8,$B206),Data!$J$10:$J$1069,0),15),"") | H206: =IFERROR(INDEX(Data!$A$10:$O$1069,MATCH(CONCATENATE($C206,H$8,$B206),Data!$J$10:$J$1069,0),15),"") | I206: =IFERROR(INDEX(Data!$A$10:$O$1069,MATCH(CONCATENATE($C206,I$8,$B206),Data!$J$10:$J$1069,0),15),"")
A207: =COUNTIF($C$8:C207,C207)+1 -> 30 | B207: =VLOOKUP(A207,$K$11:$L$80,2,FALSE) -> MRR | C207: Monday | D207: =IFERROR(INDEX(Data!$A$10:$O$1069,MATCH(CONCATENATE($C207,D$8,$B207),Data!$J$10:$J$1069,0),15),"") | E207: =IFERROR(INDEX(Data!$A$10:$O$1069,MATCH(CONCATENATE($C207,E$8,$B207),Data!$J$10:$J$1069,0),15),"") | F207: =IFERROR(INDEX(Data!$A$10:$O$1069,MATCH(CONCATENATE($C207,F$8,$B207),Data!$J$10:$J$1069,0),15),"") -> TE427(L4T2)A 702 --- MRR | G207: =IFERROR(INDEX(Data!$A$10:$O$1069,MATCH(CONCATENATE($C207,G$8,$B207),Data!$J$10:$J$1069,0),15),"") -> TE427(L4T2)A 702 --- MRR | H207: =IFERROR(INDEX(Data!$A$10:$O$1069,MATCH(CONCATENATE($C207,H$8,$B207),Data!$J$10:$J$1069,0),15),"") | I207: =IFERROR(INDEX(Data!$A$10:$O$1069,MATCH(CONCATENATE($C207,I$8,$B207),Data!$J$10:$J$1069,0),15),"") -> TE4110(L4T1) A 704 --- MRR
...

Sheet Student's routine
A1: Sl | D1: =Data!D1 -> 08:30-10:00 | E1: =Data!E1 -> 10:00-11:30 | F1: =Data!F1 -> 11:30-01:00 | G1: =Data!G1 -> 01:00-02:30 | H1: =Data!H1 -> 2:30-04:00 | I1: =Data!I1 -> 04:00-05:30 | L1: Faculty List
A2: =COUNTIF($C$1:C2,C2)+1 -> 2 | B2: =VLOOKUP(A2,$K$4:$L$73,2,FALSE) | C2: Saturday | D2: =IFERROR(INDEX(Data!$A$10:$O$1069,MATCH(CONCATENATE($C2,D$1,$B2),Data!$K$10:$K$1069,0),15),"") | E2: =IFERROR(INDEX(Data!$A$10:$O$1069,MATCH(CONCATENATE($C2,E$1,$B2),Data!$K$10:$K$1069,0),15),"") | F2: =IFERROR(INDEX(Data!$A$10:$O$1069,MATCH(CONCATENATE($C2,F$1,$B2),Data!$K$10:$K$1069,0),15),"") | G2: =IFERROR(INDEX(Data!$A$10:$O$1069,MATCH(CONCATENATE($C2,G$1,$B2),Data!$K$10:$K$1069,0),15),"") | H2: =IFERROR(INDEX(Data!$A$10:$O$1069,MATCH(CONCATENATE($C2,H$1,$B2),Data!$K$10:$K$1069,0),15),"") | I2: =IFERROR(INDEX(Data!$A$10:$O$1069,MATCH(CONCATENATE($C2,I$1,$B2),Data!$K$10:$K$1069,0),15),"")
A3: =COUNTIF($C$1:C3,C3)+1 -> 2 | B3: =VLOOKUP(A3,$K$4:$L$73,2,FALSE) | C3: Sunday | D3: =IFERROR(INDEX(Data!$A$10:$O$1069,MATCH(CONCATENATE($C3,D$1,$B3),Data!$K$10:$K$1069,0),15),"") | E3: =IFERROR(INDEX(Data!$A$10:$O$1069,MATCH(CONCATENATE($C3,E$1,$B3),Data!$K$10:$K$1069,0),15),"") | F3: =IFERROR(INDEX(Data!$A$10:$O$1069,MATCH(CONCATENATE($C3,F$1,$B3),Data!$K$10:$K$1069,0),15),"") | G3: =IFERROR(INDEX(Data!$A$10:$O$1069,MATCH(CONCATENATE($C3,G$1,$B3),Data!$K$10:$K$1069,0),15),"") | H3: =IFERROR(INDEX(Data!$A$10:$O$1069,MATCH(CONCATENATE($C3,H$1,$B3),Data!$K$10:$K$1069,0),15),"") | I3: =IFERROR(INDEX(Data!$A$10:$O$1069,MATCH(CONCATENATE($C3,I$1,$B3),Data!$K$10:$K$1069,0),15),"") | K3: Sl | L3: Section
A4: =COUNTIF($C$1:C4,C4)+1 -> 2 | B4: =VLOOKUP(A4,$K$4:$L$73,2,FALSE) | C4: Monday | D4: =IFERROR(INDEX(Data!$A$10:$O$1069,MATCH(CONCATENATE($C4,D$1,$B4),Data!$K$10:$K$1069,0),15),"") | E4: =IFERROR(INDEX(Data!$A$10:$O$1069,MATCH(CONCATENATE($C4,E$1,$B4),Data!$K$10:$K$1069,0),15),"") | F4: =IFERROR(INDEX(Data!$A$10:$O$1069,MATCH(CONCATENATE($C4,F$1,$B4),Data!$K$10:$K$1069,0),15),"") | G4: =IFERROR(INDEX(Data!$A$10:$O$1069,MATCH(CONCATENATE($C4,G$1,$B4),Data!$K$10:$K$1069,0),15),"") | H4: =IFERROR(INDEX(Data!$A$10:$O$1069,MATCH(CONCATENATE($C4,H$1,$B4),Data!$K$10:$K$1069,0),15),"") | I4: =IFERROR(INDEX(Data!$A$10:$O$1069,MATCH(CONCATENATE($C4,I$1,$B4),Data!$K$10:$K$1069,0),15),"") | K4: 1 | L4: 0
A5: =COUNTIF($C$1:C5,C5)+1 -> 2 | B5: =VLOOKUP(A5,$K$4:$L$73,2,FALSE) | C5: Tuesday | D5: =IFERROR(INDEX(Data!$A$10:$O$1069,MATCH(CONCATENATE($C5,D$1,$B5),Data!$K$10:$K$1069,0),15),"") | E5: =IFERROR(INDEX(Data!$A$10:$O$1069,MATCH(CONCATENATE($C5,E$1,$B5),Data!$K$10:$K$1069,0),15),"") | F5: =IFERROR(INDEX(Data!$A$10:$O$1069,MATCH(CONCATENATE($C5,F$1,$B5),Data!$K$10:$K$1069,0),15),"") | G5: =IFERROR(INDEX(Data!$A$10:$O$1069,MATCH(CONCATENATE($C5,G$1,$B5),Data!$K$10:$K$1069,0),15),"") | H5: =IFERROR(INDEX(Data!$A$10:$O$1069,MATCH(CONCATENATE($C5,H$1,$B5),Data!$K$10:$K$1069,0),15),"") | I5: =IFERROR(INDEX(Data!$A$10:$O$1069,MATCH(CONCATENATE($C5,I$1,$B5),Data!$K$10:$K$1069,0),15),"") | K5: 2
A6: =COUNTIF($C$1:C6,C6)+1 -> 2 | B6: =VLOOKUP(A6,$K$4:$L$73,2,FALSE) | C6: Wednesday | D6: =IFERROR(INDEX(Data!$A$10:$O$1069,MATCH(CONCATENATE($C6,D$1,$B6),Data!$K$10:$K$1069,0),15),"") | E6: =IFERROR(INDEX(Data!$A$10:$O$1069,MATCH(CONCATENATE($C6,E$1,$B6),Data!$K$10:$K$1069,0),15),"") | F6: =IFERROR(INDEX(Data!$A$10:$O$1069,MATCH(CONCATENATE($C6,F$1,$B6),Data!$K$10:$K$1069,0),15),"") | G6: =IFERROR(INDEX(Data!$A$10:$O$1069,MATCH(CONCATENATE($C6,G$1,$B6),Data!$K$10:$K$1069,0),15),"") | H6: =IFERROR(INDEX(Data!$A$10:$O$1069,MATCH(CONCATENATE($C6,H$1,$B6),Data!$K$10:$K$1069,0),15),"") | I6: =IFERROR(INDEX(Data!$A$10:$O$1069,MATCH(CONCATENATE($C6,I$1,$B6),Data!$K$10:$K$1069,0),15),"") | K6: 3
A7: =COUNTIF($C$1:C7,C7)+1 -> 2 | B7: =VLOOKUP(A7,$K$4:$L$73,2,FALSE) | C7: Thursday | D7: =IFERROR(INDEX(Data!$A$10:$O$1069,MATCH(CONCATENATE($C7,D$1,$B7),Data!$K$10:$K$1069,0),15),"") | E7: =IFERROR(INDEX(Data!$A$10:$O$1069,MATCH(CONCATENATE($C7,E$1,$B7),Data!$K$10:$K$1069,0),15),"") | F7: =IFERROR(INDEX(Data!$A$10:$O$1069,MATCH(CONCATENATE($C7,F$1,$B7),Data!$K$10:$K$1069,0),15),"") | G7: =IFERROR(INDEX(Data!$A$10:$O$1069,MATCH(CONCATENATE($C7,G$1,$B7),Data!$K$10:$K$1069,0),15),"") | H7: =IFERROR(INDEX(Data!$A$10:$O$1069,MATCH(CONCATENATE($C7,H$1,$B7),Data!$K$10:$K$1069,0),15),"") | I7: =IFERROR(INDEX(Data!$A$10:$O$1069,MATCH(CONCATENATE($C7,I$1,$B7),Data!$K$10:$K$1069,0),15),"") | K7: 4 | L7: (L1T1)A
K8: 5 | L8: (L1T1)B
A9: =COUNTIF($C$1:C9,C9)+1 -> 3 | B9: =VLOOKUP(A9,$K$4:$L$73,2,FALSE) | C9: Saturday | D9: =IFERROR(INDEX(Data!$A$10:$O$1069,MATCH(CONCATENATE($C9,D$1,$B9),Data!$K$10:$K$1069,0),15),"") | E9: =IFERROR(INDEX(Data!$A$10:$O$1069,MATCH(CONCATENATE($C9,E$1,$B9),Data!$K$10:$K$1069,0),15),"") | F9: =IFERROR(INDEX(Data!$A$10:$O$1069,MATCH(CONCATENATE($C9,F$1,$B9),Data!$K$10:$K$1069,0),15),"") | G9: =IFERROR(INDEX(Data!$A$10:$O$1069,MATCH(CONCATENATE($C9,G$1,$B9),Data!$K$10:$K$1069,0),15),"") | H9: =IFERROR(INDEX(Data!$A$10:$O$1069,MATCH(CONCATENATE($C9,H$1,$B9),Data!$K$10:$K$1069,0),15),"") | I9: =IFERROR(INDEX(Data!$A$10:$O$1069,MATCH(CONCATENATE($C9,I$1,$B9),Data!$K$10:$K$1069,0),15),"") | K9: 6 | L9: (L1T1)C
A10: =COUNTIF($C$1:C10,C10)+1 -> 3 | B10: =VLOOKUP(A10,$K$4:$L$73,2,FALSE) | C10: Sunday | D10: =IFERROR(INDEX(Data!$A$10:$O$1069,MATCH(CONCATENATE($C10,D$1,$B10),Data!$K$10:$K$1069,0),15),"") | E10: =IFERROR(INDEX(Data!$A$10:$O$1069,MATCH(CONCATENATE($C10,E$1,$B10),Data!$K$10:$K$1069,0),15),"") | F10: =IFERROR(INDEX(Data!$A$10:$O$1069,MATCH(CONCATENATE($C10,F$1,$B10),Data!$K$10:$K$1069,0),15),"") | G10: =IFERROR(INDEX(Data!$A$10:$O$1069,MATCH(CONCATENATE($C10,G$1,$B10),Data!$K$10:$K$1069,0),15),"") | H10: =IFERROR(INDEX(Data!$A$10:$O$1069,MATCH(CONCATENATE($C10,H$1,$B10),Data!$K$10:$K$1069,0),15),"") | I10: =IFERROR(INDEX(Data!$A$10:$O$1069,MATCH(CONCATENATE($C10,I$1,$B10),Data!$K$10:$K$1069,0),15),"") | K10: 7 | L10: (L1T1)D
A11: =COUNTIF($C$1:C11,C11)+1 -> 3 | B11: =VLOOKUP(A11,$K$4:$L$73,2,FALSE) | C11: Monday | D11: =IFERROR(INDEX(Data!$A$10:$O$1069,MATCH(CONCATENATE($C11,D$1,$B11),Data!$K$10:$K$1069,0),15),"") | E11: =IFERROR(INDEX(Data!$A$10:$O$1069,MATCH(CONCATENATE($C11,E$1,$B11),Data!$K$10:$K$1069,0),15),"") | F11: =IFERROR(INDEX(Data!$A$10:$O$1069,MATCH(CONCATENATE($C11,F$1,$B11),Data!$K$10:$K$1069,0),15),"") | G11: =IFERROR(INDEX(Data!$A$10:$O$1069,MATCH(CONCATENATE($C11,G$1,$B11),Data!$K$10:$K$1069,0),15),"") | H11: =IFERROR(INDEX(Data!$A$10:$O$1069,MATCH(CONCATENATE($C11,H$1,$B11),Data!$K$10:$K$1069,0),15),"") | I11: =IFERROR(INDEX(Data!$A$10:$O$1069,MATCH(CONCATENATE($C11,I$1,$B11),Data!$K$10:$K$1069,0),15),"") | K11: 8 | L11: (L1T2)A
A12: =COUNTIF($C$1:C12,C12)+1 -> 3 | B12: =VLOOKUP(A12,$K$4:$L$73,2,FALSE) | C12: Tuesday | D12: =IFERROR(INDEX(Data!$A$10:$O$1069,MATCH(CONCATENATE($C12,D$1,$B12),Data!$K$10:$K$1069,0),15),"") | E12: =IFERROR(INDEX(Data!$A$10:$O$1069,MATCH(CONCATENATE($C12,E$1,$B12),Data!$K$10:$K$1069,0),15),"") | F12: =IFERROR(INDEX(Data!$A$10:$O$1069,MATCH(CONCATENATE($C12,F$1,$B12),Data!$K$10:$K$1069,0),15),"") | G12: =IFERROR(INDEX(Data!$A$10:$O$1069,MATCH(CONCATENATE($C12,G$1,$B12),Data!$K$10:$K$1069,0),15),"") | H12: =IFERROR(INDEX(Data!$A$10:$O$1069,MATCH(CONCATENATE($C12,H$1,$B12),Data!$K$10:$K$1069,0),15),"") | I12: =IFERROR(INDEX(Data!$A$10:$O$1069,MATCH(CONCATENATE($C12,I$1,$B12),Data!$K$10:$K$1069,0),15),"") | K12: 9 | L12: (L1T2)B
A13: =COUNTIF($C$1:C13,C13)+1 -> 3 | B13: =VLOOKUP(A13,$K$4:$L$73,2,FALSE) | C13: Wednesday | D13: =IFERROR(INDEX(Data!$A$10:$O$1069,MATCH(CONCATENATE($C13,D$1,$B13),Data!$K$10:$K$1069,0),15),"") | E13: =IFERROR(INDEX(Data!$A$10:$O$1069,MATCH(CONCATENATE($C13,E$1,$B13),Data!$K$10:$K$1069,0),15),"") | F13: =IFERROR(INDEX(Data!$A$10:$O$1069,MATCH(CONCATENATE($C13,F$1,$B13),Data!$K$10:$K$1069,0),15),"") | G13: =IFERROR(INDEX(Data!$A$10:$O$1069,MATCH(CONCATENATE($C13,G$1,$B13),Data!$K$10:$K$1069,0),15),"") | H13: =IFERROR(INDEX(Data!$A$10:$O$1069,MATCH(CONCATENATE($C13,H$1,$B13),Data!$K$10:$K$1069,0),15),"") | I13: =IFERROR(INDEX(Data!$A$10:$O$1069,MATCH(CONCATENATE($C13,I$1,$B13),Data!$K$10:$K$1069,0),15),"") | K13: 10 | L13: (L1T2)C
A14: =COUNTIF($C$1:C14,C14)+1 -> 3 | B14: =VLOOKUP(A14,$K$4:$L$73,2,FALSE) | C14: Thursday | D14: =IFERROR(INDEX(Data!$A$10:$O$1069,MATCH(CONCATENATE($C14,D$1,$B14),Data!$K$10:$K$1069,0),15),"") | E14: =IFERROR(INDEX(Data!$A$10:$O$1069,MATCH(CONCATENATE($C14,E$1,$B14),Data!$K$10:$K$1069,0),15),"") | F14: =IFERROR(INDEX(Data!$A$10:$O$1069,MATCH(CONCATENATE($C14,F$1,$B14),Data!$K$10:$K$1069,0),15),"") | G14: =IFERROR(INDEX(Data!$A$10:$O$1069,MATCH(CONCATENATE($C14,G$1,$B14),Data!$K$10:$K$1069,0),15),"") | H14: =IFERROR(INDEX(Data!$A$10:$O$1069,MATCH(CONCATENATE($C14,H$1,$B14),Data!$K$10:$K$1069,0),15),"") | I14: =IFERROR(INDEX(Data!$A$10:$O$1069,MATCH(CONCATENATE($C14,I$1,$B14),Data!$K$10:$K$1069,0),15),"") | K14: 11 | L14: (L1T2)D
K15: 12 | L15: (L1T2)E
A16: =COUNTIF($C$1:C16,C16)+1 -> 4 | B16: =VLOOKUP(A16,$K$4:$L$73,2,FALSE) -> (L1T1)A | C16: Saturday | D16: =IFERROR(INDEX(Data!$A$10:$O$1069,MATCH(CONCATENATE($C16,D$1,$B16),Data!$K$10:$K$1069,0),15),"") | E16: =IFERROR(INDEX(Data!$A$10:$O$1069,MATCH(CONCATENATE($C16,E$1,$B16),Data!$K$10:$K$1069,0),15),"") | F16: =IFERROR(INDEX(Data!$A$10:$O$1069,MATCH(CONCATENATE($C16,F$1,$B16),Data!$K$10:$K$1069,0),15),"") | G16: =IFERROR(INDEX(Data!$A$10:$O$1069,MATCH(CONCATENATE($C16,G$1,$B16),Data!$K$10:$K$1069,0),15),"") | H16: =IFERROR(INDEX(Data!$A$10:$O$1069,MATCH(CONCATENATE($C16,H$1,$B16),Data!$K$10:$K$1069,0),15),"") | I16: =IFERROR(INDEX(Data!$A$10:$O$1069,MATCH(CONCATENATE($C16,I$1,$B16),Data!$K$10:$K$1069,0),15),"") | K16: 13 | L16: (L1T3) A
A17: =COUNTIF($C$1:C17,C17)+1 -> 4 | B17: =VLOOKUP(A17,$K$4:$L$73,2,FALSE) -> (L1T1)A | C17: Sunday | D17: =IFERROR(INDEX(Data!$A$10:$O$1069,MATCH(CONCATENATE($C17,D$1,$B17),Data!$K$10:$K$1069,0),15),"") | E17: =IFERROR(INDEX(Data!$A$10:$O$1069,MATCH(CONCATENATE($C17,E$1,$B17),Data!$K$10:$K$1069,0),15),"") | F17: =IFERROR(INDEX(Data!$A$10:$O$1069,MATCH(CONCATENATE($C17,F$1,$B17),Data!$K$10:$K$1069,0),15),"") | G17: =IFERROR(INDEX(Data!$A$10:$O$1069,MATCH(CONCATENATE($C17,G$1,$B17),Data!$K$10:$K$1069,0),15),"") | H17: =IFERROR(INDEX(Data!$A$10:$O$1069,MATCH(CONCATENATE($C17,H$1,$B17),Data!$K$10:$K$1069,0),15),"") | I17: =IFERROR(INDEX(Data!$A$10:$O$1069,MATCH(CONCATENATE($C17,I$1,$B17),Data!$K$10:$K$1069,0),15),"") | K17: 14 | L17: (L1T3) B
A18: =COUNTIF($C$1:C18,C18)+1 -> 4 | B18: =VLOOKUP(A18,$K$4:$L$73,2,FALSE) -> (L1T1)A | C18: Monday | D18: =IFERROR(INDEX(Data!$A$10:$O$1069,MATCH(CONCATENATE($C18,D$1,$B18),Data!$K$10:$K$1069,0),15),"") | E18: =IFERROR(INDEX(Data!$A$10:$O$1069,MATCH(CONCATENATE($C18,E$1,$B18),Data!$K$10:$K$1069,0),15),"") | F18: =IFERROR(INDEX(Data!$A$10:$O$1069,MATCH(CONCATENATE($C18,F$1,$B18),Data!$K$10:$K$1069,0),15),"") | G18: =IFERROR(INDEX(Data!$A$10:$O$1069,MATCH(CONCATENATE($C18,G$1,$B18),Data!$K$10:$K$1069,0),15),"") | H18: =IFERROR(INDEX(Data!$A$10:$O$1069,MATCH(CONCATENATE($C18,H$1,$B18),Data!$K$10:$K$1069,0),15),"") | I18: =IFERROR(INDEX(Data!$A$10:$O$1069,MATCH(CONCATENATE($C18,I$1,$B18),Data!$K$10:$K$1069,0),15),"") | K18: 15 | L18: (L1T3) C
A19: =COUNTIF($C$1:C19,C19)+1 -> 4 | B19: =VLOOKUP(A19,$K$4:$L$73,2,FALSE) -> (L1T1)A | C19: Tuesday | D19: =IFERROR(INDEX(Data!$A$10:$O$1069,MATCH(CONCATENATE($C19,D$1,$B19),Data!$K$10:$K$1069,0),15),"") | E19: =IFERROR(INDEX(Data!$A$10:$O$1069,MATCH(CONCATENATE($C19,E$1,$B19),Data!$K$10:$K$1069,0),15),"") | F19: =IFERROR(INDEX(Data!$A$10:$O$1069,MATCH(CONCATENATE($C19,F$1,$B19),Data!$K$10:$K$1069,0),15),"") | G19: =IFERROR(INDEX(Data!$A$10:$O$1069,MATCH(CONCATENATE($C19,G$1,$B19),Data!$K$10:$K$1069,0),15),"") | H19: =IFERROR(INDEX(Data!$A$10:$O$1069,MATCH(CONCATENATE($C19,H$1,$B19),Data!$K$10:$K$1069,0),15),"") | I19: =IFERROR(INDEX(Data!$A$10:$O$1069,MATCH(CONCATENATE($C19,I$1,$B19),Data!$K$10:$K$1069,0),15),"") | K19: 16 | L19: (L1T3) D
A20: =COUNTIF($C$1:C20,C20)+1 -> 4 | B20: =VLOOKUP(A20,$K$4:$L$73,2,FALSE) -> (L1T1)A | C20: Wednesday | D20: =IFERROR(INDEX(Data!$A$10:$O$1069,MATCH(CONCATENATE($C20,D$1,$B20),Data!$K$10:$K$1069,0),15),"") | E20: =IFERROR(INDEX(Data!$A$10:$O$1069,MATCH(CONCATENATE($C20,E$1,$B20),Data!$K$10:$K$1069,0),15),"") | F20: =IFERROR(INDEX(Data!$A$10:$O$1069,MATCH(CONCATENATE($C20,F$1,$B20),Data!$K$10:$K$1069,0),15),"") | G20: =IFERROR(INDEX(Data!$A$10:$O$1069,MATCH(CONCATENATE($C20,G$1,$B20),Data!$K$10:$K$1069,0),15),"") | H20: =IFERROR(INDEX(Data!$A$10:$O$1069,MATCH(CONCATENATE($C20,H$1,$B20),Data!$K$10:$K$1069,0),15),"") | I20: =IFERROR(INDEX(Data!$A$10:$O$1069,MATCH(CONCATENATE($C20,I$1,$B20),Data!$K$10:$K$1069,0),15),"") | K20: 17 | L20: (L1T3)A
A21: =COUNTIF($C$1:C21,C21)+1 -> 4 | B21: =VLOOKUP(A21,$K$4:$L$73,2,FALSE) -> (L1T1)A | C21: Thursday | D21: =IFERROR(INDEX(Data!$A$10:$O$1069,MATCH(CONCATENATE($C21,D$1,$B21),Data!$K$10:$K$1069,0),15),"") | E21: =IFERROR(INDEX(Data!$A$10:$O$1069,MATCH(CONCATENATE($C21,E$1,$B21),Data!$K$10:$K$1069,0),15),"") | F21: =IFERROR(INDEX(Data!$A$10:$O$1069,MATCH(CONCATENATE($C21,F$1,$B21),Data!$K$10:$K$1069,0),15),"") | G21: =IFERROR(INDEX(Data!$A$10:$O$1069,MATCH(CONCATENATE($C21,G$1,$B21),Data!$K$10:$K$1069,0),15),"") | H21: =IFERROR(INDEX(Data!$A$10:$O$1069,MATCH(CONCATENATE($C21,H$1,$B21),Data!$K$10:$K$1069,0),15),"") | I21: =IFERROR(INDEX(Data!$A$10:$O$1069,MATCH(CONCATENATE($C21,I$1,$B21),Data!$K$10:$K$1069,0),15),"") | K21: 18 | L21: (L1T3)B
K22: 19 | L22: (L1T3)C
A23: =COUNTIF($C$1:C23,C23)+1 -> 5 | B23: =VLOOKUP(A23,$K$4:$L$73,2,FALSE) -> (L1T1)B | C23: Saturday | D23: =IFERROR(INDEX(Data!$A$10:$O$1069,MATCH(CONCATENATE($C23,D$1,$B23),Data!$K$10:$K$1069,0),15),"") | E23: =IFERROR(INDEX(Data!$A$10:$O$1069,MATCH(CONCATENATE($C23,E$1,$B23),Data!$K$10:$K$1069,0),15),"") | F23: =IFERROR(INDEX(Data!$A$10:$O$1069,MATCH(CONCATENATE($C23,F$1,$B23),Data!$K$10:$K$1069,0),15),"") | G23: =IFERROR(INDEX(Data!$A$10:$O$1069,MATCH(CONCATENATE($C23,G$1,$B23),Data!$K$10:$K$1069,0),15),"") | H23: =IFERROR(INDEX(Data!$A$10:$O$1069,MATCH(CONCATENATE($C23,H$1,$B23),Data!$K$10:$K$1069,0),15),"") | I23: =IFERROR(INDEX(Data!$A$10:$O$1069,MATCH(CONCATENATE($C23,I$1,$B23),Data!$K$10:$K$1069,0),15),"") | K23: 20 | L23: (L1T3)D
A24: =COUNTIF($C$1:C24,C24)+1 -> 5 | B24: =VLOOKUP(A24,$K$4:$L$73,2,FALSE) -> (L1T1)B | C24: Sunday | D24: =IFERROR(INDEX(Data!$A$10:$O$1069,MATCH(CONCATENATE($C24,D$1,$B24),Data!$K$10:$K$1069,0),15),"") | E24: =IFERROR(INDEX(Data!$A$10:$O$1069,MATCH(CONCATENATE($C24,E$1,$B24),Data!$K$10:$K$1069,0),15),"") | F24: =IFERROR(INDEX(Data!$A$10:$O$1069,MATCH(CONCATENATE($C24,F$1,$B24),Data!$K$10:$K$1069,0),15),"") | G24: =IFERROR(INDEX(Data!$A$10:$O$1069,MATCH(CONCATENATE($C24,G$1,$B24),Data!$K$10:$K$1069,0),15),"") | H24: =IFERROR(INDEX(Data!$A$10:$O$1069,MATCH(CONCATENATE($C24,H$1,$B24),Data!$K$10:$K$1069,0),15),"") | I24: =IFERROR(INDEX(Data!$A$10:$O$1069,MATCH(CONCATENATE($C24,I$1,$B24),Data!$K$10:$K$1069,0),15),"") | K24: 21 | L24: (L2T1)A
A25: =COUNTIF($C$1:C25,C25)+1 -> 5 | B25: =VLOOKUP(A25,$K$4:$L$73,2,FALSE) -> (L1T1)B | C25: Monday | D25: =IFERROR(INDEX(Data!$A$10:$O$1069,MATCH(CONCATENATE($C25,D$1,$B25),Data!$K$10:$K$1069,0),15),"") | E25: =IFERROR(INDEX(Data!$A$10:$O$1069,MATCH(CONCATENATE($C25,E$1,$B25),Data!$K$10:$K$1069,0),15),"") | F25: =IFERROR(INDEX(Data!$A$10:$O$1069,MATCH(CONCATENATE($C25,F$1,$B25),Data!$K$10:$K$1069,0),15),"") | G25: =IFERROR(INDEX(Data!$A$10:$O$1069,MATCH(CONCATENATE($C25,G$1,$B25),Data!$K$10:$K$1069,0),15),"") | H25: =IFERROR(INDEX(Data!$A$10:$O$1069,MATCH(CONCATENATE($C25,H$1,$B25),Data!$K$10:$K$1069,0),15),"") | I25: =IFERROR(INDEX(Data!$A$10:$O$1069,MATCH(CONCATENATE($C25,I$1,$B25),Data!$K$10:$K$1069,0),15),"") | K25: 22 | L25: (L2-T1)A
A26: =COUNTIF($C$1:C26,C26)+1 -> 5 | B26: =VLOOKUP(A26,$K$4:$L$73,2,FALSE) -> (L1T1)B | C26: Tuesday | D26: =IFERROR(INDEX(Data!$A$10:$O$1069,MATCH(CONCATENATE($C26,D$1,$B26),Data!$K$10:$K$1069,0),15),"") | E26: =IFERROR(INDEX(Data!$A$10:$O$1069,MATCH(CONCATENATE($C26,E$1,$B26),Data!$K$10:$K$1069,0),15),"") | F26: =IFERROR(INDEX(Data!$A$10:$O$1069,MATCH(CONCATENATE($C26,F$1,$B26),Data!$K$10:$K$1069,0),15),"") | G26: =IFERROR(INDEX(Data!$A$10:$O$1069,MATCH(CONCATENATE($C26,G$1,$B26),Data!$K$10:$K$1069,0),15),"") | H26: =IFERROR(INDEX(Data!$A$10:$O$1069,MATCH(CONCATENATE($C26,H$1,$B26),Data!$K$10:$K$1069,0),15),"") | I26: =IFERROR(INDEX(Data!$A$10:$O$1069,MATCH(CONCATENATE($C26,I$1,$B26),Data!$K$10:$K$1069,0),15),"") | K26: 23 | L26: (L2T1)B
A27: =COUNTIF($C$1:C27,C27)+1 -> 5 | B27: =VLOOKUP(A27,$K$4:$L$73,2,FALSE) -> (L1T1)B | C27: Wednesday | D27: =IFERROR(INDEX(Data!$A$10:$O$1069,MATCH(CONCATENATE($C27,D$1,$B27),Data!$K$10:$K$1069,0),15),"") | E27: =IFERROR(INDEX(Data!$A$10:$O$1069,MATCH(CONCATENATE($C27,E$1,$B27),Data!$K$10:$K$1069,0),15),"") | F27: =IFERROR(INDEX(Data!$A$10:$O$1069,MATCH(CONCATENATE($C27,F$1,$B27),Data!$K$10:$K$1069,0),15),"") | G27: =IFERROR(INDEX(Data!$A$10:$O$1069,MATCH(CONCATENATE($C27,G$1,$B27),Data!$K$10:$K$1069,0),15),"") | H27: =IFERROR(INDEX(Data!$A$10:$O$1069,MATCH(CONCATENATE($C27,H$1,$B27),Data!$K$10:$K$1069,0),15),"") | I27: =IFERROR(INDEX(Data!$A$10:$O$1069,MATCH(CONCATENATE($C27,I$1,$B27),Data!$K$10:$K$1069,0),15),"") | K27: 24 | L27: (L2-T1)B
A28: =COUNTIF($C$1:C28,C28)+1 -> 5 | B28: =VLOOKUP(A28,$K$4:$L$73,2,FALSE) -> (L1T1)B | C28: Thursday | D28: =IFERROR(INDEX(Data!$A$10:$O$1069,MATCH(CONCATENATE($C28,D$1,$B28),Data!$K$10:$K$1069,0),15),"") | E28: =IFERROR(INDEX(Data!$A$10:$O$1069,MATCH(CONCATENATE($C28,E$1,$B28),Data!$K$10:$K$1069,0),15),"") | F28: =IFERROR(INDEX(Data!$A$10:$O$1069,MATCH(CONCATENATE($C28,F$1,$B28),Data!$K$10:$K$1069,0),15),"") | G28: =IFERROR(INDEX(Data!$A$10:$O$1069,MATCH(CONCATENATE($C26,F$1,$B26),Data!$K$10:$K$1069,0),15),"") | H28: =IFERROR(INDEX(Data!$A$10:$O$1069,MATCH(CONCATENATE($C28,H$1,$B28),Data!$K$10:$K$1069,0),15),"") | I28: =IFERROR(INDEX(Data!$A$10:$O$1069,MATCH(CONCATENATE($C28,I$1,$B28),Data!$K$10:$K$1069,0),15),"") | K28: 25 | L28: (L2T1)C
K29: 26 | L29: (L2T1)PC
A30: =COUNTIF($C$1:C30,C30)+1 -> 6 | B30: =VLOOKUP(A30,$K$4:$L$73,2,FALSE) -> (L1T1)C | C30: Saturday | D30: =IFERROR(INDEX(Data!$A$10:$O$1069,MATCH(CONCATENATE($C30,D$1,$B30),Data!$K$10:$K$1069,0),15),"") | E30: =IFERROR(INDEX(Data!$A$10:$O$1069,MATCH(CONCATENATE($C30,E$1,$B30),Data!$K$10:$K$1069,0),15),"") | F30: =IFERROR(INDEX(Data!$A$10:$O$1069,MATCH(CONCATENATE($C30,F$1,$B30),Data!$K$10:$K$1069,0),15),"") | G30: =IFERROR(INDEX(Data!$A$10:$O$1069,MATCH(CONCATENATE($C30,G$1,$B30),Data!$K$10:$K$1069,0),15),"") | H30: =IFERROR(INDEX(Data!$A$10:$O$1069,MATCH(CONCATENATE($C30,H$1,$B30),Data!$K$10:$K$1069,0),15),"") | I30: =IFERROR(INDEX(Data!$A$10:$O$1069,MATCH(CONCATENATE($C30,I$1,$B30),Data!$K$10:$K$1069,0),15),"") | K30: 27 | L30: (L2T2)A
A31: =COUNTIF($C$1:C31,C31)+1 -> 6 | B31: =VLOOKUP(A31,$K$4:$L$73,2,FALSE) -> (L1T1)C | C31: Sunday | D31: =IFERROR(INDEX(Data!$A$10:$O$1069,MATCH(CONCATENATE($C31,D$1,$B31),Data!$K$10:$K$1069,0),15),"") | E31: =IFERROR(INDEX(Data!$A$10:$O$1069,MATCH(CONCATENATE($C31,E$1,$B31),Data!$K$10:$K$1069,0),15),"") | F31: =IFERROR(INDEX(Data!$A$10:$O$1069,MATCH(CONCATENATE($C31,F$1,$B31),Data!$K$10:$K$1069,0),15),"") | G31: =IFERROR(INDEX(Data!$A$10:$O$1069,MATCH(CONCATENATE($C31,G$1,$B31),Data!$K$10:$K$1069,0),15),"") | H31: =IFERROR(INDEX(Data!$A$10:$O$1069,MATCH(CONCATENATE($C31,H$1,$B31),Data!$K$10:$K$1069,0),15),"") | I31: =IFERROR(INDEX(Data!$A$10:$O$1069,MATCH(CONCATENATE($C31,I$1,$B31),Data!$K$10:$K$1069,0),15),"") | K31: 28 | L31: (L2T2)B
A32: =COUNTIF($C$1:C32,C32)+1 -> 6 | B32: =VLOOKUP(A32,$K$4:$L$73,2,FALSE) -> (L1T1)C | C32: Monday | D32: =IFERROR(INDEX(Data!$A$10:$O$1069,MATCH(CONCATENATE($C32,D$1,$B32),Data!$K$10:$K$1069,0),15),"") | E32: =IFERROR(INDEX(Data!$A$10:$O$1069,MATCH(CONCATENATE($C32,E$1,$B32),Data!$K$10:$K$1069,0),15),"") | F32: =IFERROR(INDEX(Data!$A$10:$O$1069,MATCH(CONCATENATE($C32,F$1,$B32),Data!$K$10:$K$1069,0),15),"") | G32: =IFERROR(INDEX(Data!$A$10:$O$1069,MATCH(CONCATENATE($C32,G$1,$B32),Data!$K$10:$K$1069,0),15),"") | H32: =IFERROR(INDEX(Data!$A$10:$O$1069,MATCH(CONCATENATE($C32,H$1,$B32),Data!$K$10:$K$1069,0),15),"") | I32: =IFERROR(INDEX(Data!$A$10:$O$1069,MATCH(CONCATENATE($C32,I$1,$B32),Data!$K$10:$K$1069,0),15),"") | K32: 29 | L32: (L2T2)C
A33: =COUNTIF($C$1:C33,C33)+1 -> 6 | B33: =VLOOKUP(A33,$K$4:$L$73,2,FALSE) -> (L1T1)C | C33: Tuesday | D33: =IFERROR(INDEX(Data!$A$10:$O$1069,MATCH(CONCATENATE($C33,D$1,$B33),Data!$K$10:$K$1069,0),15),"") | E33: =IFERROR(INDEX(Data!$A$10:$O$1069,MATCH(CONCATENATE($C33,E$1,$B33),Data!$K$10:$K$1069,0),15),"") | F33: =IFERROR(INDEX(Data!$A$10:$O$1069,MATCH(CONCATENATE($C33,F$1,$B33),Data!$K$10:$K$1069,0),15),"") | G33: =IFERROR(INDEX(Data!$A$10:$O$1069,MATCH(CONCATENATE($C33,G$1,$B33),Data!$K$10:$K$1069,0),15),"") | H33: =IFERROR(INDEX(Data!$A$10:$O$1069,MATCH(CONCATENATE($C33,H$1,$B33),Data!$K$10:$K$1069,0),15),"") | I33: =IFERROR(INDEX(Data!$A$10:$O$1069,MATCH(CONCATENATE($C33,I$1,$B33),Data!$K$10:$K$1069,0),15),"") | K33: 30 | L33: (L2T3)A
A34: =COUNTIF($C$1:C34,C34)+1 -> 6 | B34: =VLOOKUP(A34,$K$4:$L$73,2,FALSE) -> (L1T1)C | C34: Wednesday | D34: =IFERROR(INDEX(Data!$A$10:$O$1069,MATCH(CONCATENATE($C34,D$1,$B34),Data!$K$10:$K$1069,0),15),"") | E34: =IFERROR(INDEX(Data!$A$10:$O$1069,MATCH(CONCATENATE($C34,E$1,$B34),Data!$K$10:$K$1069,0),15),"") | F34: =IFERROR(INDEX(Data!$A$10:$O$1069,MATCH(CONCATENATE($C34,F$1,$B34),Data!$K$10:$K$1069,0),15),"") | G34: =IFERROR(INDEX(Data!$A$10:$O$1069,MATCH(CONCATENATE($C34,G$1,$B34),Data!$K$10:$K$1069,0),15),"") | H34: =IFERROR(INDEX(Data!$A$10:$O$1069,MATCH(CONCATENATE($C34,H$1,$B34),Data!$K$10:$K$1069,0),15),"") | I34: =IFERROR(INDEX(Data!$A$10:$O$1069,MATCH(CONCATENATE($C34,I$1,$B34),Data!$K$10:$K$1069,0),15),"") | K34: 31 | L34: (L2T3)B
A35: =COUNTIF($C$1:C35,C35)+1 -> 6 | B35: =VLOOKUP(A35,$K$4:$L$73,2,FALSE) -> (L1T1)C | C35: Thursday | D35: =IFERROR(INDEX(Data!$A$10:$O$1069,MATCH(CONCATENATE($C35,D$1,$B35),Data!$K$10:$K$1069,0),15),"") | E35: =IFERROR(INDEX(Data!$A$10:$O$1069,MATCH(CONCATENATE($C35,E$1,$B35),Data!$K$10:$K$1069,0),15),"") | F35: =IFERROR(INDEX(Data!$A$10:$O$1069,MATCH(CONCATENATE($C35,F$1,$B35),Data!$K$10:$K$1069,0),15),"") | G35: =IFERROR(INDEX(Data!$A$10:$O$1069,MATCH(CONCATENATE($C35,G$1,$B35),Data!$K$10:$K$1069,0),15),"") | H35: =IFERROR(INDEX(Data!$A$10:$O$1069,MATCH(CONCATENATE($C35,H$1,$B35),Data!$K$10:$K$1069,0),15),"") | I35: =IFERROR(INDEX(Data!$A$10:$O$1069,MATCH(CONCATENATE($C35,I$1,$B35),Data!$K$10:$K$1069,0),15),"") | K35: 32 | L35: (L3T1) A
K36: 33 | L36: (L3T1) B
A37: =COUNTIF($C$1:C37,C37)+1 -> 7 | B37: =VLOOKUP(A37,$K$4:$L$73,2,FALSE) -> (L1T1)D | C37: Saturday | D37: =IFERROR(INDEX(Data!$A$10:$O$1069,MATCH(CONCATENATE($C37,D$1,$B37),Data!$K$10:$K$1069,0),15),"") | E37: =IFERROR(INDEX(Data!$A$10:$O$1069,MATCH(CONCATENATE($C37,E$1,$B37),Data!$K$10:$K$1069,0),15),"") | F37: =IFERROR(INDEX(Data!$A$10:$O$1069,MATCH(CONCATENATE($C37,F$1,$B37),Data!$K$10:$K$1069,0),15),"") | G37: =IFERROR(INDEX(Data!$A$10:$O$1069,MATCH(CONCATENATE($C37,G$1,$B37),Data!$K$10:$K$1069,0),15),"") | H37: =IFERROR(INDEX(Data!$A$10:$O$1069,MATCH(CONCATENATE($C37,H$1,$B37),Data!$K$10:$K$1069,0),15),"") | I37: =IFERROR(INDEX(Data!$A$10:$O$1069,MATCH(CONCATENATE($C37,I$1,$B37),Data!$K$10:$K$1069,0),15),"") | K37: 34 | L37: (L3T1)(A)
A38: 7 | B38: =VLOOKUP(A38,$K$4:$L$73,2,FALSE) -> (L1T1)D | C38: Sunday | D38: =IFERROR(INDEX(Data!$A$10:$O$1069,MATCH(CONCATENATE($C38,D$1,$B38),Data!$K$10:$K$1069,0),15),"") | E38: =IFERROR(INDEX(Data!$A$10:$O$1069,MATCH(CONCATENATE($C38,E$1,$B38),Data!$K$10:$K$1069,0),15),"") | F38: =IFERROR(INDEX(Data!$A$10:$O$1069,MATCH(CONCATENATE($C38,F$1,$B38),Data!$K$10:$K$1069,0),15),"") | G38: =IFERROR(INDEX(Data!$A$10:$O$1069,MATCH(CONCATENATE($C38,G$1,$B38),Data!$K$10:$K$1069,0),15),"") | H38: =IFERROR(INDEX(Data!$A$10:$O$1069,MATCH(CONCATENATE($C38,H$1,$B38),Data!$K$10:$K$1069,0),15),"") | I38: =IFERROR(INDEX(Data!$A$10:$O$1069,MATCH(CONCATENATE($C38,I$1,$B38),Data!$K$10:$K$1069,0),15),"") | K38: 35 | L38: (L3T1)A
A39: =COUNTIF($C$1:C39,C39)+1 -> 7 | B39: =VLOOKUP(A39,$K$4:$L$73,2,FALSE) -> (L1T1)D | C39: Monday | D39: =IFERROR(INDEX(Data!$A$10:$O$1069,MATCH(CONCATENATE($C39,D$1,$B39),Data!$K$10:$K$1069,0),15),"") | E39: =IFERROR(INDEX(Data!$A$10:$O$1069,MATCH(CONCATENATE($C39,E$1,$B39),Data!$K$10:$K$1069,0),15),"") | F39: =IFERROR(INDEX(Data!$A$10:$O$1069,MATCH(CONCATENATE($C39,F$1,$B39),Data!$K$10:$K$1069,0),15),"") | G39: =IFERROR(INDEX(Data!$A$10:$O$1069,MATCH(CONCATENATE($C39,G$1,$B39),Data!$K$10:$K$1069,0),15),"") | H39: =IFERROR(INDEX(Data!$A$10:$O$1069,MATCH(CONCATENATE($C39,H$1,$B39),Data!$K$10:$K$1069,0),15),"") | I39: =IFERROR(INDEX(Data!$A$10:$O$1069,MATCH(CONCATENATE($C39,I$1,$B39),Data!$K$10:$K$1069,0),15),"") | K39: 36 | L39: (L3T1)B
A40: =COUNTIF($C$1:C40,C40)+1 -> 7 | B40: =VLOOKUP(A40,$K$4:$L$73,2,FALSE) -> (L1T1)D | C40: Tuesday | D40: =IFERROR(INDEX(Data!$A$10:$O$1069,MATCH(CONCATENATE($C40,D$1,$B40),Data!$K$10:$K$1069,0),15),"") | E40: =IFERROR(INDEX(Data!$A$10:$O$1069,MATCH(CONCATENATE($C40,E$1,$B40),Data!$K$10:$K$1069,0),15),"") | F40: =IFERROR(INDEX(Data!$A$10:$O$1069,MATCH(CONCATENATE($C40,F$1,$B40),Data!$K$10:$K$1069,0),15),"") | G40: =IFERROR(INDEX(Data!$A$10:$O$1069,MATCH(CONCATENATE($C40,G$1,$B40),Data!$K$10:$K$1069,0),15),"") | H40: =IFERROR(INDEX(Data!$A$10:$O$1069,MATCH(CONCATENATE($C40,H$1,$B40),Data!$K$10:$K$1069,0),15),"") | I40: =IFERROR(INDEX(Data!$A$10:$O$1069,MATCH(CONCATENATE($C40,I$1,$B40),Data!$K$10:$K$1069,0),15),"") | K40: 37 | L40: (L3T1)PC
A41: =COUNTIF($C$1:C41,C41)+1 -> 7 | B41: =VLOOKUP(A41,$K$4:$L$73,2,FALSE) -> (L1T1)D | C41: Wednesday | D41: =IFERROR(INDEX(Data!$A$10:$O$1069,MATCH(CONCATENATE($C41,D$1,$B41),Data!$K$10:$K$1069,0),15),"") | E41: =IFERROR(INDEX(Data!$A$10:$O$1069,MATCH(CONCATENATE($C41,E$1,$B41),Data!$K$10:$K$1069,0),15),"") | F41: =IFERROR(INDEX(Data!$A$10:$O$1069,MATCH(CONCATENATE($C41,F$1,$B41),Data!$K$10:$K$1069,0),15),"") | G41: =IFERROR(INDEX(Data!$A$10:$O$1069,MATCH(CONCATENATE($C41,G$1,$B41),Data!$K$10:$K$1069,0),15),"") | H41: =IFERROR(INDEX(Data!$A$10:$O$1069,MATCH(CONCATENATE($C41,H$1,$B41),Data!$K$10:$K$1069,0),15),"") | I41: =IFERROR(INDEX(Data!$A$10:$O$1069,MATCH(CONCATENATE($C41,I$1,$B41),Data!$K$10:$K$1069,0),15),"") | K41: 38 | L41: (L3T2(C)
A42: =COUNTIF($C$1:C42,C42)+1 -> 7 | B42: =VLOOKUP(A42,$K$4:$L$73,2,FALSE) -> (L1T1)D | C42: Thursday | D42: =IFERROR(INDEX(Data!$A$10:$O$1069,MATCH(CONCATENATE($C42,D$1,$B42),Data!$K$10:$K$1069,0),15),"") | E42: =IFERROR(INDEX(Data!$A$10:$O$1069,MATCH(CONCATENATE($C42,E$1,$B42),Data!$K$10:$K$1069,0),15),"") | F42: =IFERROR(INDEX(Data!$A$10:$O$1069,MATCH(CONCATENATE($C42,F$1,$B42),Data!$K$10:$K$1069,0),15),"") | G42: =IFERROR(INDEX(Data!$A$10:$O$1069,MATCH(CONCATENATE($C42,G$1,$B42),Data!$K$10:$K$1069,0),15),"") | H42: =IFERROR(INDEX(Data!$A$10:$O$1069,MATCH(CONCATENATE($C42,H$1,$B42),Data!$K$10:$K$1069,0),15),"") | I42: =IFERROR(INDEX(Data!$A$10:$O$1069,MATCH(CONCATENATE($C42,I$1,$B42),Data!$K$10:$K$1069,0),15),"") | K42: 39 | L42: (L3T2) A
K43: 40 | L43: (L3T2) B
A44: =COUNTIF($C$1:C44,C44)+1 -> 8 | B44: =VLOOKUP(A44,$K$4:$L$73,2,FALSE) -> (L1T2)A | C44: Saturday | D44: =IFERROR(INDEX(Data!$A$10:$O$1069,MATCH(CONCATENATE($C44,D$1,$B44),Data!$K$10:$K$1069,0),15),"") | E44: =IFERROR(INDEX(Data!$A$10:$O$1069,MATCH(CONCATENATE($C44,E$1,$B44),Data!$K$10:$K$1069,0),15),"") | F44: =IFERROR(INDEX(Data!$A$10:$O$1069,MATCH(CONCATENATE($C44,F$1,$B44),Data!$K$10:$K$1069,0),15),"") | G44: =IFERROR(INDEX(Data!$A$10:$O$1069,MATCH(CONCATENATE($C44,G$1,$B44),Data!$K$10:$K$1069,0),15),"") | H44: =IFERROR(INDEX(Data!$A$10:$O$1069,MATCH(CONCATENATE($C44,H$1,$B44),Data!$K$10:$K$1069,0),15),"") | I44: =IFERROR(INDEX(Data!$A$10:$O$1069,MATCH(CONCATENATE($C44,I$1,$B44),Data!$K$10:$K$1069,0),15),"") | K44: 41 | L44: (L3T2)A
A45: =COUNTIF($C$1:C45,C45)+1 -> 8 | B45: =VLOOKUP(A45,$K$4:$L$73,2,FALSE) -> (L1T2)A | C45: Sunday | D45: =IFERROR(INDEX(Data!$A$10:$O$1069,MATCH(CONCATENATE($C45,D$1,$B45),Data!$K$10:$K$1069,0),15),"") | E45: =IFERROR(INDEX(Data!$A$10:$O$1069,MATCH(CONCATENATE($C45,E$1,$B45),Data!$K$10:$K$1069,0),15),"") | F45: =IFERROR(INDEX(Data!$A$10:$O$1069,MATCH(CONCATENATE($C45,F$1,$B45),Data!$K$10:$K$1069,0),15),"") | G45: =IFERROR(INDEX(Data!$A$10:$O$1069,MATCH(CONCATENATE($C45,G$1,$B45),Data!$K$10:$K$1069,0),15),"") | H45: =IFERROR(INDEX(Data!$A$10:$O$1069,MATCH(CONCATENATE($C45,H$1,$B45),Data!$K$10:$K$1069,0),15),"") | I45: =IFERROR(INDEX(Data!$A$10:$O$1069,MATCH(CONCATENATE($C45,I$1,$B45),Data!$K$10:$K$1069,0),15),"") | K45: 42 | L45: (L3T2)B
A46: =COUNTIF($C$1:C46,C46)+1 -> 8 | B46: =VLOOKUP(A46,$K$4:$L$73,2,FALSE) -> (L1T2)A | C46: Monday | D46: =IFERROR(INDEX(Data!$A$10:$O$1069,MATCH(CONCATENATE($C46,D$1,$B46),Data!$K$10:$K$1069,0),15),"") | E46: =IFERROR(INDEX(Data!$A$10:$O$1069,MATCH(CONCATENATE($C46,E$1,$B46),Data!$K$10:$K$1069,0),15),"") | F46: =IFERROR(INDEX(Data!$A$10:$O$1069,MATCH(CONCATENATE($C46,F$1,$B46),Data!$K$10:$K$1069,0),15),"") | G46: =IFERROR(INDEX(Data!$A$10:$O$1069,MATCH(CONCATENATE($C46,G$1,$B46),Data!$K$10:$K$1069,0),15),"") | H46: =IFERROR(INDEX(Data!$A$10:$O$1069,MATCH(CONCATENATE($C46,H$1,$B46),Data!$K$10:$K$1069,0),15),"") | I46: =IFERROR(INDEX(Data!$A$10:$O$1069,MATCH(CONCATENATE($C46,I$1,$B46),Data!$K$10:$K$1069,0),15),"") | K46: 43 | L46: (L3T2)C
A47: =COUNTIF($C$1:C47,C47)+1 -> 8 | B47: =VLOOKUP(A47,$K$4:$L$73,2,FALSE) -> (L1T2)A | C47: Tuesday | D47: =IFERROR(INDEX(Data!$A$10:$O$1069,MATCH(CONCATENATE($C47,D$1,$B47),Data!$K$10:$K$1069,0),15),"") | E47: =IFERROR(INDEX(Data!$A$10:$O$1069,MATCH(CONCATENATE($C47,E$1,$B47),Data!$K$10:$K$1069,0),15),"") | F47: =IFERROR(INDEX(Data!$A$10:$O$1069,MATCH(CONCATENATE($C47,F$1,$B47),Data!$K$10:$K$1069,0),15),"") | G47: =IFERROR(INDEX(Data!$A$10:$O$1069,MATCH(CONCATENATE($C47,G$1,$B47),Data!$K$10:$K$1069,0),15),"") | H47: =IFERROR(INDEX(Data!$A$10:$O$1069,MATCH(CONCATENATE($C47,H$1,$B47),Data!$K$10:$K$1069,0),15),"") | I47: =IFERROR(INDEX(Data!$A$10:$O$1069,MATCH(CONCATENATE($C47,I$1,$B47),Data!$K$10:$K$1069,0),15),"") | K47: 44 | L47: (L3T2)D
A48: =COUNTIF($C$1:C48,C48)+1 -> 8 | B48: =VLOOKUP(A48,$K$4:$L$73,2,FALSE) -> (L1T2)A | C48: Wednesday | D48: =IFERROR(INDEX(Data!$A$10:$O$1069,MATCH(CONCATENATE($C48,D$1,$B48),Data!$K$10:$K$1069,0),15),"") | E48: =IFERROR(INDEX(Data!$A$10:$O$1069,MATCH(CONCATENATE($C48,E$1,$B48),Data!$K$10:$K$1069,0),15),"") | F48: =IFERROR(INDEX(Data!$A$10:$O$1069,MATCH(CONCATENATE($C48,F$1,$B48),Data!$K$10:$K$1069,0),15),"") | G48: =IFERROR(INDEX(Data!$A$10:$O$1069,MATCH(CONCATENATE($C48,G$1,$B48),Data!$K$10:$K$1069,0),15),"") | H48: =IFERROR(INDEX(Data!$A$10:$O$1069,MATCH(CONCATENATE($C48,H$1,$B48),Data!$K$10:$K$1069,0),15),"") | I48: =IFERROR(INDEX(Data!$A$10:$O$1069,MATCH(CONCATENATE($C48,I$1,$B48),Data!$K$10:$K$1069,0),15),"") | K48: 45 | L48: (L3T3)A
A49: =COUNTIF($C$1:C49,C49)+1 -> 8 | B49: =VLOOKUP(A49,$K$4:$L$73,2,FALSE) -> (L1T2)A | C49: Thursday | D49: =IFERROR(INDEX(Data!$A$10:$O$1069,MATCH(CONCATENATE($C49,D$1,$B49),Data!$K$10:$K$1069,0),15),"") | E49: =IFERROR(INDEX(Data!$A$10:$O$1069,MATCH(CONCATENATE($C49,E$1,$B49),Data!$K$10:$K$1069,0),15),"") | F49: =IFERROR(INDEX(Data!$A$10:$O$1069,MATCH(CONCATENATE($C49,F$1,$B49),Data!$K$10:$K$1069,0),15),"") | G49: =IFERROR(INDEX(Data!$A$10:$O$1069,MATCH(CONCATENATE($C49,G$1,$B49),Data!$K$10:$K$1069,0),15),"") | H49: =IFERROR(INDEX(Data!$A$10:$O$1069,MATCH(CONCATENATE($C49,H$1,$B49),Data!$K$10:$K$1069,0),15),"") | I49: =IFERROR(INDEX(Data!$A$10:$O$1069,MATCH(CONCATENATE($C49,I$1,$B49),Data!$K$10:$K$1069,0),15),"") | K49: 46 | L49: (L3T3)B
K50: 47 | L50: (L3T3)C
A51: =COUNTIF($C$1:C51,C51)+1 -> 9 | B51: =VLOOKUP(A51,$K$4:$L$73,2,FALSE) -> (L1T2)B | C51: Saturday | D51: =IFERROR(INDEX(Data!$A$10:$O$1069,MATCH(CONCATENATE($C51,D$1,$B51),Data!$K$10:$K$1069,0),15),"") | E51: =IFERROR(INDEX(Data!$A$10:$O$1069,MATCH(CONCATENATE($C51,E$1,$B51),Data!$K$10:$K$1069,0),15),"") | F51: =IFERROR(INDEX(Data!$A$10:$O$1069,MATCH(CONCATENATE($C51,F$1,$B51),Data!$K$10:$K$1069,0),15),"") | G51: =IFERROR(INDEX(Data!$A$10:$O$1069,MATCH(CONCATENATE($C51,G$1,$B51),Data!$K$10:$K$1069,0),15),"") | H51: =IFERROR(INDEX(Data!$A$10:$O$1069,MATCH(CONCATENATE($C51,H$1,$B51),Data!$K$10:$K$1069,0),15),"") | I51: =IFERROR(INDEX(Data!$A$10:$O$1069,MATCH(CONCATENATE($C51,I$1,$B51),Data!$K$10:$K$1069,0),15),"") | K51: 48 | L51: (L3T3)D
A52: =COUNTIF($C$1:C52,C52)+1 -> 9 | B52: =VLOOKUP(A52,$K$4:$L$73,2,FALSE) -> (L1T2)B | C52: Sunday | D52: =IFERROR(INDEX(Data!$A$10:$O$1069,MATCH(CONCATENATE($C52,D$1,$B52),Data!$K$10:$K$1069,0),15),"") | E52: =IFERROR(INDEX(Data!$A$10:$O$1069,MATCH(CONCATENATE($C52,E$1,$B52),Data!$K$10:$K$1069,0),15),"") | F52: =IFERROR(INDEX(Data!$A$10:$O$1069,MATCH(CONCATENATE($C52,F$1,$B52),Data!$K$10:$K$1069,0),15),"") | G52: =IFERROR(INDEX(Data!$A$10:$O$1069,MATCH(CONCATENATE($C52,G$1,$B52),Data!$K$10:$K$1069,0),15),"") | H52: =IFERROR(INDEX(Data!$A$10:$O$1069,MATCH(CONCATENATE($C52,H$1,$B52),Data!$K$10:$K$1069,0),15),"") | I52: =IFERROR(INDEX(Data!$A$10:$O$1069,MATCH(CONCATENATE($C52,I$1,$B52),Data!$K$10:$K$1069,0),15),"") | K52: 49 | L52: (L4T1)
A53: =COUNTIF($C$1:C53,C53)+1 -> 9 | B53: =VLOOKUP(A53,$K$4:$L$73,2,FALSE) -> (L1T2)B | C53: Monday | D53: =IFERROR(INDEX(Data!$A$10:$O$1069,MATCH(CONCATENATE($C53,D$1,$B53),Data!$K$10:$K$1069,0),15),"") | E53: =IFERROR(INDEX(Data!$A$10:$O$1069,MATCH(CONCATENATE($C53,E$1,$B53),Data!$K$10:$K$1069,0),15),"") | F53: =IFERROR(INDEX(Data!$A$10:$O$1069,MATCH(CONCATENATE($C53,F$1,$B53),Data!$K$10:$K$1069,0),15),"") | G53: =IFERROR(INDEX(Data!$A$10:$O$1069,MATCH(CONCATENATE($C53,G$1,$B53),Data!$K$10:$K$1069,0),15),"") | H53: =IFERROR(INDEX(Data!$A$10:$O$1069,MATCH(CONCATENATE($C53,H$1,$B53),Data!$K$10:$K$1069,0),15),"") | I53: =IFERROR(INDEX(Data!$A$10:$O$1069,MATCH(CONCATENATE($C53,I$1,$B53),Data!$K$10:$K$1069,0),15),"") | K53: 50 | L53: (L4T1)A
A54: =COUNTIF($C$1:C54,C54)+1 -> 9 | B54: =VLOOKUP(A54,$K$4:$L$73,2,FALSE) -> (L1T2)B | C54: Tuesday | D54: =IFERROR(INDEX(Data!$A$10:$O$1069,MATCH(CONCATENATE($C54,D$1,$B54),Data!$K$10:$K$1069,0),15),"") | E54: =IFERROR(INDEX(Data!$A$10:$O$1069,MATCH(CONCATENATE($C54,E$1,$B54),Data!$K$10:$K$1069,0),15),"") | F54: =IFERROR(INDEX(Data!$A$10:$O$1069,MATCH(CONCATENATE($C54,F$1,$B54),Data!$K$10:$K$1069,0),15),"") | G54: =IFERROR(INDEX(Data!$A$10:$O$1069,MATCH(CONCATENATE($C54,G$1,$B54),Data!$K$10:$K$1069,0),15),"") | H54: =IFERROR(INDEX(Data!$A$10:$O$1069,MATCH(CONCATENATE($C54,H$1,$B54),Data!$K$10:$K$1069,0),15),"") | I54: =IFERROR(INDEX(Data!$A$10:$O$1069,MATCH(CONCATENATE($C54,I$1,$B54),Data!$K$10:$K$1069,0),15),"") | K54: 51 | L54: (L4T1)B
A55: =COUNTIF($C$1:C55,C55)+1 -> 9 | B55: =VLOOKUP(A55,$K$4:$L$73,2,FALSE) -> (L1T2)B | C55: Wednesday | D55: =IFERROR(INDEX(Data!$A$10:$O$1069,MATCH(CONCATENATE($C55,D$1,$B55),Data!$K$10:$K$1069,0),15),"") | E55: =IFERROR(INDEX(Data!$A$10:$O$1069,MATCH(CONCATENATE($C55,E$1,$B55),Data!$K$10:$K$1069,0),15),"") | F55: =IFERROR(INDEX(Data!$A$10:$O$1069,MATCH(CONCATENATE($C55,F$1,$B55),Data!$K$10:$K$1069,0),15),"") | G55: =IFERROR(INDEX(Data!$A$10:$O$1069,MATCH(CONCATENATE($C55,G$1,$B55),Data!$K$10:$K$1069,0),15),"") | H55: =IFERROR(INDEX(Data!$A$10:$O$1069,MATCH(CONCATENATE($C55,H$1,$B55),Data!$K$10:$K$1069,0),15),"") | I55: =IFERROR(INDEX(Data!$A$10:$O$1069,MATCH(CONCATENATE($C55,I$1,$B55),Data!$K$10:$K$1069,0),15),"") | K55: 52 | L55: (L4T2)
A56: =COUNTIF($C$1:C56,C56)+1 -> 9 | B56: =VLOOKUP(A56,$K$4:$L$73,2,FALSE) -> (L1T2)B | C56: Thursday | D56: =IFERROR(INDEX(Data!$A$10:$O$1069,MATCH(CONCATENATE($C56,D$1,$B56),Data!$K$10:$K$1069,0),15),"") | E56: =IFERROR(INDEX(Data!$A$10:$O$1069,MATCH(CONCATENATE($C56,E$1,$B56),Data!$K$10:$K$1069,0),15),"") | F56: =IFERROR(INDEX(Data!$A$10:$O$1069,MATCH(CONCATENATE($C56,F$1,$B56),Data!$K$10:$K$1069,0),15),"") | G56: =IFERROR(INDEX(Data!$A$10:$O$1069,MATCH(CONCATENATE($C56,G$1,$B56),Data!$K$10:$K$1069,0),15),"") | H56: =IFERROR(INDEX(Data!$A$10:$O$1069,MATCH(CONCATENATE($C56,H$1,$B56),Data!$K$10:$K$1069,0),15),"") | I56: =IFERROR(INDEX(Data!$A$10:$O$1069,MATCH(CONCATENATE($C56,I$1,$B56),Data!$K$10:$K$1069,0),15),"") | K56: 53 | L56: (L4T2)A
K57: 54 | L57: (L4T2)B
A58: =COUNTIF($C$1:C58,C58)+1 -> 10 | B58: =VLOOKUP(A58,$K$4:$L$73,2,FALSE) -> (L1T2)C | C58: Saturday | D58: =IFERROR(INDEX(Data!$A$10:$O$1069,MATCH(CONCATENATE($C58,D$1,$B58),Data!$K$10:$K$1069,0),15),"") | E58: =IFERROR(INDEX(Data!$A$10:$O$1069,MATCH(CONCATENATE($C58,E$1,$B58),Data!$K$10:$K$1069,0),15),"") | F58: =IFERROR(INDEX(Data!$A$10:$O$1069,MATCH(CONCATENATE($C58,F$1,$B58),Data!$K$10:$K$1069,0),15),"") | G58: =IFERROR(INDEX(Data!$A$10:$O$1069,MATCH(CONCATENATE($C58,G$1,$B58),Data!$K$10:$K$1069,0),15),"") | H58: =IFERROR(INDEX(Data!$A$10:$O$1069,MATCH(CONCATENATE($C58,H$1,$B58),Data!$K$10:$K$1069,0),15),"") | I58: =IFERROR(INDEX(Data!$A$10:$O$1069,MATCH(CONCATENATE($C58,I$1,$B58),Data!$K$10:$K$1069,0),15),"") | K58: 55 | L58: DIC
A59: =COUNTIF($C$1:C59,C59)+1 -> 10 | B59: =VLOOKUP(A59,$K$4:$L$73,2,FALSE) -> (L1T2)C | C59: Sunday | D59: =IFERROR(INDEX(Data!$A$10:$O$1069,MATCH(CONCATENATE($C59,D$1,$B59),Data!$K$10:$K$1069,0),15),"") | E59: =IFERROR(INDEX(Data!$A$10:$O$1069,MATCH(CONCATENATE($C59,E$1,$B59),Data!$K$10:$K$1069,0),15),"") | F59: =IFERROR(INDEX(Data!$A$10:$O$1069,MATCH(CONCATENATE($C59,F$1,$B59),Data!$K$10:$K$1069,0),15),"") | G59: =IFERROR(INDEX(Data!$A$10:$O$1069,MATCH(CONCATENATE($C59,G$1,$B59),Data!$K$10:$K$1069,0),15),"") | H59: =IFERROR(INDEX(Data!$A$10:$O$1069,MATCH(CONCATENATE($C59,H$1,$B59),Data!$K$10:$K$1069,0),15),"") | I59: =IFERROR(INDEX(Data!$A$10:$O$1069,MATCH(CONCATENATE($C59,I$1,$B59),Data!$K$10:$K$1069,0),15),"") | K59: 56 | L59: ETE
A60: =COUNTIF($C$1:C60,C60)+1 -> 10 | B60: =VLOOKUP(A60,$K$4:$L$73,2,FALSE) -> (L1T2)C | C60: Monday | D60: =IFERROR(INDEX(Data!$A$10:$O$1069,MATCH(CONCATENATE($C60,D$1,$B60),Data!$K$10:$K$1069,0),15),"") | E60: =IFERROR(INDEX(Data!$A$10:$O$1069,MATCH(CONCATENATE($C60,E$1,$B60),Data!$K$10:$K$1069,0),15),"") | F60: =IFERROR(INDEX(Data!$A$10:$O$1069,MATCH(CONCATENATE($C60,F$1,$B60),Data!$K$10:$K$1069,0),15),"") | G60: =IFERROR(INDEX(Data!$A$10:$O$1069,MATCH(CONCATENATE($C60,G$1,$B60),Data!$K$10:$K$1069,0),15),"") | H60: =IFERROR(INDEX(Data!$A$10:$O$1069,MATCH(CONCATENATE($C60,H$1,$B60),Data!$K$10:$K$1069,0),15),"") | I60: =IFERROR(INDEX(Data!$A$10:$O$1069,MATCH(CONCATENATE($C60,I$1,$B60),Data!$K$10:$K$1069,0),15),"") | K60: 57 | L60: MRC
A61: =COUNTIF($C$1:C61,C61)+1 -> 10 | B61: =VLOOKUP(A61,$K$4:$L$73,2,FALSE) -> (L1T2)C | C61: Tuesday | D61: =IFERROR(INDEX(Data!$A$10:$O$1069,MATCH(CONCATENATE($C61,D$1,$B61),Data!$K$10:$K$1069,0),15),"") | E61: =IFERROR(INDEX(Data!$A$10:$O$1069,MATCH(CONCATENATE($C61,E$1,$B61),Data!$K$10:$K$1069,0),15),"") | F61: =IFERROR(INDEX(Data!$A$10:$O$1069,MATCH(CONCATENATE($C61,F$1,$B61),Data!$K$10:$K$1069,0),15),"") | G61: =IFERROR(INDEX(Data!$A$10:$O$1069,MATCH(CONCATENATE($C61,G$1,$B61),Data!$K$10:$K$1069,0),15),"") | H61: =IFERROR(INDEX(Data!$A$10:$O$1069,MATCH(CONCATENATE($C61,H$1,$B61),Data!$K$10:$K$1069,0),15),"") | I61: =IFERROR(INDEX(Data!$A$10:$O$1069,MATCH(CONCATENATE($C61,I$1,$B61),Data!$K$10:$K$1069,0),15),"") | K61: 58 | L61: PC
A62: =COUNTIF($C$1:C62,C62)+1 -> 10 | B62: =VLOOKUP(A62,$K$4:$L$73,2,FALSE) -> (L1T2)C | C62: Wednesday | D62: =IFERROR(INDEX(Data!$A$10:$O$1069,MATCH(CONCATENATE($C62,D$1,$B62),Data!$K$10:$K$1069,0),15),"") | E62: =IFERROR(INDEX(Data!$A$10:$O$1069,MATCH(CONCATENATE($C62,E$1,$B62),Data!$K$10:$K$1069,0),15),"") | F62: =IFERROR(INDEX(Data!$A$10:$O$1069,MATCH(CONCATENATE($C62,F$1,$B62),Data!$K$10:$K$1069,0),15),"") | G62: =IFERROR(INDEX(Data!$A$10:$O$1069,MATCH(CONCATENATE($C62,G$1,$B62),Data!$K$10:$K$1069,0),15),"") | H62: =IFERROR(INDEX(Data!$A$10:$O$1069,MATCH(CONCATENATE($C62,H$1,$B62),Data!$K$10:$K$1069,0),15),"") | I62: =IFERROR(INDEX(Data!$A$10:$O$1069,MATCH(CONCATENATE($C62,I$1,$B62),Data!$K$10:$K$1069,0),15),"") | K62: 59 | L62: TE426L4T2)
A63: =COUNTIF($C$1:C63,C63)+1 -> 10 | B63: =VLOOKUP(A63,$K$4:$L$73,2,FALSE) -> (L1T2)C | C63: Thursday | D63: =IFERROR(INDEX(Data!$A$10:$O$1069,MATCH(CONCATENATE($C63,D$1,$B63),Data!$K$10:$K$1069,0),15),"") | E63: =IFERROR(INDEX(Data!$A$10:$O$1069,MATCH(CONCATENATE($C63,E$1,$B63),Data!$K$10:$K$1069,0),15),"") | F63: =IFERROR(INDEX(Data!$A$10:$O$1069,MATCH(CONCATENATE($C63,F$1,$B63),Data!$K$10:$K$1069,0),15),"") | G63: =IFERROR(INDEX(Data!$A$10:$O$1069,MATCH(CONCATENATE($C63,G$1,$B63),Data!$K$10:$K$1069,0),15),"") | H63: =IFERROR(INDEX(Data!$A$10:$O$1069,MATCH(CONCATENATE($C63,H$1,$B63),Data!$K$10:$K$1069,0),15),"") | I63: =IFERROR(INDEX(Data!$A$10:$O$1069,MATCH(CONCATENATE($C63,I$1,$B63),Data!$K$10:$K$1069,0),15),"") | K63: 60 | L63: UC
K64: 61 | L64: xxxxxxxx
A65: =COUNTIF($C$1:C65,C65)+1 -> 11 | B65: =VLOOKUP(A65,$K$4:$L$73,2,FALSE) -> (L1T2)D | C65: Saturday | D65: =IFERROR(INDEX(Data!$A$10:$O$1069,MATCH(CONCATENATE($C65,D$1,$B65),Data!$K$10:$K$1069,0),15),"") | E65: =IFERROR(INDEX(Data!$A$10:$O$1069,MATCH(CONCATENATE($C65,E$1,$B65),Data!$K$10:$K$1069,0),15),"") | F65: =IFERROR(INDEX(Data!$A$10:$O$1069,MATCH(CONCATENATE($C65,F$1,$B65),Data!$K$10:$K$1069,0),15),"") | G65: =IFERROR(INDEX(Data!$A$10:$O$1069,MATCH(CONCATENATE($C65,G$1,$B65),Data!$K$10:$K$1069,0),15),"") | H65: =IFERROR(INDEX(Data!$A$10:$O$1069,MATCH(CONCATENATE($C65,H$1,$B65),Data!$K$10:$K$1069,0),15),"") | I65: =IFERROR(INDEX(Data!$A$10:$O$1069,MATCH(CONCATENATE($C65,I$1,$B65),Data!$K$10:$K$1069,0),15),"") | K65: 62 | L65: (L4T1)C
A66: =COUNTIF($C$1:C66,C66)+1 -> 11 | B66: =VLOOKUP(A66,$K$4:$L$73,2,FALSE) -> (L1T2)D | C66: Sunday | D66: =IFERROR(INDEX(Data!$A$10:$O$1069,MATCH(CONCATENATE($C66,D$1,$B66),Data!$K$10:$K$1069,0),15),"") | E66: =IFERROR(INDEX(Data!$A$10:$O$1069,MATCH(CONCATENATE($C66,E$1,$B66),Data!$K$10:$K$1069,0),15),"") | F66: =IFERROR(INDEX(Data!$A$10:$O$1069,MATCH(CONCATENATE($C66,F$1,$B66),Data!$K$10:$K$1069,0),15),"") | G66: =IFERROR(INDEX(Data!$A$10:$O$1069,MATCH(CONCATENATE($C66,G$1,$B66),Data!$K$10:$K$1069,0),15),"") | H66: =IFERROR(INDEX(Data!$A$10:$O$1069,MATCH(CONCATENATE($C66,H$1,$B66),Data!$K$10:$K$1069,0),15),"") | I66: =IFERROR(INDEX(Data!$A$10:$O$1069,MATCH(CONCATENATE($C66,I$1,$B66),Data!$K$10:$K$1069,0),15),"") | K66: 63 | L66: (L4T1)D
A67: =COUNTIF($C$1:C67,C67)+1 -> 11 | B67: =VLOOKUP(A67,$K$4:$L$73,2,FALSE) -> (L1T2)D | C67: Monday | D67: =IFERROR(INDEX(Data!$A$10:$O$1069,MATCH(CONCATENATE($C67,D$1,$B67),Data!$K$10:$K$1069,0),15),"") | E67: =IFERROR(INDEX(Data!$A$10:$O$1069,MATCH(CONCATENATE($C67,E$1,$B67),Data!$K$10:$K$1069,0),15),"") | F67: =IFERROR(INDEX(Data!$A$10:$O$1069,MATCH(CONCATENATE($C67,F$1,$B67),Data!$K$10:$K$1069,0),15),"") | G67: =IFERROR(INDEX(Data!$A$10:$O$1069,MATCH(CONCATENATE($C67,G$1,$B67),Data!$K$10:$K$1069,0),15),"") | H67: =IFERROR(INDEX(Data!$A$10:$O$1069,MATCH(CONCATENATE($C67,H$1,$B67),Data!$K$10:$K$1069,0),15),"") | I67: =IFERROR(INDEX(Data!$A$10:$O$1069,MATCH(CONCATENATE($C67,I$1,$B67),Data!$K$10:$K$1069,0),15),"") | K67: 64 | L67: YM-1 UC
A68: =COUNTIF($C$1:C68,C68)+1 -> 11 | B68: =VLOOKUP(A68,$K$4:$L$73,2,FALSE) -> (L1T2)D | C68: Tuesday | D68: =IFERROR(INDEX(Data!$A$10:$O$1069,MATCH(CONCATENATE($C68,D$1,$B68),Data!$K$10:$K$1069,0),15),"") | E68: =IFERROR(INDEX(Data!$A$10:$O$1069,MATCH(CONCATENATE($C68,E$1,$B68),Data!$K$10:$K$1069,0),15),"") | F68: =IFERROR(INDEX(Data!$A$10:$O$1069,MATCH(CONCATENATE($C68,F$1,$B68),Data!$K$10:$K$1069,0),15),"") | G68: =IFERROR(INDEX(Data!$A$10:$O$1069,MATCH(CONCATENATE($C68,G$1,$B68),Data!$K$10:$K$1069,0),15),"") | H68: =IFERROR(INDEX(Data!$A$10:$O$1069,MATCH(CONCATENATE($C68,H$1,$B68),Data!$K$10:$K$1069,0),15),"") | I68: =IFERROR(INDEX(Data!$A$10:$O$1069,MATCH(CONCATENATE($C68,I$1,$B68),Data!$K$10:$K$1069,0),15),"") | K68: 65 | L68: Grand Total
A69: =COUNTIF($C$1:C69,C69)+1 -> 11 | B69: =VLOOKUP(A69,$K$4:$L$73,2,FALSE) -> (L1T2)D | C69: Wednesday | D69: =IFERROR(INDEX(Data!$A$10:$O$1069,MATCH(CONCATENATE($C69,D$1,$B69),Data!$K$10:$K$1069,0),15),"") | E69: =IFERROR(INDEX(Data!$A$10:$O$1069,MATCH(CONCATENATE($C69,E$1,$B69),Data!$K$10:$K$1069,0),15),"") | F69: =IFERROR(INDEX(Data!$A$10:$O$1069,MATCH(CONCATENATE($C69,F$1,$B69),Data!$K$10:$K$1069,0),15),"") | G69: =IFERROR(INDEX(Data!$A$10:$O$1069,MATCH(CONCATENATE($C69,G$1,$B69),Data!$K$10:$K$1069,0),15),"") | H69: =IFERROR(INDEX(Data!$A$10:$O$1069,MATCH(CONCATENATE($C69,H$1,$B69),Data!$K$10:$K$1069,0),15),"") | I69: =IFERROR(INDEX(Data!$A$10:$O$1069,MATCH(CONCATENATE($C69,I$1,$B69),Data!$K$10:$K$1069,0),15),"") | K69: 66
A70: =COUNTIF($C$1:C70,C70)+1 -> 11 | B70: =VLOOKUP(A70,$K$4:$L$73,2,FALSE) -> (L1T2)D | C70: Thursday | D70: =IFERROR(INDEX(Data!$A$10:$O$1069,MATCH(CONCATENATE($C70,D$1,$B70),Data!$K$10:$K$1069,0),15),"") | E70: =IFERROR(INDEX(Data!$A$10:$O$1069,MATCH(CONCATENATE($C70,E$1,$B70),Data!$K$10:$K$1069,0),15),"") | F70: =IFERROR(INDEX(Data!$A$10:$O$1069,MATCH(CONCATENATE($C70,F$1,$B70),Data!$K$10:$K$1069,0),15),"") | G70: =IFERROR(INDEX(Data!$A$10:$O$1069,MATCH(CONCATENATE($C70,G$1,$B70),Data!$K$10:$K$1069,0),15),"") | H70: =IFERROR(INDEX(Data!$A$10:$O$1069,MATCH(CONCATENATE($C70,H$1,$B70),Data!$K$10:$K$1069,0),15),"") | I70: =IFERROR(INDEX(Data!$A$10:$O$1069,MATCH(CONCATENATE($C70,I$1,$B70),Data!$K$10:$K$1069,0),15),"") | K70: 67
K71: 68
A72: =COUNTIF($C$1:C72,C72)+1 -> 12 | B72: =VLOOKUP(A72,$K$4:$L$73,2,FALSE) -> (L1T2)E | C72: Saturday | D72: =IFERROR(INDEX(Data!$A$10:$O$1069,MATCH(CONCATENATE($C72,D$1,$B72),Data!$K$10:$K$1069,0),15),"") | E72: =IFERROR(INDEX(Data!$A$10:$O$1069,MATCH(CONCATENATE($C72,E$1,$B72),Data!$K$10:$K$1069,0),15),"") | F72: =IFERROR(INDEX(Data!$A$10:$O$1069,MATCH(CONCATENATE($C72,F$1,$B72),Data!$K$10:$K$1069,0),15),"") | G72: =IFERROR(INDEX(Data!$A$10:$O$1069,MATCH(CONCATENATE($C72,G$1,$B72),Data!$K$10:$K$1069,0),15),"") | H72: =IFERROR(INDEX(Data!$A$10:$O$1069,MATCH(CONCATENATE($C72,H$1,$B72),Data!$K$10:$K$1069,0),15),"") | I72: =IFERROR(INDEX(Data!$A$10:$O$1069,MATCH(CONCATENATE($C72,I$1,$B72),Data!$K$10:$K$1069,0),15),"") | K72: 69
A73: =COUNTIF($C$1:C73,C73)+1 -> 12 | B73: =VLOOKUP(A73,$K$4:$L$73,2,FALSE) -> (L1T2)E | C73: Sunday | D73: =IFERROR(INDEX(Data!$A$10:$O$1069,MATCH(CONCATENATE($C73,D$1,$B73),Data!$K$10:$K$1069,0),15),"") | E73: =IFERROR(INDEX(Data!$A$10:$O$1069,MATCH(CONCATENATE($C73,E$1,$B73),Data!$K$10:$K$1069,0),15),"") | F73: =IFERROR(INDEX(Data!$A$10:$O$1069,MATCH(CONCATENATE($C73,F$1,$B73),Data!$K$10:$K$1069,0),15),"") | G73: =IFERROR(INDEX(Data!$A$10:$O$1069,MATCH(CONCATENATE($C73,G$1,$B73),Data!$K$10:$K$1069,0),15),"") | H73: =IFERROR(INDEX(Data!$A$10:$O$1069,MATCH(CONCATENATE($C73,H$1,$B73),Data!$K$10:$K$1069,0),15),"") | I73: =IFERROR(INDEX(Data!$A$10:$O$1069,MATCH(CONCATENATE($C73,I$1,$B73),Data!$K$10:$K$1069,0),15),"") | K73: 70
A74: =COUNTIF($C$1:C74,C74)+1 -> 12 | B74: =VLOOKUP(A74,$K$4:$L$73,2,FALSE) -> (L1T2)E | C74: Monday | D74: =IFERROR(INDEX(Data!$A$10:$O$1069,MATCH(CONCATENATE($C74,D$1,$B74),Data!$K$10:$K$1069,0),15),"") | E74: =IFERROR(INDEX(Data!$A$10:$O$1069,MATCH(CONCATENATE($C74,E$1,$B74),Data!$K$10:$K$1069,0),15),"") | F74: =IFERROR(INDEX(Data!$A$10:$O$1069,MATCH(CONCATENATE($C74,F$1,$B74),Data!$K$10:$K$1069,0),15),"") | G74: =IFERROR(INDEX(Data!$A$10:$O$1069,MATCH(CONCATENATE($C74,G$1,$B74),Data!$K$10:$K$1069,0),15),"") | H74: =IFERROR(INDEX(Data!$A$10:$O$1069,MATCH(CONCATENATE($C74,H$1,$B74),Data!$K$10:$K$1069,0),15),"") | I74: =IFERROR(INDEX(Data!$A$10:$O$1069,MATCH(CONCATENATE($C74,I$1,$B74),Data!$K$10:$K$1069,0),15),"")
A75: =COUNTIF($C$1:C75,C75)+1 -> 12 | B75: =VLOOKUP(A75,$K$4:$L$73,2,FALSE) -> (L1T2)E | C75: Tuesday | D75: =IFERROR(INDEX(Data!$A$10:$O$1069,MATCH(CONCATENATE($C75,D$1,$B75),Data!$K$10:$K$1069,0),15),"") | E75: =IFERROR(INDEX(Data!$A$10:$O$1069,MATCH(CONCATENATE($C75,E$1,$B75),Data!$K$10:$K$1069,0),15),"") | F75: =IFERROR(INDEX(Data!$A$10:$O$1069,MATCH(CONCATENATE($C75,F$1,$B75),Data!$K$10:$K$1069,0),15),"") | G75: =IFERROR(INDEX(Data!$A$10:$O$1069,MATCH(CONCATENATE($C75,G$1,$B75),Data!$K$10:$K$1069,0),15),"") | H75: =IFERROR(INDEX(Data!$A$10:$O$1069,MATCH(CONCATENATE($C75,H$1,$B75),Data!$K$10:$K$1069,0),15),"") | I75: =IFERROR(INDEX(Data!$A$10:$O$1069,MATCH(CONCATENATE($C75,I$1,$B75),Data!$K$10:$K$1069,0),15),"")
A76: =COUNTIF($C$1:C76,C76)+1 -> 12 | B76: =VLOOKUP(A76,$K$4:$L$73,2,FALSE) -> (L1T2)E | C76: Wednesday | D76: =IFERROR(INDEX(Data!$A$10:$O$1069,MATCH(CONCATENATE($C76,D$1,$B76),Data!$K$10:$K$1069,0),15),"") | E76: =IFERROR(INDEX(Data!$A$10:$O$1069,MATCH(CONCATENATE($C76,E$1,$B76),Data!$K$10:$K$1069,0),15),"") | F76: =IFERROR(INDEX(Data!$A$10:$O$1069,MATCH(CONCATENATE($C76,F$1,$B76),Data!$K$10:$K$1069,0),15),"") | G76: =IFERROR(INDEX(Data!$A$10:$O$1069,MATCH(CONCATENATE($C76,G$1,$B76),Data!$K$10:$K$1069,0),15),"") | H76: =IFERROR(INDEX(Data!$A$10:$O$1069,MATCH(CONCATENATE($C76,H$1,$B76),Data!$K$10:$K$1069,0),15),"") | I76: =IFERROR(INDEX(Data!$A$10:$O$1069,MATCH(CONCATENATE($C76,I$1,$B76),Data!$K$10:$K$1069,0),15),"")
A77: =COUNTIF($C$1:C77,C77)+1 -> 12 | B77: =VLOOKUP(A77,$K$4:$L$73,2,FALSE) -> (L1T2)E | C77: Thursday | D77: =IFERROR(INDEX(Data!$A$10:$O$1069,MATCH(CONCATENATE($C77,D$1,$B77),Data!$K$10:$K$1069,0),15),"") | E77: =IFERROR(INDEX(Data!$A$10:$O$1069,MATCH(CONCATENATE($C77,E$1,$B77),Data!$K$10:$K$1069,0),15),"") | F77: =IFERROR(INDEX(Data!$A$10:$O$1069,MATCH(CONCATENATE($C77,F$1,$B77),Data!$K$10:$K$1069,0),15),"") | G77: =IFERROR(INDEX(Data!$A$10:$O$1069,MATCH(CONCATENATE($C77,G$1,$B77),Data!$K$10:$K$1069,0),15),"") | H77: =IFERROR(INDEX(Data!$A$10:$O$1069,MATCH(CONCATENATE($C77,H$1,$B77),Data!$K$10:$K$1069,0),15),"") | I77: =IFERROR(INDEX(Data!$A$10:$O$1069,MATCH(CONCATENATE($C77,I$1,$B77),Data!$K$10:$K$1069,0),15),"")
A79: =COUNTIF($C$1:C79,C79)+1 -> 13 | B79: =VLOOKUP(A79,$K$4:$L$73,2,FALSE) -> (L1T3) A | C79: Saturday | D79: =IFERROR(INDEX(Data!$A$10:$O$1069,MATCH(CONCATENATE($C79,D$1,$B79),Data!$K$10:$K$1069,0),15),"") | E79: =IFERROR(INDEX(Data!$A$10:$O$1069,MATCH(CONCATENATE($C79,E$1,$B79),Data!$K$10:$K$1069,0),15),"") | F79: =IFERROR(INDEX(Data!$A$10:$O$1069,MATCH(CONCATENATE($C79,F$1,$B79),Data!$K$10:$K$1069,0),15),"") | G79: =IFERROR(INDEX(Data!$A$10:$O$1069,MATCH(CONCATENATE($C79,G$1,$B79),Data!$K$10:$K$1069,0),15),"") | H79: =IFERROR(INDEX(Data!$A$10:$O$1069,MATCH(CONCATENATE($C79,H$1,$B79),Data!$K$10:$K$1069,0),15),"") | I79: =IFERROR(INDEX(Data!$A$10:$O$1069,MATCH(CONCATENATE($C79,I$1,$B79),Data!$K$10:$K$1069,0),15),"")
A80: =COUNTIF($C$1:C80,C80)+1 -> 13 | B80: =VLOOKUP(A80,$K$4:$L$73,2,FALSE) -> (L1T3) A | C80: Sunday | D80: =IFERROR(INDEX(Data!$A$10:$O$1069,MATCH(CONCATENATE($C80,D$1,$B80),Data!$K$10:$K$1069,0),15),"") | E80: =IFERROR(INDEX(Data!$A$10:$O$1069,MATCH(CONCATENATE($C80,E$1,$B80),Data!$K$10:$K$1069,0),15),"") | F80: =IFERROR(INDEX(Data!$A$10:$O$1069,MATCH(CONCATENATE($C80,F$1,$B80),Data!$K$10:$K$1069,0),15),"") | G80: =IFERROR(INDEX(Data!$A$10:$O$1069,MATCH(CONCATENATE($C80,G$1,$B80),Data!$K$10:$K$1069,0),15),"") | H80: =IFERROR(INDEX(Data!$A$10:$O$1069,MATCH(CONCATENATE($C80,H$1,$B80),Data!$K$10:$K$1069,0),15),"") | I80: =IFERROR(INDEX(Data!$A$10:$O$1069,MATCH(CONCATENATE($C80,I$1,$B80),Data!$K$10:$K$1069,0),15),"")
A81: =COUNTIF($C$1:C81,C81)+1 -> 13 | B81: =VLOOKUP(A81,$K$4:$L$73,2,FALSE) -> (L1T3) A | C81: Monday | D81: =IFERROR(INDEX(Data!$A$10:$O$1069,MATCH(CONCATENATE($C81,D$1,$B81),Data!$K$10:$K$1069,0),15),"") | E81: =IFERROR(INDEX(Data!$A$10:$O$1069,MATCH(CONCATENATE($C81,E$1,$B81),Data!$K$10:$K$1069,0),15),"") | F81: =IFERROR(INDEX(Data!$A$10:$O$1069,MATCH(CONCATENATE($C81,F$1,$B81),Data!$K$10:$K$1069,0),15),"") | G81: =IFERROR(INDEX(Data!$A$10:$O$1069,MATCH(CONCATENATE($C81,G$1,$B81),Data!$K$10:$K$1069,0),15),"") | H81: =IFERROR(INDEX(Data!$A$10:$O$1069,MATCH(CONCATENATE($C81,H$1,$B81),Data!$K$10:$K$1069,0),15),"") | I81: =IFERROR(INDEX(Data!$A$10:$O$1069,MATCH(CONCATENATE($C81,I$1,$B81),Data!$K$10:$K$1069,0),15),"")
A82: =COUNTIF($C$1:C82,C82)+1 -> 13 | B82: =VLOOKUP(A82,$K$4:$L$73,2,FALSE) -> (L1T3) A | C82: Tuesday | D82: =IFERROR(INDEX(Data!$A$10:$O$1069,MATCH(CONCATENATE($C82,D$1,$B82),Data!$K$10:$K$1069,0),15),"") | E82: =IFERROR(INDEX(Data!$A$10:$O$1069,MATCH(CONCATENATE($C82,E$1,$B82),Data!$K$10:$K$1069,0),15),"") | F82: =IFERROR(INDEX(Data!$A$10:$O$1069,MATCH(CONCATENATE($C82,F$1,$B82),Data!$K$10:$K$1069,0),15),"") | G82: =IFERROR(INDEX(Data!$A$10:$O$1069,MATCH(CONCATENATE($C82,G$1,$B82),Data!$K$10:$K$1069,0),15),"") | H82: =IFERROR(INDEX(Data!$A$10:$O$1069,MATCH(CONCATENATE($C82,H$1,$B82),Data!$K$10:$K$1069,0),15),"") | I82: =IFERROR(INDEX(Data!$A$10:$O$1069,MATCH(CONCATENATE($C82,I$1,$B82),Data!$K$10:$K$1069,0),15),"")
A83: =COUNTIF($C$1:C83,C83)+1 -> 13 | B83: =VLOOKUP(A83,$K$4:$L$73,2,FALSE) -> (L1T3) A | C83: Wednesday | D83: =IFERROR(INDEX(Data!$A$10:$O$1069,MATCH(CONCATENATE($C83,D$1,$B83),Data!$K$10:$K$1069,0),15),"") | E83: =IFERROR(INDEX(Data!$A$10:$O$1069,MATCH(CONCATENATE($C83,E$1,$B83),Data!$K$10:$K$1069,0),15),"") | F83: =IFERROR(INDEX(Data!$A$10:$O$1069,MATCH(CONCATENATE($C83,F$1,$B83),Data!$K$10:$K$1069,0),15),"") | G83: =IFERROR(INDEX(Data!$A$10:$O$1069,MATCH(CONCATENATE($C83,G$1,$B83),Data!$K$10:$K$1069,0),15),"") | H83: =IFERROR(INDEX(Data!$A$10:$O$1069,MATCH(CONCATENATE($C83,H$1,$B83),Data!$K$10:$K$1069,0),15),"") | I83: =IFERROR(INDEX(Data!$A$10:$O$1069,MATCH(CONCATENATE($C83,I$1,$B83),Data!$K$10:$K$1069,0),15),"")
A84: =COUNTIF($C$1:C84,C84)+1 -> 13 | B84: =VLOOKUP(A84,$K$4:$L$73,2,FALSE) -> (L1T3) A | C84: Thursday | D84: =IFERROR(INDEX(Data!$A$10:$O$1069,MATCH(CONCATENATE($C84,D$1,$B84),Data!$K$10:$K$1069,0),15),"") | E84: =IFERROR(INDEX(Data!$A$10:$O$1069,MATCH(CONCATENATE($C84,E$1,$B84),Data!$K$10:$K$1069,0),15),"") | F84: =IFERROR(INDEX(Data!$A$10:$O$1069,MATCH(CONCATENATE($C84,F$1,$B84),Data!$K$10:$K$1069,0),15),"") | G84: =IFERROR(INDEX(Data!$A$10:$O$1069,MATCH(CONCATENATE($C84,G$1,$B84),Data!$K$10:$K$1069,0),15),"") | H84: =IFERROR(INDEX(Data!$A$10:$O$1069,MATCH(CONCATENATE($C84,H$1,$B84),Data!$K$10:$K$1069,0),15),"") | I84: =IFERROR(INDEX(Data!$A$10:$O$1069,MATCH(CONCATENATE($C84,I$1,$B84),Data!$K$10:$K$1069,0),15),"")
A86: =COUNTIF($C$1:C86,C86)+1 -> 14 | B86: =VLOOKUP(A86,$K$4:$L$73,2,FALSE) -> (L1T3) B | C86: Saturday | D86: =IFERROR(INDEX(Data!$A$10:$O$1069,MATCH(CONCATENATE($C86,D$1,$B86),Data!$K$10:$K$1069,0),15),"") | E86: =IFERROR(INDEX(Data!$A$10:$O$1069,MATCH(CONCATENATE($C86,E$1,$B86),Data!$K$10:$K$1069,0),15),"") | F86: =IFERROR(INDEX(Data!$A$10:$O$1069,MATCH(CONCATENATE($C86,F$1,$B86),Data!$K$10:$K$1069,0),15),"") | G86: =IFERROR(INDEX(Data!$A$10:$O$1069,MATCH(CONCATENATE($C86,G$1,$B86),Data!$K$10:$K$1069,0),15),"") | H86: =IFERROR(INDEX(Data!$A$10:$O$1069,MATCH(CONCATENATE($C86,H$1,$B86),Data!$K$10:$K$1069,0),15),"") | I86: =IFERROR(INDEX(Data!$A$10:$O$1069,MATCH(CONCATENATE($C86,I$1,$B86),Data!$K$10:$K$1069,0),15),"")
A87: =COUNTIF($C$1:C87,C87)+1 -> 14 | B87: =VLOOKUP(A87,$K$4:$L$73,2,FALSE) -> (L1T3) B | C87: Sunday | D87: =IFERROR(INDEX(Data!$A$10:$O$1069,MATCH(CONCATENATE($C87,D$1,$B87),Data!$K$10:$K$1069,0),15),"") | E87: =IFERROR(INDEX(Data!$A$10:$O$1069,MATCH(CONCATENATE($C87,E$1,$B87),Data!$K$10:$K$1069,0),15),"") | F87: =IFERROR(INDEX(Data!$A$10:$O$1069,MATCH(CONCATENATE($C87,F$1,$B87),Data!$K$10:$K$1069,0),15),"") | G87: =IFERROR(INDEX(Data!$A$10:$O$1069,MATCH(CONCATENATE($C87,G$1,$B87),Data!$K$10:$K$1069,0),15),"") | H87: =IFERROR(INDEX(Data!$A$10:$O$1069,MATCH(CONCATENATE($C87,H$1,$B87),Data!$K$10:$K$1069,0),15),"") | I87: =IFERROR(INDEX(Data!$A$10:$O$1069,MATCH(CONCATENATE($C87,I$1,$B87),Data!$K$10:$K$1069,0),15),"")
... A329: =COUNTIF($C$1:C329,C329)+1 -> 48 | B329: =VLOOKUP(A329,$K$4:$L$73,2,FALSE) -> (L3T3)D | C329: Thursday | D329: =IFERROR(INDEX(Data!$A$10:$O$1069,MATCH(CONCATENATE($C329,D$1,$B329),Data!$K$10:$K$1069,0),15),"") | E329: =IFERROR(INDEX(Data!$A$10:$O$1069,MATCH(CONCATENATE($C329,E$1,$B329),Data!$K$10:$K$1069,0),15),"") | F329: =IFERROR(INDEX(Data!$A$10:$O$1069,MATCH(CONCATENATE($C329,F$1,$B329),Data!$K$10:$K$1069,0),15),"") | G329: =IFERROR(INDEX(Data!$A$10:$O$1069,MATCH(CONCATENATE($C329,G$1,$B329),Data!$K$10:$K$1069,0),15),"") | H329: =IFERROR(INDEX(Data!$A$10:$O$1069,MATCH(CONCATENATE($C329,H$1,$B329),Data!$K$10:$K$1069,0),15),"") | I329: =IFERROR(INDEX(Data!$A$10:$O$1069,MATCH(CONCATENATE($C329,I$1,$B329),Data!$K$10:$K$1069,0),15),"")
A331: 50 | B331: =VLOOKUP(A331,$K$4:$L$73,2,FALSE) -> (L4T1)A | C331: Saturday | D331: =IFERROR(INDEX(Data!$A$10:$O$1069,MATCH(CONCATENATE($C331,D$1,$B331),Data!$K$10:$K$1069,0),15),"") | E331: =IFERROR(INDEX(Data!$A$10:$O$1069,MATCH(CONCATENATE($C331,E$1,$B331),Data!$K$10:$K$1069,0),15),"") | F331: =IFERROR(INDEX(Data!$A$10:$O$1069,MATCH(CONCATENATE($C331,F$1,$B331),Data!$K$10:$K$1069,0),15),"") | G331: =IFERROR(INDEX(Data!$A$10:$O$1069,MATCH(CONCATENATE($C331,G$1,$B331),Data!$K$10:$K$1069,0),15),"") | H331: =IFERROR(INDEX(Data!$A$10:$O$1069,MATCH(CONCATENATE($C331,H$1,$B331),Data!$K$10:$K$1069,0),15),"") | I331: =IFERROR(INDEX(Data!$A$10:$O$1069,MATCH(CONCATENATE($C331,I$1,$B331),Data!$K$10:$K$1069,0),15),"")
A332: 50 | B332: =VLOOKUP(A332,$K$4:$L$73,2,FALSE) -> (L4T1)A | C332: Sunday | D332: =IFERROR(INDEX(Data!$A$10:$O$1069,MATCH(CONCATENATE($C332,D$1,$B332),Data!$K$10:$K$1069,0),15),"") | E332: =IFERROR(INDEX(Data!$A$10:$O$1069,MATCH(CONCATENATE($C332,E$1,$B332),Data!$K$10:$K$1069,0),15),"") | F332: =IFERROR(INDEX(Data!$A$10:$O$1069,MATCH(CONCATENATE($C332,F$1,$B332),Data!$K$10:$K$1069,0),15),"") | G332: =IFERROR(INDEX(Data!$A$10:$O$1069,MATCH(CONCATENATE($C332,G$1,$B332),Data!$K$10:$K$1069,0),15),"") | H332: =IFERROR(INDEX(Data!$A$10:$O$1069,MATCH(CONCATENATE($C332,H$1,$B332),Data!$K$10:$K$1069,0),15),"") | I332: =IFERROR(INDEX(Data!$A$10:$O$1069,MATCH(CONCATENATE($C332,I$1,$B332),Data!$K$10:$K$1069,0),15),"")
A333: 50 | B333: =VLOOKUP(A333,$K$4:$L$73,2,FALSE) -> (L4T1)A | C333: Monday | D333: =IFERROR(INDEX(Data!$A$10:$O$1069,MATCH(CONCATENATE($C333,D$1,$B333),Data!$K$10:$K$1069,0),15),"") | E333: =IFERROR(INDEX(Data!$A$10:$O$1069,MATCH(CONCATENATE($C333,E$1,$B333),Data!$K$10:$K$1069,0),15),"") | F333: =IFERROR(INDEX(Data!$A$10:$O$1069,MATCH(CONCATENATE($C333,F$1,$B333),Data!$K$10:$K$1069,0),15),"") | G333: =IFERROR(INDEX(Data!$A$10:$O$1069,MATCH(CONCATENATE($C333,G$1,$B333),Data!$K$10:$K$1069,0),15),"") | H333: =IFERROR(INDEX(Data!$A$10:$O$1069,MATCH(CONCATENATE($C333,H$1,$B333),Data!$K$10:$K$1069,0),15),"") | I333: =IFERROR(INDEX(Data!$A$10:$O$1069,MATCH(CONCATENATE($C333,I$1,$B333),Data!$K$10:$K$1069,0),15),"")
A334: 50 | B334: =VLOOKUP(A334,$K$4:$L$73,2,FALSE) -> (L4T1)A | C334: Tuesday | D334: =IFERROR(INDEX(Data!$A$10:$O$1069,MATCH(CONCATENATE($C334,D$1,$B334),Data!$K$10:$K$1069,0),15),"") | E334: =IFERROR(INDEX(Data!$A$10:$O$1069,MATCH(CONCATENATE($C334,E$1,$B334),Data!$K$10:$K$1069,0),15),"") | F334: =IFERROR(INDEX(Data!$A$10:$O$1069,MATCH(CONCATENATE($C334,F$1,$B334),Data!$K$10:$K$1069,0),15),"") | G334: =IFERROR(INDEX(Data!$A$10:$O$1069,MATCH(CONCATENATE($C334,G$1,$B334),Data!$K$10:$K$1069,0),15),"") | H334: =IFERROR(INDEX(Data!$A$10:$O$1069,MATCH(CONCATENATE($C334,H$1,$B334),Data!$K$10:$K$1069,0),15),"") | I334: =IFERROR(INDEX(Data!$A$10:$O$1069,MATCH(CONCATENATE($C334,I$1,$B334),Data!$K$10:$K$1069,0),15),"")
A335: 50 | B335: =VLOOKUP(A335,$K$4:$L$73,2,FALSE) -> (L4T1)A | C335: Wednesday | D335: =IFERROR(INDEX(Data!$A$10:$O$1069,MATCH(CONCATENATE($C335,D$1,$B335),Data!$K$10:$K$1069,0),15),"") | E335: =IFERROR(INDEX(Data!$A$10:$O$1069,MATCH(CONCATENATE($C335,E$1,$B335),Data!$K$10:$K$1069,0),15),"") | F335: =IFERROR(INDEX(Data!$A$10:$O$1069,MATCH(CONCATENATE($C335,F$1,$B335),Data!$K$10:$K$1069,0),15),"") | G335: =IFERROR(INDEX(Data!$A$10:$O$1069,MATCH(CONCATENATE($C335,G$1,$B335),Data!$K$10:$K$1069,0),15),"") | H335: =IFERROR(INDEX(Data!$A$10:$O$1069,MATCH(CONCATENATE($C335,H$1,$B335),Data!$K$10:$K$1069,0),15),"") | I335: =IFERROR(INDEX(Data!$A$10:$O$1069,MATCH(CONCATENATE($C335,I$1,$B335),Data!$K$10:$K$1069,0),15),"")
A336: 50 | B336: =VLOOKUP(A336,$K$4:$L$73,2,FALSE) -> (L4T1)A | C336: Thursday | D336: =IFERROR(INDEX(Data!$A$10:$O$1069,MATCH(CONCATENATE($C336,D$1,$B336),Data!$K$10:$K$1069,0),15),"") | E336: =IFERROR(INDEX(Data!$A$10:$O$1069,MATCH(CONCATENATE($C336,E$1,$B336),Data!$K$10:$K$1069,0),15),"") | F336: =IFERROR(INDEX(Data!$A$10:$O$1069,MATCH(CONCATENATE($C336,F$1,$B336),Data!$K$10:$K$1069,0),15),"") | G336: =IFERROR(INDEX(Data!$A$10:$O$1069,MATCH(CONCATENATE($C336,G$1,$B336),Data!$K$10:$K$1069,0),15),"") | H336: =IFERROR(INDEX(Data!$A$10:$O$1069,MATCH(CONCATENATE($C336,H$1,$B336),Data!$K$10:$K$1069,0),15),"") | I336: =IFERROR(INDEX(Data!$A$10:$O$1069,MATCH(CONCATENATE($C336,I$1,$B336),Data!$K$10:$K$1069,0),15),"")
A338: 51 | B338: =VLOOKUP(A338,$K$4:$L$73,2,FALSE) -> (L4T1)B | C338: Saturday | D338: =IFERROR(INDEX(Data!$A$10:$O$1069,MATCH(CONCATENATE($C338,D$1,$B338),Data!$K$10:$K$1069,0),15),"") | E338: =IFERROR(INDEX(Data!$A$10:$O$1069,MATCH(CONCATENATE($C338,E$1,$B338),Data!$K$10:$K$1069,0),15),"") | F338: =IFERROR(INDEX(Data!$A$10:$O$1069,MATCH(CONCATENATE($C338,F$1,$B338),Data!$K$10:$K$1069,0),15),"") | G338: =IFERROR(INDEX(Data!$A$10:$O$1069,MATCH(CONCATENATE($C338,G$1,$B338),Data!$K$10:$K$1069,0),15),"") | H338: =IFERROR(INDEX(Data!$A$10:$O$1069,MATCH(CONCATENATE($C338,H$1,$B338),Data!$K$10:$K$1069,0),15),"") | I338: =IFERROR(INDEX(Data!$A$10:$O$1069,MATCH(CONCATENATE($C338,I$1,$B338),Data!$K$10:$K$1069,0),15),"")
A339: 51 | B339: =VLOOKUP(A339,$K$4:$L$73,2,FALSE) -> (L4T1)B | C339: Sunday | D339: =IFERROR(INDEX(Data!$A$10:$O$1069,MATCH(CONCATENATE($C339,D$1,$B339),Data!$K$10:$K$1069,0),15),"") -> TE419(L4T1)B 702 --- TAC | E339: =IFERROR(INDEX(Data!$A$10:$O$1069,MATCH(CONCATENATE($C339,E$1,$B339),Data!$K$10:$K$1069,0),15),"") -> TE419(L4T1)B 702 --- TAC | F339: =IFERROR(INDEX(Data!$A$10:$O$1069,MATCH(CONCATENATE($C339,F$1,$B339),Data!$K$10:$K$1069,0),15),"") | G339: =IFERROR(INDEX(Data!$A$10:$O$1069,MATCH(CONCATENATE($C339,G$1,$B339),Data!$K$10:$K$1069,0),15),"") | H339: =IFERROR(INDEX(Data!$A$10:$O$1069,MATCH(CONCATENATE($C339,H$1,$B339),Data!$K$10:$K$1069,0),15),"") | I339: =IFERROR(INDEX(Data!$A$10:$O$1069,MATCH(CONCATENATE($C339,I$1,$B339),Data!$K$10:$K$1069,0),15),"")
A340: 51 | B340: =VLOOKUP(A340,$K$4:$L$73,2,FALSE) -> (L4T1)B | C340: Monday | D340: =IFERROR(INDEX(Data!$A$10:$O$1069,MATCH(CONCATENATE($C340,D$1,$B340),Data!$K$10:$K$1069,0),15),"") | E340: =IFERROR(INDEX(Data!$A$10:$O$1069,MATCH(CONCATENATE($C340,E$1,$B340),Data!$K$10:$K$1069,0),15),"") | F340: =IFERROR(INDEX(Data!$A$10:$O$1069,MATCH(CONCATENATE($C340,F$1,$B340),Data!$K$10:$K$1069,0),15),"") | G340: =IFERROR(INDEX(Data!$A$10:$O$1069,MATCH(CONCATENATE($C340,G$1,$B340),Data!$K$10:$K$1069,0),15),"") | H340: =IFERROR(INDEX(Data!$A$10:$O$1069,MATCH(CONCATENATE($C340,H$1,$B340),Data!$K$10:$K$1069,0),15),"") | I340: =IFERROR(INDEX(Data!$A$10:$O$1069,MATCH(CONCATENATE($C340,I$1,$B340),Data!$K$10:$K$1069,0),15),"")
A341: 51 | B341: =VLOOKUP(A341,$K$4:$L$73,2,FALSE) -> (L4T1)B | C341: Tuesday | D341: =IFERROR(INDEX(Data!$A$10:$O$1069,MATCH(CONCATENATE($C341,D$1,$B341),Data!$K$10:$K$1069,0),15),"") | E341: =IFERROR(INDEX(Data!$A$10:$O$1069,MATCH(CONCATENATE($C341,E$1,$B341),Data!$K$10:$K$1069,0),15),"") | F341: =IFERROR(INDEX(Data!$A$10:$O$1069,MATCH(CONCATENATE($C341,F$1,$B341),Data!$K$10:$K$1069,0),15),"") | G341: =IFERROR(INDEX(Data!$A$10:$O$1069,MATCH(CONCATENATE($C341,G$1,$B341),Data!$K$10:$K$1069,0),15),"") | H341: =IFERROR(INDEX(Data!$A$10:$O$1069,MATCH(CONCATENATE($C341,H$1,$B341),Data!$K$10:$K$1069,0),15),"") -> TE4110(L4T1)B 711 --- SMR | I341: =IFERROR(INDEX(Data!$A$10:$O$1069,MATCH(CONCATENATE($C341,I$1,$B341),Data!$K$10:$K$1069,0),15),"") -> TE4110(L4T1)B 711 --- MSH
A342: 51 | B342: =VLOOKUP(A342,$K$4:$L$73,2,FALSE) -> (L4T1)B | C342: Wednesday | D342: =IFERROR(INDEX(Data!$A$10:$O$1069,MATCH(CONCATENATE($C342,D$1,$B342),Data!$K$10:$K$1069,0),15),"") | E342: =IFERROR(INDEX(Data!$A$10:$O$1069,MATCH(CONCATENATE($C342,E$1,$B342),Data!$K$10:$K$1069,0),15),"") | F342: =IFERROR(INDEX(Data!$A$10:$O$1069,MATCH(CONCATENATE($C342,F$1,$B342),Data!$K$10:$K$1069,0),15),"") | G342: =IFERROR(INDEX(Data!$A$10:$O$1069,MATCH(CONCATENATE($C342,G$1,$B342),Data!$K$10:$K$1069,0),15),"") | H342: =IFERROR(INDEX(Data!$A$10:$O$1069,MATCH(CONCATENATE($C342,H$1,$B342),Data!$K$10:$K$1069,0),15),"") | I342: =IFERROR(INDEX(Data!$A$10:$O$1069,MATCH(CONCATENATE($C342,I$1,$B342),Data!$K$10:$K$1069,0),15),"")
A343: 51 | B343: =VLOOKUP(A343,$K$4:$L$73,2,FALSE) -> (L4T1)B | C343: Thursday | D343: =IFERROR(INDEX(Data!$A$10:$O$1069,MATCH(CONCATENATE($C343,D$1,$B343),Data!$K$10:$K$1069,0),15),"") | E343: =IFERROR(INDEX(Data!$A$10:$O$1069,MATCH(CONCATENATE($C343,E$1,$B343),Data!$K$10:$K$1069,0),15),"") | F343: =IFERROR(INDEX(Data!$A$10:$O$1069,MATCH(CONCATENATE($C343,F$1,$B343),Data!$K$10:$K$1069,0),15),"") | G343: =IFERROR(INDEX(Data!$A$10:$O$1069,MATCH(CONCATENATE($C343,G$1,$B343),Data!$K$10:$K$1069,0),15),"") | H343: =IFERROR(INDEX(Data!$A$10:$O$1069,MATCH(CONCATENATE($C343,H$1,$B343),Data!$K$10:$K$1069,0),15),"") | I343: =IFERROR(INDEX(Data!$A$10:$O$1069,MATCH(CONCATENATE($C343,I$1,$B343),Data!$K$10:$K$1069,0),15),"")
... A371: 54 | B371: =VLOOKUP(A371,$K$4:$L$73,2,FALSE) -> (L4T2)B | C371: Thursday | D371: =IFERROR(INDEX(Data!$A$10:$O$1069,MATCH(CONCATENATE($C371,D$1,$B371),Data!$K$10:$K$1069,0),15),"") | E371: =IFERROR(INDEX(Data!$A$10:$O$1069,MATCH(CONCATENATE($C371,E$1,$B371),Data!$K$10:$K$1069,0),15),"") | F371: =IFERROR(INDEX(Data!$A$10:$O$1069,MATCH(CONCATENATE($C371,F$1,$B371),Data!$K$10:$K$1069,0),15),"") | G371: =IFERROR(INDEX(Data!$A$10:$O$1069,MATCH(CONCATENATE($C371,G$1,$B371),Data!$K$10:$K$1069,0),15),"") | H371: =IFERROR(INDEX(Data!$A$10:$O$1069,MATCH(CONCATENATE($C371,H$1,$B371),Data!$K$10:$K$1069,0),15),"") | I371: =IFERROR(INDEX(Data!$A$10:$O$1069,MATCH(CONCATENATE($C371,I$1,$B371),Data!$K$10:$K$1069,0),15),"")

Sheet T's class
A2: LT | B2: (All)
A4: Count of Course | C4: Time
A5: Teacher | B5: Day | C5: 08:30-10:00 | D5: 10:00-11:30 | E5: 11:30-01:00 | F5: 01:00-02:30 | G5: 2:30-04:00 | H5: 04:00-05:30 | I5: Grand Total
A6: 0 | B6: Sunday | C6: 16 | D6: 16 | E6: 16 | F6: 15 | G6: 19 | H6: 13 | I6: 95
B7: Monday | C7: 16 | D7: 11 | E7: 15 | F7: 13 | G7: 14 | H7: 17 | I7: 86
B8: Tuesday | C8: 19 | D8: 15 | E8: 16 | F8: 14 | G8: 20 | H8: 19 | I8: 103
B9: Wednesday | C9: 19 | D9: 15 | E9: 20 | F9: 18 | G9: 20 | H9: 17 | I9: 109
B10: Thursday | C10: 25 | D10: 25 | E10: 25 | F10: 26 | G10: 26 | H10: 26 | I10: 153
B11: Saturday | C11: 24 | D11: 19 | E11: 18 | F11: 18 | G11: 21 | H11: 23 | I11: 123
A12: 0 Total | C12: 119 | D12: 101 | E12: 110 | F12: 104 | G12: 120 | H12: 115 | I12: 669
A13: AAA | B13: Sunday | C13: 1 | G13: 1 | H13: 1 | I13: 3
B14: Monday | C14: 1 | F14: 1 | G14: 1 | H14: 1 | I14: 4
B15: Tuesday | C15: 1 | I15: 1
B16: Wednesday | C16: 1 | E16: 1 | I16: 2
B17: Saturday | C17: 1 | E17: 1 | F17: 1 | I17: 3
A18: AAA Total | C18: 5 | E18: 2 | F18: 2 | G18: 2 | H18: 2 | I18: 13
A19: AAM | B19: Sunday | D19: 1 | F19: 1 | H19: 1 | I19: 3
B20: Monday | E20: 1 | H20: 1 | I20: 2
B21: Tuesday | F21: 1 | H21: 1 | I21: 2
B22: Wednesday | D22: 2 | F22: 1 | H22: 1 | I22: 4
B23: Saturday | D23: 1 | F23: 1 | G23: 1 | H23: 1 | I23: 4
A24: AAM Total | D24: 4 | E24: 1 | F24: 4 | G24: 1 | H24: 5 | I24: 15
A25: AAT | B25: Sunday | C25: 1 | I25: 1
B26: Tuesday | G26: 1 | I26: 1
A27: AAT Total | C27: 1 | G27: 1 | I27: 2
A28: AG | B28: Sunday | C28: 1 | E28: 1 | F28: 1 | I28: 3
B29: Monday | C29: 1 | D29: 1 | E29: 1 | F29: 2 | G29: 1 | I29: 6
B30: Tuesday | E30: 2 | G30: 1 | I30: 3
B31: Wednesday | D31: 1 | F31: 1 | I31: 2
B32: Saturday | D32: 1 | F32: 1 | I32: 2
A33: AG Total | C33: 2 | D33: 3 | E33: 4 | F33: 5 | G33: 2 | I33: 16
A34: AHM | B34: Sunday | D34: 1 | E34: 1 | F34: 1 | G34: 1 | H34: 1 | I34: 5
B35: Monday | E35: 1 | G35: 1 | I35: 2
B36: Tuesday | D36: 1 | E36: 1 | F36: 1 | H36: 1 | I36: 4
B37: Wednesday | D37: 1 | I37: 1
B38: Saturday | D38: 2 | E38: 1 | F38: 2 | G38: 1 | H38: 1 | I38: 7
A39: AHM Total | D39: 5 | E39: 4 | F39: 4 | G39: 3 | H39: 3 | I39: 19
A40: AHR | B40: Monday | C40: 1 | D40: 1 | I40: 2
A41: AHR Total | C41: 1 | D41: 1 | I41: 2
A42: AI | B42: Sunday | E42: 1 | H42: 1 | I42: 2
B43: Monday | C43: 1 | D43: 1 | F43: 1 | I43: 3
B44: Tuesday | C44: 1 | D44: 1 | I44: 2
B45: Wednesday | E45: 1 | G45: 1 | H45: 1 | I45: 3
B46: Saturday | G46: 1 | I46: 1
A47: AI Total | C47: 2 | D47: 2 | E47: 2 | F47: 1 | G47: 2 | H47: 2 | I47: 11
A48: AN | B48: Sunday | F48: 1 | H48: 1 | I48: 2
B49: Monday | F49: 1 | I49: 1
B50: Tuesday | G50: 1 | H50: 1 | I50: 2
B51: Saturday | F51: 1 | H51: 1 | I51: 2
A52: AN Total | F52: 3 | G52: 1 | H52: 3 | I52: 7
A53: FBS | B53: Sunday | H53: 1 | I53: 1
B54: Tuesday | H54: 1 | I54: 1
B55: Saturday | E55: 1 | F55: 1 | G55: 1 | H55: 1 | I55: 4
A56: FBS Total | E56: 1 | F56: 1 | G56: 1 | H56: 3 | I56: 6
A57: FHA | B57: Sunday | C57: 1 | D57: 1 | F57: 1 | I57: 3
B58: Monday | E58: 1 | G58: 1 | I58: 2
B59: Tuesday | C59: 1 | D59: 1 | E59: 1 | F59: 1 | I59: 4
B60: Saturday | C60: 1 | D60: 1 | F60: 1 | I60: 3
A61: FHA Total | C61: 3 | D61: 3 | E61: 2 | F61: 3 | G61: 1 | I61: 12
A62: FHS | B62: Tuesday | C62: 1 | H62: 1 | I62: 2
B63: Wednesday | C63: 1 | H63: 1 | I63: 2
A64: FHS Total | C64: 2 | H64: 2 | I64: 4
A65: FS | B65: Sunday | F65: 1 | H65: 1 | I65: 2
B66: Wednesday | C66: 1 | D66: 2 | I66: 3
B67: Saturday | E67: 1 | F67: 1 | H67: 1 | I67: 3
A68: FS Total | C68: 1 | D68: 2 | E68: 1 | F68: 2 | H68: 2 | I68: 8
A69: GC | B69: Tuesday | E69: 1 | F69: 1 | I69: 2
B70: Wednesday | E70: 1 | I70: 1
A71: GC Total | E71: 2 | F71: 1 | I71: 3
A72: IUZ | B72: Sunday | H72: 1 | I72: 1
B73: Wednesday | H73: 1 | I73: 1
B74: Thursday | C74: 1 | D74: 1 | I74: 2
A75: IUZ Total | C75: 1 | D75: 1 | H75: 2 | I75: 4
A76: JH | B76: Thursday | G76: 1 | H76: 1 | I76: 2
B77: Saturday | C77: 1 | D77: 1 | I77: 2
A78: JH Total | C78: 1 | D78: 1 | G78: 1 | H78: 1 | I78: 4
A79: KZ | B79: Sunday | C79: 1 | E79: 1 | I79: 2
B80: Monday | D80: 1 | F80: 1 | H80: 1 | I80: 3
B81: Tuesday | C81: 1 | D81: 1 | E81: 1 | G81: 2 | I81: 5
B82: Wednesday | D82: 1 | F82: 1 | I82: 2
B83: Saturday | E83: 1 | I83: 1
A84: KZ Total | C84: 2 | D84: 3 | E84: 3 | F84: 2 | G84: 2 | H84: 1 | I84: 13
A85: MAB | B85: Sunday | E85: 1 | G85: 1 | H85: 1 | I85: 3
B86: Monday | E86: 1 | G86: 1 | H86: 1 | I86: 3
B87: Tuesday | E87: 1 | G87: 1 | I87: 2
B88: Wednesday | E88: 1 | G88: 1 | I88: 2
B89: Saturday | E89: 1 | G89: 1 | I89: 2
A90: MAB Total | E90: 5 | G90: 5 | H90: 2 | I90: 12
A91: MDN | B91: Sunday | C91: 1 | I91: 1
A92: MDN Total | C92: 1 | I92: 1
A93: MH | B93: Sunday | C93: 1 | D93: 1 | E93: 1 | F93: 1 | I93: 4
B94: Monday | D94: 1 | F94: 2 | I94: 3
B95: Tuesday | D95: 2 | F95: 2 | I95: 4
A96: MH Total | C96: 1 | D96: 4 | E96: 1 | F96: 5 | I96: 11
A97: MHR | B97: Tuesday | E97: 1 | F97: 1 | G97: 1 | H97: 1 | I97: 4
B98: Wednesday | E98: 1 | I98: 1
B99: Saturday | G99: 1 | H99: 1 | I99: 2
A100: MHR Total | E100: 2 | F100: 1 | G100: 2 | H100: 2 | I100: 7
A101: MK | B101: Sunday | D101: 1 | I101: 1
B102: Monday | C102: 1 | D102: 2 | I102: 3
...

Sheet S's class
A2: LT | B2: (All)
A4: Count of Course | C4: Time
A5: Section | B5: Day | C5: 08:30-10:00 | D5: 10:00-11:30 | E5: 11:30-01:00 | F5: 01:00-02:30 | G5: 2:30-04:00 | H5: 04:00-05:30 | I5: Grand Total
A6: 0 | B6: Sunday | C6: 15 | D6: 15 | E6: 12 | F6: 12 | G6: 13 | H6: 12 | I6: 79
B7: Monday | C7: 10 | D7: 7 | E7: 9 | F7: 9 | G7: 11 | H7: 15 | I7: 61
B8: Tuesday | C8: 12 | D8: 11 | E8: 10 | F8: 9 | G8: 18 | H8: 18 | I8: 78
B9: Wednesday | C9: 15 | D9: 12 | E9: 15 | F9: 15 | G9: 14 | H9: 15 | I9: 86
B10: Thursday | C10: 24 | D10: 24 | E10: 23 | F10: 24 | G10: 26 | H10: 26 | I10: 147
B11: Saturday | C11: 22 | D11: 17 | E11: 14 | F11: 17 | G11: 19 | H11: 23 | I11: 112
A12: 0 Total | C12: 98 | D12: 86 | E12: 83 | F12: 86 | G12: 101 | H12: 109 | I12: 563
B13: Tuesday | E13: 1 | F13: 1 | I13: 2
A14: Total | E14: 1 | F14: 1 | I14: 2
B15: Tuesday | E15: 1 | F15: 1 | I15: 2
A16: Total | E16: 1 | F16: 1 | I16: 2
A17: (L1T1)A | B17: Monday | C17: 1 | D17: 1 | I17: 2
B18: Wednesday | C18: 1 | D18: 1 | F18: 1 | I18: 3
B19: Saturday | F19: 1 | G19: 1 | I19: 2
A20: (L1T1)A Total | C20: 2 | D20: 2 | F20: 2 | G20: 1 | I20: 7
A21: (L1T1)B | B21: Sunday | C21: 1 | I21: 1
B22: Monday | E22: 1 | F22: 1 | G22: 1 | I22: 3
B23: Tuesday | G23: 1 | I23: 1
A24: (L1T1)B Total | C24: 1 | E24: 1 | F24: 1 | G24: 2 | I24: 5
A25: (L1T1)C | B25: Monday | C25: 1 | D25: 1 | G25: 1 | H25: 2 | I25: 5
B26: Wednesday | G26: 1 | H26: 1 | I26: 2
B27: Saturday | H27: 1 | I27: 1
A28: (L1T1)C Total | C28: 1 | D28: 1 | G28: 2 | H28: 4 | I28: 8
A29: (L1T1)D | B29: Tuesday | C29: 1 | D29: 1 | I29: 2
A30: (L1T1)D Total | C30: 1 | D30: 1 | I30: 2
A31: (L1T2)A | B31: Sunday | C31: 1 | D31: 1 | E31: 1 | I31: 3
B32: Tuesday | C32: 2 | D32: 1 | G32: 1 | I32: 4
A33: (L1T2)A Total | C33: 3 | D33: 2 | E33: 1 | G33: 1 | I33: 7
A34: (L1T2)B | B34: Sunday | C34: 1 | G34: 1 | H34: 1 | I34: 3
B35: Monday | C35: 1 | D35: 1 | I35: 2
B36: Tuesday | E36: 1 | I36: 1
B37: Wednesday | F37: 1 | I37: 1
A38: (L1T2)B Total | C38: 2 | D38: 1 | E38: 1 | F38: 1 | G38: 1 | H38: 1 | I38: 7
A39: (L1T2)C | B39: Monday | E39: 1 | F39: 1 | I39: 2
B40: Tuesday | G40: 1 | I40: 1
B41: Wednesday | C41: 1 | D41: 2 | G41: 1 | I41: 4
A42: (L1T2)C Total | C42: 1 | D42: 2 | E42: 1 | F42: 1 | G42: 2 | I42: 7
A43: (L1T2)D | B43: Monday | G43: 1 | H43: 1 | I43: 2
B44: Wednesday | E44: 1 | F44: 1 | G44: 1 | I44: 3
B45: Saturday | E45: 1 | I45: 1
A46: (L1T2)D Total | E46: 2 | F46: 1 | G46: 2 | H46: 1 | I46: 6
A47: (L1T2)E | B47: Tuesday | E47: 1 | F47: 1 | H47: 1 | I47: 3
B48: Wednesday | G48: 1 | H48: 1 | I48: 2
B49: Saturday | H49: 1 | I49: 1
A50: (L1T2)E Total | E50: 1 | F50: 1 | G50: 1 | H50: 3 | I50: 6
A51: (L1T3) A | B51: Thursday | E51: 1 | F51: 1 | I51: 2
A52: (L1T3) A Total | E52: 1 | F52: 1 | I52: 2
A53: (L1T3) B | B53: Tuesday | E53: 1 | F53: 1 | I53: 2
A54: (L1T3) B Total | E54: 1 | F54: 1 | I54: 2
A55: (L1T3) C | B55: Monday | E55: 1 | F55: 1 | I55: 2
A56: (L1T3) C Total | E56: 1 | F56: 1 | I56: 2
A57: (L1T3) D | B57: Sunday | E57: 1 | F57: 1 | I57: 2
A58: (L1T3) D Total | E58: 1 | F58: 1 | I58: 2
A59: (L1T3)A | B59: Sunday | C59: 1 | D59: 1 | H59: 1 | I59: 3
B60: Monday | E60: 1 | F60: 1 | I60: 2
B61: Saturday | C61: 2 | D61: 1 | I61: 3
A62: (L1T3)A Total | C62: 3 | D62: 2 | E62: 1 | F62: 1 | H62: 1 | I62: 8
A63: (L1T3)B | B63: Sunday | D63: 1 | E63: 1 | F63: 1 | G63: 1 | I63: 4
B64: Monday | G64: 1 | I64: 1
B65: Tuesday | F65: 1 | I65: 1
B66: Wednesday | E66: 1 | F66: 1 | I66: 2
B67: Saturday | E67: 1 | G67: 1 | I67: 2
A68: (L1T3)B Total | D68: 1 | E68: 3 | F68: 3 | G68: 3 | I68: 10
A69: (L1T3)C | B69: Sunday | F69: 1 | G69: 2 | I69: 3
B70: Tuesday | D70: 1 | I70: 1
B71: Saturday | D71: 1 | G71: 1 | I71: 2
A72: (L1T3)C Total | D72: 2 | F72: 1 | G72: 3 | I72: 6
A73: (L1T3)D | B73: Sunday | D73: 1 | I73: 1
B74: Monday | C74: 1 | D74: 1 | I74: 2
B75: Tuesday | C75: 1 | I75: 1
B76: Wednesday | D76: 1 | I76: 1
B77: Saturday | G77: 1 | I77: 1
A78: (L1T3)D Total | C78: 2 | D78: 3 | G78: 1 | I78: 6
A79: (L2T1)A | B79: Sunday | D79: 1 | E79: 1 | F79: 1 | G79: 1 | I79: 4
B80: Monday | C80: 1 | D80: 1 | E80: 1 | F80: 1 | H80: 1 | I80: 5
B81: Tuesday | D81: 1 | F81: 1 | H81: 1 | I81: 3
B82: Wednesday | C82: 1 | I82: 1
B83: Saturday | D83: 2 | E83: 1 | F83: 1 | G83: 1 | H83: 2 | I83: 7
A84: (L2T1)A Total | C84: 2 | D84: 5 | E84: 3 | F84: 4 | G84: 2 | H84: 4 | I84: 20
A85: (L2-T1)A | B85: Wednesday | E85: 1 | F85: 1 | I85: 2
A86: (L2-T1)A Total | E86: 1 | F86: 1 | I86: 2
A87: (L2T1)B | B87: Sunday | C87: 1 | D87: 1 | E87: 1 | F87: 1 | G87: 1 | H87: 1 | I87: 6
B88: Monday | D88: 1 | E88: 1 | G88: 1 | I88: 3
B89: Tuesday | C89: 1 | D89: 2 | H89: 1 | I89: 4
B90: Wednesday | D90: 1 | I90: 1
B91: Saturday | D91: 1 | E91: 1 | F91: 1 | I91: 3
A92: (L2T1)B Total | C92: 2 | D92: 6 | E92: 3 | F92: 2 | G92: 2 | H92: 2 | I92: 17
A93: (L2-T1)B | B93: Monday | E93: 1 | F93: 1 | I93: 2
B94: Wednesday | G94: 1 | H94: 1 | I94: 2
A95: (L2-T1)B Total | E95: 1 | F95: 1 | G95: 1 | H95: 1 | I95: 4
A96: (L2T1)C | B96: Monday | G96: 1 | I96: 1
B97: Tuesday | E97: 1 | I97: 1
B98: Wednesday | H98: 1 | I98: 1
B99: Saturday | E99: 1 | I99: 1
A100: (L2T1)C Total | E100: 2 | G100: 1 | H100: 1 | I100: 4
A101: (L2T1)PC | B101: Tuesday | E101: 1 | F101: 1 | I101: 2
A102: (L2T1)PC Total | E102: 1 | F102: 1 | I102: 2
...

Sheet T wise class
A2: LT | B2: (All)
A4: Teacher | B4: Section | C4: Day | D4: Count of Course
A5: 0 | B5: 0 | D5: 550
B6: (L1T3)A | D6: 2
B7: (L1T3)B | D7: 4
B8: (L2T1)A | D8: 2
B9: (L2T1)B | D9: 2
B10: (L2T2)B | D10: 2
B11: (L2T2)C | D11: 1
B12: (L2T3)A | D12: 3
B13: (L2T3)B | D13: 3
B14: (L3T1)A | D14: 1
B15: (L3T2)A | D15: 3
B16: (L3T2)B | D16: 3
B17: (L4T2)A | C17: Monday | D17: 1
B18: (L4T2)B | C18: Tuesday | D18: 1
B19: (L1T2)A | C19: Sunday | D19: 2
C20: Tuesday | D20: 2
B21: (L1T2)B | C21: Sunday | D21: 2
C22: Monday | D22: 2
B23: (L1T2)C | C23: Monday | D23: 2
C24: Wednesday | D24: 2
B25: (L1T2)D | C25: Monday | D25: 2
C26: Wednesday | D26: 2
B27: (L1T1)A | C27: Monday | D27: 2
C28: Wednesday | D28: 2
B29: (L1T1)C | C29: Monday | D29: 4
B30: (L1T1)B | C30: Monday | D30: 2
B31: (L1T3)C | C31: Sunday | D31: 1
C32: Saturday | D32: 1
B33: (L1T3)D | C33: Monday | D33: 1
C34: Tuesday | D34: 1
B35: (L1T2)E | C35: Tuesday | D35: 2
C36: Wednesday | D36: 2
B37: (L1T3) D | C37: Sunday | D37: 2
B38: xxxxxxxx | C38: Sunday | D38: 1
B39: UC | C39: Tuesday | D39: 6
C40: Tuesday | D40: 2
C41: Tuesday | D41: 2
B42: PC | C42: Wednesday | D42: 2
B43: MRC | C43: Saturday | D43: 3
B44: DIC | C44: Sunday | D44: 4
C45: Monday | D45: 4
C46: Tuesday | D46: 4
C47: Wednesday | D47: 4
C48: Thursday | D48: 4
C49: Saturday | D49: 4
B50: ETE | C50: Monday | D50: 1
C51: Tuesday | D51: 1
C52: Wednesday | D52: 1
B53: (L1T3) C | C53: Monday | D53: 2
B54: (L1T3) B | C54: Tuesday | D54: 2
B55: (L4T2)C | C55: Wednesday | D55: 1
B56: xxxxxxxxxx | C56: Monday | D56: 1
B57: (L1T1)D | C57: Tuesday | D57: 2
B58: YM-1 UC | C58: Tuesday | D58: 2
B59: (L1T3) A | C59: Thursday | D59: 2
A60: 0 Total | D60: 669
A61: AAA | B61: (L2T2)A | D61: 4
B62: (L2T2)B | D62: 5
B63: (L2T2)C | D63: 4
A64: AAA Total | D64: 13
A65: AAM | B65: (L2T3)A | D65: 4
B66: (L4T2)A | C66: Sunday | D66: 1
C67: Monday | D67: 2
B68: (L4T2)B | C68: Tuesday | D68: 1
B69: (L3T2) A | C69: Wednesday | D69: 1
C70: Saturday | D70: 1
B71: (L3T2) B | C71: Sunday | D71: 1
C72: Wednesday | D72: 1
C73: Saturday | D73: 1
B74: (L4T2)C | C74: Sunday | D74: 1
C75: Wednesday | D75: 1
A76: AAM Total | D76: 15
A77: AAT | B77: (L1T1)B | C77: Sunday | D77: 1
C78: Tuesday | D78: 1
A79: AAT Total | D79: 2
A80: AG | B80: (L2T1)C | D80: 2
B81: (L3T1)A | D81: 2
B82: (L3T1)B | D82: 2
B83: (L4T1)A | D83: 2
B84: (L4T1)B | C84: Wednesday | D84: 1
C85: Saturday | D85: 1
B86: (L3T1) A | C86: Monday | D86: 1
C87: Tuesday | D87: 1
B88: (L2-T1)B | C88: Monday | D88: 2
B89: (L3T1) B | C89: Sunday | D89: 1
C90: Tuesday | D90: 1
A91: AG Total | D91: 16
A92: AHM | B92: (L2T1)A | D92: 8
B93: (L2T1)B | D93: 9
B94: (L2T1)PC | C94: Tuesday | D94: 2
A95: AHM Total | D95: 19
A96: AHR | B96: (L3T2)C | C96: Monday | D96: 2
A97: AHR Total | D97: 2
A98: AI | B98: (L3T2)A | D98: 2
B99: (L3T2)B | D99: 7
B100: (L2-T1)B | C100: Wednesday | D100: 2
A101: AI Total | D101: 11
A102: AN | B102: 0 | D102: 3
...

Sheet Section wise class
A4: Count of Course | D4: Time
A5: LT | B5: Section | C5: Day | D5: 08:30-10:00 | E5: 10:00-11:30 | F5: 11:30-01:00 | G5: 01:00-02:30 | H5: 2:30-04:00 | I5: 04:00-05:30 | J5: Grand Total
C6: Tuesday | F6: 1 | G6: 1 | J6: 2
C7: Tuesday | F7: 1 | G7: 1 | J7: 2
A8: C | B8: PC | C8: Monday | H8: 1 | I8: 1 | J8: 2
C9: Wednesday | H9: 1 | I9: 1 | J9: 2
B10: UC | C10: Tuesday | D10: 4 | E10: 4 | F10: 2 | G10: 2 | H10: 3 | I10: 3 | J10: 18
A11: E426 | B11: TE426L4T2) | C11: Monday | D11: 1 | E11: 1 | J11: 2
A12: IC | B12: DIC | C12: Sunday | D12: 1 | E12: 1 | F12: 1 | G12: 1 | J12: 4
C13: Monday | D13: 1 | E13: 1 | F13: 1 | G13: 1 | J13: 4
C14: Tuesday | D14: 1 | E14: 1 | F14: 1 | G14: 1 | J14: 4
C15: Wednesday | D15: 1 | E15: 1 | F15: 1 | G15: 1 | J15: 4
C16: Thursday | D16: 1 | E16: 1 | F16: 1 | G16: 1 | J16: 4
C17: Saturday | D17: 1 | E17: 1 | F17: 1 | G17: 1 | J17: 4
A18: L1T1 | B18: (L1T1)A | C18: Monday | D18: 1 | E18: 1 | J18: 2
C19: Wednesday | D19: 1 | E19: 1 | G19: 1 | J19: 3
C20: Saturday | G20: 1 | H20: 1 | J20: 2
B21: (L1T1)B | C21: Sunday | D21: 1 | J21: 1
C22: Monday | F22: 1 | G22: 1 | H22: 1 | J22: 3
C23: Tuesday | H23: 1 | J23: 1
B24: (L1T1)C | C24: Monday | D24: 1 | E24: 1 | H24: 1 | I24: 2 | J24: 5
C25: Wednesday | H25: 1 | I25: 1 | J25: 2
C26: Saturday | I26: 1 | J26: 1
B27: (L1T1)D | C27: Tuesday | D27: 1 | E27: 1 | J27: 2
A28: L1T2 | B28: (L1T2)A | C28: Sunday | D28: 1 | E28: 1 | F28: 1 | J28: 3
C29: Tuesday | D29: 2 | E29: 1 | H29: 1 | J29: 4
B30: (L1T2)B | C30: Sunday | D30: 1 | H30: 1 | I30: 1 | J30: 3
C31: Monday | D31: 1 | E31: 1 | J31: 2
C32: Tuesday | F32: 1 | J32: 1
C33: Wednesday | G33: 1 | J33: 1
B34: (L1T2)C | C34: Monday | F34: 1 | G34: 1 | J34: 2
C35: Tuesday | H35: 1 | J35: 1
C36: Wednesday | D36: 1 | E36: 2 | H36: 1 | J36: 4
B37: (L1T2)D | C37: Monday | H37: 1 | I37: 1 | J37: 2
C38: Wednesday | F38: 1 | G38: 1 | H38: 1 | J38: 3
C39: Saturday | F39: 1 | J39: 1
B40: (L1T2)E | C40: Tuesday | F40: 1 | G40: 1 | I40: 1 | J40: 3
C41: Wednesday | H41: 1 | I41: 1 | J41: 2
C42: Saturday | I42: 1 | J42: 1
A43: L1T3 | B43: (L1T3) A | C43: Thursday | F43: 1 | G43: 1 | J43: 2
B44: (L1T3) B | C44: Tuesday | F44: 1 | G44: 1 | J44: 2
B45: (L1T3) C | C45: Monday | F45: 1 | G45: 1 | J45: 2
B46: (L1T3) D | C46: Sunday | F46: 1 | G46: 1 | J46: 2
B47: (L1T3)A | C47: Sunday | D47: 1 | E47: 1 | I47: 1 | J47: 3
C48: Monday | F48: 1 | G48: 1 | J48: 2
C49: Saturday | D49: 2 | E49: 1 | J49: 3
B50: (L1T3)B | C50: Sunday | E50: 1 | F50: 1 | G50: 1 | H50: 1 | J50: 4
C51: Monday | H51: 1 | J51: 1
C52: Tuesday | G52: 1 | J52: 1
C53: Wednesday | F53: 1 | G53: 1 | J53: 2
C54: Saturday | F54: 1 | H54: 1 | J54: 2
B55: (L1T3)C | C55: Sunday | G55: 1 | H55: 2 | J55: 3
C56: Tuesday | E56: 1 | J56: 1
C57: Saturday | E57: 1 | H57: 1 | J57: 2
B58: (L1T3)D | C58: Sunday | E58: 1 | J58: 1
C59: Monday | D59: 1 | E59: 1 | J59: 2
C60: Tuesday | D60: 1 | J60: 1
C61: Wednesday | E61: 1 | J61: 1
C62: Saturday | H62: 1 | J62: 1
A63: L2-T | B63: (L2-T1)A | C63: Wednesday | F63: 1 | G63: 1 | J63: 2
B64: (L2-T1)B | C64: Monday | F64: 1 | G64: 1 | J64: 2
C65: Wednesday | H65: 1 | I65: 1 | J65: 2
A66: L2T1 | B66: (L2T1)A | C66: Sunday | E66: 1 | F66: 1 | G66: 1 | H66: 1 | J66: 4
C67: Monday | D67: 1 | E67: 1 | F67: 1 | G67: 1 | I67: 1 | J67: 5
C68: Tuesday | E68: 1 | G68: 1 | I68: 1 | J68: 3
C69: Wednesday | D69: 1 | J69: 1
C70: Saturday | E70: 2 | F70: 1 | G70: 1 | H70: 1 | I70: 2 | J70: 7
B71: (L2T1)B | C71: Sunday | D71: 1 | E71: 1 | F71: 1 | G71: 1 | H71: 1 | I71: 1 | J71: 6
C72: Monday | E72: 1 | F72: 1 | H72: 1 | J72: 3
C73: Tuesday | D73: 1 | E73: 2 | I73: 1 | J73: 4
C74: Wednesday | E74: 1 | J74: 1
C75: Saturday | E75: 1 | F75: 1 | G75: 1 | J75: 3
B76: (L2T1)C | C76: Monday | H76: 1 | J76: 1
C77: Tuesday | F77: 1 | J77: 1
C78: Wednesday | I78: 1 | J78: 1
C79: Saturday | F79: 1 | J79: 1
B80: (L2T1)PC | C80: Tuesday | F80: 1 | G80: 1 | J80: 2
A81: L2T2 | B81: (L2T2)A | C81: Sunday | H81: 1 | J81: 1
C82: Monday | D82: 1 | F82: 1 | G82: 1 | H82: 1 | I82: 1 | J82: 5
C83: Tuesday | D83: 1 | J83: 1
C84: Wednesday | F84: 1 | G84: 1 | J84: 2
C85: Saturday | D85: 1 | E85: 1 | F85: 1 | G85: 1 | H85: 1 | J85: 5
B86: (L2T2)B | C86: Sunday | D86: 2 | E86: 1 | G86: 1 | H86: 2 | I86: 2 | J86: 8
C87: Monday | F87: 1 | G87: 1 | H87: 1 | I87: 1 | J87: 4
C88: Wednesday | G88: 1 | J88: 1
C89: Saturday | D89: 1 | E89: 1 | G89: 1 | J89: 3
B90: (L2T2)C | C90: Sunday | I90: 1 | J90: 1
C91: Monday | E91: 1 | J91: 1
C92: Tuesday | E92: 1 | J92: 1
C93: Wednesday | D93: 1 | F93: 1 | H93: 1 | I93: 1 | J93: 4
C94: Saturday | F94: 1 | G94: 1 | I94: 1 | J94: 3
A95: L2T3 | B95: (L2T3)A | C95: Sunday | F95: 1 | H95: 1 | J95: 2
C96: Tuesday | F96: 2 | G96: 2 | J96: 4
C97: Wednesday | E97: 1 | F97: 2 | G97: 1 | H97: 1 | I97: 1 | J97: 6
C98: Thursday | D98: 1 | J98: 1
C99: Saturday | E99: 1 | H99: 1 | I99: 1 | J99: 3
B100: (L2T3)B | C100: Sunday | H100: 1 | I100: 1 | J100: 2
C101: Monday | E101: 1 | F101: 1 | G101: 1 | J101: 3
C102: Tuesday | H102: 1 | J102: 1
C103: Wednesday | H103: 2 | J103: 2
...

Sheet student's movement
A2: LT | B2: L2T3
A4: Count of Course | D4: Class room
A5: Section | B5: Day | C5: Time | D5: 702 | E5: 704 | F5: 705 | G5: 707 | H5: 711 | I5: L-App | J5: L-Draw | K5: L-mec | L5: 801 | M5: 802 | N5: 808 | O5: Grand Total
A6: (L2T3)B | B6: Sunday | C6: 2:30-04:00 | F6: 1 | O6: 1
C7: 04:00-05:30 | H7: 1 | O7: 1
B8: Monday | C8: 10:00-11:30 | L8: 1 | O8: 1
C9: 11:30-01:00 | I9: 1 | O9: 1
C10: 01:00-02:30 | I10: 1 | O10: 1
B11: Tuesday | C11: 2:30-04:00 | L11: 1 | O11: 1
B12: Wednesday | C12: 2:30-04:00 | D12: 1 | N12: 1 | O12: 2
B13: Thursday | C13: 10:00-11:30 | N13: 1 | O13: 1
B14: Saturday | C14: 10:00-11:30 | L14: 1 | O14: 1
C15: 11:30-01:00 | D15: 1 | I15: 1 | M15: 1 | O15: 3
C16: 01:00-02:30 | E16: 1 | I16: 1 | O16: 2
C17: 2:30-04:00 | K17: 1 | O17: 1
C18: 04:00-05:30 | K18: 1 | O18: 1
A19: (L2T3)A | B19: Sunday | C19: 11:30-01:00 | G19: 1 | O19: 1
C20: 2:30-04:00 | H20: 1 | O20: 1
B21: Tuesday | C21: 11:30-01:00 | H21: 1 | L21: 1 | O21: 2
C22: 01:00-02:30 | E22: 1 | H22: 1 | O22: 2
B23: Wednesday | C23: 10:00-11:30 | L23: 1 | O23: 1
C24: 11:30-01:00 | D24: 1 | J24: 1 | O24: 2
C25: 01:00-02:30 | J25: 1 | O25: 1
C26: 2:30-04:00 | E26: 1 | O26: 1
C27: 04:00-05:30 | N27: 1 | O27: 1
B28: Thursday | C28: 08:30-10:00 | N28: 1 | O28: 1
B29: Saturday | C29: 10:00-11:30 | E29: 1 | O29: 1
C30: 2:30-04:00 | I30: 1 | O30: 1
C31: 04:00-05:30 | I31: 1 | O31: 1
A32: Grand Total | D32: 3 | E32: 4 | F32: 1 | G32: 1 | H32: 4 | I32: 6 | J32: 2 | K32: 2 | L32: 5 | M32: 1 | N32: 4 | O32: 33

Sheet Data
A1: ='Teacher''s routine'!B8 -> 0 | B1: No. of Classroom | C1: 12 | D1: 08:30-10:00 | E1: 10:00-11:30 | F1: 11:30-01:00 | G1: 01:00-02:30 | H1: 2:30-04:00 | I1: 04:00-05:30 | K1: 08:30-10:00 | L1: A | P1: Faculty List | R1: Faculty List
B2: Saturday | C2: 6 | D2: =IF($A$1=1,IFERROR(INDEX($A$10:$O$1069,MATCH(CONCATENATE($B2,D$1,$A$3),$J$10:$J$1069,0),15),""),IFERROR(INDEX($A$10:$O$1069,MATCH(CONCATENATE($B2,D$1,$A$5),$K$10:$K$1069,0),15),"")) | E2: =IF($A$1=1,IFERROR(INDEX($A$10:$O$1069,MATCH(CONCATENATE($B2,E$1,$A$3),$J$10:$J$1069,0),15),""),IFERROR(INDEX($A$10:$O$1069,MATCH(CONCATENATE($B2,E$1,$A$5),$K$10:$K$1069,0),15),"")) | F2: =IF($A$1=1,IFERROR(INDEX($A$10:$O$1069,MATCH(CONCATENATE($B2,F$1,$A$3),$J$10:$J$1069,0),15),""),IFERROR(INDEX($A$10:$O$1069,MATCH(CONCATENATE($B2,F$1,$A$5),$K$10:$K$1069,0),15),"")) | G2: =IF($A$1=1,IFERROR(INDEX($A$10:$O$1069,MATCH(CONCATENATE($B2,G$1,$A$3),$J$10:$J$1069,0),15),""),IFERROR(INDEX($A$10:$O$1069,MATCH(CONCATENATE($B2,G$1,$A$5),$K$10:$K$1069,0),15),"")) | H2: =IF($A$1=1,IFERROR(INDEX($A$10:$O$1069,MATCH(CONCATENATE($B2,H$1,$A$3),$J$10:$J$1069,0),15),""),IFERROR(INDEX($A$10:$O$1069,MATCH(CONCATENATE($B2,H$1,$A$5),$K$10:$K$1069,0),15),"")) | I2: =IF($A$1=1,IFERROR(INDEX($A$10:$O$1069,MATCH(CONCATENATE($B2,I$1,$A$3),$J$10:$J$1069,0),15),""),IFERROR(INDEX($A$10:$O$1069,MATCH(CONCATENATE($B2,I$1,$A$5),$K$10:$K$1069,0),15),"")) | K2: 10:00-11:30 | L2: D
A3: AI | B3: Sunday | C3: 39 | D3: =IF($A$1=1,IFERROR(INDEX($A$10:$O$1069,MATCH(CONCATENATE($B3,D$1,$A$3),$J$10:$J$1069,0),15),""),IFERROR(INDEX($A$10:$O$1069,MATCH(CONCATENATE($B3,D$1,$A$5),$K$10:$K$1069,0),15),"")) | E3: =IF($A$1=1,IFERROR(INDEX($A$10:$O$1069,MATCH(CONCATENATE($B3,E$1,$A$3),$J$10:$J$1069,0),15),""),IFERROR(INDEX($A$10:$O$1069,MATCH(CONCATENATE($B3,E$1,$A$5),$K$10:$K$1069,0),15),"")) | F3: =IF($A$1=1,IFERROR(INDEX($A$10:$O$1069,MATCH(CONCATENATE($B3,F$1,$A$3),$J$10:$J$1069,0),15),""),IFERROR(INDEX($A$10:$O$1069,MATCH(CONCATENATE($B3,F$1,$A$5),$K$10:$K$1069,0),15),"")) | G3: =IF($A$1=1,IFERROR(INDEX($A$10:$O$1069,MATCH(CONCATENATE($B3,G$1,$A$3),$J$10:$J$1069,0),15),""),IFERROR(INDEX($A$10:$O$1069,MATCH(CONCATENATE($B3,G$1,$A$5),$K$10:$K$1069,0),15),"")) | H3: =IF($A$1=1,IFERROR(INDEX($A$10:$O$1069,MATCH(CONCATENATE($B3,H$1,$A$3),$J$10:$J$1069,0),15),""),IFERROR(INDEX($A$10:$O$1069,MATCH(CONCATENATE($B3,H$1,$A$5),$K$10:$K$1069,0),15),"")) | I3: =IF($A$1=1,IFERROR(INDEX($A$10:$O$1069,MATCH(CONCATENATE($B3,I$1,$A$3),$J$10:$J$1069,0),15),""),IFERROR(INDEX($A$10:$O$1069,MATCH(CONCATENATE($B3,I$1,$A$5),$K$10:$K$1069,0),15),"")) | K3: 11:30-01:00 | L3: G | P3: Teacher | R3: Section | S3: 125
B4: Monday | C4: 77 | D4: =IF($A$1=1,IFERROR(INDEX($A$10:$O$1069,MATCH(CONCATENATE($B4,D$1,$A$3),$J$10:$J$1069,0),15),""),IFERROR(INDEX($A$10:$O$1069,MATCH(CONCATENATE($B4,D$1,$A$5),$K$10:$K$1069,0),15),"")) | E4: =IF($A$1=1,IFERROR(INDEX($A$10:$O$1069,MATCH(CONCATENATE($B4,E$1,$A$3),$J$10:$J$1069,0),15),""),IFERROR(INDEX($A$10:$O$1069,MATCH(CONCATENATE($B4,E$1,$A$5),$K$10:$K$1069,0),15),"")) | F4: =IF($A$1=1,IFERROR(INDEX($A$10:$O$1069,MATCH(CONCATENATE($B4,F$1,$A$3),$J$10:$J$1069,0),15),""),IFERROR(INDEX($A$10:$O$1069,MATCH(CONCATENATE($B4,F$1,$A$5),$K$10:$K$1069,0),15),"")) | G4: =IF($A$1=1,IFERROR(INDEX($A$10:$O$1069,MATCH(CONCATENATE($B4,G$1,$A$3),$J$10:$J$1069,0),15),""),IFERROR(INDEX($A$10:$O$1069,MATCH(CONCATENATE($B4,G$1,$A$5),$K$10:$K$1069,0),15),"")) | H4: =IF($A$1=1,IFERROR(INDEX($A$10:$O$1069,MATCH(CONCATENATE($B4,H$1,$A$3),$J$10:$J$1069,0),15),""),IFERROR(INDEX($A$10:$O$1069,MATCH(CONCATENATE($B4,H$1,$A$5),$K$10:$K$1069,0),15),"")) | I4: =IF($A$1=1,IFERROR(INDEX($A$10:$O$1069,MATCH(CONCATENATE($B4,I$1,$A$3),$J$10:$J$1069,0),15),""),IFERROR(INDEX($A$10:$O$1069,MATCH(CONCATENATE($B4,I$1,$A$5),$K$10:$K$1069,0),15),"")) | K4: 01:00-02:30 | L4: J | P4: 0 | R4: 0 | S4: 163
A5: (L3T2)C | B5: Tuesday | C5: 113 | D5: =IF($A$1=1,IFERROR(INDEX($A$10:$O$1069,MATCH(CONCATENATE($B5,D$1,$A$3),$J$10:$J$1069,0),15),""),IFERROR(INDEX($A$10:$O$1069,MATCH(CONCATENATE($B5,D$1,$A$5),$K$10:$K$1069,0),15),"")) | E5: =IF($A$1=1,IFERROR(INDEX($A$10:$O$1069,MATCH(CONCATENATE($B5,E$1,$A$3),$J$10:$J$1069,0),15),""),IFERROR(INDEX($A$10:$O$1069,MATCH(CONCATENATE($B5,E$1,$A$5),$K$10:$K$1069,0),15),"")) | F5: =IF($A$1=1,IFERROR(INDEX($A$10:$O$1069,MATCH(CONCATENATE($B5,F$1,$A$3),$J$10:$J$1069,0),15),""),IFERROR(INDEX($A$10:$O$1069,MATCH(CONCATENATE($B5,F$1,$A$5),$K$10:$K$1069,0),15),"")) | G5: =IF($A$1=1,IFERROR(INDEX($A$10:$O$1069,MATCH(CONCATENATE($B5,G$1,$A$3),$J$10:$J$1069,0),15),""),IFERROR(INDEX($A$10:$O$1069,MATCH(CONCATENATE($B5,G$1,$A$5),$K$10:$K$1069,0),15),"")) | H5: =IF($A$1=1,IFERROR(INDEX($A$10:$O$1069,MATCH(CONCATENATE($B5,H$1,$A$3),$J$10:$J$1069,0),15),""),IFERROR(INDEX($A$10:$O$1069,MATCH(CONCATENATE($B5,H$1,$A$5),$K$10:$K$1069,0),15),"")) | I5: =IF($A$1=1,IFERROR(INDEX($A$10:$O$1069,MATCH(CONCATENATE($B5,I$1,$A$3),$J$10:$J$1069,0),15),""),IFERROR(INDEX($A$10:$O$1069,MATCH(CONCATENATE($B5,I$1,$A$5),$K$10:$K$1069,0),15),"")) | K5: 2:30-04:00 | L5: M | P5: AAA | R5: (L4T1)A | S5: 199
B6: Wednesday | C6: 151 | D6: =IF($A$1=1,IFERROR(INDEX($A$10:$O$1069,MATCH(CONCATENATE($B6,D$1,$A$3),$J$10:$J$1069,0),15),""),IFERROR(INDEX($A$10:$O$1069,MATCH(CONCATENATE($B6,D$1,$A$5),$K$10:$K$1069,0),15),"")) | E6: =IF($A$1=1,IFERROR(INDEX($A$10:$O$1069,MATCH(CONCATENATE($B6,E$1,$A$3),$J$10:$J$1069,0),15),""),IFERROR(INDEX($A$10:$O$1069,MATCH(CONCATENATE($B6,E$1,$A$5),$K$10:$K$1069,0),15),"")) | F6: =IF($A$1=1,IFERROR(INDEX($A$10:$O$1069,MATCH(CONCATENATE($B6,F$1,$A$3),$J$10:$J$1069,0),15),""),IFERROR(INDEX($A$10:$O$1069,MATCH(CONCATENATE($B6,F$1,$A$5),$K$10:$K$1069,0),15),"")) | G6: =IF($A$1=1,IFERROR(INDEX($A$10:$O$1069,MATCH(CONCATENATE($B6,G$1,$A$3),$J$10:$J$1069,0),15),""),IFERROR(INDEX($A$10:$O$1069,MATCH(CONCATENATE($B6,G$1,$A$5),$K$10:$K$1069,0),15),"")) | H6: =IF($A$1=1,IFERROR(INDEX($A$10:$O$1069,MATCH(CONCATENATE($B6,H$1,$A$3),$J$10:$J$1069,0),15),""),IFERROR(INDEX($A$10:$O$1069,MATCH(CONCATENATE($B6,H$1,$A$5),$K$10:$K$1069,0),15),"")) | I6: =IF($A$1=1,IFERROR(INDEX($A$10:$O$1069,MATCH(CONCATENATE($B6,I$1,$A$3),$J$10:$J$1069,0),15),""),IFERROR(INDEX($A$10:$O$1069,MATCH(CONCATENATE($B6,I$1,$A$5),$K$10:$K$1069,0),15),"")) | K6: 04:00-05:30 | L6: P | P6: AAM | R6: (L2T2)C
B7: Thursday | C7: 187 | D7: =IF($A$1=1,IFERROR(INDEX($A$10:$O$1069,MATCH(CONCATENATE($B7,D$1,$A$3),$J$10:$J$1069,0),15),""),IFERROR(INDEX($A$10:$O$1069,MATCH(CONCATENATE($B7,D$1,$A$5),$K$10:$K$1069,0),15),"")) | E7: =IF($A$1=1,IFERROR(INDEX($A$10:$O$1069,MATCH(CONCATENATE($B7,E$1,$A$3),$J$10:$J$1069,0),15),""),IFERROR(INDEX($A$10:$O$1069,MATCH(CONCATENATE($B7,E$1,$A$5),$K$10:$K$1069,0),15),"")) | F7: =IF($A$1=1,IFERROR(INDEX($A$10:$O$1069,MATCH(CONCATENATE($B7,F$1,$A$3),$J$10:$J$1069,0),15),""),IFERROR(INDEX($A$10:$O$1069,MATCH(CONCATENATE($B7,F$1,$A$5),$K$10:$K$1069,0),15),"")) | G7: =IF($A$1=1,IFERROR(INDEX($A$10:$O$1069,MATCH(CONCATENATE($B7,G$1,$A$3),$J$10:$J$1069,0),15),""),IFERROR(INDEX($A$10:$O$1069,MATCH(CONCATENATE($B7,G$1,$A$5),$K$10:$K$1069,0),15),"")) | H7: =IF($A$1=1,IFERROR(INDEX($A$10:$O$1069,MATCH(CONCATENATE($B7,H$1,$A$3),$J$10:$J$1069,0),15),""),IFERROR(INDEX($A$10:$O$1069,MATCH(CONCATENATE($B7,H$1,$A$5),$K$10:$K$1069,0),15),"")) | I7: =IF($A$1=1,IFERROR(INDEX($A$10:$O$1069,MATCH(CONCATENATE($B7,I$1,$A$3),$J$10:$J$1069,0),15),""),IFERROR(INDEX($A$10:$O$1069,MATCH(CONCATENATE($B7,I$1,$A$5),$K$10:$K$1069,0),15),"")) | P7: AAT | R7: (L1T3)A
P8: AG | R8: (L1T3)B
P9: AHM | R9: (L3T1)B
A10: Sl | B10: Day | C10: Time | D10: Ref. | E10: Ref | F10: Class room | G10: Course | H10: Teacher | I10: Section | J10: Code 1 | K10: Code 2 | L10: Duplicate | M10: LT | N10: CLASS/LAB | O10: CODE3 | P10: AHR | R10: (L3T3)B
A11: 1 | B11: Saturday | C11: =LOOKUP(D11,$L$1:$L$6,$K$1:$K$6) -> 08:30-10:00 | D11: A | E11: =$C$2 -> 6 | F11: =INDIRECT(CONCATENATE("Sheet1!",CHAR(CODE(D11)),E11),1) -> 701 | G11: =INDIRECT(CONCATENATE("Sheet1!",CHAR(CODE(D11)+1),E11),1) -> 0 | H11: =INDIRECT(CONCATENATE("Sheet1!",CHAR(CODE(D11)+2),E11),1) -> 0 | I11: =IFERROR(MID(G11,SEARCH("(",G11,1),12),G11) -> 0 | J11: =CONCATENATE(B11,C11,H11) -> Saturday08:30-10:000 | K11: =CONCATENATE(B11,C11,I11) -> Saturday08:30-10:000 | L11: =COUNTIFS($J$11:$J$1051,J11) -> 34 | M11: =IFERROR(MID(I11,2,4),I11) | O11: =CONCATENATE(G11,CHAR(10),F11," --- ",H11) -> 0 701 --- 0 | P11: AI | R11: (L3T3)A
A12: 2 | B12: Saturday | C12: =LOOKUP(D12,$L$1:$L$6,$K$1:$K$6) -> 08:30-10:00 | D12: A | E12: =E11+1 -> 7 | F12: =INDIRECT(CONCATENATE("Sheet1!",CHAR(CODE(D12)),E12),1) -> 702 | G12: =INDIRECT(CONCATENATE("Sheet1!",CHAR(CODE(D12)+1),E12),1) -> 0 | H12: =INDIRECT(CONCATENATE("Sheet1!",CHAR(CODE(D12)+2),E12),1) -> 0 | I12: =IFERROR(MID(G12,SEARCH("(",G12,1),12),G12) -> 0 | J12: =CONCATENATE(B12,C12,H12) -> Saturday08:30-10:000 | K12: =CONCATENATE(B12,C12,I12) -> Saturday08:30-10:000 | L12: =COUNTIFS($J$11:$J$1051,J12) -> 34 | M12: =IFERROR(MID(I12,2,4),I12) | O12: =CONCATENATE(G12,CHAR(10),F12," --- ",H12) -> 0 702 --- 0 | P12: AN | R12: (L3T2)A
A13: 3 | B13: Saturday | C13: =LOOKUP(D13,$L$1:$L$6,$K$1:$K$6) -> 08:30-10:00 | D13: A | E13: =E12+1 -> 8 | F13: =INDIRECT(CONCATENATE("Sheet1!",CHAR(CODE(D13)),E13),1) -> 703 | G13: =INDIRECT(CONCATENATE("Sheet1!",CHAR(CODE(D13)+1),E13),1) -> GED | H13: =INDIRECT(CONCATENATE("Sheet1!",CHAR(CODE(D13)+2),E13),1) -> 0 | I13: =IFERROR(MID(G13,SEARCH("(",G13,1),12),G13) -> GED | J13: =CONCATENATE(B13,C13,H13) -> Saturday08:30-10:000 | K13: =CONCATENATE(B13,C13,I13) -> Saturday08:30-10:00GED | L13: =COUNTIFS($J$11:$J$1051,J13) -> 34 | M13: =IFERROR(MID(I13,2,4),I13) -> ED | O13: =CONCATENATE(G13,CHAR(10),F13," --- ",H13) -> GED 703 --- 0 | P13: FBS | R13: (L3T2)B
A14: 4 | B14: Saturday | C14: =LOOKUP(D14,$L$1:$L$6,$K$1:$K$6) -> 08:30-10:00 | D14: A | E14: =E13+1 -> 9 | F14: =INDIRECT(CONCATENATE("Sheet1!",CHAR(CODE(D14)),E14),1) -> 704 | G14: =INDIRECT(CONCATENATE("Sheet1!",CHAR(CODE(D14)+1),E14),1) -> 0 | H14: =INDIRECT(CONCATENATE("Sheet1!",CHAR(CODE(D14)+2),E14),1) -> 0 | I14: =IFERROR(MID(G14,SEARCH("(",G14,1),12),G14) -> 0 | J14: =CONCATENATE(B14,C14,H14) -> Saturday08:30-10:000 | K14: =CONCATENATE(B14,C14,I14) -> Saturday08:30-10:000 | L14: =COUNTIFS($J$11:$J$1051,J14) -> 34 | M14: =IFERROR(MID(I14,2,4),I14) | O14: =CONCATENATE(G14,CHAR(10),F14," --- ",H14) -> 0 704 --- 0 | P14: FHA | R14: (L2T3)B
A15: 5 | B15: Saturday | C15: =LOOKUP(D15,$L$1:$L$6,$K$1:$K$6) -> 08:30-10:00 | D15: A | E15: =E14+1 -> 10 | F15: =INDIRECT(CONCATENATE("Sheet1!",CHAR(CODE(D15)),E15),1) -> 705 | G15: =INDIRECT(CONCATENATE("Sheet1!",CHAR(CODE(D15)+1),E15),1) -> 0 | H15: =INDIRECT(CONCATENATE("Sheet1!",CHAR(CODE(D15)+2),E15),1) -> 0 | I15: =IFERROR(MID(G15,SEARCH("(",G15,1),12),G15) -> 0 | J15: =CONCATENATE(B15,C15,H15) -> Saturday08:30-10:000 | K15: =CONCATENATE(B15,C15,I15) -> Saturday08:30-10:000 | L15: =COUNTIFS($J$11:$J$1051,J15) -> 34 | M15: =IFERROR(MID(I15,2,4),I15) | O15: =CONCATENATE(G15,CHAR(10),F15," --- ",H15) -> 0 705 --- 0 | P15: FHS | R15: (L2T1)A
A16: 6 | B16: Saturday | C16: =LOOKUP(D16,$L$1:$L$6,$K$1:$K$6) -> 08:30-10:00 | D16: A | E16: =E15+1 -> 11 | F16: =INDIRECT(CONCATENATE("Sheet1!",CHAR(CODE(D16)),E16),1) -> 711 | G16: =INDIRECT(CONCATENATE("Sheet1!",CHAR(CODE(D16)+1),E16),1) -> 0 | H16: =INDIRECT(CONCATENATE("Sheet1!",CHAR(CODE(D16)+2),E16),1) -> 0 | I16: =IFERROR(MID(G16,SEARCH("(",G16,1),12),G16) -> 0 | J16: =CONCATENATE(B16,C16,H16) -> Saturday08:30-10:000 | K16: =CONCATENATE(B16,C16,I16) -> Saturday08:30-10:000 | L16: =COUNTIFS($J$11:$J$1051,J16) -> 34 | M16: =IFERROR(MID(I16,2,4),I16) | O16: =CONCATENATE(G16,CHAR(10),F16," --- ",H16) -> 0 711 --- 0 | P16: FS | R16: (L2T1)B
A17: 7 | B17: Saturday | C17: =LOOKUP(D17,$L$1:$L$6,$K$1:$K$6) -> 08:30-10:00 | D17: A | E17: =E16+1 -> 12 | F17: =INDIRECT(CONCATENATE("Sheet1!",CHAR(CODE(D17)),E17),1) -> 712 | G17: =INDIRECT(CONCATENATE("Sheet1!",CHAR(CODE(D17)+1),E17),1) -> 0 | H17: =INDIRECT(CONCATENATE("Sheet1!",CHAR(CODE(D17)+2),E17),1) -> 0 | I17: =IFERROR(MID(G17,SEARCH("(",G17,1),12),G17) -> 0 | J17: =CONCATENATE(B17,C17,H17) -> Saturday08:30-10:000 | K17: =CONCATENATE(B17,C17,I17) -> Saturday08:30-10:000 | L17: =COUNTIFS($J$11:$J$1051,J17) -> 34 | M17: =IFERROR(MID(I17,2,4),I17) | O17: =CONCATENATE(G17,CHAR(10),F17," --- ",H17) -> 0 712 --- 0 | P17: GC | R17: (L2T3)A
A18: 8 | B18: Saturday | C18: =LOOKUP(D18,$L$1:$L$6,$K$1:$K$6) -> 08:30-10:00 | D18: A | E18: =E17+1 -> 13 | F18: =INDIRECT(CONCATENATE("Sheet1!",CHAR(CODE(D18)),E18),1) -> 0 | G18: =INDIRECT(CONCATENATE("Sheet1!",CHAR(CODE(D18)+1),E18),1) -> 0 | H18: =INDIRECT(CONCATENATE("Sheet1!",CHAR(CODE(D18)+2),E18),1) -> 0 | I18: =IFERROR(MID(G18,SEARCH("(",G18,1),12),G18) -> 0 | J18: =CONCATENATE(B18,C18,H18) -> Saturday08:30-10:000 | K18: =CONCATENATE(B18,C18,I18) -> Saturday08:30-10:000 | L18: =COUNTIFS($J$11:$J$1051,J18) -> 34 | M18: =IFERROR(MID(I18,2,4),I18) | O18: =CONCATENATE(G18,CHAR(10),F18," --- ",H18) -> 0 0 --- 0 | P18: IUZ | R18: (L2T2)B
A19: 9 | B19: Saturday | C19: =LOOKUP(D19,$L$1:$L$6,$K$1:$K$6) -> 08:30-10:00 | D19: A | E19: =E18+1 -> 14 | F19: =INDIRECT(CONCATENATE("Sheet1!",CHAR(CODE(D19)),E19),1) -> 0 | G19: =INDIRECT(CONCATENATE("Sheet1!",CHAR(CODE(D19)+1),E19),1) -> 0 | H19: =INDIRECT(CONCATENATE("Sheet1!",CHAR(CODE(D19)+2),E19),1) -> 0 | I19: =IFERROR(MID(G19,SEARCH("(",G19,1),12),G19) -> 0 | J19: =CONCATENATE(B19,C19,H19) -> Saturday08:30-10:000 | K19: =CONCATENATE(B19,C19,I19) -> Saturday08:30-10:000 | L19: =COUNTIFS($J$11:$J$1051,J19) -> 34 | M19: =IFERROR(MID(I19,2,4),I19) | O19: =CONCATENATE(G19,CHAR(10),F19," --- ",H19) -> 0 0 --- 0 | P19: JH | R19: (L2T2)A
A20: 10 | B20: Saturday | C20: =LOOKUP(D20,$L$1:$L$6,$K$1:$K$6) -> 08:30-10:00 | D20: A | E20: =E19+1 -> 15 | F20: =INDIRECT(CONCATENATE("Sheet1!",CHAR(CODE(D20)),E20),1) -> 0 | G20: =INDIRECT(CONCATENATE("Sheet1!",CHAR(CODE(D20)+1),E20),1) -> 0 | H20: =INDIRECT(CONCATENATE("Sheet1!",CHAR(CODE(D20)+2),E20),1) -> 0 | I20: =IFERROR(MID(G20,SEARCH("(",G20,1),12),G20) -> 0 | J20: =CONCATENATE(B20,C20,H20) -> Saturday08:30-10:000 | K20: =CONCATENATE(B20,C20,I20) -> Saturday08:30-10:000 | L20: =COUNTIFS($J$11:$J$1051,J20) -> 34 | M20: =IFERROR(MID(I20,2,4),I20) | O20: =CONCATENATE(G20,CHAR(10),F20," --- ",H20) -> 0 0 --- 0 | P20: KZ | R20: (L4T1)B
A21: 11 | B21: Saturday | C21: =LOOKUP(D21,$L$1:$L$6,$K$1:$K$6) -> 08:30-10:00 | D21: A | E21: =E20+1 -> 16 | F21: =INDIRECT(CONCATENATE("Sheet1!",CHAR(CODE(D21)),E21),1) -> L-Yarn1 | G21: =INDIRECT(CONCATENATE("Sheet1!",CHAR(CODE(D21)+1),E21),1) -> 0 | H21: =INDIRECT(CONCATENATE("Sheet1!",CHAR(CODE(D21)+2),E21),1) -> 0 | I21: =IFERROR(MID(G21,SEARCH("(",G21,1),12),G21) -> 0 | J21: =CONCATENATE(B21,C21,H21) -> Saturday08:30-10:000 | K21: =CONCATENATE(B21,C21,I21) -> Saturday08:30-10:000 | L21: =COUNTIFS($J$11:$J$1051,J21) -> 34 | M21: =IFERROR(MID(I21,2,4),I21) | O21: =CONCATENATE(G21,CHAR(10),F21," --- ",H21) -> 0 L-Yarn1 --- 0 | P21: MAB | R21: (L3T2)C
A22: 12 | B22: Saturday | C22: =LOOKUP(D22,$L$1:$L$6,$K$1:$K$6) -> 08:30-10:00 | D22: A | E22: =E21+1 -> 17 | F22: =INDIRECT(CONCATENATE("Sheet1!",CHAR(CODE(D22)),E22),1) -> L-Yarn2 | G22: =INDIRECT(CONCATENATE("Sheet1!",CHAR(CODE(D22)+1),E22),1) -> 0 | H22: =INDIRECT(CONCATENATE("Sheet1!",CHAR(CODE(D22)+2),E22),1) -> 0 | I22: =IFERROR(MID(G22,SEARCH("(",G22,1),12),G22) -> 0 | J22: =CONCATENATE(B22,C22,H22) -> Saturday08:30-10:000 | K22: =CONCATENATE(B22,C22,I22) -> Saturday08:30-10:000 | L22: =COUNTIFS($J$11:$J$1051,J22) -> 34 | M22: =IFERROR(MID(I22,2,4),I22) | O22: =CONCATENATE(G22,CHAR(10),F22," --- ",H22) -> 0 L-Yarn2 --- 0 | P22: MDN | R22: (L1T2)A
A23: 13 | B23: Saturday | C23: =LOOKUP(D23,$L$1:$L$6,$K$1:$K$6) -> 08:30-10:00 | D23: A | E23: =E22+1 -> 18 | F23: =INDIRECT(CONCATENATE("Sheet1!",CHAR(CODE(D23)),E23),1) -> L-Fab | G23: =INDIRECT(CONCATENATE("Sheet1!",CHAR(CODE(D23)+1),E23),1) -> 0 | H23: =INDIRECT(CONCATENATE("Sheet1!",CHAR(CODE(D23)+2),E23),1) -> 0 | I23: =IFERROR(MID(G23,SEARCH("(",G23,1),12),G23) -> 0 | J23: =CONCATENATE(B23,C23,H23) -> Saturday08:30-10:000 | K23: =CONCATENATE(B23,C23,I23) -> Saturday08:30-10:000 | L23: =COUNTIFS($J$11:$J$1051,J23) -> 34 | M23: =IFERROR(MID(I23,2,4),I23) | O23: =CONCATENATE(G23,CHAR(10),F23," --- ",H23) -> 0 L-Fab --- 0 | P23: MH | R23: (L1T2)B
... A30: 20 | B30: Saturday | C30: =LOOKUP(D30,$L$1:$L$6,$K$1:$K$6) -> 08:30-10:00 | D30: A | E30: =E29+1 -> 25 | F30: =INDIRECT(CONCATENATE("Sheet1!",CHAR(CODE(D30)),E30),1) -> L-Elec 505 | G30: =INDIRECT(CONCATENATE("Sheet1!",CHAR(CODE(D30)+1),E30),1) -> 0 | H30: =INDIRECT(CONCATENATE("Sheet1!",CHAR(CODE(D30)+2),E30),1) -> 0 | I30: =IFERROR(MID(G30,SEARCH("(",G30,1),12),G30) -> 0 | J30: =CONCATENATE(B30,C30,H30) -> Saturday08:30-10:000 | K30: =CONCATENATE(B30,C30,I30) -> Saturday08:30-10:000 | L30: =COUNTIFS($J$11:$J$1051,J30) -> 34 | M30: =IFERROR(MID(I30,2,4),I30) | O30: =CONCATENATE(G30,CHAR(10),F30," --- ",H30) -> 0 L-Elec 505 --- 0 | P30: MR1 | R30: (L3T2) A
A31: 21 | B31: Saturday | C31: =LOOKUP(D31,$L$1:$L$6,$K$1:$K$6) -> 08:30-10:00 | D31: A | E31: =E30+1 -> 26 | F31: =INDIRECT(CONCATENATE("Sheet1!",CHAR(CODE(D31)),E31),1) -> 0 | G31: =INDIRECT(CONCATENATE("Sheet1!",CHAR(CODE(D31)+1),E31),1) -> 0 | H31: =INDIRECT(CONCATENATE("Sheet1!",CHAR(CODE(D31)+5),E31),1) -> 0 | I31: =IFERROR(MID(G31,SEARCH("(",G31,1),12),G31) -> 0 | J31: =CONCATENATE(B31,C31,H31) -> Saturday08:30-10:000 | K31: =CONCATENATE(B31,C31,I31) -> Saturday08:30-10:000 | L31: =COUNTIFS($J$11:$J$1051,J31) -> 34 | M31: =IFERROR(MID(I31,2,4),I31) | O31: =CONCATENATE(G31,CHAR(10),F31," --- ",H31) -> 0 0 --- 0 | P31: MRH | R31: (L1T3)C
A32: 22 | B32: Saturday | C32: =LOOKUP(D32,$L$1:$L$6,$K$1:$K$6) -> 08:30-10:00 | D32: A | E32: =E31+1 -> 27 | F32: =INDIRECT(CONCATENATE("Sheet1!",CHAR(CODE(D32)),E32),1) -> 502 | G32: =INDIRECT(CONCATENATE("Sheet1!",CHAR(CODE(D32)+1),E32),1) -> 0 | H32: =INDIRECT(CONCATENATE("Sheet1!",CHAR(CODE(D32)+5),E32),1) -> 0 | I32: =IFERROR(MID(G32,SEARCH("(",G32,1),12),G32) -> 0 | J32: =CONCATENATE(B32,C32,H32) -> Saturday08:30-10:000 | K32: =CONCATENATE(B32,C32,I32) -> Saturday08:30-10:000 | L32: =COUNTIFS($J$11:$J$1051,J32) -> 34 | M32: =IFERROR(MID(I32,2,4),I32) | O32: =CONCATENATE(G32,CHAR(10),F32," --- ",H32) -> 0 502 --- 0 | P32: MRK | R32: (L3T2) B
A33: 23 | B33: Saturday | C33: =LOOKUP(D33,$L$1:$L$6,$K$1:$K$6) -> 08:30-10:00 | D33: A | E33: =E32+1 -> 28 | F33: =INDIRECT(CONCATENATE("Sheet1!",CHAR(CODE(D33)),E33),1) -> L-Chem | G33: =INDIRECT(CONCATENATE("Sheet1!",CHAR(CODE(D33)+1),E33),1) -> 0 | H33: =INDIRECT(CONCATENATE("Sheet1!",CHAR(CODE(D33)+5),E33),1) -> 0 | I33: =IFERROR(MID(G33,SEARCH("(",G33,1),12),G33) -> 0 | J33: =CONCATENATE(B33,C33,H33) -> Saturday08:30-10:000 | K33: =CONCATENATE(B33,C33,I33) -> Saturday08:30-10:000 | L33: =COUNTIFS($J$11:$J$1051,J33) -> 34 | M33: =IFERROR(MID(I33,2,4),I33) | O33: =CONCATENATE(G33,CHAR(10),F33," --- ",H33) -> 0 L-Chem --- 0 | P33: MRR | R33: (L3T1) A
A34: 24 | B34: Saturday | C34: =LOOKUP(D34,$L$1:$L$6,$K$1:$K$6) -> 08:30-10:00 | D34: A | E34: =E33+1 -> 29 | F34: =INDIRECT(CONCATENATE("Sheet1!",CHAR(CODE(D34)),E34),1) -> 0 | G34: =INDIRECT(CONCATENATE("Sheet1!",CHAR(CODE(D34)+1),E34),1) -> 0 | H34: =INDIRECT(CONCATENATE("Sheet1!",CHAR(CODE(D34)+5),E34),1) -> 0 | I34: =IFERROR(MID(G34,SEARCH("(",G34,1),12),G34) -> 0 | J34: =CONCATENATE(B34,C34,H34) -> Saturday08:30-10:000 | K34: =CONCATENATE(B34,C34,I34) -> Saturday08:30-10:000 | L34: =COUNTIFS($J$11:$J$1051,J34) -> 34 | M34: =IFERROR(MID(I34,2,4),I34) | O34: =CONCATENATE(G34,CHAR(10),F34," --- ",H34) -> 0 0 --- 0 | P34: NF | R34: (L3T3)C
A35: 25 | B35: Saturday | C35: =LOOKUP(D35,$L$1:$L$6,$K$1:$K$6) -> 08:30-10:00 | D35: A | E35: =E34+1 -> 30 | F35: =INDIRECT(CONCATENATE("Sheet1!",CHAR(CODE(D35)),E35),1) -> 0 | G35: =INDIRECT(CONCATENATE("Sheet1!",CHAR(CODE(D35)+1),E35),1) -> 0 | H35: =INDIRECT(CONCATENATE("Sheet1!",CHAR(CODE(D35)+5),E35),1) -> 0 | I35: =IFERROR(MID(G35,SEARCH("(",G35,1),12),G35) -> 0 | J35: =CONCATENATE(B35,C35,H35) -> Saturday08:30-10:000 | K35: =CONCATENATE(B35,C35,I35) -> Saturday08:30-10:000 | L35: =COUNTIFS($J$11:$J$1051,J35) -> 34 | M35: =IFERROR(MID(I35,2,4),I35) | O35: =CONCATENATE(G35,CHAR(10),F35," --- ",H35) -> 0 0 --- 0 | P35: NHM | R35: (L1T3)D
A36: 26 | B36: Saturday | C36: =LOOKUP(D36,$L$1:$L$6,$K$1:$K$6) -> 08:30-10:00 | D36: A | E36: =E35+1 -> 31 | F36: =INDIRECT(CONCATENATE("Sheet1!",CHAR(CODE(D36)),E36),1) -> 0 | G36: =INDIRECT(CONCATENATE("Sheet1!",CHAR(CODE(D36)+1),E36),1) -> 0 | H36: =INDIRECT(CONCATENATE("Sheet1!",CHAR(CODE(D36)+5),E36),1) -> 0 | I36: =IFERROR(MID(G36,SEARCH("(",G36,1),12),G36) -> 0 | J36: =CONCATENATE(B36,C36,H36) -> Saturday08:30-10:000 | K36: =CONCATENATE(B36,C36,I36) -> Saturday08:30-10:000 | L36: =COUNTIFS($J$11:$J$1051,J36) -> 34 | M36: =IFERROR(MID(I36,2,4),I36) | O36: =CONCATENATE(G36,CHAR(10),F36," --- ",H36) -> 0 0 --- 0 | P36: NL1 | R36: (L1T2)E
A37: 27 | B37: Saturday | C37: =LOOKUP(D37,$L$1:$L$6,$K$1:$K$6) -> 08:30-10:00 | D37: A | E37: =E36+1 -> 32 | F37: =INDIRECT(CONCATENATE("Sheet1!",CHAR(CODE(D37)),E37),1) -> 0 | G37: =INDIRECT(CONCATENATE("Sheet1!",CHAR(CODE(D37)+1),E37),1) -> 0 | H37: =INDIRECT(CONCATENATE("Sheet1!",CHAR(CODE(D37)+5),E37),1) -> 0 | I37: =IFERROR(MID(G37,SEARCH("(",G37,1),12),G37) -> 0 | J37: =CONCATENATE(B37,C37,H37) -> Saturday08:30-10:000 | K37: =CONCATENATE(B37,C37,I37) -> Saturday08:30-10:000 | L37: =COUNTIFS($J$11:$J$1051,J37) -> 34 | M37: =IFERROR(MID(I37,2,4),I37) | O37: =CONCATENATE(G37,CHAR(10),F37," --- ",H37) -> 0 0 --- 0 | P37: NL3 | R37: (L4T1)
A38: 28 | B38: Saturday | C38: =LOOKUP(D38,$L$1:$L$6,$K$1:$K$6) -> 08:30-10:00 | D38: A | E38: =E37+1 -> 33 | F38: =INDIRECT(CONCATENATE("Sheet1!",CHAR(CODE(D38)),E38),1) -> 0 | G38: =INDIRECT(CONCATENATE("Sheet1!",CHAR(CODE(D38)+1),E38),1) -> 0 | H38: =INDIRECT(CONCATENATE("Sheet1!",CHAR(CODE(D38)+5),E38),1) -> 0 | I38: =IFERROR(MID(G38,SEARCH("(",G38,1),12),G38) -> 0 | J38: =CONCATENATE(B38,C38,H38) -> Saturday08:30-10:000 | K38: =CONCATENATE(B38,C38,I38) -> Saturday08:30-10:000 | L38: =COUNTIFS($J$11:$J$1051,J38) -> 34 | M38: =IFERROR(MID(I38,2,4),I38) | O38: =CONCATENATE(G38,CHAR(10),F38," --- ",H38) -> 0 0 --- 0 | P38: NRD | R38: (L1T3) D
A39: 29 | B39: Saturday | C39: =LOOKUP(D39,$L$1:$L$6,$K$1:$K$6) -> 08:30-10:00 | D39: A | E39: =E38+1 -> 34 | F39: =INDIRECT(CONCATENATE("Sheet1!",CHAR(CODE(D39)),E39),1) -> 0 | G39: =INDIRECT(CONCATENATE("Sheet1!",CHAR(CODE(D39)+1),E39),1) -> 0 | H39: =INDIRECT(CONCATENATE("Sheet1!",CHAR(CODE(D39)+5),E39),1) -> 0 | I39: =IFERROR(MID(G39,SEARCH("(",G39,1),12),G39) -> 0 | J39: =CONCATENATE(B39,C39,H39) -> Saturday08:30-10:000 | K39: =CONCATENATE(B39,C39,I39) -> Saturday08:30-10:000 | L39: =COUNTIFS($J$11:$J$1051,J39) -> 34 | M39: =IFERROR(MID(I39,2,4),I39) | O39: =CONCATENATE(G39,CHAR(10),F39," --- ",H39) -> 0 0 --- 0 | P39: PT | R39: xxxxxxxx
A40: 30 | B40: Saturday | C40: =LOOKUP(D40,$L$1:$L$6,$K$1:$K$6) -> 08:30-10:00 | D40: A | E40: =E39+1 -> 35 | F40: =INDIRECT(CONCATENATE("Sheet1!",CHAR(CODE(D40)),E40),1) -> Sunday | G40: =INDIRECT(CONCATENATE("Sheet1!",CHAR(CODE(D40)+1),E40),1) -> 0 | H40: =INDIRECT(CONCATENATE("Sheet1!",CHAR(CODE(D40)+5),E40),1) -> 0 | I40: =IFERROR(MID(G40,SEARCH("(",G40,1),12),G40) -> 0 | J40: =CONCATENATE(B40,C40,H40) -> Saturday08:30-10:000 | K40: =CONCATENATE(B40,C40,I40) -> Saturday08:30-10:000 | L40: =COUNTIFS($J$11:$J$1051,J40) -> 34 | M40: =IFERROR(MID(I40,2,4),I40) | O40: =CONCATENATE(G40,CHAR(10),F40," --- ",H40) -> 0 Sunday --- 0 | P40: RA | R40: UC
A41: 31 | B41: Saturday | C41: =LOOKUP(D41,$L$1:$L$6,$K$1:$K$6) -> 08:30-10:00 | D41: A | E41: =E40+1 -> 36 | F41: =INDIRECT(CONCATENATE("Sheet1!",CHAR(CODE(D41)),E41),1) -> 08:30-10:00 | G41: =INDIRECT(CONCATENATE("Sheet1!",CHAR(CODE(D41)+1),E41),1) -> 0 | H41: =INDIRECT(CONCATENATE("Sheet1!",CHAR(CODE(D41)+5),E41),1) -> 0 | I41: =IFERROR(MID(G41,SEARCH("(",G41,1),12),G41) -> 0 | J41: =CONCATENATE(B41,C41,H41) -> Saturday08:30-10:000 | K41: =CONCATENATE(B41,C41,I41) -> Saturday08:30-10:000 | L41: =COUNTIFS($J$11:$J$1051,J41) -> 34 | M41: =IFERROR(MID(I41,2,4),I41) | O41: =CONCATENATE(G41,CHAR(10),F41," --- ",H41) -> 0 08:30-10:00 --- 0 | P41: RHK
A42: 32 | B42: Saturday | C42: =LOOKUP(D42,$L$1:$L$6,$K$1:$K$6) -> 08:30-10:00 | D42: A | E42: =E41+1 -> 37 | F42: =INDIRECT(CONCATENATE("Sheet1!",CHAR(CODE(D42)),E42),1) -> Class | G42: =INDIRECT(CONCATENATE("Sheet1!",CHAR(CODE(D42)+1),E42),1) -> Course | H42: =INDIRECT(CONCATENATE("Sheet1!",CHAR(CODE(D42)+5),E42),1) -> 0 | I42: =IFERROR(MID(G42,SEARCH("(",G42,1),12),G42) -> Course | J42: =CONCATENATE(B42,C42,H42) -> Saturday08:30-10:000 | K42: =CONCATENATE(B42,C42,I42) -> Saturday08:30-10:00Course | L42: =COUNTIFS($J$11:$J$1051,J42) -> 34 | M42: =IFERROR(MID(I42,2,4),I42) -> ours | O42: =CONCATENATE(G42,CHAR(10),F42," --- ",H42) -> Course Class --- 0 | P42: RI
A43: 33 | B43: Saturday | C43: =LOOKUP(D43,$L$1:$L$6,$K$1:$K$6) -> 08:30-10:00 | D43: A | E43: =E42+1 -> 38 | F43: =INDIRECT(CONCATENATE("Sheet1!",CHAR(CODE(D43)),E43),1) -> 701 | G43: =INDIRECT(CONCATENATE("Sheet1!",CHAR(CODE(D43)+1),E43),1) -> 0 | H43: =INDIRECT(CONCATENATE("Sheet1!",CHAR(CODE(D43)+5),E43),1) -> 0 | I43: =IFERROR(MID(G43,SEARCH("(",G43,1),12),G43) -> 0 | J43: =CONCATENATE(B43,C43,H43) -> Saturday08:30-10:000 | K43: =CONCATENATE(B43,C43,I43) -> Saturday08:30-10:000 | L43: =COUNTIFS($J$11:$J$1051,J43) -> 34 | M43: =IFERROR(MID(I43,2,4),I43) | O43: =CONCATENATE(G43,CHAR(10),F43," --- ",H43) -> 0 701 --- 0 | P43: RKH | R43: (L3T2)D
A44: 34 | B44: Saturday | C44: =LOOKUP(D44,$L$1:$L$6,$K$1:$K$6) -> 08:30-10:00 | D44: A | E44: =E43+1 -> 39 | F44: =INDIRECT(CONCATENATE("Sheet1!",CHAR(CODE(D44)),E44),1) -> 702 | G44: =INDIRECT(CONCATENATE("Sheet1!",CHAR(CODE(D44)+1),E44),1) -> TE419(L4T1) A | H44: =INDIRECT(CONCATENATE("Sheet1!",CHAR(CODE(D44)+5),E44),1) -> 0 | I44: =IFERROR(MID(G44,SEARCH("(",G44,1),12),G44) -> (L4T1) A | J44: =CONCATENATE(B44,C44,H44) -> Saturday08:30-10:000 | K44: =CONCATENATE(B44,C44,I44) -> Saturday08:30-10:00(L4T1) A | L44: =COUNTIFS($J$11:$J$1051,J44) -> 34 | M44: =IFERROR(MID(I44,2,4),I44) -> L4T1 | O44: =CONCATENATE(G44,CHAR(10),F44," --- ",H44) -> TE419(L4T1) A 702 --- 0 | P44: RSK | R44: (L2-T1)A
A45: 35 | B45: Saturday | C45: =LOOKUP(D45,$L$1:$L$6,$K$1:$K$6) -> 10:00-11:30 | D45: D | E45: =E11 -> 6 | F45: =INDIRECT(CONCATENATE("Sheet1!",CHAR(CODE(D45)),E45),1) -> 701 | G45: =INDIRECT(CONCATENATE("Sheet1!",CHAR(CODE(D45)+1),E45),1) -> 0 | H45: =INDIRECT(CONCATENATE("Sheet1!",CHAR(CODE(D45)+2),E45),1) -> 0 | I45: =IFERROR(MID(G45,SEARCH("(",G45,1),12),G45) -> 0 | J45: =CONCATENATE(B45,C45,H45) -> Saturday10:00-11:300 | K45: =CONCATENATE(B45,C45,I45) -> Saturday10:00-11:300 | L45: =COUNTIFS($J$11:$J$1051,J45) -> 30 | M45: =IFERROR(MID(I45,2,4),I45) | O45: =CONCATENATE(G45,CHAR(10),F45," --- ",H45) -> 0 701 --- 0 | P45: RUH | R45: (L2-T1)B
A46: 36 | B46: Saturday | C46: =LOOKUP(D46,$L$1:$L$6,$K$1:$K$6) -> 10:00-11:30 | D46: D | E46: =E45+1 -> 7 | F46: =INDIRECT(CONCATENATE("Sheet1!",CHAR(CODE(D46)),E46),1) -> 702 | G46: =INDIRECT(CONCATENATE("Sheet1!",CHAR(CODE(D46)+1),E46),1) -> 0 | H46: =INDIRECT(CONCATENATE("Sheet1!",CHAR(CODE(D46)+2),E46),1) -> 0 | I46: =IFERROR(MID(G46,SEARCH("(",G46,1),12),G46) -> 0 | J46: =CONCATENATE(B46,C46,H46) -> Saturday10:00-11:300 | K46: =CONCATENATE(B46,C46,I46) -> Saturday10:00-11:300 | L46: =COUNTIFS($J$11:$J$1051,J46) -> 30 | M46: =IFERROR(MID(I46,2,4),I46) | O46: =CONCATENATE(G46,CHAR(10),F46," --- ",H46) -> 0 702 --- 0 | P46: SA | R46: PC
A47: 37 | B47: Saturday | C47: =LOOKUP(D47,$L$1:$L$6,$K$1:$K$6) -> 10:00-11:30 | D47: D | E47: =E46+1 -> 8 | F47: =INDIRECT(CONCATENATE("Sheet1!",CHAR(CODE(D47)),E47),1) -> 703 | G47: =INDIRECT(CONCATENATE("Sheet1!",CHAR(CODE(D47)+1),E47),1) -> GED | H47: =INDIRECT(CONCATENATE("Sheet1!",CHAR(CODE(D47)+2),E47),1) -> 0 | I47: =IFERROR(MID(G47,SEARCH("(",G47,1),12),G47) -> GED | J47: =CONCATENATE(B47,C47,H47) -> Saturday10:00-11:300 | K47: =CONCATENATE(B47,C47,I47) -> Saturday10:00-11:30GED | L47: =COUNTIFS($J$11:$J$1051,J47) -> 30 | M47: =IFERROR(MID(I47,2,4),I47) -> ED | O47: =CONCATENATE(G47,CHAR(10),F47," --- ",H47) -> GED 703 --- 0 | P47: SAS | R47: MRC
A48: 38 | B48: Saturday | C48: =LOOKUP(D48,$L$1:$L$6,$K$1:$K$6) -> 10:00-11:30 | D48: D | E48: =E47+1 -> 9 | F48: =INDIRECT(CONCATENATE("Sheet1!",CHAR(CODE(D48)),E48),1) -> 704 | G48: =INDIRECT(CONCATENATE("Sheet1!",CHAR(CODE(D48)+1),E48),1) -> 0 | H48: =INDIRECT(CONCATENATE("Sheet1!",CHAR(CODE(D48)+2),E48),1) -> 0 | I48: =IFERROR(MID(G48,SEARCH("(",G48,1),12),G48) -> 0 | J48: =CONCATENATE(B48,C48,H48) -> Saturday10:00-11:300 | K48: =CONCATENATE(B48,C48,I48) -> Saturday10:00-11:300 | L48: =COUNTIFS($J$11:$J$1051,J48) -> 30 | M48: =IFERROR(MID(I48,2,4),I48) | O48: =CONCATENATE(G48,CHAR(10),F48," --- ",H48) -> 0 704 --- 0 | P48: Shamim | R48: DIC
A49: 39 | B49: Saturday | C49: =LOOKUP(D49,$L$1:$L$6,$K$1:$K$6) -> 10:00-11:30 | D49: D | E49: =E48+1 -> 10 | F49: =INDIRECT(CONCATENATE("Sheet1!",CHAR(CODE(D49)),E49),1) -> 705 | G49: =INDIRECT(CONCATENATE("Sheet1!",CHAR(CODE(D49)+1),E49),1) -> 0 | H49: =INDIRECT(CONCATENATE("Sheet1!",CHAR(CODE(D49)+2),E49),1) -> 0 | I49: =IFERROR(MID(G49,SEARCH("(",G49,1),12),G49) -> 0 | J49: =CONCATENATE(B49,C49,H49) -> Saturday10:00-11:300 | K49: =CONCATENATE(B49,C49,I49) -> Saturday10:00-11:300 | L49: =COUNTIFS($J$11:$J$1051,J49) -> 30 | M49: =IFERROR(MID(I49,2,4),I49) | O49: =CONCATENATE(G49,CHAR(10),F49," --- ",H49) -> 0 705 --- 0 | P49: SI | R49: (L2T1)C
A50: 40 | B50: Saturday | C50: =LOOKUP(D50,$L$1:$L$6,$K$1:$K$6) -> 10:00-11:30 | D50: D | E50: =E49+1 -> 11 | F50: =INDIRECT(CONCATENATE("Sheet1!",CHAR(CODE(D50)),E50),1) -> 711 | G50: =INDIRECT(CONCATENATE("Sheet1!",CHAR(CODE(D50)+1),E50),1) -> 0 | H50: =INDIRECT(CONCATENATE("Sheet1!",CHAR(CODE(D50)+2),E50),1) -> 0 | I50: =IFERROR(MID(G50,SEARCH("(",G50,1),12),G50) -> 0 | J50: =CONCATENATE(B50,C50,H50) -> Saturday10:00-11:300 | K50: =CONCATENATE(B50,C50,I50) -> Saturday10:00-11:300 | L50: =COUNTIFS($J$11:$J$1051,J50) -> 30 | M50: =IFERROR(MID(I50,2,4),I50) | O50: =CONCATENATE(G50,CHAR(10),F50," --- ",H50) -> 0 711 --- 0 | P50: SK | R50: (L3T2(C)
A51: 41 | B51: Saturday | C51: =LOOKUP(D51,$L$1:$L$6,$K$1:$K$6) -> 10:00-11:30 | D51: D | E51: =E50+1 -> 12 | F51: =INDIRECT(CONCATENATE("Sheet1!",CHAR(CODE(D51)),E51),1) -> 712 | G51: =INDIRECT(CONCATENATE("Sheet1!",CHAR(CODE(D51)+1),E51),1) -> 0 | H51: =INDIRECT(CONCATENATE("Sheet1!",CHAR(CODE(D51)+2),E51),1) -> 0 | I51: =IFERROR(MID(G51,SEARCH("(",G51,1),12),G51) -> 0 | J51: =CONCATENATE(B51,C51,H51) -> Saturday10:00-11:300 | K51: =CONCATENATE(B51,C51,I51) -> Saturday10:00-11:300 | L51: =COUNTIFS($J$11:$J$1051,J51) -> 30 | M51: =IFERROR(MID(I51,2,4),I51) | O51: =CONCATENATE(G51,CHAR(10),F51," --- ",H51) -> 0 712 --- 0 | P51: SKC | R51: (L3T1)A
A52: 42 | B52: Saturday | C52: =LOOKUP(D52,$L$1:$L$6,$K$1:$K$6) -> 10:00-11:30 | D52: D | E52: =E51+1 -> 13 | F52: =INDIRECT(CONCATENATE("Sheet1!",CHAR(CODE(D52)),E52),1) -> 0 | G52: =INDIRECT(CONCATENATE("Sheet1!",CHAR(CODE(D52)+1),E52),1) -> 0 | H52: =INDIRECT(CONCATENATE("Sheet1!",CHAR(CODE(D52)+2),E52),1) -> 0 | I52: =IFERROR(MID(G52,SEARCH("(",G52,1),12),G52) -> 0 | J52: =CONCATENATE(B52,C52,H52) -> Saturday10:00-11:300 | K52: =CONCATENATE(B52,C52,I52) -> Saturday10:00-11:300 | L52: =COUNTIFS($J$11:$J$1051,J52) -> 30 | M52: =IFERROR(MID(I52,2,4),I52) | O52: =CONCATENATE(G52,CHAR(10),F52," --- ",H52) -> 0 0 --- 0 | P52: SKR | R52: (L3T3)D
A53: 43 | B53: Saturday | C53: =LOOKUP(D53,$L$1:$L$6,$K$1:$K$6) -> 10:00-11:30 | D53: D | E53: =E52+1 -> 14 | F53: =INDIRECT(CONCATENATE("Sheet1!",CHAR(CODE(D53)),E53),1) -> 0 | G53: =INDIRECT(CONCATENATE("Sheet1!",CHAR(CODE(D53)+1),E53),1) -> 0 | H53: =INDIRECT(CONCATENATE("Sheet1!",CHAR(CODE(D53)+2),E53),1) -> 0 | I53: =IFERROR(MID(G53,SEARCH("(",G53,1),12),G53) -> 0 | J53: =CONCATENATE(B53,C53,H53) -> Saturday10:00-11:300 | K53: =CONCATENATE(B53,C53,I53) -> Saturday10:00-11:300 | L53: =COUNTIFS($J$11:$J$1051,J53) -> 30 | M53: =IFERROR(MID(I53,2,4),I53) | O53: =CONCATENATE(G53,CHAR(10),F53," --- ",H53) -> 0 0 --- 0 | P53: SM | R53: (L3T1) B
A54: 44 | B54: Saturday | C54: =LOOKUP(D54,$L$1:$L$6,$K$1:$K$6) -> 10:00-11:30 | D54: D | E54: =E53+1 -> 15 | F54: =INDIRECT(CONCATENATE("Sheet1!",CHAR(CODE(D54)),E54),1) -> 0 | G54: =INDIRECT(CONCATENATE("Sheet1!",CHAR(CODE(D54)+1),E54),1) -> 0 | H54: =INDIRECT(CONCATENATE("Sheet1!",CHAR(CODE(D54)+2),E54),1) -> 0 | I54: =IFERROR(MID(G54,SEARCH("(",G54,1),12),G54) -> 0 | J54: =CONCATENATE(B54,C54,H54) -> Saturday10:00-11:300 | K54: =CONCATENATE(B54,C54,I54) -> Saturday10:00-11:300 | L54: =COUNTIFS($J$11:$J$1051,J54) -> 30 | M54: =IFERROR(MID(I54,2,4),I54) | O54: =CONCATENATE(G54,CHAR(10),F54," --- ",H54) -> 0 0 --- 0 | P54: SR | R54: (L4T2)A
A55: 45 | B55: Saturday | C55: =LOOKUP(D55,$L$1:$L$6,$K$1:$K$6) -> 10:00-11:30 | D55: D | E55: =E54+1 -> 16 | F55: =INDIRECT(CONCATENATE("Sheet1!",CHAR(CODE(D55)),E55),1) -> 0 | G55: =INDIRECT(CONCATENATE("Sheet1!",CHAR(CODE(D55)+1),E55),1) -> 0 | H55: =INDIRECT(CONCATENATE("Sheet1!",CHAR(CODE(D55)+2),E55),1) -> 0 | I55: =IFERROR(MID(G55,SEARCH("(",G55,1),12),G55) -> 0 | J55: =CONCATENATE(B55,C55,H55) -> Saturday10:00-11:300 | K55: =CONCATENATE(B55,C55,I55) -> Saturday10:00-11:300 | L55: =COUNTIFS($J$11:$J$1051,J55) -> 30 | M55: =IFERROR(MID(I55,2,4),I55) | O55: =CONCATENATE(G55,CHAR(10),F55," --- ",H55) -> 0 0 --- 0 | P55: SS | R55: (L3T1)(A)
A56: 46 | B56: Saturday | C56: =LOOKUP(D56,$L$1:$L$6,$K$1:$K$6) -> 10:00-11:30 | D56: D | E56: =E55+1 -> 17 | F56: =INDIRECT(CONCATENATE("Sheet1!",CHAR(CODE(D56)),E56),1) -> 0 | G56: =INDIRECT(CONCATENATE("Sheet1!",CHAR(CODE(D56)+1),E56),1) -> 0 | H56: =INDIRECT(CONCATENATE("Sheet1!",CHAR(CODE(D56)+2),E56),1) -> 0 | I56: =IFERROR(MID(G56,SEARCH("(",G56,1),12),G56) -> 0 | J56: =CONCATENATE(B56,C56,H56) -> Saturday10:00-11:300 | K56: =CONCATENATE(B56,C56,I56) -> Saturday10:00-11:300 | L56: =COUNTIFS($J$11:$J$1051,J56) -> 30 | M56: =IFERROR(MID(I56,2,4),I56) | O56: =CONCATENATE(G56,CHAR(10),F56," --- ",H56) -> 0 0 --- 0 | P56: SS3 | R56: (L4T2)B
A57: 47 | B57: Saturday | C57: =LOOKUP(D57,$L$1:$L$6,$K$1:$K$6) -> 10:00-11:30 | D57: D | E57: =E56+1 -> 18 | F57: =INDIRECT(CONCATENATE("Sheet1!",CHAR(CODE(D57)),E57),1) -> 0 | G57: =INDIRECT(CONCATENATE("Sheet1!",CHAR(CODE(D57)+1),E57),1) -> TE424(L4T2)A9:30-11:30 | H57: =INDIRECT(CONCATENATE("Sheet1!",CHAR(CODE(D57)+2),E57),1) -> AG | I57: =IFERROR(MID(G57,SEARCH("(",G57,1),12),G57) -> (L4T2)A9:30- | J57: =CONCATENATE(B57,C57,H57) -> Saturday10:00-11:30AG | K57: =CONCATENATE(B57,C57,I57) -> Saturday10:00-11:30(L4T2)A9:30- | L57: =COUNTIFS($J$11:$J$1051,J57) -> 1 | M57: =IFERROR(MID(I57,2,4),I57) -> L4T2 | O57: =CONCATENATE(G57,CHAR(10),F57," --- ",H57) -> TE424(L4T2)A9:30-11:30 0 --- AG | P57: SSS | R57: (L4T2)C
... A63: 53 | B63: Saturday | C63: =LOOKUP(D63,$L$1:$L$6,$K$1:$K$6) -> 10:00-11:30 | D63: D | E63: =E62+1 -> 24 | F63: =INDIRECT(CONCATENATE("Sheet1!",CHAR(CODE(D63)),E63),1) -> 0 | G63: =INDIRECT(CONCATENATE("Sheet1!",CHAR(CODE(D63)+1),E63),1) -> 0 | H63: =INDIRECT(CONCATENATE("Sheet1!",CHAR(CODE(D63)+2),E63),1) -> 0 | I63: =IFERROR(MID(G63,SEARCH("(",G63,1),12),G63) -> 0 | J63: =CONCATENATE(B63,C63,H63) -> Saturday10:00-11:300 | K63: =CONCATENATE(B63,C63,I63) -> Saturday10:00-11:300 | L63: =COUNTIFS($J$11:$J$1051,J63) -> 30 | M63: =IFERROR(MID(I63,2,4),I63) | O63: =CONCATENATE(G63,CHAR(10),F63," --- ",H63) -> 0 0 --- 0 | P63: TM(ns) | R63: (L1T1)D
A64: 54 | B64: Saturday | C64: =LOOKUP(D64,$L$1:$L$6,$K$1:$K$6) -> 10:00-11:30 | D64: D | E64: =E63+1 -> 25 | F64: =INDIRECT(CONCATENATE("Sheet1!",CHAR(CODE(D64)-3),E64),1) -> L-Elec 505 | G64: =INDIRECT(CONCATENATE("Sheet1!",CHAR(CODE(D64)+1),E64),1) -> 0 | H64: =INDIRECT(CONCATENATE("Sheet1!",CHAR(CODE(D64)+2),E64),1) -> 0 | I64: =IFERROR(MID(G64,SEARCH("(",G64,1),12),G64) -> 0 | J64: =CONCATENATE(B64,C64,H64) -> Saturday10:00-11:300 | K64: =CONCATENATE(B64,C64,I64) -> Saturday10:00-11:300 | L64: =COUNTIFS($J$11:$J$1051,J64) -> 30 | M64: =IFERROR(MID(I64,2,4),I64) | O64: =CONCATENATE(G64,CHAR(10),F64," --- ",H64) -> 0 L-Elec 505 --- 0 | P64: TMns | R64: (L1T3) B
A65: 55 | B65: Saturday | C65: =LOOKUP(D65,$L$1:$L$6,$K$1:$K$6) -> 10:00-11:30 | D65: D | E65: =E64+1 -> 26 | F65: =INDIRECT(CONCATENATE("Sheet1!",CHAR(CODE(D65)-3),E65),1) -> 0 | G65: =INDIRECT(CONCATENATE("Sheet1!",CHAR(CODE(D65)-2),E65),1) -> 0 | H65: =INDIRECT(CONCATENATE("Sheet1!",CHAR(CODE(D65)+2),E65),1) -> 0 | I65: =IFERROR(MID(G65,SEARCH("(",G65,1),12),G65) -> 0 | J65: =CONCATENATE(B65,C65,H65) -> Saturday10:00-11:300 | K65: =CONCATENATE(B65,C65,I65) -> Saturday10:00-11:300 | L65: =COUNTIFS($J$11:$J$1051,J65) -> 30 | M65: =IFERROR(MID(I65,2,4),I65) | O65: =CONCATENATE(G65,CHAR(10),F65," --- ",H65) -> 0 0 --- 0 | P65: ZI | R65: (L2T1)PC
A66: 56 | B66: Saturday | C66: =LOOKUP(D66,$L$1:$L$6,$K$1:$K$6) -> 10:00-11:30 | D66: D | E66: =E65+1 -> 27 | F66: =INDIRECT(CONCATENATE("Sheet1!",CHAR(CODE(D66)-3),E66),1) -> 502 | G66: =INDIRECT(CONCATENATE("Sheet1!",CHAR(CODE(D66)-2),E66),1) -> 0 | H66: =INDIRECT(CONCATENATE("Sheet1!",CHAR(CODE(D66)+2),E66),1) -> 0 | I66: =IFERROR(MID(G66,SEARCH("(",G66,1),12),G66) -> 0 | J66: =CONCATENATE(B66,C66,H66) -> Saturday10:00-11:300 | K66: =CONCATENATE(B66,C66,I66) -> Saturday10:00-11:300 | L66: =COUNTIFS($J$11:$J$1051,J66) -> 30 | M66: =IFERROR(MID(I66,2,4),I66) | O66: =CONCATENATE(G66,CHAR(10),F66," --- ",H66) -> 0 502 --- 0 | P66: ZU | R66: YM-1 UC
A67: 57 | B67: Saturday | C67: =LOOKUP(D67,$L$1:$L$6,$K$1:$K$6) -> 10:00-11:30 | D67: D | E67: =E66+1 -> 28 | F67: =INDIRECT(CONCATENATE("Sheet1!",CHAR(CODE(D67)-3),E67),1) -> L-Chem | G67: =INDIRECT(CONCATENATE("Sheet1!",CHAR(CODE(D67)-2),E67),1) -> 0 | H67: =INDIRECT(CONCATENATE("Sheet1!",CHAR(CODE(D67)+2),E67),1) -> 0 | I67: =IFERROR(MID(G67,SEARCH("(",G67,1),12),G67) -> 0 | J67: =CONCATENATE(B67,C67,H67) -> Saturday10:00-11:300 | K67: =CONCATENATE(B67,C67,I67) -> Saturday10:00-11:300 | L67: =COUNTIFS($J$11:$J$1051,J67) -> 30 | M67: =IFERROR(MID(I67,2,4),I67) | O67: =CONCATENATE(G67,CHAR(10),F67," --- ",H67) -> 0 L-Chem --- 0 | P67: Grand Total | R67: (L1T3) A
