Workbook

Sheet Sheet1
A1: Faculty of Engineering
A2: Class Routine Department of Textile Engineering Semester: Summer, 2018
A3: Saturday
A4: 08:30-10:00 | D4: 10:00-11:30 | G4: 11:30-01:00 | J4: 01:00-02:30 | M4: 2:30-04:00 | P4: 04:00-05:30
A5: Class | B5: Course | D5: Class | E5: Course | G5: Class | H5: Course | J5: Class | K5: Course | M5: Class | N5: Course | P5: Class | Q5: Course
A6: 701 | D6: 701 | G6: 701 | M6: 701 | P6: 701
A7: 702 | D7: 702 | G7: 702 | H7: TE311(L3T1)B | I7: NHM | J7: 702 | K7: TE427(L4T2)A | L7: AAM | M7: 702 | N7: TE213(L2T1)A | O7: SAS | P7: 702 | Q7: EVE
A8: 703 | B8: GED | D8: 703 | E8: GED | G8: 703 | H8: GED | J8: 703 | K8: GED | M8: 703 | N8: GED | P8: 703 | Q8: GED
A9: 704 | D9: 704 | G9: 704 | J9: 704 | K9: TE335(L3T3)A | L9: MAB | M9: 704 | P9: 704 | Q9: TE4212(L4T2) B app | R9: MAB
A10: 705 | D10: 705 | G10: 705 | H10: TE4213(L4T2)A | I10: NI | J10: 705 | K10: TE4213(L4T2)B | M10: 705 | P10: 705 | Q10: EVE
A11: 711 | D11: 711 | G11: 711 | H11: TE211(L2T1)A | I11: AHM | J11: 711 | M11: 711 | N11: TE4211(L4T2) wet | O11: SM | P11: 711
A12: 712 | D12: 712 | G12: 712 | J12: 712 | M12: 712 | P12: 712
J13: 402L | M13: 402L | P13: 402L
J14: 403L | M14: 403L | P14: 403L
J15: PC | K15: TE315(L3T1)A | L15: NF
A16: L-Yarn1 | G16: L-Elec | M16: L-Elec
A17: L-Yarn2 | G17: L-Yarn1 | H17: TE212(L2T1)C (1.30-3.30) | L17: AHM | M17: Y-Lab1
A18: L-Fab | E18: TE424(L4T2)A9:30-11:30 | F18: AG | G18: L-Fab | J18: L-Fab | P18: TE214(L2T1)C 3.30-5.30 | R18: MSH
A19: L-Col | G19: L-Col | M19: L-Col
A20: L-App | E20: TE418(L4T1)A 10-12 PM | F20: MRR | G20: L-App | H20: TE418(L4T1)B 12-2.00PM | I20: MRR | J20: L-App | K20: TE418(L4T1)C 2-4.00 PM | L20: MRR | M20: L-App
A21: L-Col | D21: L-Col | E21: TE222(L2T2)A (9-11) | F21: TAC | G21: L-Col | H21: TE222(L2T2)B (11-1) | I21: TAC | J21: L-Col | K21: TE222(L2T2)C (1-3) | L21: TAC | M21: L-Col | N21: TE222(L2T2)D (3-5) | O21: Asif | P21: L-Col | Q21: TE222(L2T2)E (5-7) | R21: Asif
A22: L-Drw | B22: TE225(L2T2)B | F22: MSI | G22: L-Drw | H22: TE225(L2T2)C | L22: MSI | N22: TE225(L2T2)A | R22: MSI
A23: L-QC2 708 | G23: L-QC2 708 | H23: TE 316(L3T1)A 11-1.00 PM | I23: NF | M23: L-QC2 708 | N23: TE316(L3T1)B 3.00-5.00 PM | R23: NF
A24: 501
A25: L-Elec 505
G26: L-mec | M26: L-Mec
A27: 502 | J27: 502
A28: L-Chem | G28: L-Chem | M28: L-Chem
A35: Sunday
A36: 08:30-10:00 | D36: 10:00-11:30 | G36: 11:30-01:00 | J36: 01:00-02:30 | M36: 2:30-04:00 | P36: 04:00-05:30
A37: Class | B37: Course | D37: Class | E37: Course | G37: Class | H37: Course | J37: Class | K37: Course | M37: Class | N37: Course | P37: Class | Q37: Course
A38: 701 | D38: 701 | G38: 701 | H38: BNS 101 (L2T1)A | I38: FHS | J38: 701 | M38: 701 | P38: 701
A39: 702 | B39: TE419(L4T1) A | C39: TAC | D39: 702 | E39: xxxxxxxxxxxxxxxxxxxxxxxxxx | G39: 702 | H39: T427(L4T2)B | I39: AAM | J39: 702 | K39: HUM333(L3T3)B | L39: AHM | M39: 702 | N39: TE111L1T3)C1(GED) | O39: MK | P39: 702 | Q39: MKT231(L2T3) | R39: MAB
A40: 703 | B40: GED | D40: 703 | E40: GED | G40: 703 | H40: GED | J40: 703 | K40: GED | M40: 703 | N40: GED | P40: 703 | Q40: GED
A41: 704 | B41: TE334(L3T3)B | C41: MSI | D41: 704 | E41: TE327(L3T2)A | F41: AAA | G41: 704 | H41: TE4111(L4T1)A | I41: MMH | J41: 704 | K41: TE327(L3T2)B | L41: AAA | M41: 704 | N41: TE4212(L4T2)A app | O41: MAB | P41: 704 | Q41: TE315(L3T1)A | R41: NF
A42: 705 | B42: TE4213(L4T2)C | C42: Faysal | D42: 705 | E42: HUM333(L3T3)A | F42: AG | G42: 705 | J42: 705 | K42: TE 413(L4T1) | L42: AG | M42: 705 | N42: TE325(L3T2)B | O42: SRS | P42: 705 | Q42: TE211(L2T1)B | R42: AHM
A43: 711 | B43: TE213(L2T1)A | C43: SAS | D43: 711 | E43: TE317(L3T1)A | F43: MR1 | G43: 711 | J43: 711 | K43: TE321(L3T2)A | L43: SM | M43: 711 | N43: TE323(L3T2)A | O43: FS | P43: 711 | Q43: TE321(L3T2)B | R43: SM
A44: 712 | D44: 712 | E44: TE323(L3T2)B | F44: FS | G44: 712 | H44: TE335(L3T3)B | I44: MAB | J44: 712 | K44: TE317(L3T1)B | L44: MRR | M44: 712 | N44: AOL101(L2T3) | O44: MSI | P44: 712 | Q44: TE417(L4T1) A | R44: MRR
A45: 402L | D45: 402L | G45: 601DT | H45: ACT231(L2T3) | I45: AH | J45: 402L | M45: 402L | P45: 402L
A46: 303 | B46: TE325(L3T2)A | C46: TNA | D46: 403L | G46: 403L | J46: 403L | M46: 403L | P46: 403L
...

Sheet Teacher's routine
B1: ANF | D1: 08:30-10:00 | E1: 10:00-11:30 | F1: 11:30-01:00 | G1: 01:00-02:30 | H1: 2:30-04:00 | I1: 04:00-05:30
B2: =B1 -> ANF | C2: Saturday | D2: =IFERROR(INDEX(Data!$A$10:$O$1069,MATCH(CONCATENATE($C2,D$8,$B2),Data!$J$10:$J$1069,0),15),"") | E2: =IFERROR(INDEX(Data!$A$10:$O$1069,MATCH(CONCATENATE($C2,E$8,$B2),Data!$J$10:$J$1069,0),15),"") | F2: =IFERROR(INDEX(Data!$A$10:$O$1069,MATCH(CONCATENATE($C2,F$8,$B2),Data!$J$10:$J$1069,0),15),"") | G2: =IFERROR(INDEX(Data!$A$10:$O$1069,MATCH(CONCATENATE($C2,G$8,$B2),Data!$J$10:$J$1069,0),15),"") | H2: =IFERROR(INDEX(Data!$A$10:$O$1069,MATCH(CONCATENATE($C2,H$8,$B2),Data!$J$10:$J$1069,0),15),"") | I2: =IFERROR(INDEX(Data!$A$10:$O$1069,MATCH(CONCATENATE($C2,I$8,$B2),Data!$J$10:$J$1069,0),15),"")
B3: =B2 -> ANF | C3: Sunday | D3: =IFERROR(INDEX(Data!$A$10:$O$1069,MATCH(CONCATENATE($C3,D$8,$B3),Data!$J$10:$J$1069,0),15),"") | E3: =IFERROR(INDEX(Data!$A$10:$O$1069,MATCH(CONCATENATE($C3,E$8,$B3),Data!$J$10:$J$1069,0),15),"") | F3: =IFERROR(INDEX(Data!$A$10:$O$1069,MATCH(CONCATENATE($C3,F$8,$B3),Data!$J$10:$J$1069,0),15),"") | G3: =IFERROR(INDEX(Data!$A$10:$O$1069,MATCH(CONCATENATE($C3,G$8,$B3),Data!$J$10:$J$1069,0),15),"") | H3: =IFERROR(INDEX(Data!$A$10:$O$1069,MATCH(CONCATENATE($C3,H$8,$B3),Data!$J$10:$J$1069,0),15),"") | I3: =IFERROR(INDEX(Data!$A$10:$O$1069,MATCH(CONCATENATE($C3,I$8,$B3),Data!$J$10:$J$1069,0),15),"")
B4: =B3 -> ANF | C4: Monday | D4: =IFERROR(INDEX(Data!$A$10:$O$1069,MATCH(CONCATENATE($C4,D$8,$B4),Data!$J$10:$J$1069,0),15),"") | E4: =IFERROR(INDEX(Data!$A$10:$O$1069,MATCH(CONCATENATE($C4,E$8,$B4),Data!$J$10:$J$1069,0),15),"") | F4: =IFERROR(INDEX(Data!$A$10:$O$1069,MATCH(CONCATENATE($C4,F$8,$B4),Data!$J$10:$J$1069,0),15),"") | G4: =IFERROR(INDEX(Data!$A$10:$O$1069,MATCH(CONCATENATE($C4,G$8,$B4),Data!$J$10:$J$1069,0),15),"") | H4: =IFERROR(INDEX(Data!$A$10:$O$1069,MATCH(CONCATENATE($C4,H$8,$B4),Data!$J$10:$J$1069,0),15),"") | I4: =IFERROR(INDEX(Data!$A$10:$O$1069,MATCH(CONCATENATE($C4,I$8,$B4),Data!$J$10:$J$1069,0),15),"")
B5: =B4 -> ANF | C5: Tuesday | D5: =IFERROR(INDEX(Data!$A$10:$O$1069,MATCH(CONCATENATE($C5,D$8,$B5),Data!$J$10:$J$1069,0),15),"") | E5: =IFERROR(INDEX(Data!$A$10:$O$1069,MATCH(CONCATENATE($C5,E$8,$B5),Data!$J$10:$J$1069,0),15),"") | F5: =IFERROR(INDEX(Data!$A$10:$O$1069,MATCH(CONCATENATE($C5,F$8,$B5),Data!$J$10:$J$1069,0),15),"") | G5: =IFERROR(INDEX(Data!$A$10:$O$1069,MATCH(CONCATENATE($C5,G$8,$B5),Data!$J$10:$J$1069,0),15),"") | H5: =IFERROR(INDEX(Data!$A$10:$O$1069,MATCH(CONCATENATE($C5,H$8,$B5),Data!$J$10:$J$1069,0),15),"") | I5: =IFERROR(INDEX(Data!$A$10:$O$1069,MATCH(CONCATENATE($C5,I$8,$B5),Data!$J$10:$J$1069,0),15),"")
B6: =B5 -> ANF | C6: Wednesday | D6: =IFERROR(INDEX(Data!$A$10:$O$1069,MATCH(CONCATENATE($C6,D$8,$B6),Data!$J$10:$J$1069,0),15),"") | E6: =IFERROR(INDEX(Data!$A$10:$O$1069,MATCH(CONCATENATE($C6,E$8,$B6),Data!$J$10:$J$1069,0),15),"") | F6: =IFERROR(INDEX(Data!$A$10:$O$1069,MATCH(CONCATENATE($C6,F$8,$B6),Data!$J$10:$J$1069,0),15),"") | G6: =IFERROR(INDEX(Data!$A$10:$O$1069,MATCH(CONCATENATE($C6,G$8,$B6),Data!$J$10:$J$1069,0),15),"") | H6: =IFERROR(INDEX(Data!$A$10:$O$1069,MATCH(CONCATENATE($C6,H$8,$B6),Data!$J$10:$J$1069,0),15),"") | I6: =IFERROR(INDEX(Data!$A$10:$O$1069,MATCH(CONCATENATE($C6,I$8,$B6),Data!$J$10:$J$1069,0),15),"")
B7: =B6 -> ANF | C7: Thursday | D7: =IFERROR(INDEX(Data!$A$10:$O$1069,MATCH(CONCATENATE($C7,D$8,$B7),Data!$J$10:$J$1069,0),15),"") | E7: =IFERROR(INDEX(Data!$A$10:$O$1069,MATCH(CONCATENATE($C7,E$8,$B7),Data!$J$10:$J$1069,0),15),"") | F7: =IFERROR(INDEX(Data!$A$10:$O$1069,MATCH(CONCATENATE($C7,F$8,$B7),Data!$J$10:$J$1069,0),15),"") | G7: =IFERROR(INDEX(Data!$A$10:$O$1069,MATCH(CONCATENATE($C7,G$8,$B7),Data!$J$10:$J$1069,0),15),"") | H7: =IFERROR(INDEX(Data!$A$10:$O$1069,MATCH(CONCATENATE($C7,H$8,$B7),Data!$J$10:$J$1069,0),15),"") | I7: =IFERROR(INDEX(Data!$A$10:$O$1069,MATCH(CONCATENATE($C7,I$8,$B7),Data!$J$10:$J$1069,0),15),"")
D8: 08:30-10:00 | E8: 10:00-11:30 | F8: 11:30-01:00 | G8: 01:00-02:30 | H8: 2:30-04:00 | I8: 04:00-05:30 | L8: Faculty List
A9: =COUNTIF($C$8:C9,C9)+1 -> 2 | B9: =VLOOKUP(A9,$K$11:$L$80,2,FALSE) -> AAA | C9: Saturday | D9: =IFERROR(INDEX(Data!$A$10:$O$1069,MATCH(CONCATENATE($C9,D$8,$B9),Data!$J$10:$J$1069,0),15),"") | E9: =IFERROR(INDEX(Data!$A$10:$O$1069,MATCH(CONCATENATE($C9,E$8,$B9),Data!$J$10:$J$1069,0),15),"") | F9: =IFERROR(INDEX(Data!$A$10:$O$1069,MATCH(CONCATENATE($C9,F$8,$B9),Data!$J$10:$J$1069,0),15),"") | G9: =IFERROR(INDEX(Data!$A$10:$O$1069,MATCH(CONCATENATE($C9,G$8,$B9),Data!$J$10:$J$1069,0),15),"") | H9: =IFERROR(INDEX(Data!$A$10:$O$1069,MATCH(CONCATENATE($C9,H$8,$B9),Data!$J$10:$J$1069,0),15),"") | I9: =IFERROR(INDEX(Data!$A$10:$O$1069,MATCH(CONCATENATE($C9,I$8,$B9),Data!$J$10:$J$1069,0),15),"")
A10: =COUNTIF($C$8:C10,C10)+1 -> 2 | B10: =VLOOKUP(A10,$K$11:$L$80,2,FALSE) -> AAA | C10: Sunday | D10: =IFERROR(INDEX(Data!$A$10:$O$1069,MATCH(CONCATENATE($C10,D$8,$B10),Data!$J$10:$J$1069,0),15),"") | E10: =IFERROR(INDEX(Data!$A$10:$O$1069,MATCH(CONCATENATE($C10,E$8,$B10),Data!$J$10:$J$1069,0),15),"") | F10: =IFERROR(INDEX(Data!$A$10:$O$1069,MATCH(CONCATENATE($C10,F$8,$B10),Data!$J$10:$J$1069,0),15),"") | G10: =IFERROR(INDEX(Data!$A$10:$O$1069,MATCH(CONCATENATE($C10,G$8,$B10),Data!$J$10:$J$1069,0),15),"") | H10: =IFERROR(INDEX(Data!$A$10:$O$1069,MATCH(CONCATENATE($C10,H$8,$B10),Data!$J$10:$J$1069,0),15),"") | I10: =IFERROR(INDEX(Data!$A$10:$O$1069,MATCH(CONCATENATE($C10,I$8,$B10),Data!$J$10:$J$1069,0),15),"") | K10: Sl | L10: Teacher
A11: =COUNTIF($C$8:C11,C11)+1 -> 2 | B11: =VLOOKUP(A11,$K$11:$L$80,2,FALSE) -> AAA | C11: Monday | D11: =IFERROR(INDEX(Data!$A$10:$O$1069,MATCH(CONCATENATE($C11,D$8,$B11),Data!$J$10:$J$1069,0),15),"") | E11: =IFERROR(INDEX(Data!$A$10:$O$1069,MATCH(CONCATENATE($C11,E$8,$B11),Data!$J$10:$J$1069,0),15),"") | F11: =IFERROR(INDEX(Data!$A$10:$O$1069,MATCH(CONCATENATE($C11,F$8,$B11),Data!$J$10:$J$1069,0),15),"") | G11: =IFERROR(INDEX(Data!$A$10:$O$1069,MATCH(CONCATENATE($C11,G$8,$B11),Data!$J$10:$J$1069,0),15),"") | H11: =IFERROR(INDEX(Data!$A$10:$O$1069,MATCH(CONCATENATE($C11,H$8,$B11),Data!$J$10:$J$1069,0),15),"") | I11: =IFERROR(INDEX(Data!$A$10:$O$1069,MATCH(CONCATENATE($C11,I$8,$B11),Data!$J$10:$J$1069,0),15),"") | K11: 1 | L11: 0
A12: =COUNTIF($C$8:C12,C12)+1 -> 2 | B12: =VLOOKUP(A12,$K$11:$L$80,2,FALSE) -> AAA | C12: Tuesday | D12: =IFERROR(INDEX(Data!$A$10:$O$1069,MATCH(CONCATENATE($C12,D$8,$B12),Data!$J$10:$J$1069,0),15),"") | E12: =IFERROR(INDEX(Data!$A$10:$O$1069,MATCH(CONCATENATE($C12,E$8,$B12),Data!$J$10:$J$1069,0),15),"") | F12: =IFERROR(INDEX(Data!$A$10:$O$1069,MATCH(CONCATENATE($C12,F$8,$B12),Data!$J$10:$J$1069,0),15),"") | G12: =IFERROR(INDEX(Data!$A$10:$O$1069,MATCH(CONCATENATE($C12,G$8,$B12),Data!$J$10:$J$1069,0),15),"") | H12: =IFERROR(INDEX(Data!$A$10:$O$1069,MATCH(CONCATENATE($C12,H$8,$B12),Data!$J$10:$J$1069,0),15),"") | I12: =IFERROR(INDEX(Data!$A$10:$O$1069,MATCH(CONCATENATE($C12,I$8,$B12),Data!$J$10:$J$1069,0),15),"") | K12: 2 | L12: AAA
A13: =COUNTIF($C$8:C13,C13)+1 -> 2 | B13: =VLOOKUP(A13,$K$11:$L$80,2,FALSE) -> AAA | C13: Wednesday | D13: =IFERROR(INDEX(Data!$A$10:$O$1069,MATCH(CONCATENATE($C13,D$8,$B13),Data!$J$10:$J$1069,0),15),"") | E13: =IFERROR(INDEX(Data!$A$10:$O$1069,MATCH(CONCATENATE($C13,E$8,$B13),Data!$J$10:$J$1069,0),15),"") | F13: =IFERROR(INDEX(Data!$A$10:$O$1069,MATCH(CONCATENATE($C13,F$8,$B13),Data!$J$10:$J$1069,0),15),"") | G13: =IFERROR(INDEX(Data!$A$10:$O$1069,MATCH(CONCATENATE($C13,G$8,$B13),Data!$J$10:$J$1069,0),15),"") | H13: =IFERROR(INDEX(Data!$A$10:$O$1069,MATCH(CONCATENATE($C13,H$8,$B13),Data!$J$10:$J$1069,0),15),"") | I13: =IFERROR(INDEX(Data!$A$10:$O$1069,MATCH(CONCATENATE($C13,I$8,$B13),Data!$J$10:$J$1069,0),15),"") | K13: 3 | L13: AAM
A14: =COUNTIF($C$8:C14,C14)+1 -> 2 | B14: =VLOOKUP(A14,$K$11:$L$80,2,FALSE) -> AAA | C14: Thursday | D14: =IFERROR(INDEX(Data!$A$10:$O$1069,MATCH(CONCATENATE($C14,D$8,$B14),Data!$J$10:$J$1069,0),15),"") | E14: =IFERROR(INDEX(Data!$A$10:$O$1069,MATCH(CONCATENATE($C14,E$8,$B14),Data!$J$10:$J$1069,0),15),"") | F14: =IFERROR(INDEX(Data!$A$10:$O$1069,MATCH(CONCATENATE($C14,F$8,$B14),Data!$J$10:$J$1069,0),15),"") | G14: =IFERROR(INDEX(Data!$A$10:$O$1069,MATCH(CONCATENATE($C14,G$8,$B14),Data!$J$10:$J$1069,0),15),"") | H14: =IFERROR(INDEX(Data!$A$10:$O$1069,MATCH(CONCATENATE($C14,H$8,$B14),Data!$J$10:$J$1069,0),15),"") | I14: =IFERROR(INDEX(Data!$A$10:$O$1069,MATCH(CONCATENATE($C14,I$8,$B14),Data!$J$10:$J$1069,0),15),"") | K14: 4 | L14: AAT
D15: 08:30-10:00 | E15: 10:00-11:30 | F15: 11:30-01:00 | G15: 01:00-02:30 | H15: 2:30-04:00 | I15: 04:00-05:30 | K15: 5 | L15: AG
A16: =COUNTIF($C$8:C16,C16)+1 -> 3 | B16: =VLOOKUP(A16,$K$11:$L$80,2,FALSE) -> AAM | C16: Saturday | D16: =IFERROR(INDEX(Data!$A$10:$O$1069,MATCH(CONCATENATE($C16,D$8,$B16),Data!$J$10:$J$1069,0),15),"") | E16: =IFERROR(INDEX(Data!$A$10:$O$1069,MATCH(CONCATENATE($C16,E$8,$B16),Data!$J$10:$J$1069,0),15),"") | F16: =IFERROR(INDEX(Data!$A$10:$O$1069,MATCH(CONCATENATE($C16,F$8,$B16),Data!$J$10:$J$1069,0),15),"") | G16: =IFERROR(INDEX(Data!$A$10:$O$1069,MATCH(CONCATENATE($C16,G$8,$B16),Data!$J$10:$J$1069,0),15),"") -> TE427(L4T2)A 702 --- AAM | H16: =IFERROR(INDEX(Data!$A$10:$O$1069,MATCH(CONCATENATE($C16,H$8,$B16),Data!$J$10:$J$1069,0),15),"") | I16: =IFERROR(INDEX(Data!$A$10:$O$1069,MATCH(CONCATENATE($C16,I$8,$B16),Data!$J$10:$J$1069,0),15),"") | K16: 6 | L16: AHM
A17: =COUNTIF($C$8:C17,C17)+1 -> 3 | B17: =VLOOKUP(A17,$K$11:$L$80,2,FALSE) -> AAM | C17: Sunday | D17: =IFERROR(INDEX(Data!$A$10:$O$1069,MATCH(CONCATENATE($C17,D$8,$B17),Data!$J$10:$J$1069,0),15),"") -> 0 701 --- AAM | E17: =IFERROR(INDEX(Data!$A$10:$O$1069,MATCH(CONCATENATE($C17,E$8,$B17),Data!$J$10:$J$1069,0),15),"") -> 0 701 --- AAM | F17: =IFERROR(INDEX(Data!$A$10:$O$1069,MATCH(CONCATENATE($C17,F$8,$B17),Data!$J$10:$J$1069,0),15),"") -> TE 428(L42)A 12-2 PM 701 --- AAM | G17: =IFERROR(INDEX(Data!$A$10:$O$1069,MATCH(CONCATENATE($C17,G$8,$B17),Data!$J$10:$J$1069,0),15),"") -> TE 428(L42)A 12-2 PM 701 --- AAM | H17: =IFERROR(INDEX(Data!$A$10:$O$1069,MATCH(CONCATENATE($C17,H$8,$B17),Data!$J$10:$J$1069,0),15),"") | I17: =IFERROR(INDEX(Data!$A$10:$O$1069,MATCH(CONCATENATE($C17,I$8,$B17),Data!$J$10:$J$1069,0),15),"") | K17: 7 | L17: AHR
A18: =COUNTIF($C$8:C18,C18)+1 -> 3 | B18: =VLOOKUP(A18,$K$11:$L$80,2,FALSE) -> AAM | C18: Monday | D18: =IFERROR(INDEX(Data!$A$10:$O$1069,MATCH(CONCATENATE($C18,D$8,$B18),Data!$J$10:$J$1069,0),15),"") | E18: =IFERROR(INDEX(Data!$A$10:$O$1069,MATCH(CONCATENATE($C18,E$8,$B18),Data!$J$10:$J$1069,0),15),"") | F18: =IFERROR(INDEX(Data!$A$10:$O$1069,MATCH(CONCATENATE($C18,F$8,$B18),Data!$J$10:$J$1069,0),15),"") | G18: =IFERROR(INDEX(Data!$A$10:$O$1069,MATCH(CONCATENATE($C18,G$8,$B18),Data!$J$10:$J$1069,0),15),"") | H18: =IFERROR(INDEX(Data!$A$10:$O$1069,MATCH(CONCATENATE($C18,H$8,$B18),Data!$J$10:$J$1069,0),15),"") -> TE4214(L4T2) B app 702 --- AAM | I18: =IFERROR(INDEX(Data!$A$10:$O$1069,MATCH(CONCATENATE($C18,I$8,$B18),Data!$J$10:$J$1069,0),15),"") -> TE4214(L4T2) B app 702 --- AAM | K18: 8 | L18: AI
A19: =COUNTIF($C$8:C19,C19)+1 -> 3 | B19: =VLOOKUP(A19,$K$11:$L$80,2,FALSE) -> AAM | C19: Tuesday | D19: =IFERROR(INDEX(Data!$A$10:$O$1069,MATCH(CONCATENATE($C19,D$8,$B19),Data!$J$10:$J$1069,0),15),"") | E19: =IFERROR(INDEX(Data!$A$10:$O$1069,MATCH(CONCATENATE($C19,E$8,$B19),Data!$J$10:$J$1069,0),15),"") | F19: =IFERROR(INDEX(Data!$A$10:$O$1069,MATCH(CONCATENATE($C19,F$8,$B19),Data!$J$10:$J$1069,0),15),"") | G19: =IFERROR(INDEX(Data!$A$10:$O$1069,MATCH(CONCATENATE($C19,G$8,$B19),Data!$J$10:$J$1069,0),15),"") | H19: =IFERROR(INDEX(Data!$A$10:$O$1069,MATCH(CONCATENATE($C19,H$8,$B19),Data!$J$10:$J$1069,0),15),"") | I19: =IFERROR(INDEX(Data!$A$10:$O$1069,MATCH(CONCATENATE($C19,I$8,$B19),Data!$J$10:$J$1069,0),15),"") | K19: 9 | L19: AN
A20: =COUNTIF($C$8:C20,C20)+1 -> 3 | B20: =VLOOKUP(A20,$K$11:$L$80,2,FALSE) -> AAM | C20: Wednesday | D20: =IFERROR(INDEX(Data!$A$10:$O$1069,MATCH(CONCATENATE($C20,D$8,$B20),Data!$J$10:$J$1069,0),15),"") | E20: =IFERROR(INDEX(Data!$A$10:$O$1069,MATCH(CONCATENATE($C20,E$8,$B20),Data!$J$10:$J$1069,0),15),"") | F20: =IFERROR(INDEX(Data!$A$10:$O$1069,MATCH(CONCATENATE($C20,F$8,$B20),Data!$J$10:$J$1069,0),15),"") | G20: =IFERROR(INDEX(Data!$A$10:$O$1069,MATCH(CONCATENATE($C20,G$8,$B20),Data!$J$10:$J$1069,0),15),"") | H20: =IFERROR(INDEX(Data!$A$10:$O$1069,MATCH(CONCATENATE($C20,H$8,$B20),Data!$J$10:$J$1069,0),15),"") | I20: =IFERROR(INDEX(Data!$A$10:$O$1069,MATCH(CONCATENATE($C20,I$8,$B20),Data!$J$10:$J$1069,0),15),"") | K20: 10 | L20: FBS
A21: =COUNTIF($C$8:C21,C21)+1 -> 3 | B21: =VLOOKUP(A21,$K$11:$L$80,2,FALSE) -> AAM | C21: Thursday | D21: =IFERROR(INDEX(Data!$A$10:$O$1069,MATCH(CONCATENATE($C21,D$8,$B21),Data!$J$10:$J$1069,0),15),"") | E21: =IFERROR(INDEX(Data!$A$10:$O$1069,MATCH(CONCATENATE($C21,E$8,$B21),Data!$J$10:$J$1069,0),15),"") | F21: =IFERROR(INDEX(Data!$A$10:$O$1069,MATCH(CONCATENATE($C21,F$8,$B21),Data!$J$10:$J$1069,0),15),"") | G21: =IFERROR(INDEX(Data!$A$10:$O$1069,MATCH(CONCATENATE($C21,G$8,$B21),Data!$J$10:$J$1069,0),15),"") | H21: =IFERROR(INDEX(Data!$A$10:$O$1069,MATCH(CONCATENATE($C21,H$8,$B21),Data!$J$10:$J$1069,0),15),"") | I21: =IFERROR(INDEX(Data!$A$10:$O$1069,MATCH(CONCATENATE($C21,I$8,$B21),Data!$J$10:$J$1069,0),15),"") | K21: 11 | L21: FHA
D22: 08:30-10:00 | E22: 10:00-11:30 | F22: 11:30-01:00 | G22: 01:00-02:30 | H22: 2:30-04:00 | I22: 04:00-05:30 | K22: 12 | L22: FHS
A23: =COUNTIF($C$8:C23,C23)+1 -> 4 | B23: =VLOOKUP(A23,$K$11:$L$80,2,FALSE) -> AAT | C23: Saturday | D23: =IFERROR(INDEX(Data!$A$10:$O$1069,MATCH(CONCATENATE($C23,D$8,$B23),Data!$J$10:$J$1069,0),15),"") | E23: =IFERROR(INDEX(Data!$A$10:$O$1069,MATCH(CONCATENATE($C23,E$8,$B23),Data!$J$10:$J$1069,0),15),"") | F23: =IFERROR(INDEX(Data!$A$10:$O$1069,MATCH(CONCATENATE($C23,F$8,$B23),Data!$J$10:$J$1069,0),15),"") | G23: =IFERROR(INDEX(Data!$A$10:$O$1069,MATCH(CONCATENATE($C23,G$8,$B23),Data!$J$10:$J$1069,0),15),"") | H23: =IFERROR(INDEX(Data!$A$10:$O$1069,MATCH(CONCATENATE($C23,H$8,$B23),Data!$J$10:$J$1069,0),15),"") | I23: =IFERROR(INDEX(Data!$A$10:$O$1069,MATCH(CONCATENATE($C23,I$8,$B23),Data!$J$10:$J$1069,0),15),"") | K23: 13 | L23: FS
A24: =COUNTIF($C$8:C24,C24)+1 -> 4 | B24: =VLOOKUP(A24,$K$11:$L$80,2,FALSE) -> AAT | C24: Sunday | D24: =IFERROR(INDEX(Data!$A$10:$O$1069,MATCH(CONCATENATE($C24,D$8,$B24),Data!$J$10:$J$1069,0),15),"") | E24: =IFERROR(INDEX(Data!$A$10:$O$1069,MATCH(CONCATENATE($C24,E$8,$B24),Data!$J$10:$J$1069,0),15),"") | F24: =IFERROR(INDEX(Data!$A$10:$O$1069,MATCH(CONCATENATE($C24,F$8,$B24),Data!$J$10:$J$1069,0),15),"") | G24: =IFERROR(INDEX(Data!$A$10:$O$1069,MATCH(CONCATENATE($C24,G$8,$B24),Data!$J$10:$J$1069,0),15),"") | H24: =IFERROR(INDEX(Data!$A$10:$O$1069,MATCH(CONCATENATE($C24,H$8,$B24),Data!$J$10:$J$1069,0),15),"") | I24: =IFERROR(INDEX(Data!$A$10:$O$1069,MATCH(CONCATENATE($C24,I$8,$B24),Data!$J$10:$J$1069,0),15),"") | K24: 14 | L24: GC
A25: =COUNTIF($C$8:C25,C25)+1 -> 4 | B25: =VLOOKUP(A25,$K$11:$L$80,2,FALSE) -> AAT | C25: Monday | D25: =IFERROR(INDEX(Data!$A$10:$O$1069,MATCH(CONCATENATE($C25,D$8,$B25),Data!$J$10:$J$1069,0),15),"") | E25: =IFERROR(INDEX(Data!$A$10:$O$1069,MATCH(CONCATENATE($C25,E$8,$B25),Data!$J$10:$J$1069,0),15),"") | F25: =IFERROR(INDEX(Data!$A$10:$O$1069,MATCH(CONCATENATE($C25,F$8,$B25),Data!$J$10:$J$1069,0),15),"") | G25: =IFERROR(INDEX(Data!$A$10:$O$1069,MATCH(CONCATENATE($C25,G$8,$B25),Data!$J$10:$J$1069,0),15),"") | H25: =IFERROR(INDEX(Data!$A$10:$O$1069,MATCH(CONCATENATE($C25,H$8,$B25),Data!$J$10:$J$1069,0),15),"") | I25: =IFERROR(INDEX(Data!$A$10:$O$1069,MATCH(CONCATENATE($C25,I$8,$B25),Data!$J$10:$J$1069,0),15),"") | K25: 15 | L25: IUZ
A26: =COUNTIF($C$8:C26,C26)+1 -> 4 | B26: =VLOOKUP(A26,$K$11:$L$80,2,FALSE) -> AAT | C26: Tuesday | D26: =IFERROR(INDEX(Data!$A$10:$O$1069,MATCH(CONCATENATE($C26,D$8,$B26),Data!$J$10:$J$1069,0),15),"") | E26: =IFERROR(INDEX(Data!$A$10:$O$1069,MATCH(CONCATENATE($C26,E$8,$B26),Data!$J$10:$J$1069,0),15),"") | F26: =IFERROR(INDEX(Data!$A$10:$O$1069,MATCH(CONCATENATE($C26,F$8,$B26),Data!$J$10:$J$1069,0),15),"") | G26: =IFERROR(INDEX(Data!$A$10:$O$1069,MATCH(CONCATENATE($C26,G$8,$B26),Data!$J$10:$J$1069,0),15),"") | H26: =IFERROR(INDEX(Data!$A$10:$O$1069,MATCH(CONCATENATE($C26,H$8,$B26),Data!$J$10:$J$1069,0),15),"") | I26: =IFERROR(INDEX(Data!$A$10:$O$1069,MATCH(CONCATENATE($C26,I$8,$B26),Data!$J$10:$J$1069,0),15),"") | K26: 16 | L26: JH
A27: =COUNTIF($C$8:C27,C27)+1 -> 4 | B27: =VLOOKUP(A27,$K$11:$L$80,2,FALSE) -> AAT | C27: Wednesday | D27: =IFERROR(INDEX(Data!$A$10:$O$1069,MATCH(CONCATENATE($C27,D$8,$B27),Data!$J$10:$J$1069,0),15),"") | E27: =IFERROR(INDEX(Data!$A$10:$O$1069,MATCH(CONCATENATE($C27,E$8,$B27),Data!$J$10:$J$1069,0),15),"") | F27: =IFERROR(INDEX(Data!$A$10:$O$1069,MATCH(CONCATENATE($C27,F$8,$B27),Data!$J$10:$J$1069,0),15),"") | G27: =IFERROR(INDEX(Data!$A$10:$O$1069,MATCH(CONCATENATE($C27,G$8,$B27),Data!$J$10:$J$1069,0),15),"") | H27: =IFERROR(INDEX(Data!$A$10:$O$1069,MATCH(CONCATENATE($C27,H$8,$B27),Data!$J$10:$J$1069,0),15),"") | I27: =IFERROR(INDEX(Data!$A$10:$O$1069,MATCH(CONCATENATE($C27,I$8,$B27),Data!$J$10:$J$1069,0),15),"") | K27: 17 | L27: KZ
A28: =COUNTIF($C$8:C28,C28)+1 -> 4 | B28: =VLOOKUP(A28,$K$11:$L$80,2,FALSE) -> AAT | C28: Thursday | D28: =IFERROR(INDEX(Data!$A$10:$O$1069,MATCH(CONCATENATE($C28,D$8,$B28),Data!$J$10:$J$1069,0),15),"") | E28: =IFERROR(INDEX(Data!$A$10:$O$1069,MATCH(CONCATENATE($C28,E$8,$B28),Data!$J$10:$J$1069,0),15),"") | F28: =IFERROR(INDEX(Data!$A$10:$O$1069,MATCH(CONCATENATE($C28,F$8,$B28),Data!$J$10:$J$1069,0),15),"") | G28: =IFERROR(INDEX(Data!$A$10:$O$1069,MATCH(CONCATENATE($C28,G$8,$B28),Data!$J$10:$J$1069,0),15),"") | H28: =IFERROR(INDEX(Data!$A$10:$O$1069,MATCH(CONCATENATE($C28,H$8,$B28),Data!$J$10:$J$1069,0),15),"") | I28: =IFERROR(INDEX(Data!$A$10:$O$1069,MATCH(CONCATENATE($C28,I$8,$B28),Data!$J$10:$J$1069,0),15),"") | K28: 18 | L28: MAB
K29: 19 | L29: MDN
A30: =COUNTIF($C$8:C30,C30)+1 -> 5 | B30: =VLOOKUP(A30,$K$11:$L$80,2,FALSE) -> AG | C30: Saturday | D30: =IFERROR(INDEX(Data!$A$10:$O$1069,MATCH(CONCATENATE($C30,D$8,$B30),Data!$J$10:$J$1069,0),15),"") | E30: =IFERROR(INDEX(Data!$A$10:$O$1069,MATCH(CONCATENATE($C30,E$8,$B30),Data!$J$10:$J$1069,0),15),"") -> TE424(L4T2)A9:30-11:30 0 --- AG | F30: =IFERROR(INDEX(Data!$A$10:$O$1069,MATCH(CONCATENATE($C30,F$8,$B30),Data!$J$10:$J$1069,0),15),"") | G30: =IFERROR(INDEX(Data!$A$10:$O$1069,MATCH(CONCATENATE($C30,G$8,$B30),Data!$J$10:$J$1069,0),15),"") | H30: =IFERROR(INDEX(Data!$A$10:$O$1069,MATCH(CONCATENATE($C30,H$8,$B30),Data!$J$10:$J$1069,0),15),"") | I30: =IFERROR(INDEX(Data!$A$10:$O$1069,MATCH(CONCATENATE($C30,I$8,$B30),Data!$J$10:$J$1069,0),15),"") | K30: 20 | L30: MH
A31: =COUNTIF($C$8:C31,C31)+1 -> 5 | B31: =VLOOKUP(A31,$K$11:$L$80,2,FALSE) -> AG | C31: Sunday | D31: =IFERROR(INDEX(Data!$A$10:$O$1069,MATCH(CONCATENATE($C31,D$8,$B31),Data!$J$10:$J$1069,0),15),"") | E31: =IFERROR(INDEX(Data!$A$10:$O$1069,MATCH(CONCATENATE($C31,E$8,$B31),Data!$J$10:$J$1069,0),15),"") | F31: =IFERROR(INDEX(Data!$A$10:$O$1069,MATCH(CONCATENATE($C31,F$8,$B31),Data!$J$10:$J$1069,0),15),"") | G31: =IFERROR(INDEX(Data!$A$10:$O$1069,MATCH(CONCATENATE($C31,G$8,$B31),Data!$J$10:$J$1069,0),15),"") | H31: =IFERROR(INDEX(Data!$A$10:$O$1069,MATCH(CONCATENATE($C31,H$8,$B31),Data!$J$10:$J$1069,0),15),"") | I31: =IFERROR(INDEX(Data!$A$10:$O$1069,MATCH(CONCATENATE($C31,I$8,$B31),Data!$J$10:$J$1069,0),15),"") -> 0 0 --- AG | K31: 21 | L31: MHR
A32: =COUNTIF($C$8:C32,C32)+1 -> 5 | B32: =VLOOKUP(A32,$K$11:$L$80,2,FALSE) -> AG | C32: Monday | D32: =IFERROR(INDEX(Data!$A$10:$O$1069,MATCH(CONCATENATE($C32,D$8,$B32),Data!$J$10:$J$1069,0),15),"") | E32: =IFERROR(INDEX(Data!$A$10:$O$1069,MATCH(CONCATENATE($C32,E$8,$B32),Data!$J$10:$J$1069,0),15),"") | F32: =IFERROR(INDEX(Data!$A$10:$O$1069,MATCH(CONCATENATE($C32,F$8,$B32),Data!$J$10:$J$1069,0),15),"") | G32: =IFERROR(INDEX(Data!$A$10:$O$1069,MATCH(CONCATENATE($C32,G$8,$B32),Data!$J$10:$J$1069,0),15),"") -> TE221(L2T2)B 704 --- AG | H32: =IFERROR(INDEX(Data!$A$10:$O$1069,MATCH(CONCATENATE($C32,H$8,$B32),Data!$J$10:$J$1069,0),15),"") | I32: =IFERROR(INDEX(Data!$A$10:$O$1069,MATCH(CONCATENATE($C32,I$8,$B32),Data!$J$10:$J$1069,0),15),"") | K32: 22 | L32: MK
A33: =COUNTIF($C$8:C33,C33)+1 -> 5 | B33: =VLOOKUP(A33,$K$11:$L$80,2,FALSE) -> AG | C33: Tuesday | D33: =IFERROR(INDEX(Data!$A$10:$O$1069,MATCH(CONCATENATE($C33,D$8,$B33),Data!$J$10:$J$1069,0),15),"") | E33: =IFERROR(INDEX(Data!$A$10:$O$1069,MATCH(CONCATENATE($C33,E$8,$B33),Data!$J$10:$J$1069,0),15),"") | F33: =IFERROR(INDEX(Data!$A$10:$O$1069,MATCH(CONCATENATE($C33,F$8,$B33),Data!$J$10:$J$1069,0),15),"") -> TE413(L4T1) 711 --- AG | G33: =IFERROR(INDEX(Data!$A$10:$O$1069,MATCH(CONCATENATE($C33,G$8,$B33),Data!$J$10:$J$1069,0),15),"") -> TE317(L3T1)A 712 --- AG | H33: =IFERROR(INDEX(Data!$A$10:$O$1069,MATCH(CONCATENATE($C33,H$8,$B33),Data!$J$10:$J$1069,0),15),"") | I33: =IFERROR(INDEX(Data!$A$10:$O$1069,MATCH(CONCATENATE($C33,I$8,$B33),Data!$J$10:$J$1069,0),15),"") | K33: 23 | L33: MMH
A34: =COUNTIF($C$8:C34,C34)+1 -> 5 | B34: =VLOOKUP(A34,$K$11:$L$80,2,FALSE) -> AG | C34: Wednesday | D34: =IFERROR(INDEX(Data!$A$10:$O$1069,MATCH(CONCATENATE($C34,D$8,$B34),Data!$J$10:$J$1069,0),15),"") | E34: =IFERROR(INDEX(Data!$A$10:$O$1069,MATCH(CONCATENATE($C34,E$8,$B34),Data!$J$10:$J$1069,0),15),"") | F34: =IFERROR(INDEX(Data!$A$10:$O$1069,MATCH(CONCATENATE($C34,F$8,$B34),Data!$J$10:$J$1069,0),15),"") | G34: =IFERROR(INDEX(Data!$A$10:$O$1069,MATCH(CONCATENATE($C34,G$8,$B34),Data!$J$10:$J$1069,0),15),"") | H34: =IFERROR(INDEX(Data!$A$10:$O$1069,MATCH(CONCATENATE($C34,H$8,$B34),Data!$J$10:$J$1069,0),15),"") | I34: =IFERROR(INDEX(Data!$A$10:$O$1069,MATCH(CONCATENATE($C34,I$8,$B34),Data!$J$10:$J$1069,0),15),"") | K34: 24 | L34: MML2
A35: =COUNTIF($C$8:C35,C35)+1 -> 5 | B35: =VLOOKUP(A35,$K$11:$L$80,2,FALSE) -> AG | C35: Thursday | D35: =IFERROR(INDEX(Data!$A$10:$O$1069,MATCH(CONCATENATE($C35,D$8,$B35),Data!$J$10:$J$1069,0),15),"") | E35: =IFERROR(INDEX(Data!$A$10:$O$1069,MATCH(CONCATENATE($C35,E$8,$B35),Data!$J$10:$J$1069,0),15),"") | F35: =IFERROR(INDEX(Data!$A$10:$O$1069,MATCH(CONCATENATE($C35,F$8,$B35),Data!$J$10:$J$1069,0),15),"") | G35: =IFERROR(INDEX(Data!$A$10:$O$1069,MATCH(CONCATENATE($C35,G$8,$B35),Data!$J$10:$J$1069,0),15),"") | H35: =IFERROR(INDEX(Data!$A$10:$O$1069,MATCH(CONCATENATE($C35,H$8,$B35),Data!$J$10:$J$1069,0),15),"") | I35: =IFERROR(INDEX(Data!$A$10:$O$1069,MATCH(CONCATENATE($C35,I$8,$B35),Data!$J$10:$J$1069,0),15),"") | K35: 25 | L35: MNH
K36: 26 | L36: MR
A37: =COUNTIF($C$8:C37,C37)+1 -> 6 | B37: =VLOOKUP(A37,$K$11:$L$80,2,FALSE) -> AHM | C37: Saturday | D37: =IFERROR(INDEX(Data!$A$10:$O$1069,MATCH(CONCATENATE($C37,D$8,$B37),Data!$J$10:$J$1069,0),15),"") | E37: =IFERROR(INDEX(Data!$A$10:$O$1069,MATCH(CONCATENATE($C37,E$8,$B37),Data!$J$10:$J$1069,0),15),"") | F37: =IFERROR(INDEX(Data!$A$10:$O$1069,MATCH(CONCATENATE($C37,F$8,$B37),Data!$J$10:$J$1069,0),15),"") -> TE211(L2T1)A 711 --- AHM | G37: =IFERROR(INDEX(Data!$A$10:$O$1069,MATCH(CONCATENATE($C37,G$8,$B37),Data!$J$10:$J$1069,0),15),"") -> 0 0 --- AHM | H37: =IFERROR(INDEX(Data!$A$10:$O$1069,MATCH(CONCATENATE($C37,H$8,$B37),Data!$J$10:$J$1069,0),15),"") | I37: =IFERROR(INDEX(Data!$A$10:$O$1069,MATCH(CONCATENATE($C37,I$8,$B37),Data!$J$10:$J$1069,0),15),"") | K37: 27 | L37: MR1
A38: =COUNTIF($C$8:C38,C38)+1 -> 6 | B38: =VLOOKUP(A38,$K$11:$L$80,2,FALSE) -> AHM | C38: Sunday | D38: =IFERROR(INDEX(Data!$A$10:$O$1069,MATCH(CONCATENATE($C38,D$8,$B38),Data!$J$10:$J$1069,0),15),"") | E38: =IFERROR(INDEX(Data!$A$10:$O$1069,MATCH(CONCATENATE($C38,E$8,$B38),Data!$J$10:$J$1069,0),15),"") | F38: =IFERROR(INDEX(Data!$A$10:$O$1069,MATCH(CONCATENATE($C38,F$8,$B38),Data!$J$10:$J$1069,0),15),"") -> TE223(L2T2)A 702 --- AHM | G38: =IFERROR(INDEX(Data!$A$10:$O$1069,MATCH(CONCATENATE($C38,G$8,$B38),Data!$J$10:$J$1069,0),15),"") -> TE223(L2T2)A 702 --- AHM | H38: =IFERROR(INDEX(Data!$A$10:$O$1069,MATCH(CONCATENATE($C38,H$8,$B38),Data!$J$10:$J$1069,0),15),"") | I38: =IFERROR(INDEX(Data!$A$10:$O$1069,MATCH(CONCATENATE($C38,I$8,$B38),Data!$J$10:$J$1069,0),15),"") | K38: 28 | L38: MRH
A39: =COUNTIF($C$8:C39,C39)+1 -> 6 | B39: =VLOOKUP(A39,$K$11:$L$80,2,FALSE) -> AHM | C39: Monday | D39: =IFERROR(INDEX(Data!$A$10:$O$1069,MATCH(CONCATENATE($C39,D$8,$B39),Data!$J$10:$J$1069,0),15),"") | E39: =IFERROR(INDEX(Data!$A$10:$O$1069,MATCH(CONCATENATE($C39,E$8,$B39),Data!$J$10:$J$1069,0),15),"") | F39: =IFERROR(INDEX(Data!$A$10:$O$1069,MATCH(CONCATENATE($C39,F$8,$B39),Data!$J$10:$J$1069,0),15),"") | G39: =IFERROR(INDEX(Data!$A$10:$O$1069,MATCH(CONCATENATE($C39,G$8,$B39),Data!$J$10:$J$1069,0),15),"") | H39: =IFERROR(INDEX(Data!$A$10:$O$1069,MATCH(CONCATENATE($C39,H$8,$B39),Data!$J$10:$J$1069,0),15),"") | I39: =IFERROR(INDEX(Data!$A$10:$O$1069,MATCH(CONCATENATE($C39,I$8,$B39),Data!$J$10:$J$1069,0),15),"") | K39: 29 | L39: MRK
A40: =COUNTIF($C$8:C40,C40)+1 -> 6 | B40: =VLOOKUP(A40,$K$11:$L$80,2,FALSE) -> AHM | C40: Tuesday | D40: =IFERROR(INDEX(Data!$A$10:$O$1069,MATCH(CONCATENATE($C40,D$8,$B40),Data!$J$10:$J$1069,0),15),"") | E40: =IFERROR(INDEX(Data!$A$10:$O$1069,MATCH(CONCATENATE($C40,E$8,$B40),Data!$J$10:$J$1069,0),15),"") | F40: =IFERROR(INDEX(Data!$A$10:$O$1069,MATCH(CONCATENATE($C40,F$8,$B40),Data!$J$10:$J$1069,0),15),"") | G40: =IFERROR(INDEX(Data!$A$10:$O$1069,MATCH(CONCATENATE($C40,G$8,$B40),Data!$J$10:$J$1069,0),15),"") | H40: =IFERROR(INDEX(Data!$A$10:$O$1069,MATCH(CONCATENATE($C40,H$8,$B40),Data!$J$10:$J$1069,0),15),"") | I40: =IFERROR(INDEX(Data!$A$10:$O$1069,MATCH(CONCATENATE($C40,I$8,$B40),Data!$J$10:$J$1069,0),15),"") | K40: 30 | L40: MRR
...

Sheet Student's routine
A1: Sl | D1: =Data!D1 -> 08:30-10:00 | E1: =Data!E1 -> 10:00-11:30 | F1: =Data!F1 -> 11:30-01:00 | G1: =Data!G1 -> 01:00-02:30 | H1: =Data!H1 -> 2:30-04:00 | I1: =Data!I1 -> 04:00-05:30 | L1: Faculty List
A2: =COUNTIF($C$1:C2,C2)+1 -> 2 | B2: =VLOOKUP(A2,$K$4:$L$73,2,FALSE) | C2: Saturday | D2: =IFERROR(INDEX(Data!$A$10:$O$1069,MATCH(CONCATENATE($C2,D$1,$B2),Data!$K$10:$K$1069,0),15),"") | E2: =IFERROR(INDEX(Data!$A$10:$O$1069,MATCH(CONCATENATE($C2,E$1,$B2),Data!$K$10:$K$1069,0),15),"") | F2: =IFERROR(INDEX(Data!$A$10:$O$1069,MATCH(CONCATENATE($C2,F$1,$B2),Data!$K$10:$K$1069,0),15),"") | G2: =IFERROR(INDEX(Data!$A$10:$O$1069,MATCH(CONCATENATE($C2,G$1,$B2),Data!$K$10:$K$1069,0),15),"") | H2: =IFERROR(INDEX(Data!$A$10:$O$1069,MATCH(CONCATENATE($C2,H$1,$B2),Data!$K$10:$K$1069,0),15),"") | I2: =IFERROR(INDEX(Data!$A$10:$O$1069,MATCH(CONCATENATE($C2,I$1,$B2),Data!$K$10:$K$1069,0),15),"")
A3: =COUNTIF($C$1:C3,C3)+1 -> 2 | B3: =VLOOKUP(A3,$K$4:$L$73,2,FALSE) | C3: Sunday | D3: =IFERROR(INDEX(Data!$A$10:$O$1069,MATCH(CONCATENATE($C3,D$1,$B3),Data!$K$10:$K$1069,0),15),"") | E3: =IFERROR(INDEX(Data!$A$10:$O$1069,MATCH(CONCATENATE($C3,E$1,$B3),Data!$K$10:$K$1069,0),15),"") | F3: =IFERROR(INDEX(Data!$A$10:$O$1069,MATCH(CONCATENATE($C3,F$1,$B3),Data!$K$10:$K$1069,0),15),"") | G3: =IFERROR(INDEX(Data!$A$10:$O$1069,MATCH(CONCATENATE($C3,G$1,$B3),Data!$K$10:$K$1069,0),15),"") | H3: =IFERROR(INDEX(Data!$A$10:$O$1069,MATCH(CONCATENATE($C3,H$1,$B3),Data!$K$10:$K$1069,0),15),"") | I3: =IFERROR(INDEX(Data!$A$10:$O$1069,MATCH(CONCATENATE($C3,I$1,$B3),Data!$K$10:$K$1069,0),15),"") | K3: Sl | L3: Section
A4: =COUNTIF($C$1:C4,C4)+1 -> 2 | B4: =VLOOKUP(A4,$K$4:$L$73,2,FALSE) | C4: Monday | D4: =IFERROR(INDEX(Data!$A$10:$O$1069,MATCH(CONCATENATE($C4,D$1,$B4),Data!$K$10:$K$1069,0),15),"") | E4: =IFERROR(INDEX(Data!$A$10:$O$1069,MATCH(CONCATENATE($C4,E$1,$B4),Data!$K$10:$K$1069,0),15),"") | F4: =IFERROR(INDEX(Data!$A$10:$O$1069,MATCH(CONCATENATE($C4,F$1,$B4),Data!$K$10:$K$1069,0),15),"") | G4: =IFERROR(INDEX(Data!$A$10:$O$1069,MATCH(CONCATENATE($C4,G$1,$B4),Data!$K$10:$K$1069,0),15),"") | H4: =IFERROR(INDEX(Data!$A$10:$O$1069,MATCH(CONCATENATE($C4,H$1,$B4),Data!$K$10:$K$1069,0),15),"") | I4: =IFERROR(INDEX(Data!$A$10:$O$1069,MATCH(CONCATENATE($C4,I$1,$B4),Data!$K$10:$K$1069,0),15),"") | K4: 1 | L4: 0
A5: =COUNTIF($C$1:C5,C5)+1 -> 2 | B5: =VLOOKUP(A5,$K$4:$L$73,2,FALSE) | C5: Tuesday | D5: =IFERROR(INDEX(Data!$A$10:$O$1069,MATCH(CONCATENATE($C5,D$1,$B5),Data!$K$10:$K$1069,0),15),"") | E5: =IFERROR(INDEX(Data!$A$10:$O$1069,MATCH(CONCATENATE($C5,E$1,$B5),Data!$K$10:$K$1069,0),15),"") | F5: =IFERROR(INDEX(Data!$A$10:$O$1069,MATCH(CONCATENATE($C5,F$1,$B5),Data!$K$10:$K$1069,0),15),"") | G5: =IFERROR(INDEX(Data!$A$10:$O$1069,MATCH(CONCATENATE($C5,G$1,$B5),Data!$K$10:$K$1069,0),15),"") | H5: =IFERROR(INDEX(Data!$A$10:$O$1069,MATCH(CONCATENATE($C5,H$1,$B5),Data!$K$10:$K$1069,0),15),"") | I5: =IFERROR(INDEX(Data!$A$10:$O$1069,MATCH(CONCATENATE($C5,I$1,$B5),Data!$K$10:$K$1069,0),15),"") | K5: 2
A6: =COUNTIF($C$1:C6,C6)+1 -> 2 | B6: =VLOOKUP(A6,$K$4:$L$73,2,FALSE) | C6: Wednesday | D6: =IFERROR(INDEX(Data!$A$10:$O$1069,MATCH(CONCATENATE($C6,D$1,$B6),Data!$K$10:$K$1069,0),15),"") | E6: =IFERROR(INDEX(Data!$A$10:$O$1069,MATCH(CONCATENATE($C6,E$1,$B6),Data!$K$10:$K$1069,0),15),"") | F6: =IFERROR(INDEX(Data!$A$10:$O$1069,MATCH(CONCATENATE($C6,F$1,$B6),Data!$K$10:$K$1069,0),15),"") | G6: =IFERROR(INDEX(Data!$A$10:$O$1069,MATCH(CONCATENATE($C6,G$1,$B6),Data!$K$10:$K$1069,0),15),"") | H6: =IFERROR(INDEX(Data!$A$10:$O$1069,MATCH(CONCATENATE($C6,H$1,$B6),Data!$K$10:$K$1069,0),15),"") | I6: =IFERROR(INDEX(Data!$A$10:$O$1069,MATCH(CONCATENATE($C6,I$1,$B6),Data!$K$10:$K$1069,0),15),"") | K6: 3
A7: =COUNTIF($C$1:C7,C7)+1 -> 2 | B7: =VLOOKUP(A7,$K$4:$L$73,2,FALSE) | C7: Thursday | D7: =IFERROR(INDEX(Data!$A$10:$O$1069,MATCH(CONCATENATE($C7,D$1,$B7),Data!$K$10:$K$1069,0),15),"") | E7: =IFERROR(INDEX(Data!$A$10:$O$1069,MATCH(CONCATENATE($C7,E$1,$B7),Data!$K$10:$K$1069,0),15),"") | F7: =IFERROR(INDEX(Data!$A$10:$O$1069,MATCH(CONCATENATE($C7,F$1,$B7),Data!$K$10:$K$1069,0),15),"") | G7: =IFERROR(INDEX(Data!$A$10:$O$1069,MATCH(CONCATENATE($C7,G$1,$B7),Data!$K$10:$K$1069,0),15),"") | H7: =IFERROR(INDEX(Data!$A$10:$O$1069,MATCH(CONCATENATE($C7,H$1,$B7),Data!$K$10:$K$1069,0),15),"") | I7: =IFERROR(INDEX(Data!$A$10:$O$1069,MATCH(CONCATENATE($C7,I$1,$B7),Data!$K$10:$K$1069,0),15),"") | K7: 4 | L7: (L1T1)A
K8: 5 | L8: (L1T1)B
A9: =COUNTIF($C$1:C9,C9)+1 -> 3 | B9: =VLOOKUP(A9,$K$4:$L$73,2,FALSE) | C9: Saturday | D9: =IFERROR(INDEX(Data!$A$10:$O$1069,MATCH(CONCATENATE($C9,D$1,$B9),Data!$K$10:$K$1069,0),15),"") | E9: =IFERROR(INDEX(Data!$A$10:$O$1069,MATCH(CONCATENATE($C9,E$1,$B9),Data!$K$10:$K$1069,0),15),"") | F9: =IFERROR(INDEX(Data!$A$10:$O$1069,MATCH(CONCATENATE($C9,F$1,$B9),Data!$K$10:$K$1069,0),15),"") | G9: =IFERROR(INDEX(Data!$A$10:$O$1069,MATCH(CONCATENATE($C9,G$1,$B9),Data!$K$10:$K$1069,0),15),"") | H9: =IFERROR(INDEX(Data!$A$10:$O$1069,MATCH(CONCATENATE($C9,H$1,$B9),Data!$K$10:$K$1069,0),15),"") | I9: =IFERROR(INDEX(Data!$A$10:$O$1069,MATCH(CONCATENATE($C9,I$1,$B9),Data!$K$10:$K$1069,0),15),"") | K9: 6 | L9: (L1T1)C
A10: =COUNTIF($C$1:C10,C10)+1 -> 3 | B10: =VLOOKUP(A10,$K$4:$L$73,2,FALSE) | C10: Sunday | D10: =IFERROR(INDEX(Data!$A$10:$O$1069,MATCH(CONCATENATE($C10,D$1,$B10),Data!$K$10:$K$1069,0),15),"") | E10: =IFERROR(INDEX(Data!$A$10:$O$1069,MATCH(CONCATENATE($C10,E$1,$B10),Data!$K$10:$K$1069,0),15),"") | F10: =IFERROR(INDEX(Data!$A$10:$O$1069,MATCH(CONCATENATE($C10,F$1,$B10),Data!$K$10:$K$1069,0),15),"") | G10: =IFERROR(INDEX(Data!$A$10:$O$1069,MATCH(CONCATENATE($C10,G$1,$B10),Data!$K$10:$K$1069,0),15),"") | H10: =IFERROR(INDEX(Data!$A$10:$O$1069,MATCH(CONCATENATE($C10,H$1,$B10),Data!$K$10:$K$1069,0),15),"") | I10: =IFERROR(INDEX(Data!$A$10:$O$1069,MATCH(CONCATENATE($C10,I$1,$B10),Data!$K$10:$K$1069,0),15),"") | K10: 7 | L10: (L1T1)D
A11: =COUNTIF($C$1:C11,C11)+1 -> 3 | B11: =VLOOKUP(A11,$K$4:$L$73,2,FALSE) | C11: Monday | D11: =IFERROR(INDEX(Data!$A$10:$O$1069,MATCH(CONCATENATE($C11,D$1,$B11),Data!$K$10:$K$1069,0),15),"") | E11: =IFERROR(INDEX(Data!$A$10:$O$1069,MATCH(CONCATENATE($C11,E$1,$B11),Data!$K$10:$K$1069,0),15),"") | F11: =IFERROR(INDEX(Data!$A$10:$O$1069,MATCH(CONCATENATE($C11,F$1,$B11),Data!$K$10:$K$1069,0),15),"") | G11: =IFERROR(INDEX(Data!$A$10:$O$1069,MATCH(CONCATENATE($C11,G$1,$B11),Data!$K$10:$K$1069,0),15),"") | H11: =IFERROR(INDEX(Data!$A$10:$O$1069,MATCH(CONCATENATE($C11,H$1,$B11),Data!$K$10:$K$1069,0),15),"") | I11: =IFERROR(INDEX(Data!$A$10:$O$1069,MATCH(CONCATENATE($C11,I$1,$B11),Data!$K$10:$K$1069,0),15),"") | K11: 8 | L11: (L1T2)A
A12: =COUNTIF($C$1:C12,C12)+1 -> 3 | B12: =VLOOKUP(A12,$K$4:$L$73,2,FALSE) | C12: Tuesday | D12: =IFERROR(INDEX(Data!$A$10:$O$1069,MATCH(CONCATENATE($C12,D$1,$B12),Data!$K$10:$K$1069,0),15),"") | E12: =IFERROR(INDEX(Data!$A$10:$O$1069,MATCH(CONCATENATE($C12,E$1,$B12),Data!$K$10:$K$1069,0),15),"") | F12: =IFERROR(INDEX(Data!$A$10:$O$1069,MATCH(CONCATENATE($C12,F$1,$B12),Data!$K$10:$K$1069,0),15),"") | G12: =IFERROR(INDEX(Data!$A$10:$O$1069,MATCH(CONCATENATE($C12,G$1,$B12),Data!$K$10:$K$1069,0),15),"") | H12: =IFERROR(INDEX(Data!$A$10:$O$1069,MATCH(CONCATENATE($C12,H$1,$B12),Data!$K$10:$K$1069,0),15),"") | I12: =IFERROR(INDEX(Data!$A$10:$O$1069,MATCH(CONCATENATE($C12,I$1,$B12),Data!$K$10:$K$1069,0),15),"") | K12: 9 | L12: (L1T2)B
A13: =COUNTIF($C$1:C13,C13)+1 -> 3 | B13: =VLOOKUP(A13,$K$4:$L$73,2,FALSE) | C13: Wednesday | D13: =IFERROR(INDEX(Data!$A$10:$O$1069,MATCH(CONCATENATE($C13,D$1,$B13),Data!$K$10:$K$1069,0),15),"") | E13: =IFERROR(INDEX(Data!$A$10:$O$1069,MATCH(CONCATENATE($C13,E$1,$B13),Data!$K$10:$K$1069,0),15),"") | F13: =IFERROR(INDEX(Data!$A$10:$O$1069,MATCH(CONCATENATE($C13,F$1,$B13),Data!$K$10:$K$1069,0),15),"") | G13: =IFERROR(INDEX(Data!$A$10:$O$1069,MATCH(CONCATENATE($C13,G$1,$B13),Data!$K$10:$K$1069,0),15),"") | H13: =IFERROR(INDEX(Data!$A$10:$O$1069,MATCH(CONCATENATE($C13,H$1,$B13),Data!$K$10:$K$1069,0),15),"") | I13: =IFERROR(INDEX(Data!$A$10:$O$1069,MATCH(CONCATENATE($C13,I$1,$B13),Data!$K$10:$K$1069,0),15),"") | K13: 10 | L13: (L1T2)C
A14: =COUNTIF($C$1:C14,C14)+1 -> 3 | B14: =VLOOKUP(A14,$K$4:$L$73,2,FALSE) | C14: Thursday | D14: =IFERROR(INDEX(Data!$A$10:$O$1069,MATCH(CONCATENATE($C14,D$1,$B14),Data!$K$10:$K$1069,0),15),"") | E14: =IFERROR(INDEX(Data!$A$10:$O$1069,MATCH(CONCATENATE($C14,E$1,$B14),Data!$K$10:$K$1069,0),15),"") | F14: =IFERROR(INDEX(Data!$A$10:$O$1069,MATCH(CONCATENATE($C14,F$1,$B14),Data!$K$10:$K$1069,0),15),"") | G14: =IFERROR(INDEX(Data!$A$10:$O$1069,MATCH(CONCATENATE($C14,G$1,$B14),Data!$K$10:$K$1069,0),15),"") | H14: =IFERROR(INDEX(Data!$A$10:$O$1069,MATCH(CONCATENATE($C14,H$1,$B14),Data!$K$10:$K$1069,0),15),"") | I14: =IFERROR(INDEX(Data!$A$10:$O$1069,MATCH(CONCATENATE($C14,I$1,$B14),Data!$K$10:$K$1069,0),15),"") | K14: 11 | L14: (L1T2)D
K15: 12 | L15: (L1T2)E
A16: =COUNTIF($C$1:C16,C16)+1 -> 4 | B16: =VLOOKUP(A16,$K$4:$L$73,2,FALSE) -> (L1T1)A | C16: Saturday | D16: =IFERROR(INDEX(Data!$A$10:$O$1069,MATCH(CONCATENATE($C16,D$1,$B16),Data!$K$10:$K$1069,0),15),"") | E16: =IFERROR(INDEX(Data!$A$10:$O$1069,MATCH(CONCATENATE($C16,E$1,$B16),Data!$K$10:$K$1069,0),15),"") | F16: =IFERROR(INDEX(Data!$A$10:$O$1069,MATCH(CONCATENATE($C16,F$1,$B16),Data!$K$10:$K$1069,0),15),"") | G16: =IFERROR(INDEX(Data!$A$10:$O$1069,MATCH(CONCATENATE($C16,G$1,$B16),Data!$K$10:$K$1069,0),15),"") | H16: =IFERROR(INDEX(Data!$A$10:$O$1069,MATCH(CONCATENATE($C16,H$1,$B16),Data!$K$10:$K$1069,0),15),"") | I16: =IFERROR(INDEX(Data!$A$10:$O$1069,MATCH(CONCATENATE($C16,I$1,$B16),Data!$K$10:$K$1069,0),15),"") | K16: 13 | L16: (L1T3) A
A17: =COUNTIF($C$1:C17,C17)+1 -> 4 | B17: =VLOOKUP(A17,$K$4:$L$73,2,FALSE) -> (L1T1)A | C17: Sunday | D17: =IFERROR(INDEX(Data!$A$10:$O$1069,MATCH(CONCATENATE($C17,D$1,$B17),Data!$K$10:$K$1069,0),15),"") | E17: =IFERROR(INDEX(Data!$A$10:$O$1069,MATCH(CONCATENATE($C17,E$1,$B17),Data!$K$10:$K$1069,0),15),"") | F17: =IFERROR(INDEX(Data!$A$10:$O$1069,MATCH(CONCATENATE($C17,F$1,$B17),Data!$K$10:$K$1069,0),15),"") | G17: =IFERROR(INDEX(Data!$A$10:$O$1069,MATCH(CONCATENATE($C17,G$1,$B17),Data!$K$10:$K$1069,0),15),"") | H17: =IFERROR(INDEX(Data!$A$10:$O$1069,MATCH(CONCATENATE($C17,H$1,$B17),Data!$K$10:$K$1069,0),15),"") | I17: =IFERROR(INDEX(Data!$A$10:$O$1069,MATCH(CONCATENATE($C17,I$1,$B17),Data!$K$10:$K$1069,0),15),"") | K17: 14 | L17: (L1T3) B
A18: =COUNTIF($C$1:C18,C18)+1 -> 4 | B18: =VLOOKUP(A18,$K$4:$L$73,2,FALSE) -> (L1T1)A | C18: Monday | D18: =IFERROR(INDEX(Data!$A$10:$O$1069,MATCH(CONCATENATE($C18,D$1,$B18),Data!$K$10:$K$1069,0),15),"") | E18: =IFERROR(INDEX(Data!$A$10:$O$1069,MATCH(CONCATENATE($C18,E$1,$B18),Data!$K$10:$K$1069,0),15),"") | F18: =IFERROR(INDEX(Data!$A$10:$O$1069,MATCH(CONCATENATE($C18,F$1,$B18),Data!$K$10:$K$1069,0),15),"") | G18: =IFERROR(INDEX(Data!$A$10:$O$1069,MATCH(CONCATENATE($C18,G$1,$B18),Data!$K$10:$K$1069,0),15),"") | H18: =IFERROR(INDEX(Data!$A$10:$O$1069,MATCH(CONCATENATE($C18,H$1,$B18),Data!$K$10:$K$1069,0),15),"") | I18: =IFERROR(INDEX(Data!$A$10:$O$1069,MATCH(CONCATENATE($C18,I$1,$B18),Data!$K$10:$K$1069,0),15),"") | K18: 15 | L18: (L1T3) C
A19: =COUNTIF($C$1:C19,C19)+1 -> 4 | B19: =VLOOKUP(A19,$K$4:$L$73,2,FALSE) -> (L1T1)A | C19: Tuesday | D19: =IFERROR(INDEX(Data!$A$10:$O$1069,MATCH(CONCATENATE($C19,D$1,$B19),Data!$K$10:$K$1069,0),15),"") | E19: =IFERROR(INDEX(Data!$A$10:$O$1069,MATCH(CONCATENATE($C19,E$1,$B19),Data!$K$10:$K$1069,0),15),"") | F19: =IFERROR(INDEX(Data!$A$10:$O$1069,MATCH(CONCATENATE($C19,F$1,$B19),Data!$K$10:$K$1069,0),15),"") | G19: =IFERROR(INDEX(Data!$A$10:$O$1069,MATCH(CONCATENATE($C19,G$1,$B19),Data!$K$10:$K$1069,0),15),"") | H19: =IFERROR(INDEX(Data!$A$10:$O$1069,MATCH(CONCATENATE($C19,H$1,$B19),Data!$K$10:$K$1069,0),15),"") | I19: =IFERROR(INDEX(Data!$A$10:$O$1069,MATCH(CONCATENATE($C19,I$1,$B19),Data!$K$10:$K$1069,0),15),"") | K19: 16 | L19: (L1T3) D
A20: =COUNTIF($C$1:C20,C20)+1 -> 4 | B20: =VLOOKUP(A20,$K$4:$L$73,2,FALSE) -> (L1T1)A | C20: Wednesday | D20: =IFERROR(INDEX(Data!$A$10:$O$1069,MATCH(CONCATENATE($C20,D$1,$B20),Data!$K$10:$K$1069,0),15),"") | E20: =IFERROR(INDEX(Data!$A$10:$O$1069,MATCH(CONCATENATE($C20,E$1,$B20),Data!$K$10:$K$1069,0),15),"") | F20: =IFERROR(INDEX(Data!$A$10:$O$1069,MATCH(CONCATENATE($C20,F$1,$B20),Data!$K$10:$K$1069,0),15),"") | G20: =IFERROR(INDEX(Data!$A$10:$O$1069,MATCH(CONCATENATE($C20,G$1,$B20),Data!$K$10:$K$1069,0),15),"") | H20: =IFERROR(INDEX(Data!$A$10:$O$1069,MATCH(CONCATENATE($C20,H$1,$B20),Data!$K$10:$K$1069,0),15),"") | I20: =IFERROR(INDEX(Data!$A$10:$O$1069,MATCH(CONCATENATE($C20,I$1,$B20),Data!$K$10:$K$1069,0),15),"") | K20: 17 | L20: (L1T3)A
A21: =COUNTIF($C$1:C21,C21)+1 -> 4 | B21: =VLOOKUP(A21,$K$4:$L$73,2,FALSE) -> (L1T1)A | C21: Thursday | D21: =IFERROR(INDEX(Data!$A$10:$O$1069,MATCH(CONCATENATE($C21,D$1,$B21),Data!$K$10:$K$1069,0),15),"") | E21: =IFERROR(INDEX(Data!$A$10:$O$1069,MATCH(CONCATENATE($C21,E$1,$B21),Data!$K$10:$K$1069,0),15),"") | F21: =IFERROR(INDEX(Data!$A$10:$O$1069,MATCH(CONCATENATE($C21,F$1,$B21),Data!$K$10:$K$1069,0),15),"") | G21: =IFERROR(INDEX(Data!$A$10:$O$1069,MATCH(CONCATENATE($C21,G$1,$B21),Data!$K$10:$K$1069,0),15),"") | H21: =IFERROR(INDEX(Data!$A$10:$O$1069,MATCH(CONCATENATE($C21,H$1,$B21),Data!$K$10:$K$1069,0),15),"") | I21: =IFERROR(INDEX(Data!$A$10:$O$1069,MATCH(CONCATENATE($C21,I$1,$B21),Data!$K$10:$K$1069,0),15),"") | K21: 18 | L21: (L1T3)B
K22: 19 | L22: (L1T3)C
A23: =COUNTIF($C$1:C23,C23)+1 -> 5 | B23: =VLOOKUP(A23,$K$4:$L$73,2,FALSE) -> (L1T1)B | C23: Saturday | D23: =IFERROR(INDEX(Data!$A$10:$O$1069,MATCH(CONCATENATE($C23,D$1,$B23),Data!$K$10:$K$1069,0),15),"") | E23: =IFERROR(INDEX(Data!$A$10:$O$1069,MATCH(CONCATENATE($C23,E$1,$B23),Data!$K$10:$K$1069,0),15),"") | F23: =IFERROR(INDEX(Data!$A$10:$O$1069,MATCH(CONCATENATE($C23,F$1,$B23),Data!$K$10:$K$1069,0),15),"") | G23: =IFERROR(INDEX(Data!$A$10:$O$1069,MATCH(CONCATENATE($C23,G$1,$B23),Data!$K$10:$K$1069,0),15),"") | H23: =IFERROR(INDEX(Data!$A$10:$O$1069,MATCH(CONCATENATE($C23,H$1,$B23),Data!$K$10:$K$1069,0),15),"") | I23: =IFERROR(INDEX(Data!$A$10:$O$1069,MATCH(CONCATENATE($C23,I$1,$B23),Data!$K$10:$K$1069,0),15),"") | K23: 20 | L23: (L1T3)D
A24: =COUNTIF($C$1:C24,C24)+1 -> 5 | B24: =VLOOKUP(A24,$K$4:$L$73,2,FALSE) -> (L1T1)B | C24: Sunday | D24: =IFERROR(INDEX(Data!$A$10:$O$1069,MATCH(CONCATENATE($C24,D$1,$B24),Data!$K$10:$K$1069,0),15),"") | E24: =IFERROR(INDEX(Data!$A$10:$O$1069,MATCH(CONCATENATE($C24,E$1,$B24),Data!$K$10:$K$1069,0),15),"") | F24: =IFERROR(INDEX(Data!$A$10:$O$1069,MATCH(CONCATENATE($C24,F$1,$B24),Data!$K$10:$K$1069,0),15),"") | G24: =IFERROR(INDEX(Data!$A$10:$O$1069,MATCH(CONCATENATE($C24,G$1,$B24),Data!$K$10:$K$1069,0),15),"") | H24: =IFERROR(INDEX(Data!$A$10:$O$1069,MATCH(CONCATENATE($C24,H$1,$B24),Data!$K$10:$K$1069,0),15),"") | I24: =IFERROR(INDEX(Data!$A$10:$O$1069,MATCH(CONCATENATE($C24,I$1,$B24),Data!$K$10:$K$1069,0),15),"") | K24: 21 | L24: (L2T1)A
A25: =COUNTIF($C$1:C25,C25)+1 -> 5 | B25: =VLOOKUP(A25,$K$4:$L$73,2,FALSE) -> (L1T1)B | C25: Monday | D25: =IFERROR(INDEX(Data!$A$10:$O$1069,MATCH(CONCATENATE($C25,D$1,$B25),Data!$K$10:$K$1069,0),15),"") | E25: =IFERROR(INDEX(Data!$A$10:$O$1069,MATCH(CONCATENATE($C25,E$1,$B25),Data!$K$10:$K$1069,0),15),"") | F25: =IFERROR(INDEX(Data!$A$10:$O$1069,MATCH(CONCATENATE($C25,F$1,$B25),Data!$K$10:$K$1069,0),15),"") | G25: =IFERROR(INDEX(Data!$A$10:$O$1069,MATCH(CONCATENATE($C25,G$1,$B25),Data!$K$10:$K$1069,0),15),"") | H25: =IFERROR(INDEX(Data!$A$10:$O$1069,MATCH(CONCATENATE($C25,H$1,$B25),Data!$K$10:$K$1069,0),15),"") | I25: =IFERROR(INDEX(Data!$A$10:$O$1069,MATCH(CONCATENATE($C25,I$1,$B25),Data!$K$10:$K$1069,0),15),"") | K25: 22 | L25: (L2-T1)A
A26: =COUNTIF($C$1:C26,C26)+1 -> 5 | B26: =VLOOKUP(A26,$K$4:$L$73,2,FALSE) -> (L1T1)B | C26: Tuesday | D26: =IFERROR(INDEX(Data!$A$10:$O$1069,MATCH(CONCATENATE($C26,D$1,$B26),Data!$K$10:$K$1069,0),15),"") | E26: =IFERROR(INDEX(Data!$A$10:$O$1069,MATCH(CONCATENATE($C26,E$1,$B26),Data!$K$10:$K$1069,0),15),"") | F26: =IFERROR(INDEX(Data!$A$10:$O$1069,MATCH(CONCATENATE($C26,F$1,$B26),Data!$K$10:$K$1069,0),15),"") | G26: =IFERROR(INDEX(Data!$A$10:$O$1069,MATCH(CONCATENATE($C26,G$1,$B26),Data!$K$10:$K$1069,0),15),"") | H26: =IFERROR(INDEX(Data!$A$10:$O$1069,MATCH(CONCATENATE($C26,H$1,$B26),Data!$K$10:$K$1069,0),15),"") | I26: =IFERROR(INDEX(Data!$A$10:$O$1069,MATCH(CONCATENATE($C26,I$1,$B26),Data!$K$10:$K$1069,0),15),"") | K26: 23 | L26: (L2T1)B
A27: =COUNTIF($C$1:C27,C27)+1 -> 5 | B27: =VLOOKUP(A27,$K$4:$L$73,2,FALSE) -> (L1T1)B | C27: Wednesday | D27: =IFERROR(INDEX(Data!$A$10:$O$1069,MATCH(CONCATENATE($C27,D$1,$B27),Data!$K$10:$K$1069,0),15),"") | E27: =IFERROR(INDEX(Data!$A$10:$O$1069,MATCH(CONCATENATE($C27,E$1,$B27),Data!$K$10:$K$1069,0),15),"") | F27: =IFERROR(INDEX(Data!$A$10:$O$1069,MATCH(CONCATENATE($C27,F$1,$B27),Data!$K$10:$K$1069,0),15),"") | G27: =IFERROR(INDEX(Data!$A$10:$O$1069,MATCH(CONCATENATE($C27,G$1,$B27),Data!$K$10:$K$1069,0),15),"") | H27: =IFERROR(INDEX(Data!$A$10:$O$1069,MATCH(CONCATENATE($C27,H$1,$B27),Data!$K$10:$K$1069,0),15),"") | I27: =IFERROR(INDEX(Data!$A$10:$O$1069,MATCH(CONCATENATE($C27,I$1,$B27),Data!$K$10:$K$1069,0),15),"") | K27: 24 | L27: (L2-T1)B
A28: =COUNTIF($C$1:C28,C28)+1 -> 5 | B28: =VLOOKUP(A28,$K$4:$L$73,2,FALSE) -> (L1T1)B | C28: Thursday | D28: =IFERROR(INDEX(Data!$A$10:$O$1069,MATCH(CONCATENATE($C28,D$1,$B28),Data!$K$10:$K$1069,0),15),"") | E28: =IFERROR(INDEX(Data!$A$10:$O$1069,MATCH(CONCATENATE($C28,E$1,$B28),Data!$K$10:$K$1069,0),15),"") | F28: =IFERROR(INDEX(Data!$A$10:$O$1069,MATCH(CONCATENATE($C28,F$1,$B28),Data!$K$10:$K$1069,0),15),"") | G28: =IFERROR(INDEX(Data!$A$10:$O$1069,MATCH(CONCATENATE($C26,F$1,$B26),Data!$K$10:$K$1069,0),15),"") | H28: =IFERROR(INDEX(Data!$A$10:$O$1069,MATCH(CONCATENATE($C28,H$1,$B28),Data!$K$10:$K$1069,0),15),"") | I28: =IFERROR(INDEX(Data!$A$10:$O$1069,MATCH(CONCATENATE($C28,I$1,$B28),Data!$K$10:$K$1069,0),15),"") | K28: 25 | L28: (L2T1)C
K29: 26 | L29: (L2T1)PC
A30: =COUNTIF($C$1:C30,C30)+1 -> 6 | B30: =VLOOKUP(A30,$K$4:$L$73,2,FALSE) -> (L1T1)C | C30: Saturday | D30: =IFERROR(INDEX(Data!$A$10:$O$1069,MATCH(CONCATENATE($C30,D$1,$B30),Data!$K$10:$K$1069,0),15),"") | E30: =IFERROR(INDEX(Data!$A$10:$O$1069,MATCH(CONCATENATE($C30,E$1,$B30),Data!$K$10:$K$1069,0),15),"") | F30: =IFERROR(INDEX(Data!$A$10:$O$1069,MATCH(CONCATENATE($C30,F$1,$B30),Data!$K$10:$K$1069,0),15),"") | G30: =IFERROR(INDEX(Data!$A$10:$O$1069,MATCH(CONCATENATE($C30,G$1,$B30),Data!$K$10:$K$1069,0),15),"") | H30: =IFERROR(INDEX(Data!$A$10:$O$1069,MATCH(CONCATENATE($C30,H$1,$B30),Data!$K$10:$K$1069,0),15),"") | I30: =IFERROR(INDEX(Data!$A$10:$O$1069,MATCH(CONCATENATE($C30,I$1,$B30),Data!$K$10:$K$1069,0),15),"") | K30: 27 | L30: (L2T2)A
A31: =COUNTIF($C$1:C31,C31)+1 -> 6 | B31: =VLOOKUP(A31,$K$4:$L$73,2,FALSE) -> (L1T1)C | C31: Sunday | D31: =IFERROR(INDEX(Data!$A$10:$O$1069,MATCH(CONCATENATE($C31,D$1,$B31),Data!$K$10:$K$1069,0),15),"") | E31: =IFERROR(INDEX(Data!$A$10:$O$1069,MATCH(CONCATENATE($C31,E$1,$B31),Data!$K$10:$K$1069,0),15),"") | F31: =IFERROR(INDEX(Data!$A$10:$O$1069,MATCH(CONCATENATE($C31,F$1,$B31),Data!$K$10:$K$1069,0),15),"") | G31: =IFERROR(INDEX(Data!$A$10:$O$1069,MATCH(CONCATENATE($C31,G$1,$B31),Data!$K$10:$K$1069,0),15),"") | H31: =IFERROR(INDEX(Data!$A$10:$O$1069,MATCH(CONCATENATE($C31,H$1,$B31),Data!$K$10:$K$1069,0),15),"") | I31: =IFERROR(INDEX(Data!$A$10:$O$1069,MATCH(CONCATENATE($C31,I$1,$B31),Data!$K$10:$K$1069,0),15),"") | K31: 28 | L31: (L2T2)B
A32: =COUNTIF($C$1:C32,C32)+1 -> 6 | B32: =VLOOKUP(A32,$K$4:$L$73,2,FALSE) -> (L1T1)C | C32: Monday | D32: =IFERROR(INDEX(Data!$A$10:$O$1069,MATCH(CONCATENATE($C32,D$1,$B32),Data!$K$10:$K$1069,0),15),"") | E32: =IFERROR(INDEX(Data!$A$10:$O$1069,MATCH(CONCATENATE($C32,E$1,$B32),Data!$K$10:$K$1069,0),15),"") | F32: =IFERROR(INDEX(Data!$A$10:$O$1069,MATCH(CONCATENATE($C32,F$1,$B32),Data!$K$10:$K$1069,0),15),"") | G32: =IFERROR(INDEX(Data!$A$10:$O$1069,MATCH(CONCATENATE($C32,G$1,$B32),Data!$K$10:$K$1069,0),15),"") | H32: =IFERROR(INDEX(Data!$A$10:$O$1069,MATCH(CONCATENATE($C32,H$1,$B32),Data!$K$10:$K$1069,0),15),"") | I32: =IFERROR(INDEX(Data!$A$10:$O$1069,MATCH(CONCATENATE($C32,I$1,$B32),Data!$K$10:$K$1069,0),15),"") | K32: 29 | L32: (L2T2)C
A33: =COUNTIF($C$1:C33,C33)+1 -> 6 | B33: =VLOOKUP(A33,$K$4:$L$73,2,FALSE) -> (L1T1)C | C33: Tuesday | D33: =IFERROR(INDEX(Data!$A$10:$O$1069,MATCH(CONCATENATE($C33,D$1,$B33),Data!$K$10:$K$1069,0),15),"") | E33: =IFERROR(INDEX(Data!$A$10:$O$1069,MATCH(CONCATENATE($C33,E$1,$B33),Data!$K$10:$K$1069,0),15),"") | F33: =IFERROR(INDEX(Data!$A$10:$O$1069,MATCH(CONCATENATE($C33,F$1,$B33),Data!$K$10:$K$1069,0),15),"") | G33: =IFERROR(INDEX(Data!$A$10:$O$1069,MATCH(CONCATENATE($C33,G$1,$B33),Data!$K$10:$K$1069,0),15),"") | H33: =IFERROR(INDEX(Data!$A$10:$O$1069,MATCH(CONCATENATE($C33,H$1,$B33),Data!$K$10:$K$1069,0),15),"") | I33: =IFERROR(INDEX(Data!$A$10:$O$1069,MATCH(CONCATENATE($C33,I$1,$B33),Data!$K$10:$K$1069,0),15),"") | K33: 30 | L33: (L2T3)A
A34: =COUNTIF($C$1:C34,C34)+1 -> 6 | B34: =VLOOKUP(A34,$K$4:$L$73,2,FALSE) -> (L1T1)C | C34: Wednesday | D34: =IFERROR(INDEX(Data!$A$10:$O$1069,MATCH(CONCATENATE($C34,D$1,$B34),Data!$K$10:$K$1069,0),15),"") | E34: =IFERROR(INDEX(Data!$A$10:$O$1069,MATCH(CONCATENATE($C34,E$1,$B34),Data!$K$10:$K$1069,0),15),"") | F34: =IFERROR(INDEX(Data!$A$10:$O$1069,MATCH(CONCATENATE($C34,F$1,$B34),Data!$K$10:$K$1069,0),15),"") | G34: =IFERROR(INDEX(Data!$A$10:$O$1069,MATCH(CONCATENATE($C34,G$1,$B34),Data!$K$10:$K$1069,0),15),"") | H34: =IFERROR(INDEX(Data!$A$10:$O$1069,MATCH(CONCATENATE($C34,H$1,$B34),Data!$K$10:$K$1069,0),15),"") | I34: =IFERROR(INDEX(Data!$A$10:$O$1069,MATCH(CONCATENATE($C34,I$1,$B34),Data!$K$10:$K$1069,0),15),"") | K34: 31 | L34: (L2T3)B
A35: =COUNTIF($C$1:C35,C35)+1 -> 6 | B35: =VLOOKUP(A35,$K$4:$L$73,2,FALSE) -> (L1T1)C | C35: Thursday | D35: =IFERROR(INDEX(Data!$A$10:$O$1069,MATCH(CONCATENATE($C35,D$1,$B35),Data!$K$10:$K$1069,0),15),"") | E35: =IFERROR(INDEX(Data!$A$10:$O$1069,MATCH(CONCATENATE($C35,E$1,$B35),Data!$K$10:$K$1069,0),15),"") | F35: =IFERROR(INDEX(Data!$A$10:$O$1069,MATCH(CONCATENATE($C35,F$1,$B35),Data!$K$10:$K$1069,0),15),"") | G35: =IFERROR(INDEX(Data!$A$10:$O$1069,MATCH(CONCATENATE($C35,G$1,$B35),Data!$K$10:$K$1069,0),15),"") | H35: =IFERROR(INDEX(Data!$A$10:$O$1069,MATCH(CONCATENATE($C35,H$1,$B35),Data!$K$10:$K$1069,0),15),"") | I35: =IFERROR(INDEX(Data!$A$10:$O$1069,MATCH(CONCATENATE($C35,I$1,$B35),Data!$K$10:$K$1069,0),15),"") | K35: 32 | L35: (L3T1) A
K36: 33 | L36: (L3T1) B
A37: =COUNTIF($C$1:C37,C37)+1 -> 7 | B37: =VLOOKUP(A37,$K$4:$L$73,2,FALSE) -> (L1T1)D | C37: Saturday | D37: =IFERROR(INDEX(Data!$A$10:$O$1069,MATCH(CONCATENATE($C37,D$1,$B37),Data!$K$10:$K$1069,0),15),"") | E37: =IFERROR(INDEX(Data!$A$10:$O$1069,MATCH(CONCATENATE($C37,E$1,$B37),Data!$K$10:$K$1069,0),15),"") | F37: =IFERROR(INDEX(Data!$A$10:$O$1069,MATCH(CONCATENATE($C37,F$1,$B37),Data!$K$10:$K$1069,0),15),"") | G37: =IFERROR(INDEX(Data!$A$10:$O$1069,MATCH(CONCATENATE($C37,G$1,$B37),Data!$K$10:$K$1069,0),15),"") | H37: =IFERROR(INDEX(Data!$A$10:$O$1069,MATCH(CONCATENATE($C37,H$1,$B37),Data!$K$10:$K$1069,0),15),"") | I37: =IFERROR(INDEX(Data!$A$10:$O$1069,MATCH(CONCATENATE($C37,I$1,$B37),Data!$K$10:$K$1069,0),15),"") | K37: 34 | L37: (L3T1)(A)
A38: 7 | B38: =VLOOKUP(A38,$K$4:$L$73,2,FALSE) -> (L1T1)D | C38: Sunday | D38: =IFERROR(INDEX(Data!$A$10:$O$1069,MATCH(CONCATENATE($C38,D$1,$B38),Data!$K$10:$K$1069,0),15),"") | E38: =IFERROR(INDEX(Data!$A$10:$O$1069,MATCH(CONCATENATE($C38,E$1,$B38),Data!$K$10:$K$1069,0),15),"") | F38: =IFERROR(INDEX(Data!$A$10:$O$1069,MATCH(CONCATENATE($C38,F$1,$B38),Data!$K$10:$K$1069,0),15),"") | G38: =IFERROR(INDEX(Data!$A$10:$O$1069,MATCH(CONCATENATE($C38,G$1,$B38),Data!$K$10:$K$1069,0),15),"") | H38: =IFERROR(INDEX(Data!$A$10:$O$1069,MATCH(CONCATENATE($C38,H$1,$B38),Data!$K$10:$K$1069,0),15),"") | I38: =IFERROR(INDEX(Data!$A$10:$O$1069,MATCH(CONCATENATE($C38,I$1,$B38),Data!$K$10:$K$1069,0),15),"") | K38: 35 | L38: (L3T1)A
A39: =COUNTIF($C$1:C39,C39)+1 -> 7 | B39: =VLOOKUP(A39,$K$4:$L$73,2,FALSE) -> (L1T1)D | C39: Monday | D39: =IFERROR(INDEX(Data!$A$10:$O$1069,MATCH(CONCATENATE($C39,D$1,$B39),Data!$K$10:$K$1069,0),15),"") | E39: =IFERROR(INDEX(Data!$A$10:$O$1069,MATCH(CONCATENATE($C39,E$1,$B39),Data!$K$10:$K$1069,0),15),"") | F39: =IFERROR(INDEX(Data!$A$10:$O$1069,MATCH(CONCATENATE($C39,F$1,$B39),Data!$K$10:$K$1069,0),15),"") | G39: =IFERROR(INDEX(Data!$A$10:$O$1069,MATCH(CONCATENATE($C39,G$1,$B39),Data!$K$10:$K$1069,0),15),"") | H39: =IFERROR(INDEX(Data!$A$10:$O$1069,MATCH(CONCATENATE($C39,H$1,$B39),Data!$K$10:$K$1069,0),15),"") | I39: =IFERROR(INDEX(Data!$A$10:$O$1069,MATCH(CONCATENATE($C39,I$1,$B39),Data!$K$10:$K$1069,0),15),"") | K39: 36 | L39: (L3T1)B
A40: =COUNTIF($C$1:C40,C40)+1 -> 7 | B40: =VLOOKUP(A40,$K$4:$L$73,2,FALSE) -> (L1T1)D | C40: Tuesday | D40: =IFERROR(INDEX(Data!$A$10:$O$1069,MATCH(CONCATENATE($C40,D$1,$B40),Data!$K$10:$K$1069,0),15),"") | E40: =IFERROR(INDEX(Data!$A$10:$O$1069,MATCH(CONCATENATE($C40,E$1,$B40),Data!$K$10:$K$1069,0),15),"") | F40: =IFERROR(INDEX(Data!$A$10:$O$1069,MATCH(CONCATENATE($C40,F$1,$B40),Data!$K$10:$K$1069,0),15),"") | G40: =IFERROR(INDEX(Data!$A$10:$O$1069,MATCH(CONCATENATE($C40,G$1,$B40),Data!$K$10:$K$1069,0),15),"") | H40: =IFERROR(INDEX(Data!$A$10:$O$1069,MATCH(CONCATENATE($C40,H$1,$B40),Data!$K$10:$K$1069,0),15),"") | I40: =IFERROR(INDEX(Data!$A$10:$O$1069,MATCH(CONCATENATE($C40,I$1,$B40),Data!$K$10:$K$1069,0),15),"") | K40: 37 | L40: (L3T1)PC
...

Sheet T's class
A2: LT | B2: (All)
A4: Count of Course | C4: Time
A5: Teacher | B5: Day | C5: 08:30-10:00 | D5: 10:00-11:30 | E5: 11:30-01:00 | F5: 01:00-02:30 | G5: 2:30-04:00 | H5: 04:00-05:30 | I5: Grand Total
A6: 0 | B6: Sunday | C6: 16 | D6: 16 | E6: 16 | F6: 15 | G6: 19 | H6: 13 | I6: 95
B7: Monday | C7: 16 | D7: 11 | E7: 15 | F7: 13 | G7: 14 | H7: 17 | I7: 86
B8: Tuesday | C8: 19 | D8: 15 | E8: 16 | F8: 14 | G8: 20 | H8: 19 | I8: 103
B9: Wednesday | C9: 19 | D9: 15 | E9: 20 | F9: 18 | G9: 20 | H9: 17 | I9: 109
B10: Thursday | C10: 25 | D10: 25 | E10: 25 | F10: 26 | G10: 26 | H10: 26 | I10: 153
B11: Saturday | C11: 24 | D11: 19 | E11: 18 | F11: 18 | G11: 21 | H11: 23 | I11: 123
A12: 0 Total | C12: 119 | D12: 101 | E12: 110 | F12: 104 | G12: 120 | H12: 115 | I12: 669
A13: AAA | B13: Sunday | C13: 1 | G13: 1 | H13: 1 | I13: 3
B14: Monday | C14: 1 | F14: 1 | G14: 1 | H14: 1 | I14: 4
B15: Tuesday | C15: 1 | I15: 1
B16: Wednesday | C16: 1 | E16: 1 | I16: 2
B17: Saturday | C17: 1 | E17: 1 | F17: 1 | I17: 3
A18: AAA Total | C18: 5 | E18: 2 | F18: 2 | G18: 2 | H18: 2 | I18: 13
A19: AAM | B19: Sunday | D19: 1 | F19: 1 | H19: 1 | I19: 3
B20: Monday | E20: 1 | H20: 1 | I20: 2
B21: Tuesday | F21: 1 | H21: 1 | I21: 2
B22: Wednesday | D22: 2 | F22: 1 | H22: 1 | I22: 4
B23: Saturday | D23: 1 | F23: 1 | G23: 1 | H23: 1 | I23: 4
A24: AAM Total | D24: 4 | E24: 1 | F24: 4 | G24: 1 | H24: 5 | I24: 15
A25: AAT | B25: Sunday | C25: 1 | I25: 1
B26: Tuesday | G26: 1 | I26: 1
A27: AAT Total | C27: 1 | G27: 1 | I27: 2
A28: AG | B28: Sunday | C28: 1 | E28: 1 | F28: 1 | I28: 3
B29: Monday | C29: 1 | D29: 1 | E29: 1 | F29: 2 | G29: 1 | I29: 6
B30: Tuesday | E30: 2 | G30: 1 | I30: 3
B31: Wednesday | D31: 1 | F31: 1 | I31: 2
B32: Saturday | D32: 1 | F32: 1 | I32: 2
A33: AG Total | C33: 2 | D33: 3 | E33: 4 | F33: 5 | G33: 2 | I33: 16
A34: AHM | B34: Sunday | D34: 1 | E34: 1 | F34: 1 | G34: 1 | H34: 1 | I34: 5
B35: Monday | E35: 1 | G35: 1 | I35: 2
B36: Tuesday | D36: 1 | E36: 1 | F36: 1 | H36: 1 | I36: 4
B37: Wednesday | D37: 1 | I37: 1
B38: Saturday | D38: 2 | E38: 1 | F38: 2 | G38: 1 | H38: 1 | I38: 7
A39: AHM Total | D39: 5 | E39: 4 | F39: 4 | G39: 3 | H39: 3 | I39: 19
A40: AHR | B40: Monday | C40: 1 | D40: 1 | I40: 2
A41: AHR Total | C41: 1 | D41: 1 | I41: 2
A42: AI | B42: Sunday | E42: 1 | H42: 1 | I42: 2
...

Sheet S's class
A2: LT | B2: (All)
A4: Count of Course | C4: Time
A5: Section | B5: Day | C5: 08:30-10:00 | D5: 10:00-11:30 | E5: 11:30-01:00 | F5: 01:00-02:30 | G5: 2:30-04:00 | H5: 04:00-05:30 | I5: Grand Total
A6: 0 | B6: Sunday | C6: 15 | D6: 15 | E6: 12 | F6: 12 | G6: 13 | H6: 12 | I6: 79
B7: Monday | C7: 10 | D7: 7 | E7: 9 | F7: 9 | G7: 11 | H7: 15 | I7: 61
B8: Tuesday | C8: 12 | D8: 11 | E8: 10 | F8: 9 | G8: 18 | H8: 18 | I8: 78
B9: Wednesday | C9: 15 | D9: 12 | E9: 15 | F9: 15 | G9: 14 | H9: 15 | I9: 86
B10: Thursday | C10: 24 | D10: 24 | E10: 23 | F10: 24 | G10: 26 | H10: 26 | I10: 147
B11: Saturday | C11: 22 | D11: 17 | E11: 14 | F11: 17 | G11: 19 | H11: 23 | I11: 112
A12: 0 Total | C12: 98 | D12: 86 | E12: 83 | F12: 86 | G12: 101 | H12: 109 | I12: 563
B13: Tuesday | E13: 1 | F13: 1 | I13: 2
A14: Total | E14: 1 | F14: 1 | I14: 2
B15: Tuesday | E15: 1 | F15: 1 | I15: 2
A16: Total | E16: 1 | F16: 1 | I16: 2
A17: (L1T1)A | B17: Monday | C17: 1 | D17: 1 | I17: 2
B18: Wednesday | C18: 1 | D18: 1 | F18: 1 | I18: 3
B19: Saturday | F19: 1 | G19: 1 | I19: 2
A20: (L1T1)A Total | C20: 2 | D20: 2 | F20: 2 | G20: 1 | I20: 7
A21: (L1T1)B | B21: Sunday | C21: 1 | I21: 1
B22: Monday | E22: 1 | F22: 1 | G22: 1 | I22: 3
B23: Tuesday | G23: 1 | I23: 1
A24: (L1T1)B Total | C24: 1 | E24: 1 | F24: 1 | G24: 2 | I24: 5
A25: (L1T1)C | B25: Monday | C25: 1 | D25: 1 | G25: 1 | H25: 2 | I25: 5
B26: Wednesday | G26: 1 | H26: 1 | I26: 2
B27: Saturday | H27: 1 | I27: 1
A28: (L1T1)C Total | C28: 1 | D28: 1 | G28: 2 | H28: 4 | I28: 8
A29: (L1T1)D | B29: Tuesday | C29: 1 | D29: 1 | I29: 2
A30: (L1T1)D Total | C30: 1 | D30: 1 | I30: 2
A31: (L1T2)A | B31: Sunday | C31: 1 | D31: 1 | E31: 1 | I31: 3
B32: Tuesday | C32: 2 | D32: 1 | G32: 1 | I32: 4
A33: (L1T2)A Total | C33: 3 | D33: 2 | E33: 1 | G33: 1 | I33: 7
A34: (L1T2)B | B34: Sunday | C34: 1 | G34: 1 | H34: 1 | I34: 3
B35: Monday | C35: 1 | D35: 1 | I35: 2
B36: Tuesday | E36: 1 | I36: 1
B37: Wednesday | F37: 1 | I37: 1
A38: (L1T2)B Total | C38: 2 | D38: 1 | E38: 1 | F38: 1 | G38: 1 | H38: 1 | I38: 7
A39: (L1T2)C | B39: Monday | E39: 1 | F39: 1 | I39: 2
B40: Tuesday | G40: 1 | I40: 1
B41: Wednesday | C41: 1 | D41: 2 | G41: 1 | I41: 4
A42: (L1T2)C Total | C42: 1 | D42: 2 | E42: 1 | F42: 1 | G42: 2 | I42: 7
...

Sheet T wise class
A2: LT | B2: (All)
A4: Teacher | B4: Section | C4: Day | D4: Count of Course
A5: 0 | B5: 0 | D5: 550
B6: (L1T3)A | D6: 2
